{"text_format":"1","workbook":"xlsx","n_sheets":24,"sheets":["はじめに","点検ツールの基本的な操作方法","フローチャート","取組の手順","点検の流れ","手順1-1","手順1-2","手順1-3","手順２・３・４《待遇の入力》","手順２・３・４社員タイプ#01","手順２・３・４社員タイプ#02","手順２・３・４社員タイプ#03","手順２・３・４社員タイプ#04","手順２・３・４社員タイプ#05","手順２・３・４社員タイプ#06","手順２・３・４社員タイプ#07","手順２・３・４社員タイプ#08","手順２・３・４社員タイプ#09","手順２・３・４社員タイプ#10","印刷シート","待遇状況「1」「2」「3」の説明","マニュアル手順２・３・４社員タイプ","記載例手順２・３・４社員タイプ","テンプレート手順２・３・４社員タイプ#00"],"not_rendered":{"charts":0,"images":8,"macros":1,"external_links":0,"defined_names":51,"comments":0,"pivot_tables":0},"unopened":[],"bounds":{"document_bytes":16777216,"sheet_cells":100000,"rows_first":2000,"rows_last":500,"rows_between":2000,"halvings":0,"cell_chars":16384,"cell_head_chars":4096},"cells_cut":0,"cells_raw":0,"read":"whole","date_system":"1900"}

{"sheet":"はじめに","index":0,"n_rows":17,"n_cols":30,"rows_kept":17,"cut":false,"hidden":false,"merged":[[16,0,16,31],[11,0,11,31],[7,0,7,31],[8,0,8,31],[9,0,9,31],[10,0,10,31],[12,0,15,0],[12,19,12,31],[13,19,13,31],[12,3,12,15],[13,3,13,15],[12,1,13,2],[12,17,13,18],[14,1,14,15],[15,1,15,15],[14,17,14,31],[15,17,15,31],[12,16,15,16],[0,0,0,31],[2,0,2,31],[6,0,6,31],[4,0,4,31],[5,0,5,31],[3,0,3,31],[1,29,1,31]]}
["「パートタイム・有期雇用労働法」対応のための取組手順書"]
[null,null,null,null,null,null,null,null,null,null,null,null,null,null,null,null,null,null,null,null,null,null,null,null,null,null,null,null,null,"次へ→"]
[]
["事業主のみなさまへ"]
["2021年4月1日全面施行"]
["（中小企業にも適用されました）"]
["パートタイム・有期雇用労働法"]
["対応のための取組手順書"]
["自社の状況は法の内容に沿ったものになっていますか。"]
["このパンフレットに沿って社内の制度の点検をし、"]
["制度の改定の必要がないか確認しましょう。"]
["事業主に求められることとは・・・？"]
[null,1,null,"同じ企業で働く正社員と短時間労働者・",null,null,null,null,null,null,null,null,null,null,null,null,null,2,null,"事業主は、短時間労働者・有期雇用労働者"]
[null,null,null,"有期雇用労働者との間で、基本給や賞与、",null,null,null,null,null,null,null,null,null,null,null,null,null,null,null,"から、正社員との待遇の違いやその理由"]
[null,"手当などあらゆる待遇について、不合理な差を",null,null,null,null,null,null,null,null,null,null,null,null,null,null,null,"などについて説明を求められた場合は、説明を"]
[null,"設けることが禁止されます。",null,null,null,null,null,null,null,null,null,null,null,null,null,null,null,"しなければなりません。"]
["点検ツールの基本的な操作方法へ"]

{"sheet":"点検ツールの基本的な操作方法","index":1,"n_rows":30,"n_cols":4,"rows_kept":30,"cut":false,"hidden":false,"merged":[[24,2,24,3],[26,2,26,3],[29,0,29,3],[27,2,27,3],[11,1,11,3],[13,2,13,3],[14,2,14,3],[16,2,16,3],[15,2,15,3],[25,2,25,3],[20,2,20,3],[22,2,22,3],[21,2,21,3],[17,1,17,3],[19,1,19,3],[23,2,23,3],[18,1,18,3],[8,1,8,3],[9,1,9,3],[12,1,12,3],[0,0,0,3],[2,0,2,3],[4,0,4,3],[7,2,7,3],[1,1,1,2],[3,0,3,3],[6,1,6,3]]}
["「パートタイム・有期雇用労働法」対応のための取組手順書"]
["←戻る","ツールの基本的な操作方法",null,"次へ→"]
[]
["本ツール利用時の注意事項と基本的な操作方法について"]
["本ツール利用時は、このページを必ずお読みください。"]
[]
[null,"本ツールは、「パートタイム・有期雇用労働法 対応のための取組手順書」の入力を支援するためのツールです。\nツールを利用する際は、下記の操作方法及び利用時の注意事項を確認してください。"]
[]
[null,"本ツールは、マイクロソフト社のExcelのマクロを使用して開発されています。\nそのため、起動時に下図のような「セキュリティの警告」が表示されます。\n\n\n「コンテンツの有効化」を押して、マクロの有効化を行ってください。\n「コンテンツの有効化」を押さずに利用している場合は、表示しているExcelを終了して\n再度、開き直し、「コンテンツの有効化」を押して、利用してください。\n"]
[null,"また、本ツールを、厚生労働省ホームページや、パート・有期労働ポータルサイト等のホームページから\nダウンロードして利用する際、起動時（最初の起動時のみ）に「保護されたビュー」と表示されることがあります。\n\n\n「編集を有効にする」を押して、利用してください。"]
[]
[null,"本ツールは、複数枚のシートに入力する形で進みます。\nまた、シートは、左から右の順番で使用していきます。\n点検できる社員タイプは10タイプ（手順１－３で登録できる社員タイプ数）までとなっています。\n社員タイプが10タイプを超える場合は、本ツール（エクセルファイル）をコピーして、点検してください。"]
[null,"本ツールは、下図の通り、複数のシート間でデータの受け渡しを行っています。\n手順１－３で整理した社員タイプ（最大10タイプ）の数の「手順２・３・４社員タイプ#xx」というシートが生成されます。\n（※ xxは、手順１－３で整理した社員タイプ毎に割り振られた番号（A列の＃付き番号）になります。）\n\n印刷シートは、入力された各種シートから、データを収集して作成しています。\nそのため、印刷レイアウトの作成処理には、時間がかかることがあります。"]
[]
[null,"①","入力欄以外は、入力及び変更ができません。また、入力欄の大きさ及び文字の大きさは変更できません。\nただし、「手順2・3・4社員タイプ#xx」シートのみ、入力欄の行の高さと文字の大きさを調整する機能があります。"]
[null,"②","入力欄のコピー＆ペースト（コピー及び貼付け操作：＜キーボード操作＞Ctr+c & Ctr+v）はできますが、\nカット＆ペースト（切取り及び貼付け操作：＜キーボード操作＞Ctr+x & Ctr+v）はできません。\nカット＆ペーストを行いたい場合は、コピー＆ペーストを行った後、コピー元を削除してください。"]
[null,"③","シートの並びの変更や削除、追加はできません。ただし、「手順2・3・4社員タイプ#xx」シートは、\n手順１－３の社員タイプの登録数によって、自動的に、増えたり、減ったりします。"]
[null,"＜重要＞\n「手順２・３・４社員タイプ#xx」への入力が終わった後に、「手順１－２」、「手順１－３」、「手順２・３・４《待遇の入力》」の３つのシートに修正は加える場合は、入力した内容が消去され、元に戻すことができなくなることがあるため、\n次の注意事項を確認の上、操作してください。"]
[null,"■注意事項\n・「手順１－２」から、登録済みの社員タイプを削除すると、「手順１－３」で、削除した社員タイプを使用して定義した\n    社員タイプが無効になります。\n    また、その無効となった社員タイプについて登録した「手順２・３・４社員タイプ#xx」のシートが消去されます。\n    消去されたシートは、元に戻すことができません。\n\n・「手順１－３」から、登録済みの社員タイプを削除すると、削除した社員タイプについて登録した「手順２・３・４社員\n    タイプ#xx」のシートが消去されます。消去されたシートは、元に戻すことができません。\n\n・「手順１－３」で、登録済みの社員タイプの並びを変更しても、「手順２・３・４社員タイプ#xx」のシートの並びは\n    変わりません。\n    例えば、「手順１－３」で、#03にアルバイトAを登録し、「手順２・３・４社員タイプ#03」のシートにアルバイトAの\n    それぞれの待遇の状況を入力した後、「手順１－３」に戻り、アルバイトAを#04に移動しても、「手順２・３・４社員\n    タイプ#03」のシートに記載した内容が、「手順２・３・４社員タイプ#04」のシートに移動することはありません。"]
[null,"・「手順２・３・４《待遇の入力》」から、登録済みの待遇を削除すると、「手順２・３・４社員タイプ#xx」のシートの\n    該当の待遇の行が消去されます。消去された待遇は、元に戻すことができません。\n\n・「手順２・３・４《待遇の入力》」で、登録済みの待遇の並びを変更しても、「手順２・３・４社員タイプ#xx」の\n    シートの待遇の並びは変わりません。\n    例えば、「手順２・３・４《待遇の入力》」で、手当の列「A03」に「通勤」を登録し、「手順２・３・４社員タイプ#xx」\n    シートのA03の行に通勤手当の状況を入力した後、「手順２・３・４《待遇の入力》」に戻り、通勤を「A04」に\n    移動しても、「手順２・３・４社員タイプ#xx」シートの「A03」の行に記載した内容が、「A04」の行に移動することは\n    ありません。"]
[]
[null,"①","本ツールは、複数のシートにデータを登録していく形で進みます。\n登録したデータを失わないよう、定期的にデータを保存しながら利用してください。"]
[null,"②","すべてのシートには、ヘッダーとフッターがあります。ヘッダーにはシートを前後に移動するリンク、\nフッターには次のシートに移動するリンクがあります。\n本ツールはシートの枚数が多いため、このリンクを使用してシートを遷移することを推奨します。\nなお、Excelの下段にあるシートタブを使用してシートを遷移させても、問題はありません。"]
[null,"③","「手順2・3・4社員タイプ#xx」シートは、他のシートより、幅を広く使用したレイアウトになっています。\nお使いのパソコンの画面が小さい場合等、Excelのズーム機能を使用して使いやすい状態で利用してください。"]
[null,"④","「手順１－２」「手順１－３」「手順２・３・４《待遇の入力》」の３つのシートは、\n入力途中の場合はセルの背景色が黄色になったり、重複登録がある場合はセルの背景色が赤色になります。\n入力内容が重複せず、最後まで入力すると、セルの背景色が緑色になります。\nこの３つシートは、背景色が黄色もしく赤色のセルがある場合、別のシートへ移動ができなくなっています。\n正しく入力を行い、次のシートへ移動してください。"]
[null,"⑤","「手順２・３・４社員タイプ#xx」シートには、記載例のシートがあります。\n記載例を参照したい場合は、下図のアイコンをクリックして、記載例を確認してください。"]
[null,"⑥","「手順２・３・４社員タイプ#xx」シートには、入力方法を説明したシートがあります。\n下図のアイコンをクリックして、入力方法説明シートを確認してください。"]
[null,"⑦","「手順２・３・４社員タイプ#xx」のシートには、入力欄の上部にある説明文の行の表示/非表示を行うことができる\n下図のアイコンがあります。\n説明文の行を閉じると、入力欄を広く表示することができるので、適宜、利用してください。"]
[]
["フローチャートへ"]

{"sheet":"フローチャート","index":2,"n_rows":24,"n_cols":36,"rows_kept":24,"cut":false,"hidden":false,"merged":[[2,0,2,31],[8,22,8,25],[10,28,12,31],[7,28,8,31],[4,28,5,31],[12,26,12,27],[6,22,6,31],[5,10,6,15],[11,8,11,9],[12,8,12,9],[4,3,4,15],[7,3,7,15],[10,3,10,15],[8,0,9,7],[8,10,9,15],[5,16,6,19],[11,0,12,7],[11,16,12,19],[11,10,12,15],[5,0,6,7],[4,20,4,21],[4,16,4,19],[7,16,7,19],[8,16,9,19],[6,8,6,9],[5,8,5,9],[8,8,8,9],[9,8,9,9],[10,24,10,25],[10,26,10,27],[4,1,4,2],[7,1,7,2],[10,1,10,2],[18,1,18,14],[19,1,19,31],[4,24,4,25],[4,22,4,23],[10,16,10,19],[7,20,7,21],[7,22,7,23],[9,22,9,31],[7,24,7,25],[7,26,7,27],[8,26,8,27],[5,26,5,27],[4,26,4,27],[5,22,5,25],[10,20,10,21],[10,22,10,23],[13,1,13,14],[14,1,14,31],[15,1,15,31],[16,1,16,14],[17,1,17,14],[20,3,20,31],[21,3,21,31],[22,3,22,31],[23,0,23,31],[0,0,0,31],[1,0,1,1],[1,2,1,29],[1,30,1,31],[13,18,13,31],[20,0,22,0],[18,17,18,31],[11,26,11,27],[16,17,16,31],[17,17,17,31],[16,15,18,16],[13,16,13,17]]}
["「パートタイム・有期雇用労働法」対応のための取組手順書"]
["←戻る",null,"フローチャート",null,null,null,null,null,null,null,null,null,null,null,null,null,null,null,null,null,null,null,null,null,null,null,null,null,null,null,"次へ→"]
["  まずは、フローチャートで取組が必要か確認しましょう。"]
[]
[null,"スタート",null,"1．短時間労働者・有期雇用労働者はいますか？",null,null,null,null,null,null,null,null,null,null,null,null,null,null,null,null,"━",null,"━",null,"━",null,"┓",null,"いない",null,null,null,"いる","いない",null,{"$f":"IF($Q$5=$AG$5,1,\"\")","v":""}]
["いる",null,null,null,null,null,null,null,"┃",null,null,null,null,null,null,null,null,null,null,null,null,null,null,null,null,null,"▼",null,null,null,null,null,null,null,{"$f":"IF($Q$5=$AH$5,1,\"\")","v":""},{"$f":"IF($Q$5=$AG$5,1,\"\")","v":""}]
[null,null,null,null,null,null,null,null,"▼",null,null,null,null,null,null,null,null,null,null,null,null,null,"対応の必要はありません。将来雇用の予定がある場合は、準備をしておきましょう。",null,null,null,null,null,null,null,null,null,null,null,{"$f":"IF($Q$5=$AH$5,1,\"\")","v":""},{"$f":"IF($Q$5=$AG$5,1,\"\")","v":""}]
[null,2,null,"正社員と短時間労働者・有期雇用労働者の待遇に\n違いはありますか？",null,null,null,null,null,null,null,null,null,null,null,null,null,null,null,null,"━",null,"━",null,"━",null,"┓",null,"ない",null,null,null,"ある","ない",{"$f":"IF($Q$5=$AH$5,1,\"\")","v":""},{"$f":"IF(OR($Q$5=$AH$5,$Q$8=$AG$8),1,\"\")","v":""}]
["ある",null,null,null,null,null,null,null,"┃",null,null,null,null,null,null,null,null,null,null,null,null,null,null,null,null,null,"▼",null,null,null,null,null,null,null,{"$f":"IF(OR($Q$8=$AH$8,$Q$5=$AH$5),1,\"\")","v":""},{"$f":"IF(OR($Q$5=$AH$5,$Q$8=$AG$8),1,\"\")","v":""}]
[null,null,null,null,null,null,null,null,"▼",null,null,null,null,null,null,null,null,null,null,null,null,null,"今すぐ対応すべき課題はありません。",null,null,null,null,null,null,null,null,null,null,null,{"$f":"IF(OR($Q$8=$AH$8,$Q$5=$AH$5),1,\"\")","v":""},{"$f":"IF(OR($Q$5=$AH$5,$Q$8=$AG$8),1,\"\")","v":""}]
[null,3,null,"待遇に違いがある場合は、待遇の違いが働き方や\n役割の違いに応じたものであると説明できますか？",null,null,null,null,null,null,null,null,null,null,null,null,null,null,null,null,"━",null,"━",null,"━",null,"┓",null,"できる",null,null,null,"できない","できる",{"$f":"IF(OR($Q$8=$AH$8,$Q$5=$AH$5),1,\"\")","v":""},{"$f":"IF(OR($Q$5=$AH$5,$Q$11=$AG$11,$Q$8=$AH$8),1,\"\")","v":""}]
["できない",null,null,null,null,null,null,null,"┃",null,null,null,null,null,null,null,null,null,null,null,null,null,null,null,null,null,"┃",null,null,null,null,null,null,null,{"$f":"IF(OR($Q$8=$AH$8,$Q$5=$AH$5,$Q$11=$AH$11),1,\"\")","v":""},{"$f":"IF(OR($Q$5=$AH$5,$Q$11=$AG$11,$Q$8=$AH$8),1,\"\")","v":""}]
[null,null,null,null,null,null,null,null,"▼",null,null,null,null,null,null,null,null,null,null,null,null,null,null,null,null,null,"▼",null,null,null,null,null,null,null,{"$f":"IF(OR($Q$8=$AH$8,$Q$5=$AH$5,$Q$11=$AH$11),1,\"\")","v":""},{"$f":"IF(OR($Q$5=$AH$5,$Q$11=$AG$11,$Q$8=$AH$8),1,\"\")","v":""}]
[null,"待遇の違いが不合理であると判断される可能性があるので、\n不合理な待遇の違いの改善に向けて、早急に取組を進めましょう。",null,null,null,null,null,null,null,null,null,null,null,null,null,null,4,null,"労働者から説明を求められたときに待遇の違いの内容や\n不合理な待遇差ではない理由について説明できるよう、\n整理しましょう。",null,null,null,null,null,null,null,null,null,null,null,null,null,null,null,{"$f":"IF(OR($Q$8=$AH$8,$Q$5=$AH$5,$Q$11=$AH$11),1,\"\")","v":""},{"$f":"IF(OR($Q$5=$AH$5,$Q$11=$AG$11,$Q$8=$AH$8),1,\"\")","v":""}]
[null,"同じ企業で働く正社員と短時間労働者・有期雇用労働者との間で、基本給や賞与、手当などあらゆる待遇について、不合理な差を\n設けることが禁止されています。"]
[null,"事業主は、正社員と短時間労働者・有期雇用労働者の働き方の違いに応じて、均衡な待遇（均等な待遇）の確保を図るための措置を\n講じなければなりません。"]
[null,"均衡待遇とは？",null,null,null,null,null,null,null,null,null,null,null,null,null,null,null,"均等待遇とは？"]
[null,"（不合理な待遇の禁止）",null,null,null,null,null,null,null,null,null,null,null,null,null,null,null,"（差別的取扱いの禁止）"]
[null,"①職務内容※、②職務内容・配置の変更の範囲、③その他\nの事情 の違いに応じた範囲内で、待遇を決定する必要が\nあります。",null,null,null,null,null,null,null,null,null,null,null,null,null,null,null,"①職務内容※、②職務内容・配置の変更の範囲が同じ\n場合、待遇について同じ取扱いをする必要があります。"]
[null,"＊職務内容とは、業務の内容及び責任の程度をいいます。"]
[null,null,"①","単に「パートだから」「将来の役割期待が異なるため」という主観的・抽象的理由では、待遇の違いについての説明にはなりません。"]
[null,null,"②","正社員と、職務内容（業務の内容及び責任の程度）及び職務内容・配置の変更の範囲が同じ短時間労働者・有期雇用労働者については、\nすべての待遇について、差別的に取り扱うことが禁止されます。\nこの取組手順書は、職務内容及び職務内容・配置の変更の範囲にかかわらず、すべての短時間労働者・有期雇用労働者の待遇について、\nその違いが不合理ではないかを確認するものです。"]
[null,null,"③","待遇差が不合理か否かや説明の方法、内容が適切であるか否かは、最終的に司法により判断されることにご留意ください。"]
["取組の手順へ"]

{"sheet":"取組の手順","index":3,"n_rows":20,"n_cols":31,"rows_kept":20,"cut":false,"hidden":false,"merged":[[0,0,0,31],[1,0,1,1],[1,2,1,29],[1,30,1,31],[3,0,3,31],[2,0,2,31],[4,3,4,8],[7,0,7,30],[5,0,5,30],[6,1,6,2],[4,1,4,2],[19,0,19,31],[18,0,18,31],[16,3,16,8],[4,9,4,30],[6,9,6,30],[8,9,8,30],[10,9,10,30],[12,9,12,30],[14,9,14,30],[16,9,16,30],[4,31,16,31],[15,0,15,30],[13,0,13,30],[11,0,11,30],[9,0,9,30],[6,3,6,8],[16,1,16,2],[14,1,14,2],[12,1,12,2],[17,0,17,31],[14,3,14,8],[10,1,10,2],[8,1,8,2],[12,3,12,8],[10,3,10,8],[8,3,8,8]]}
["「パートタイム・有期雇用労働法」対応のための取組手順書"]
["←戻る",null,"取組の手順",null,null,null,null,null,null,null,null,null,null,null,null,null,null,null,null,null,null,null,null,null,null,null,null,null,null,null,"次へ→"]
["  以下の手順で点検を進めましょう。"]
[]
[null,"手順番号",null,"手順",null,null,null,null,null,"解説"]
[]
[null,"手順1",null,"労働者の雇用形態を\n確認しましょう",null,null,null,null,null,"法の対象となる労働者の有無をチェックします。社内で、短時間労働者や有期雇用労働者は\n雇用していますか？"]
[]
[null,"手順2",null,"待遇の状況を確認しましょう",null,null,null,null,null,"短時間労働者・有期雇用労働者の区分ごとに、賃金（賞与・手当を含む）や福利厚生などの\n待遇について、正社員と取扱いの違いがあるかどうか確認しましょう。書き出して、\n整理するとわかりやすいでしょう。"]
[]
[null,"手順3",null,"待遇に違いがある場合、違いを設けている理由を確認しましょう",null,null,null,null,null,"短時間労働者・有期雇用労働者と正社員とでは、働き方や役割などが異なるのであれば、\nそれに応じて賃金（賞与・手当を含む）や福利厚生などの待遇が異なることはあり得ます。\nそこで、待遇の違いは、働き方や役割などの違いに見合った、「不合理ではない」ものと\n言えるか確認します。なぜ、待遇の違いを設けているのか、それぞれの待遇ごとに改めて\n考え方を整理しましょう。"]
[]
[null,"手順4",null,"手順2と3で、待遇に違いがあった場合、その違いが「不合理ではない」ことを説明できるように整理しましょう",null,null,null,null,null,"事業主は、労働者の待遇の内容・待遇の決定に際して考慮した事項、正社員との待遇差の\n内容やその理由について、労働者から説明を求められた場合には説明することが義務付け\nられます。\n短時間労働者・有期雇用労働者の社員タイプごとに、正社員との待遇に違いがある場合、\nその違いが「不合理ではない」と説明できるよう、整理しましょう。\n労働者に説明する内容をあらかじめ文書にまとめておくと便利です。"]
[]
[null,"手順5",null,"「法違反」が疑われる\n状況からの早期の脱却を\n目指しましょう",null,null,null,null,null,"短時間労働者・有期雇用労働者と、正社員との待遇の違いが、「不合理ではない」とは言い\nがたい場合は、改善に向けて検討しましょう。\nまた、「不合理ではない」と言える場合であっても、より望ましい雇用管理に向けて改善の\n必要はないか検討しましょう。"]
[]
[null,"手順6",null,"改善計画を立てて取り\n組みましょう",null,null,null,null,null,"改善の必要がある場合は、労働者の意見も聴取しつつ、早急に取り組みましょう。"]
["パートタイム・有期雇用労働法は、2021年4月1日に全面施行されました。"]
["すべての企業において法に沿った対応が求められます。"]
["点検の流れへ"]

{"sheet":"点検の流れ","index":4,"n_rows":26,"n_cols":6,"rows_kept":26,"cut":false,"hidden":false,"merged":[[5,1,5,2],[11,2,11,5],[0,0,0,5],[25,0,25,5],[8,1,8,2],[2,0,2,5],[1,1,1,4],[15,2,15,5],[8,3,8,4],[5,3,5,5],[6,3,6,5],[7,3,7,5],[12,2,12,5],[13,2,13,5],[17,1,17,2],[18,2,18,4],[14,2,14,5],[6,1,6,2],[9,3,9,5],[10,3,10,5],[7,1,7,2],[9,1,9,2],[10,1,10,2]]}
["「パートタイム・有期雇用労働法」対応のための取組手順書"]
["←戻る","点検の流れ",null,null,null,"次へ→"]
["本ツールでは、「パートタイム・有期雇用労働法」への対応のための取組について、次の流れで点検します。"]
[]
[]
[null,"《手順１－１》",null,"法の対象となる短時間労働者・有期雇用労働者の有無を確認しましょう。"]
[null,"《手順１－２》",null,"短時間労働者・有期雇用労働者について社員タイプごとに区分しましょう。"]
[null,"《手順１－３》",null,"短時間労働者・有期雇用労働者について、待遇が同じ社員タイプごとに人数を入力しましょう。"]
[]
[null,"《待遇の入力》",null,"正社員に支給されている待遇のすべてを入力しましょう。"]
[null,"《社員タイプ別入力シート》",null,"社員タイプごとに、以下の手順で点検を行いましょう。"]
[null,null,"①  正社員と短時間労働者・有期雇用労働者との間の待遇の違いの有無について、以下の選択肢から選択しましょう。\n   【１】 正社員と短時間労働者・有期雇用労働者との間で待遇の違いがない\n   【２】 正社員と短時間労働者・有期雇用労働者との間で待遇の違いがある\n   【３】 正社員、短時間労働者・有期雇用労働者とも、該当する待遇がない"]
[null,null,"②  ①で「１」「２」を選択した場合、待遇の支給目的を入力しましょう（福利厚生その他、基本給は不要）。"]
[null,null,"③  正社員と短時間労働者・有期雇用労働者との間に待遇の違いがある場合、\n   （①で「２」を選択した場合）、正社員、短時間労働者・有期雇用労働者それぞれの支給状況を入力しましょう。"]
[null,null,"④  待遇に違いを設けている理由を入力しましょう。"]
[null,null,"⑤ 違いを設けている待遇について、対応方針を検討しましょう。"]
[]
[null,"《印刷シート》",null,"入力した内容は、印刷シートで印刷ができます。ご活用ください。"]
[null,null,"点検を始める前に、点検を行う日や点検を行う人などを記録しておきましょう。"]
[null,null,"点検日"]
[null,null,"会社名"]
[null,null,"部署名"]
[null,null,"点検実施者"]
[null,null,"備考"]
[]
["手順1－1へ"]

{"sheet":"手順1-1","index":5,"n_rows":11,"n_cols":6,"rows_kept":11,"cut":false,"hidden":false,"merged":[[10,0,10,4],[6,0,6,4],[8,1,8,2],[7,1,7,2],[0,0,0,4],[2,0,2,4],[1,1,1,3],[9,0,9,4],[4,0,4,4],[5,1,5,2],[3,0,3,4]]}
["「パートタイム・有期雇用労働法」対応のための取組手順書",null,null,null,null,"〇"]
["←戻る","手順１－１",null,null,"次へ→"]
["法の対象となる短時間労働者・有期雇用労働者の有無を確認しましょう。"]
["ＡＢＣのうち該当する項に〇を付けてください。ＡＢＣのいずれかに〇が付くと黄色の表示が消えます。"]
[]
["A","正社員と比較して１週間当たりの所定労働時間が短い労働者（短時間労働者）を\n雇用している（雇用契約期間は有期・無期を問わない）",null,null,"手順１－２へ→",{"$f":"IF(AND(D6=\"\",D8=\"\",D9=\"\"),-1,0)","v":-1}]
[]
["B","雇用契約期間の定めのある労働者（有期雇用労働者）を雇用している",null,null,"手順１－２へ→"]
["C","短時間労働者も有期雇用労働者も雇用していない",null,null,"終了"]
[]
["手順１－２へ"]

{"sheet":"手順1-2","index":6,"n_rows":30,"n_cols":10,"rows_kept":30,"cut":false,"hidden":false,"merged":[[5,0,5,1],[19,0,19,3],[4,0,4,3],[0,0,0,3],[2,0,2,3],[1,1,1,2],[3,0,3,3]]}
["「パートタイム・有期雇用労働法」対応のための取組手順書",null,null,null,{"$f":"MIN($E$9:$E$18)","v":0}]
["←戻る","手順１－２",null,"次へ→"]
["短時間労働者・有期雇用労働者について、社員タイプごとに区分しましょう。"]
["※「フルタイム」かつ「無期」の社員タイプの労働者は、パートタイム・有期雇用労働法の対象労働者とならないため、\n    登録できません。"]
[null,null,null,null,"短時間","有期"]
["社内の短時間労働者や有期雇用労働者を社員タイプごとに区分",null,"短時間か\nフルタイムか","有期か\n無期か","フルタイム","無期"]
["例１","パートナー社員","フルタイム","有期"]
["例２","アルバイト","短時間","有期",null,null,null,null,0]
[{"$f":"IF($E9=1,\"○\",\"\")","v":""},null,null,null,{"$f":"MIN($F9:$H9)","v":0},{"$f":"IF(LEN(SUBSTITUTE(SUBSTITUTE($B9,\" \",),\"　\",))=0,0,1)","v":0},{"$f":"IF(AND($C9=\"\",$D9=\"\"),0,IF($C9&$D9=$E$6&$F$6,-3,IF(AND($C9<>\"\",$D9<>\"\"),1,-1)))","v":0},{"$f":"IF(LEN($J9)=2,0,IF(SUMPRODUCT((EXACT($J$9:$J$18,$J9))*1)>1,-2,IF(AND($F9=1,$G9=1),1,-1)))","v":0},{"$f":"IF($E9=1,INT($I8+1),$I8+0.01)","v":0.01},{"$f":"IF($F9=1,$B9,\"\")&\"・\"&$C9&\"・\"&$D9","v":"・・"}]
[{"$f":"IF($E10=1,\"○\",\"\")","v":""},null,null,null,{"$f":"MIN($F10:$H10)","v":0},{"$f":"IF(LEN(SUBSTITUTE(SUBSTITUTE($B10,\" \",),\"　\",))=0,0,1)","v":0},0,{"$f":"IF(LEN($J10)=2,0,IF(SUMPRODUCT((EXACT($J$9:$J$18,$J10))*1)>1,-2,IF(AND($F10=1,$G10=1),1,-1)))","v":0},{"$f":"IF($E10=1,INT($I9+1),$I9+0.01)","v":0.02},{"$f":"IF($F10=1,$B10,\"\")&\"・\"&$C10&\"・\"&$D10","v":"・・"}]
["",null,null,null,0,0,0,{"$f":"IF(LEN($J11)=2,0,IF(SUMPRODUCT((EXACT($J$9:$J$18,$J11))*1)>1,-2,IF(AND($F11=1,$G11=1),1,-1)))","v":0},0.03,"・・"]
["",null,null,null,0,0,0,{"$f":"IF(LEN($J12)=2,0,IF(SUMPRODUCT((EXACT($J$9:$J$18,$J12))*1)>1,-2,IF(AND($F12=1,$G12=1),1,-1)))","v":0},0.04,"・・"]
["",null,null,null,0,0,0,{"$f":"IF(LEN($J13)=2,0,IF(SUMPRODUCT((EXACT($J$9:$J$18,$J13))*1)>1,-2,IF(AND($F13=1,$G13=1),1,-1)))","v":0},0.05,"・・"]
["",null,null,null,0,0,0,{"$f":"IF(LEN($J14)=2,0,IF(SUMPRODUCT((EXACT($J$9:$J$18,$J14))*1)>1,-2,IF(AND($F14=1,$G14=1),1,-1)))","v":0},6.0000000000000005E-2,"・・"]
["",null,null,null,0,0,0,{"$f":"IF(LEN($J15)=2,0,IF(SUMPRODUCT((EXACT($J$9:$J$18,$J15))*1)>1,-2,IF(AND($F15=1,$G15=1),1,-1)))","v":0},7.0000000000000007E-2,"・・"]
["",null,null,null,0,0,0,{"$f":"IF(LEN($J16)=2,0,IF(SUMPRODUCT((EXACT($J$9:$J$18,$J16))*1)>1,-2,IF(AND($F16=1,$G16=1),1,-1)))","v":0},0.08,"・・"]
["",null,null,null,0,0,0,{"$f":"IF(LEN($J17)=2,0,IF(SUMPRODUCT((EXACT($J$9:$J$18,$J17))*1)>1,-2,IF(AND($F17=1,$G17=1),1,-1)))","v":0},0.09,"・・"]
["",null,null,null,0,0,0,{"$f":"IF(LEN($J18)=2,0,IF(SUMPRODUCT((EXACT($J$9:$J$18,$J18))*1)>1,-2,IF(AND($F18=1,$G18=1),1,-1)))","v":0},9.9999999999999992E-2,"・・"]
[]
["手順１－３へ",null,null,null,null,null,null,null,null,{"$f":"COUNTIF($E$9:$E$18,1)","v":0}]
[null,null,null,null,null,null,null,null,1,{"$f":"IFERROR(VLOOKUP($I21,$I$9:$J$18,2,FALSE),\"\")","v":""}]
[null,null,null,null,null,null,null,null,2,{"$f":"IFERROR(VLOOKUP($I22,$I$9:$J$18,2,FALSE),\"\")","v":""}]
[null,null,null,null,null,null,null,null,3,""]
[null,null,null,null,null,null,null,null,4,""]
[null,null,null,null,null,null,null,null,5,""]
[null,null,null,null,null,null,null,null,6,""]
[null,null,null,null,null,null,null,null,7,""]
[null,null,null,null,null,null,null,null,8,""]
[null,null,null,null,null,null,null,null,9,""]
[null,null,null,null,null,null,null,null,10,""]

{"sheet":"手順1-3","index":7,"n_rows":21,"n_cols":14,"rows_kept":21,"cut":false,"hidden":false,"merged":[[3,0,3,6],[5,0,5,3],[20,0,20,6],[6,1,6,2],[7,1,7,2],[8,1,8,2],[2,0,2,6],[0,0,0,6],[1,0,1,1],[1,2,1,4],[1,5,1,6]]}
["「パートタイム・有期雇用労働法」対応のための取組手順書",null,null,null,null,null,null,{"$f":"MIN($H$10:$H$19)","v":0}]
["←戻る",null,"手順１－３",null,null,"次へ→"]
["短時間労働者・有期雇用労働者について、待遇が同じ社員タイプごとに、人数を入力しましょう。"]
["・B列のプルダウンメニューから、手順１－２で登録した社員タイプを選択してください。\n   プルダウンメニューには、手順１－２で入力した３つの項目が「・」で区切られた状態で表示され、選択すると、C列、E列、F列に展開入力されます。\n・D列は、同じ社員タイプでも、役割や配置等により待遇が異なる場合に、待遇が同じ社員タイプの職務の名称等を入力し、待遇が同じ社員タイプごとに\n   区分してください。\n・G列は、待遇が同じ社員タイプごとの人数を入力してください。数字を入力すれば、数字の後ろの「人」は自動で入力されます。\n・必要な項目の入力が終わると、A列のセルの背景色が緑色に変わり、「#01」のようなIDが表示されます。\n   このIDは、社員タイプ別の入力シートの名称になります。"]
[]
["待遇が同じ社員タイプごとに区分",null,null,null,"短時間か\nフルタイムか","有期か\n無期か","人数\nまたは概数"]
["例１","パートナー社員",null,"販売","フルタイム","有期",15]
["例２","パートナー社員",null,"配送","フルタイム","有期",5]
["例３","アルバイト",null,null,"短時間","有期",5,{"$f":"IF($H$19=1,10,IF($H$18=1,9,IF($H$17=1,8,IF($H$16=1,7,IF($H$15=1,6,IF($H$14=1,5,IF($H$13=1,4,IF($H$12=1,3,IF($H$11=1,2,IF($H$10=1,1,0))))))))))","v":0}]
["#01",null,{"$f":"IF($B10=\"\",\"\",LEFT($B10,$L10-1))","v":""},null,{"$f":"IF($B10=\"\",\"\",MID($B10,$L10+1,$M10-$L10-1))","v":""},{"$f":"IF($B10=\"\",\"\",RIGHT($B10,LEN($B10)-$M10))","v":""},null,{"$f":"MIN($I10:$K10)","v":0},{"$f":"IF($B10=\"\",0,SUMPRODUCT(EXACT('手順1-2'!$J$21:$J$30,$B10)*1)*2-1)","v":0},{"$f":"IF($I10=1,IF($G10<>0,1,-1),IF($G10<>0,-1,IF(LEN(SUBSTITUTE(SUBSTITUTE($D10,\" \",),\"　\",))=0,0,-1)))","v":0},{"$f":"IF($I10=1,IF(SUMPRODUCT((EXACT($N$10:$N$19,$N10))*1)>1,-1,1),0)","v":0},{"$f":"IF($B10=\"\",0,FIND(\"・\",$B10))","v":0},{"$f":"IF($B10=\"\",0,FIND(\"・\",$B10,$L10+1))","v":0},{"$f":"IF($I10=1,$C10&IF(LEN(SUBSTITUTE(SUBSTITUTE($D10,\" \",),\"　\",))=0,\"・\",\"（\"&$D10&\"）・\")&$E10&\"・\"&$F10,\"\")","v":""}]
["#02",null,"",null,"","",null,{"$f":"MIN($I11:$K11)","v":0},{"$f":"IF($B11=\"\",0,SUMPRODUCT(EXACT('手順1-2'!$J$21:$J$30,$B11)*1)*2-1)","v":0},{"$f":"IF($I11=1,IF($G11<>0,1,-1),IF($G11<>0,-1,IF(LEN(SUBSTITUTE(SUBSTITUTE($D11,\" \",),\"　\",))=0,0,-1)))","v":0},{"$f":"IF($I11=1,IF(SUMPRODUCT((EXACT($N$10:$N$19,$N11))*1)>1,-1,1),0)","v":0},{"$f":"IF($B11=\"\",0,FIND(\"・\",$B11))","v":0},{"$f":"IF($B11=\"\",0,FIND(\"・\",$B11,$L11+1))","v":0},{"$f":"IF($I11=1,$C11&IF(LEN(SUBSTITUTE(SUBSTITUTE($D11,\" \",),\"　\",))=0,\"・\",\"（\"&$D11&\"）・\")&$E11&\"・\"&$F11,\"\")","v":""}]
["#03",null,"",null,"","",null,0,{"$f":"IF($B12=\"\",0,SUMPRODUCT(EXACT('手順1-2'!$J$21:$J$30,$B12)*1)*2-1)","v":0},0,{"$f":"IF($I12=1,IF(SUMPRODUCT((EXACT($N$10:$N$19,$N12))*1)>1,-1,1),0)","v":0},0,0,""]
["#04",null,"",null,"","",null,0,{"$f":"IF($B13=\"\",0,SUMPRODUCT(EXACT('手順1-2'!$J$21:$J$30,$B13)*1)*2-1)","v":0},0,{"$f":"IF($I13=1,IF(SUMPRODUCT((EXACT($N$10:$N$19,$N13))*1)>1,-1,1),0)","v":0},0,0,""]
["#05",null,"",null,"","",null,0,{"$f":"IF($B14=\"\",0,SUMPRODUCT(EXACT('手順1-2'!$J$21:$J$30,$B14)*1)*2-1)","v":0},0,{"$f":"IF($I14=1,IF(SUMPRODUCT((EXACT($N$10:$N$19,$N14))*1)>1,-1,1),0)","v":0},0,0,""]
["#06",null,"",null,"","",null,0,{"$f":"IF($B15=\"\",0,SUMPRODUCT(EXACT('手順1-2'!$J$21:$J$30,$B15)*1)*2-1)","v":0},0,{"$f":"IF($I15=1,IF(SUMPRODUCT((EXACT($N$10:$N$19,$N15))*1)>1,-1,1),0)","v":0},0,0,""]
["#07",null,"",null,"","",null,0,{"$f":"IF($B16=\"\",0,SUMPRODUCT(EXACT('手順1-2'!$J$21:$J$30,$B16)*1)*2-1)","v":0},0,{"$f":"IF($I16=1,IF(SUMPRODUCT((EXACT($N$10:$N$19,$N16))*1)>1,-1,1),0)","v":0},0,0,""]
["#08",null,"",null,"","",null,0,{"$f":"IF($B17=\"\",0,SUMPRODUCT(EXACT('手順1-2'!$J$21:$J$30,$B17)*1)*2-1)","v":0},0,{"$f":"IF($I17=1,IF(SUMPRODUCT((EXACT($N$10:$N$19,$N17))*1)>1,-1,1),0)","v":0},0,0,""]
["#09",null,"",null,"","",null,0,{"$f":"IF($B18=\"\",0,SUMPRODUCT(EXACT('手順1-2'!$J$21:$J$30,$B18)*1)*2-1)","v":0},0,{"$f":"IF($I18=1,IF(SUMPRODUCT((EXACT($N$10:$N$19,$N18))*1)>1,-1,1),0)","v":0},0,0,""]
["#10",null,"",null,"","",null,0,{"$f":"IF($B19=\"\",0,SUMPRODUCT(EXACT('手順1-2'!$J$21:$J$30,$B19)*1)*2-1)","v":0},0,{"$f":"IF($I19=1,IF(SUMPRODUCT((EXACT($N$10:$N$19,$N19))*1)>1,-1,1),0)","v":0},0,0,""]
[]
["手順2・３・４《待遇の入力》へ"]

{"sheet":"手順２・３・４《待遇の入力》","index":8,"n_rows":24,"n_cols":22,"rows_kept":24,"cut":false,"hidden":false,"merged":[[0,0,0,13],[1,0,1,2],[1,3,1,10],[1,12,1,13],[2,0,2,13],[22,0,22,13],[23,0,23,13],[3,0,3,13],[4,0,4,13],[5,2,5,3],[6,1,6,3],[6,5,6,6],[6,8,6,9],[6,11,6,12]]}
["「パートタイム・有期雇用労働法」対応のための取組手順書",null,null,null,null,null,null,null,null,null,null,null,null,null,{"$f":"MIN($O$8:$R$22)","v":0},null,null,null,null,{"$f":"MAX($T$8:$V$22)","v":8}]
["←戻る",null,null,"手順２・３・４《待遇の入力》",null,null,null,null,null,null,null,null,"次へ→"]
["正社員に支給されている待遇のすべてを入力しましょう。"]
["・同じ待遇名の登録はできません。同じ待遇名を登録したい場合は、「〇〇Ａ」、「〇〇Ｂ」など、識別する記号や番号を追記してください。\n・賞与の欄は、あらかじめ「賞与」と入力してあります。各企業・法人の状況に応じて、修正してください。"]
["・福利厚生その他の欄に記載されている「給食施設（食堂）」、「休憩室」、「更衣室」については、パートタイム・有期雇用労働法施行後は、\n   正社員が利用している場合は、利用の機会を与えることが義務化されます。必ず、点検をしてください。\n・基本給の欄は、基本給の決定要素としている事項を入力してください。あらかじめ５項目が入力してありますが、\n   決定要素としていない事項は、削除してください。また、５項目以外に決定要素としている事項があれば、追記をしてください。"]
[]
[null,"手当",null,null,null,"賞与",null,null,"福利厚生その他",null,null,"基本給（決定要素）",null,null,{"$f":"IF($O$22=2,15,IF($O$21=2,14,IF($O$20=2,13,IF($O$19=2,12,IF($O$18=2,11,IF($O$17=2,10,IF($O$16=2,9,IF($O$15=2,8,IF($O$14=2,7,IF($O$13=2,6,IF($O$12=2,5,IF($O$11=2,4,IF($O$10=2,3,IF($O$9=2,2,IF($O$8=2,1,0)))))))))))))))","v":0},{"$f":"IF($P$12=2,5,IF($P$11=2,4,IF($P$10=2,3,IF($P$9=2,2,IF($P$8=2,1,0)))))","v":1},{"$f":"IF($Q$22=2,15,IF($Q$21=2,14,IF($Q$20=2,13,IF($Q$19=2,12,IF($Q$18=2,11,IF($Q$17=2,10,IF($Q$16=2,9,IF($Q$15=2,8,IF($Q$14=2,7,IF($Q$13=2,6,IF($Q$12=2,5,IF($Q$11=2,4,IF($Q$10=2,3,IF($Q$9=2,2,IF($Q$8=2,1,0)))))))))))))))","v":3},{"$f":"IF($R$17=2,10,IF($R$16=2,9,IF($R$15=2,8,IF($R$14=2,7,IF($R$13=2,6,IF($R$12=2,5,IF($R$11=2,4,IF($R$10=2,3,IF($R$9=2,2,IF($R$8=2,1,0))))))))))","v":5}]
[null,"A01",null,"手当",null,"B01","賞与",null,"C01","給食施設（食堂）",null,1,"職務の遂行能力",null,{"$f":"IF(LEN(SUBSTITUTE(SUBSTITUTE($C8,\" \",),\"　\",))=0,0,IF(SUMPRODUCT((EXACT($C$8:$C$22,$C8))*1)>1,-1,2))","v":0},{"$f":"IF(LEN(SUBSTITUTE(SUBSTITUTE($G8,\" \",),\"　\",))=0,0,IF(SUMPRODUCT((EXACT($G$8:$G$12,$G8))*1)>1,-1,2))","v":2},{"$f":"IF(LEN(SUBSTITUTE(SUBSTITUTE($J8,\" \",),\"　\",))=0,0,IF(SUMPRODUCT((EXACT($J$8:$J$22,$J8))*1)>1,-1,2))","v":2},{"$f":"IF(LEN(SUBSTITUTE(SUBSTITUTE($M8,\" \",),\"　\",))=0,0,IF(SUMPRODUCT((EXACT($M$8:$M$17,$M8))*1)>1,-1,2))","v":2},{"$f":"IF($O8=2,$C8&$D8,\"\")","v":""},{"$f":"IF($O8=2,LEN($C8)+2,0)","v":0},{"$f":"IF($P8=2,LEN($G8),0)","v":2},{"$f":"IF($Q8=2,LEN($J8),0)","v":8}]
[null,"A02",null,"手当",null,"B02",null,null,"C02","休憩室",null,2,"業務の内容や責任の重さ",null,{"$f":"IF(LEN(SUBSTITUTE(SUBSTITUTE($C9,\" \",),\"　\",))=0,0,IF(SUMPRODUCT((EXACT($C$8:$C$22,$C9))*1)>1,-1,2))","v":0},{"$f":"IF(LEN(SUBSTITUTE(SUBSTITUTE($G9,\" \",),\"　\",))=0,0,IF(SUMPRODUCT((EXACT($G$8:$G$12,$G9))*1)>1,-1,2))","v":0},{"$f":"IF(LEN(SUBSTITUTE(SUBSTITUTE($J9,\" \",),\"　\",))=0,0,IF(SUMPRODUCT((EXACT($J$8:$J$22,$J9))*1)>1,-1,2))","v":2},{"$f":"IF(LEN(SUBSTITUTE(SUBSTITUTE($M9,\" \",),\"　\",))=0,0,IF(SUMPRODUCT((EXACT($M$8:$M$17,$M9))*1)>1,-1,2))","v":2},{"$f":"IF($O9=2,$C9&$D9,\"\")","v":""},{"$f":"IF($O9=2,LEN($C9)+2,0)","v":0},{"$f":"IF($P9=2,LEN($G9),0)","v":0},{"$f":"IF($Q9=2,LEN($J9),0)","v":3}]
[null,"A03",null,"手当",null,"B03",null,null,"C03","更衣室",null,3,"仕事の成果や業績",null,{"$f":"IF(LEN(SUBSTITUTE(SUBSTITUTE($C10,\" \",),\"　\",))=0,0,IF(SUMPRODUCT((EXACT($C$8:$C$22,$C10))*1)>1,-1,2))","v":0},{"$f":"IF(LEN(SUBSTITUTE(SUBSTITUTE($G10,\" \",),\"　\",))=0,0,IF(SUMPRODUCT((EXACT($G$8:$G$12,$G10))*1)>1,-1,2))","v":0},{"$f":"IF(LEN(SUBSTITUTE(SUBSTITUTE($J10,\" \",),\"　\",))=0,0,IF(SUMPRODUCT((EXACT($J$8:$J$22,$J10))*1)>1,-1,2))","v":2},{"$f":"IF(LEN(SUBSTITUTE(SUBSTITUTE($M10,\" \",),\"　\",))=0,0,IF(SUMPRODUCT((EXACT($M$8:$M$17,$M10))*1)>1,-1,2))","v":2},"",0,{"$f":"IF($P10=2,LEN($G10),0)","v":0},3]
[null,"A04",null,"手当",null,"B04",null,null,"C04",null,null,4,"年齢や勤続年数",null,{"$f":"IF(LEN(SUBSTITUTE(SUBSTITUTE($C11,\" \",),\"　\",))=0,0,IF(SUMPRODUCT((EXACT($C$8:$C$22,$C11))*1)>1,-1,2))","v":0},{"$f":"IF(LEN(SUBSTITUTE(SUBSTITUTE($G11,\" \",),\"　\",))=0,0,IF(SUMPRODUCT((EXACT($G$8:$G$12,$G11))*1)>1,-1,2))","v":0},{"$f":"IF(LEN(SUBSTITUTE(SUBSTITUTE($J11,\" \",),\"　\",))=0,0,IF(SUMPRODUCT((EXACT($J$8:$J$22,$J11))*1)>1,-1,2))","v":0},{"$f":"IF(LEN(SUBSTITUTE(SUBSTITUTE($M11,\" \",),\"　\",))=0,0,IF(SUMPRODUCT((EXACT($M$8:$M$17,$M11))*1)>1,-1,2))","v":2},"",0,{"$f":"IF($P11=2,LEN($G11),0)","v":0},0]
[null,"A05",null,"手当",null,"B05",null,null,"C05",null,null,5,"市場での賃金相場",null,{"$f":"IF(LEN(SUBSTITUTE(SUBSTITUTE($C12,\" \",),\"　\",))=0,0,IF(SUMPRODUCT((EXACT($C$8:$C$22,$C12))*1)>1,-1,2))","v":0},{"$f":"IF(LEN(SUBSTITUTE(SUBSTITUTE($G12,\" \",),\"　\",))=0,0,IF(SUMPRODUCT((EXACT($G$8:$G$12,$G12))*1)>1,-1,2))","v":0},{"$f":"IF(LEN(SUBSTITUTE(SUBSTITUTE($J12,\" \",),\"　\",))=0,0,IF(SUMPRODUCT((EXACT($J$8:$J$22,$J12))*1)>1,-1,2))","v":0},{"$f":"IF(LEN(SUBSTITUTE(SUBSTITUTE($M12,\" \",),\"　\",))=0,0,IF(SUMPRODUCT((EXACT($M$8:$M$17,$M12))*1)>1,-1,2))","v":2},"",0,{"$f":"IF($P12=2,LEN($G12),0)","v":0},0]
[null,"A06",null,"手当",null,null,null,null,"C06",null,null,6,null,null,{"$f":"IF(LEN(SUBSTITUTE(SUBSTITUTE($C13,\" \",),\"　\",))=0,0,IF(SUMPRODUCT((EXACT($C$8:$C$22,$C13))*1)>1,-1,2))","v":0},null,{"$f":"IF(LEN(SUBSTITUTE(SUBSTITUTE($J13,\" \",),\"　\",))=0,0,IF(SUMPRODUCT((EXACT($J$8:$J$22,$J13))*1)>1,-1,2))","v":0},{"$f":"IF(LEN(SUBSTITUTE(SUBSTITUTE($M13,\" \",),\"　\",))=0,0,IF(SUMPRODUCT((EXACT($M$8:$M$17,$M13))*1)>1,-1,2))","v":0},"",0,null,0]
[null,"A07",null,"手当",null,null,null,null,"C07",null,null,7,null,null,{"$f":"IF(LEN(SUBSTITUTE(SUBSTITUTE($C14,\" \",),\"　\",))=0,0,IF(SUMPRODUCT((EXACT($C$8:$C$22,$C14))*1)>1,-1,2))","v":0},null,{"$f":"IF(LEN(SUBSTITUTE(SUBSTITUTE($J14,\" \",),\"　\",))=0,0,IF(SUMPRODUCT((EXACT($J$8:$J$22,$J14))*1)>1,-1,2))","v":0},{"$f":"IF(LEN(SUBSTITUTE(SUBSTITUTE($M14,\" \",),\"　\",))=0,0,IF(SUMPRODUCT((EXACT($M$8:$M$17,$M14))*1)>1,-1,2))","v":0},"",0,null,0]
[null,"A08",null,"手当",null,null,null,null,"C08",null,null,8,null,null,{"$f":"IF(LEN(SUBSTITUTE(SUBSTITUTE($C15,\" \",),\"　\",))=0,0,IF(SUMPRODUCT((EXACT($C$8:$C$22,$C15))*1)>1,-1,2))","v":0},null,{"$f":"IF(LEN(SUBSTITUTE(SUBSTITUTE($J15,\" \",),\"　\",))=0,0,IF(SUMPRODUCT((EXACT($J$8:$J$22,$J15))*1)>1,-1,2))","v":0},{"$f":"IF(LEN(SUBSTITUTE(SUBSTITUTE($M15,\" \",),\"　\",))=0,0,IF(SUMPRODUCT((EXACT($M$8:$M$17,$M15))*1)>1,-1,2))","v":0},"",0,null,0]
[null,"A09",null,"手当",null,null,null,null,"C09",null,null,9,null,null,{"$f":"IF(LEN(SUBSTITUTE(SUBSTITUTE($C16,\" \",),\"　\",))=0,0,IF(SUMPRODUCT((EXACT($C$8:$C$22,$C16))*1)>1,-1,2))","v":0},null,{"$f":"IF(LEN(SUBSTITUTE(SUBSTITUTE($J16,\" \",),\"　\",))=0,0,IF(SUMPRODUCT((EXACT($J$8:$J$22,$J16))*1)>1,-1,2))","v":0},{"$f":"IF(LEN(SUBSTITUTE(SUBSTITUTE($M16,\" \",),\"　\",))=0,0,IF(SUMPRODUCT((EXACT($M$8:$M$17,$M16))*1)>1,-1,2))","v":0},"",0,null,0]
[null,"A10",null,"手当",null,null,null,null,"C10",null,null,10,null,null,{"$f":"IF(LEN(SUBSTITUTE(SUBSTITUTE($C17,\" \",),\"　\",))=0,0,IF(SUMPRODUCT((EXACT($C$8:$C$22,$C17))*1)>1,-1,2))","v":0},null,{"$f":"IF(LEN(SUBSTITUTE(SUBSTITUTE($J17,\" \",),\"　\",))=0,0,IF(SUMPRODUCT((EXACT($J$8:$J$22,$J17))*1)>1,-1,2))","v":0},{"$f":"IF(LEN(SUBSTITUTE(SUBSTITUTE($M17,\" \",),\"　\",))=0,0,IF(SUMPRODUCT((EXACT($M$8:$M$17,$M17))*1)>1,-1,2))","v":0},"",0,null,0]
[null,"A11",null,"手当",null,null,null,null,"C11",null,null,null,null,null,{"$f":"IF(LEN(SUBSTITUTE(SUBSTITUTE($C18,\" \",),\"　\",))=0,0,IF(SUMPRODUCT((EXACT($C$8:$C$22,$C18))*1)>1,-1,2))","v":0},null,{"$f":"IF(LEN(SUBSTITUTE(SUBSTITUTE($J18,\" \",),\"　\",))=0,0,IF(SUMPRODUCT((EXACT($J$8:$J$22,$J18))*1)>1,-1,2))","v":0},null,"",0,null,0]
[null,"A12",null,"手当",null,null,null,null,"C12",null,null,null,null,null,{"$f":"IF(LEN(SUBSTITUTE(SUBSTITUTE($C19,\" \",),\"　\",))=0,0,IF(SUMPRODUCT((EXACT($C$8:$C$22,$C19))*1)>1,-1,2))","v":0},null,{"$f":"IF(LEN(SUBSTITUTE(SUBSTITUTE($J19,\" \",),\"　\",))=0,0,IF(SUMPRODUCT((EXACT($J$8:$J$22,$J19))*1)>1,-1,2))","v":0},null,"",0,null,0]
[null,"A13",null,"手当",null,null,null,null,"C13",null,null,null,null,null,{"$f":"IF(LEN(SUBSTITUTE(SUBSTITUTE($C20,\" \",),\"　\",))=0,0,IF(SUMPRODUCT((EXACT($C$8:$C$22,$C20))*1)>1,-1,2))","v":0},null,{"$f":"IF(LEN(SUBSTITUTE(SUBSTITUTE($J20,\" \",),\"　\",))=0,0,IF(SUMPRODUCT((EXACT($J$8:$J$22,$J20))*1)>1,-1,2))","v":0},null,"",0,null,0]
[null,"A14",null,"手当",null,null,null,null,"C14",null,null,null,null,null,{"$f":"IF(LEN(SUBSTITUTE(SUBSTITUTE($C21,\" \",),\"　\",))=0,0,IF(SUMPRODUCT((EXACT($C$8:$C$22,$C21))*1)>1,-1,2))","v":0},null,{"$f":"IF(LEN(SUBSTITUTE(SUBSTITUTE($J21,\" \",),\"　\",))=0,0,IF(SUMPRODUCT((EXACT($J$8:$J$22,$J21))*1)>1,-1,2))","v":0},null,"",0,null,0]
[null,"A15",null,"手当",null,null,null,null,"C15",null,null,null,null,null,{"$f":"IF(LEN(SUBSTITUTE(SUBSTITUTE($C22,\" \",),\"　\",))=0,0,IF(SUMPRODUCT((EXACT($C$8:$C$22,$C22))*1)>1,-1,2))","v":0},null,{"$f":"IF(LEN(SUBSTITUTE(SUBSTITUTE($J22,\" \",),\"　\",))=0,0,IF(SUMPRODUCT((EXACT($J$8:$J$22,$J22))*1)>1,-1,2))","v":0},null,"",0,null,0]
[]
["手順２・３・４社員タイプ#01へ"]

{"sheet":"手順２・３・４社員タイプ#01","index":9,"n_rows":71,"n_cols":13,"rows_kept":71,"cut":false,"hidden":true,"merged":[[70,0,70,7],[18,0,18,1],[34,0,34,1],[40,0,40,1],[56,0,56,1],[56,2,57,3],[56,4,57,4],[56,5,57,5],[57,0,68,1],[57,6,68,6],[57,7,68,7],[68,2,68,5],[11,1,11,7],[12,2,12,3],[13,2,13,3],[14,1,14,7],[16,0,16,1],[16,2,16,5],[10,2,10,3],[0,0,0,7],[1,0,1,1],[1,2,1,6],[2,1,2,7],[3,1,3,7],[4,1,4,7],[5,1,5,7],[6,1,6,7],[7,1,7,7],[8,1,8,7],[9,2,9,3]]}
["「パートタイム・有期雇用労働法」対応のための取組手順書",null,null,null,null,null,null,null,1,{"$f":"INT(RIGHT(CELL(\"filename\",I1),2))","v":1},null,null,"非常に重要"]
["←戻る",null,"手順２・３・４《社員タイプ別 入力シート》",null,null,null,null,"次へ→",2,null,null,"すべて","やや重要"]
[null,"社員タイプごとに、以下の手順で点検を行いましょう。",null,null,null,null,null,null,3,null,null,"手当","重要ではない"]
[null,"① 正社員と短時間労働者・有期雇用労働者との間の待遇の違いの有無について、以下の選択肢から選択しましょう。",null,null,null,null,null,null,null,null,null,"賞与","決定要素ではない"]
[null,"【１】 正社員と短時間労働者・有期雇用労働者との間で待遇の違いがない\n【２】 正社員と短時間労働者・有期雇用労働者との間で待遇の違いがある\n【３】 正社員、短時間労働者・有期雇用労働者とも、該当する待遇がない\n\n※選択肢「１」「２」「３」について、右上の「１２３の詳細説明」をクリックすると、より詳しい説明が表示されます。",null,null,null,null,null,null,null,null,null,"福利厚生その他"]
[null,"② ①で「１」「２」を選択した場合、待遇の支給目的を入力しましょう（福利厚生その他、基本給は不要）。",null,null,null,null,null,null,null,null,null,"基本給"]
[null,"③ 正社員と短時間労働者・有期雇用労働者との間に待遇の違いがある場合（①で「２」を選択した場合）、正社員、短時間労働者・有期雇用労働者それぞれの支給状況を入力しましょう。\n  基本給については、基本給の決定要素としている事項の重要度の違いをプルダウンから選択しましょう。"]
[null,"④ 待遇に違いを設けている理由を入力しましょう。\n⑤ 違いを設けている待遇について、対応方針を検討しましょう。"]
[null,"入力欄の行の高さ及び文字のサイズが変更できます。記載量に合わせて調整してください。"]
[null,null,"行の高さ（50～400）",null,"文字の大きさ（6～15）"]
[null,null,50,null,11]
[null,"既に点検を行った社員タイプの入力内容をコピーすることができます。待遇の状況が同じ場合などにご活用ください。"]
[null,null,"コピー元の社員タイプ",null,"コピー元の待遇種別"]
[]
[null,"※コピーを行うと、既に入力していた部分にも上書きされます。ご注意ください。"]
[]
[{"$f":"\"社員タイプ#\"&TEXT($J$1,\"00\")","v":"社員タイプ#01"},null,{"$f":"OFFSET('手順1-3'!$N$9,$J$1,0)","v":""}]
[null,null,null,null,null,null,null,null,{"$f":"IF($I$19>0,20,IF($I$35>0,36,42))","v":36},null,{"$f":"COUNTIF($K$19:$K$58,1)","v":0},{"$f":"IF($K$20=1,\"20a\",\"\")&IF($K$21=1,\"21a\",\"\")&IF($K$22=1,\"22a\",\"\")&IF($K$23=1,\"23a\",\"\")&IF($K$24=1,\"24a\",\"\")&IF($K$25=1,\"25a\",\"\")&IF($K$26=1,\"26a\",\"\")&IF($K$27=1,\"27a\",\"\")&IF($K$28=1,\"28a\",\"\")&IF($K$29=1,\"29a\",\"\")&IF($K$30=1,\"30a\",\"\")&IF($K$31=1,\"31a\",\"\")&IF($K$32=1,\"32a\",\"\")&IF($K$33=1,\"33a\",\"\")&IF($K$34=1,\"34a\",\"\")&IF($K$36=1,\"36a\",\"\")&IF($K$37=1,\"37a\",\"\")&IF($K$38=1,\"38a\",\"\")&IF($K$39=1,\"39a\",\"\")&IF($K$40=1,\"40a\",\"\")&IF($K$42=1,\"42a\",\"\")&IF($K$43=1,\"43a\",\"\")&IF($K$44=1,\"44a\",\"\")&IF($K$45=1,\"45a\",\"\")&IF($K$46=1,\"46a\",\"\")&IF($K$47=1,\"47a\",\"\")&IF($K$48=1,\"48a\",\"\")&IF($K$49=1,\"49a\",\"\")&IF($K$50=1,\"50a\",\"\")&IF($K$51=1,\"51a\",\"\")&IF($K$52=1,\"52a\",\"\")&IF($K$53=1,\"53a\",\"\")&IF($K$54=1,\"54a\",\"\")&IF($K$55=1,\"55a\",\"\")&IF($K$56=1,\"56a\",\"\")&IF($K$58=1,\"58a\",\"\")","v":""}]
["手当",null,"待遇の\n違いの\n有無","手当の支給の目的","正社員への支給状況","短時間労働者・有期雇用労働者\nへの支給状況","違いを設けている理由","対応方針検討",{"$f":"COUNTIF($I$20:$I$34,1)","v":0},null,0]
["A01",{"$f":"IF(手順２・３・４《待遇の入力》!$O$8=2,手順２・３・４《待遇の入力》!$S$8,\"\")","v":""},null,null,null,null,null,null,{"$f":"IF($I21=1,1,IF($B20<>\"\",1,0))","v":0},null,{"$f":"IF($C20<>$J20,1,0)","v":0}]
["A02",{"$f":"IF(手順２・３・４《待遇の入力》!$O$9=2,手順２・３・４《待遇の入力》!$S$9,\"\")","v":""},null,null,null,null,null,null,0,null,{"$f":"IF($C21<>$J21,1,0)","v":0}]
["A03",{"$f":"IF(手順２・３・４《待遇の入力》!$O$10=2,手順２・３・４《待遇の入力》!$S$10,\"\")","v":""},null,null,null,null,null,null,0,null,0]
["A04",{"$f":"IF(手順２・３・４《待遇の入力》!$O$11=2,手順２・３・４《待遇の入力》!$S$11,\"\")","v":""},null,null,null,null,null,null,0,null,0]
["A05",{"$f":"IF(手順２・３・４《待遇の入力》!$O$12=2,手順２・３・４《待遇の入力》!$S$12,\"\")","v":""},null,null,null,null,null,null,0,null,0]
["A06",{"$f":"IF(手順２・３・４《待遇の入力》!$O$13=2,手順２・３・４《待遇の入力》!$S$13,\"\")","v":""},null,null,null,null,null,null,0,null,0]
["A07",{"$f":"IF(手順２・３・４《待遇の入力》!$O$14=2,手順２・３・４《待遇の入力》!$S$14,\"\")","v":""},null,null,null,null,null,null,0,null,0]
["A08",{"$f":"IF(手順２・３・４《待遇の入力》!$O$15=2,手順２・３・４《待遇の入力》!$S$15,\"\")","v":""},null,null,null,null,null,null,0,null,0]
["A09",{"$f":"IF(手順２・３・４《待遇の入力》!$O$16=2,手順２・３・４《待遇の入力》!$S$16,\"\")","v":""},null,null,null,null,null,null,0,null,0]
["A10",{"$f":"IF(手順２・３・４《待遇の入力》!$O$17=2,手順２・３・４《待遇の入力》!$S$17,\"\")","v":""},null,null,null,null,null,null,0,null,0]
["A11",{"$f":"IF(手順２・３・４《待遇の入力》!$O$18=2,手順２・３・４《待遇の入力》!$S$18,\"\")","v":""},null,null,null,null,null,null,0,null,0]
["A12",{"$f":"IF(手順２・３・４《待遇の入力》!$O$19=2,手順２・３・４《待遇の入力》!$S$19,\"\")","v":""},null,null,null,null,null,null,0,null,0]
["A13",{"$f":"IF(手順２・３・４《待遇の入力》!$O$20=2,手順２・３・４《待遇の入力》!$S$20,\"\")","v":""},null,null,null,null,null,null,0,null,0]
["A14",{"$f":"IF(手順２・３・４《待遇の入力》!$O$21=2,手順２・３・４《待遇の入力》!$S$21,\"\")","v":""},null,null,null,null,null,null,0,null,0]
["A15",{"$f":"IF(手順２・３・４《待遇の入力》!$O$22=2,手順２・３・４《待遇の入力》!$S$22,\"\")","v":""},null,null,null,null,null,null,{"$f":"IF($B$34<>\"\",1,0)","v":0},null,0]
["賞与",null,"待遇の\n違いの\n有無","賞与の支給の目的","正社員への支給状況","短時間労働者・有期雇用労働者\nへの支給状況","違いを設けている理由","対応方針検討",{"$f":"COUNTIF($I$36:$I$40,1)","v":1},null,0]
["B01",{"$f":"IF(手順２・３・４《待遇の入力》!$P$8=2,手順２・３・４《待遇の入力》!$G$8,\"\")","v":"賞与"},null,null,null,null,null,null,{"$f":"IF($I37=1,1,IF($B36<>\"\",1,0))","v":1},null,{"$f":"IF($C36<>$J36,1,0)","v":0}]
["B02",{"$f":"IF(手順２・３・４《待遇の入力》!$P$9=2,手順２・３・４《待遇の入力》!$G$9,\"\")","v":""},null,null,null,null,null,null,{"$f":"IF($I38=1,1,IF($B37<>\"\",1,0))","v":0},null,{"$f":"IF($C37<>$J37,1,0)","v":0}]
["B03",{"$f":"IF(手順２・３・４《待遇の入力》!$P$10=2,手順２・３・４《待遇の入力》!$G$10,\"\")","v":""},null,null,null,null,null,null,{"$f":"IF($I39=1,1,IF($B38<>\"\",1,0))","v":0},null,{"$f":"IF($C38<>$J38,1,0)","v":0}]
["B04",{"$f":"IF(手順２・３・４《待遇の入力》!$P$11=2,手順２・３・４《待遇の入力》!$G$11,\"\")","v":""},null,null,null,null,null,null,{"$f":"IF($I40=1,1,IF($B39<>\"\",1,0))","v":0},null,{"$f":"IF($C39<>$J39,1,0)","v":0}]
["B05",{"$f":"IF(手順２・３・４《待遇の入力》!$P$12=2,手順２・３・４《待遇の入力》!$G$12,\"\")","v":""},null,null,null,null,null,null,{"$f":"IF($B$40<>\"\",1,0)","v":0},null,{"$f":"IF($C40<>$J40,1,0)","v":0}]
["福利厚生その他",null,"待遇の\n違いの\n有無","―","正社員の利用状況、措置状況","短時間労働者・有期雇用労働者の利用状況、措置状況","違いを設けている理由","対応方針検討",{"$f":"COUNTIF($I$42:$I$56,1)","v":3},null,0]
["C01",{"$f":"IF(手順２・３・４《待遇の入力》!$Q$8=2,手順２・３・４《待遇の入力》!$J$8,\"\")","v":"給食施設（食堂）"},null,null,null,null,null,null,{"$f":"IF($I43=1,1,IF($B42<>\"\",1,0))","v":1},null,{"$f":"IF($C42<>$J42,1,0)","v":0}]
["C02",{"$f":"IF(手順２・３・４《待遇の入力》!$Q$9=2,手順２・３・４《待遇の入力》!$J$9,\"\")","v":"休憩室"},null,null,null,null,null,null,1,null,0]
["C03",{"$f":"IF(手順２・３・４《待遇の入力》!$Q$10=2,手順２・３・４《待遇の入力》!$J$10,\"\")","v":"更衣室"},null,null,null,null,null,null,1,null,0]
["C04",{"$f":"IF(手順２・３・４《待遇の入力》!$Q$11=2,手順２・３・４《待遇の入力》!$J$11,\"\")","v":""},null,null,null,null,null,null,0,null,0]
["C05",{"$f":"IF(手順２・３・４《待遇の入力》!$Q$12=2,手順２・３・４《待遇の入力》!$J$12,\"\")","v":""},null,null,null,null,null,null,0,null,0]
["C06",{"$f":"IF(手順２・３・４《待遇の入力》!$Q$13=2,手順２・３・４《待遇の入力》!$J$13,\"\")","v":""},null,null,null,null,null,null,0,null,0]
["C07",{"$f":"IF(手順２・３・４《待遇の入力》!$Q$14=2,手順２・３・４《待遇の入力》!$J$14,\"\")","v":""},null,null,null,null,null,null,0,null,0]
["C08",{"$f":"IF(手順２・３・４《待遇の入力》!$Q$15=2,手順２・３・４《待遇の入力》!$J$15,\"\")","v":""},null,null,null,null,null,null,0,null,0]
["C09",{"$f":"IF(手順２・３・４《待遇の入力》!$Q$16=2,手順２・３・４《待遇の入力》!$J$16,\"\")","v":""},null,null,null,null,null,null,0,null,0]
["C10",{"$f":"IF(手順２・３・４《待遇の入力》!$Q$17=2,手順２・３・４《待遇の入力》!$J$17,\"\")","v":""},null,null,null,null,null,null,0,null,0]
["C11",{"$f":"IF(手順２・３・４《待遇の入力》!$Q$18=2,手順２・３・４《待遇の入力》!$J$18,\"\")","v":""},null,null,null,null,null,null,0,null,0]
["C12",{"$f":"IF(手順２・３・４《待遇の入力》!$Q$19=2,手順２・３・４《待遇の入力》!$J$19,\"\")","v":""},null,null,null,null,null,null,0,null,0]
["C13",{"$f":"IF(手順２・３・４《待遇の入力》!$Q$20=2,手順２・３・４《待遇の入力》!$J$20,\"\")","v":""},null,null,null,null,null,null,0,null,0]
["C14",{"$f":"IF(手順２・３・４《待遇の入力》!$Q$21=2,手順２・３・４《待遇の入力》!$J$21,\"\")","v":""},null,null,null,null,null,null,0,null,0]
["C15",{"$f":"IF(手順２・３・４《待遇の入力》!$Q$22=2,手順２・３・４《待遇の入力》!$J$22,\"\")","v":""},null,null,null,null,null,null,{"$f":"IF($B$56<>\"\",1,0)","v":0},null,0]
["基本給\n待遇の違いの有無",null,"基本給決定要素",null,"正社員の重要度","短時間労働者・有期雇用労働者\nの重要度","違いを設けている理由","対応方針検討",{"$f":"COUNTIF($I$59:$I$68,1)","v":5},null,0]
[null,null,null,null,null,null,null,null,null,null,{"$f":"IF($A58<>$J58,1,0)","v":0}]
[null,null,"D01",{"$f":"IF(手順２・３・４《待遇の入力》!$R$8=2,手順２・３・４《待遇の入力》!$M$8,\"\")","v":"職務の遂行能力"},null,null,null,null,{"$f":"IF($I60=1,1,IF($D59<>\"\",1,0))","v":1}]
[null,null,"D02",{"$f":"IF(手順２・３・４《待遇の入力》!$R$9=2,手順２・３・４《待遇の入力》!$M$9,\"\")","v":"業務の内容や責任の重さ"},null,null,null,null,1]
[null,null,"D03",{"$f":"IF(手順２・３・４《待遇の入力》!$R$10=2,手順２・３・４《待遇の入力》!$M$10,\"\")","v":"仕事の成果や業績"},null,null,null,null,1]
[null,null,"D04",{"$f":"IF(手順２・３・４《待遇の入力》!$R$11=2,手順２・３・４《待遇の入力》!$M$11,\"\")","v":"年齢や勤続年数"},null,null,null,null,1]
[null,null,"D05",{"$f":"IF(手順２・３・４《待遇の入力》!$R$12=2,手順２・３・４《待遇の入力》!$M$12,\"\")","v":"市場での賃金相場"},null,null,null,null,1]
[null,null,"D06",{"$f":"IF(手順２・３・４《待遇の入力》!$R$13=2,手順２・３・４《待遇の入力》!$M$13,\"\")","v":""},null,null,null,null,0]
[null,null,"D07",{"$f":"IF(手順２・３・４《待遇の入力》!$R$14=2,手順２・３・４《待遇の入力》!$M$14,\"\")","v":""},null,null,null,null,0]
[null,null,"D08",{"$f":"IF(手順２・３・４《待遇の入力》!$R$15=2,手順２・３・４《待遇の入力》!$M$15,\"\")","v":""},null,null,null,null,0]
[null,null,"D09",{"$f":"IF(手順２・３・４《待遇の入力》!$R$16=2,手順２・３・４《待遇の入力》!$M$16,\"\")","v":""},null,null,null,null,0]
[null,null,"D10",{"$f":"IF(手順２・３・４《待遇の入力》!$R$17=2,手順２・３・４《待遇の入力》!$M$17,\"\")","v":""},null,null,null,null,{"$f":"IF($D$68<>\"\",1,0)","v":0}]
[]
[]
["次の社員タイプへ"]

{"sheet":"手順２・３・４社員タイプ#02","index":10,"n_rows":71,"n_cols":13,"rows_kept":71,"cut":false,"hidden":true,"merged":[[70,0,70,7],[18,0,18,1],[34,0,34,1],[40,0,40,1],[56,0,56,1],[56,2,57,3],[56,4,57,4],[56,5,57,5],[57,0,68,1],[57,6,68,6],[57,7,68,7],[68,2,68,5],[11,1,11,7],[12,2,12,3],[13,2,13,3],[14,1,14,7],[16,0,16,1],[16,2,16,5],[10,2,10,3],[0,0,0,7],[1,0,1,1],[1,2,1,6],[2,1,2,7],[3,1,3,7],[4,1,4,7],[5,1,5,7],[6,1,6,7],[7,1,7,7],[8,1,8,7],[9,2,9,3]]}
["「パートタイム・有期雇用労働法」対応のための取組手順書",null,null,null,null,null,null,null,1,{"$f":"INT(RIGHT(CELL(\"filename\",I1),2))","v":2},null,null,"非常に重要"]
["←戻る",null,"手順２・３・４《社員タイプ別 入力シート》",null,null,null,null,"次へ→",2,null,null,"すべて","やや重要"]
[null,"社員タイプごとに、以下の手順で点検を行いましょう。",null,null,null,null,null,null,3,null,null,"手当","重要ではない"]
[null,"① 正社員と短時間労働者・有期雇用労働者との間の待遇の違いの有無について、以下の選択肢から選択しましょう。",null,null,null,null,null,null,null,null,null,"賞与","決定要素ではない"]
[null,"【１】 正社員と短時間労働者・有期雇用労働者との間で待遇の違いがない\n【２】 正社員と短時間労働者・有期雇用労働者との間で待遇の違いがある\n【３】 正社員、短時間労働者・有期雇用労働者とも、該当する待遇がない\n\n※選択肢「１」「２」「３」について、右上の「１２３の詳細説明」をクリックすると、より詳しい説明が表示されます。",null,null,null,null,null,null,null,null,null,"福利厚生その他"]
[null,"② ①で「１」「２」を選択した場合、待遇の支給目的を入力しましょう（福利厚生その他、基本給は不要）。",null,null,null,null,null,null,null,null,null,"基本給"]
[null,"③ 正社員と短時間労働者・有期雇用労働者との間に待遇の違いがある場合（①で「２」を選択した場合）、正社員、短時間労働者・有期雇用労働者それぞれの支給状況を入力しましょう。\n  基本給については、基本給の決定要素としている事項の重要度の違いをプルダウンから選択しましょう。"]
[null,"④ 待遇に違いを設けている理由を入力しましょう。\n⑤ 違いを設けている待遇について、対応方針を検討しましょう。"]
[null,"入力欄の行の高さ及び文字のサイズが変更できます。記載量に合わせて調整してください。"]
[null,null,"行の高さ（50～400）",null,"文字の大きさ（6～15）"]
[null,null,50,null,11]
[null,"既に点検を行った社員タイプの入力内容をコピーすることができます。待遇の状況が同じ場合などにご活用ください。"]
[null,null,"コピー元の社員タイプ",null,"コピー元の待遇種別"]
[]
[null,"※コピーを行うと、既に入力していた部分にも上書きされます。ご注意ください。"]
[]
[{"$f":"\"社員タイプ#\"&TEXT($J$1,\"00\")","v":"社員タイプ#02"},null,{"$f":"OFFSET('手順1-3'!$N$9,$J$1,0)","v":""}]
[null,null,null,null,null,null,null,null,{"$f":"IF($I$19>0,20,IF($I$35>0,36,42))","v":36},null,{"$f":"COUNTIF($K$19:$K$58,1)","v":0},{"$f":"IF($K$20=1,\"20a\",\"\")&IF($K$21=1,\"21a\",\"\")&IF($K$22=1,\"22a\",\"\")&IF($K$23=1,\"23a\",\"\")&IF($K$24=1,\"24a\",\"\")&IF($K$25=1,\"25a\",\"\")&IF($K$26=1,\"26a\",\"\")&IF($K$27=1,\"27a\",\"\")&IF($K$28=1,\"28a\",\"\")&IF($K$29=1,\"29a\",\"\")&IF($K$30=1,\"30a\",\"\")&IF($K$31=1,\"31a\",\"\")&IF($K$32=1,\"32a\",\"\")&IF($K$33=1,\"33a\",\"\")&IF($K$34=1,\"34a\",\"\")&IF($K$36=1,\"36a\",\"\")&IF($K$37=1,\"37a\",\"\")&IF($K$38=1,\"38a\",\"\")&IF($K$39=1,\"39a\",\"\")&IF($K$40=1,\"40a\",\"\")&IF($K$42=1,\"42a\",\"\")&IF($K$43=1,\"43a\",\"\")&IF($K$44=1,\"44a\",\"\")&IF($K$45=1,\"45a\",\"\")&IF($K$46=1,\"46a\",\"\")&IF($K$47=1,\"47a\",\"\")&IF($K$48=1,\"48a\",\"\")&IF($K$49=1,\"49a\",\"\")&IF($K$50=1,\"50a\",\"\")&IF($K$51=1,\"51a\",\"\")&IF($K$52=1,\"52a\",\"\")&IF($K$53=1,\"53a\",\"\")&IF($K$54=1,\"54a\",\"\")&IF($K$55=1,\"55a\",\"\")&IF($K$56=1,\"56a\",\"\")&IF($K$58=1,\"58a\",\"\")","v":""}]
["手当",null,"待遇の\n違いの\n有無","手当の支給の目的","正社員への支給状況","短時間労働者・有期雇用労働者\nへの支給状況","違いを設けている理由","対応方針検討",{"$f":"COUNTIF($I$20:$I$34,1)","v":0},null,0]
["A01",{"$f":"IF(手順２・３・４《待遇の入力》!$O$8=2,手順２・３・４《待遇の入力》!$S$8,\"\")","v":""},null,null,null,null,null,null,{"$f":"IF($I21=1,1,IF($B20<>\"\",1,0))","v":0},null,{"$f":"IF($C20<>$J20,1,0)","v":0}]
["A02",{"$f":"IF(手順２・３・４《待遇の入力》!$O$9=2,手順２・３・４《待遇の入力》!$S$9,\"\")","v":""},null,null,null,null,null,null,0,null,{"$f":"IF($C21<>$J21,1,0)","v":0}]
["A03",{"$f":"IF(手順２・３・４《待遇の入力》!$O$10=2,手順２・３・４《待遇の入力》!$S$10,\"\")","v":""},null,null,null,null,null,null,0,null,0]
["A04",{"$f":"IF(手順２・３・４《待遇の入力》!$O$11=2,手順２・３・４《待遇の入力》!$S$11,\"\")","v":""},null,null,null,null,null,null,0,null,0]
["A05",{"$f":"IF(手順２・３・４《待遇の入力》!$O$12=2,手順２・３・４《待遇の入力》!$S$12,\"\")","v":""},null,null,null,null,null,null,0,null,0]
["A06",{"$f":"IF(手順２・３・４《待遇の入力》!$O$13=2,手順２・３・４《待遇の入力》!$S$13,\"\")","v":""},null,null,null,null,null,null,0,null,0]
["A07",{"$f":"IF(手順２・３・４《待遇の入力》!$O$14=2,手順２・３・４《待遇の入力》!$S$14,\"\")","v":""},null,null,null,null,null,null,0,null,0]
["A08",{"$f":"IF(手順２・３・４《待遇の入力》!$O$15=2,手順２・３・４《待遇の入力》!$S$15,\"\")","v":""},null,null,null,null,null,null,0,null,0]
["A09",{"$f":"IF(手順２・３・４《待遇の入力》!$O$16=2,手順２・３・４《待遇の入力》!$S$16,\"\")","v":""},null,null,null,null,null,null,0,null,0]
["A10",{"$f":"IF(手順２・３・４《待遇の入力》!$O$17=2,手順２・３・４《待遇の入力》!$S$17,\"\")","v":""},null,null,null,null,null,null,0,null,0]
["A11",{"$f":"IF(手順２・３・４《待遇の入力》!$O$18=2,手順２・３・４《待遇の入力》!$S$18,\"\")","v":""},null,null,null,null,null,null,0,null,0]
["A12",{"$f":"IF(手順２・３・４《待遇の入力》!$O$19=2,手順２・３・４《待遇の入力》!$S$19,\"\")","v":""},null,null,null,null,null,null,0,null,0]
["A13",{"$f":"IF(手順２・３・４《待遇の入力》!$O$20=2,手順２・３・４《待遇の入力》!$S$20,\"\")","v":""},null,null,null,null,null,null,0,null,0]
["A14",{"$f":"IF(手順２・３・４《待遇の入力》!$O$21=2,手順２・３・４《待遇の入力》!$S$21,\"\")","v":""},null,null,null,null,null,null,0,null,0]
["A15",{"$f":"IF(手順２・３・４《待遇の入力》!$O$22=2,手順２・３・４《待遇の入力》!$S$22,\"\")","v":""},null,null,null,null,null,null,{"$f":"IF($B$34<>\"\",1,0)","v":0},null,0]
["賞与",null,"待遇の\n違いの\n有無","賞与の支給の目的","正社員への支給状況","短時間労働者・有期雇用労働者\nへの支給状況","違いを設けている理由","対応方針検討",{"$f":"COUNTIF($I$36:$I$40,1)","v":1},null,0]
["B01",{"$f":"IF(手順２・３・４《待遇の入力》!$P$8=2,手順２・３・４《待遇の入力》!$G$8,\"\")","v":"賞与"},null,null,null,null,null,null,{"$f":"IF($I37=1,1,IF($B36<>\"\",1,0))","v":1},null,{"$f":"IF($C36<>$J36,1,0)","v":0}]
["B02",{"$f":"IF(手順２・３・４《待遇の入力》!$P$9=2,手順２・３・４《待遇の入力》!$G$9,\"\")","v":""},null,null,null,null,null,null,{"$f":"IF($I38=1,1,IF($B37<>\"\",1,0))","v":0},null,{"$f":"IF($C37<>$J37,1,0)","v":0}]
["B03",{"$f":"IF(手順２・３・４《待遇の入力》!$P$10=2,手順２・３・４《待遇の入力》!$G$10,\"\")","v":""},null,null,null,null,null,null,{"$f":"IF($I39=1,1,IF($B38<>\"\",1,0))","v":0},null,{"$f":"IF($C38<>$J38,1,0)","v":0}]
["B04",{"$f":"IF(手順２・３・４《待遇の入力》!$P$11=2,手順２・３・４《待遇の入力》!$G$11,\"\")","v":""},null,null,null,null,null,null,{"$f":"IF($I40=1,1,IF($B39<>\"\",1,0))","v":0},null,{"$f":"IF($C39<>$J39,1,0)","v":0}]
["B05",{"$f":"IF(手順２・３・４《待遇の入力》!$P$12=2,手順２・３・４《待遇の入力》!$G$12,\"\")","v":""},null,null,null,null,null,null,{"$f":"IF($B$40<>\"\",1,0)","v":0},null,{"$f":"IF($C40<>$J40,1,0)","v":0}]
["福利厚生その他",null,"待遇の\n違いの\n有無","―","正社員の利用状況、措置状況","短時間労働者・有期雇用労働者の利用状況、措置状況","違いを設けている理由","対応方針検討",{"$f":"COUNTIF($I$42:$I$56,1)","v":3},null,0]
["C01",{"$f":"IF(手順２・３・４《待遇の入力》!$Q$8=2,手順２・３・４《待遇の入力》!$J$8,\"\")","v":"給食施設（食堂）"},null,null,null,null,null,null,{"$f":"IF($I43=1,1,IF($B42<>\"\",1,0))","v":1},null,{"$f":"IF($C42<>$J42,1,0)","v":0}]
["C02",{"$f":"IF(手順２・３・４《待遇の入力》!$Q$9=2,手順２・３・４《待遇の入力》!$J$9,\"\")","v":"休憩室"},null,null,null,null,null,null,1,null,0]
["C03",{"$f":"IF(手順２・３・４《待遇の入力》!$Q$10=2,手順２・３・４《待遇の入力》!$J$10,\"\")","v":"更衣室"},null,null,null,null,null,null,1,null,0]
["C04",{"$f":"IF(手順２・３・４《待遇の入力》!$Q$11=2,手順２・３・４《待遇の入力》!$J$11,\"\")","v":""},null,null,null,null,null,null,0,null,0]
["C05",{"$f":"IF(手順２・３・４《待遇の入力》!$Q$12=2,手順２・３・４《待遇の入力》!$J$12,\"\")","v":""},null,null,null,null,null,null,0,null,0]
["C06",{"$f":"IF(手順２・３・４《待遇の入力》!$Q$13=2,手順２・３・４《待遇の入力》!$J$13,\"\")","v":""},null,null,null,null,null,null,0,null,0]
["C07",{"$f":"IF(手順２・３・４《待遇の入力》!$Q$14=2,手順２・３・４《待遇の入力》!$J$14,\"\")","v":""},null,null,null,null,null,null,0,null,0]
["C08",{"$f":"IF(手順２・３・４《待遇の入力》!$Q$15=2,手順２・３・４《待遇の入力》!$J$15,\"\")","v":""},null,null,null,null,null,null,0,null,0]
["C09",{"$f":"IF(手順２・３・４《待遇の入力》!$Q$16=2,手順２・３・４《待遇の入力》!$J$16,\"\")","v":""},null,null,null,null,null,null,0,null,0]
["C10",{"$f":"IF(手順２・３・４《待遇の入力》!$Q$17=2,手順２・３・４《待遇の入力》!$J$17,\"\")","v":""},null,null,null,null,null,null,0,null,0]
["C11",{"$f":"IF(手順２・３・４《待遇の入力》!$Q$18=2,手順２・３・４《待遇の入力》!$J$18,\"\")","v":""},null,null,null,null,null,null,0,null,0]
["C12",{"$f":"IF(手順２・３・４《待遇の入力》!$Q$19=2,手順２・３・４《待遇の入力》!$J$19,\"\")","v":""},null,null,null,null,null,null,0,null,0]
["C13",{"$f":"IF(手順２・３・４《待遇の入力》!$Q$20=2,手順２・３・４《待遇の入力》!$J$20,\"\")","v":""},null,null,null,null,null,null,0,null,0]
["C14",{"$f":"IF(手順２・３・４《待遇の入力》!$Q$21=2,手順２・３・４《待遇の入力》!$J$21,\"\")","v":""},null,null,null,null,null,null,0,null,0]
["C15",{"$f":"IF(手順２・３・４《待遇の入力》!$Q$22=2,手順２・３・４《待遇の入力》!$J$22,\"\")","v":""},null,null,null,null,null,null,{"$f":"IF($B$56<>\"\",1,0)","v":0},null,0]
["基本給\n待遇の違いの有無",null,"基本給決定要素",null,"正社員の重要度","短時間労働者・有期雇用労働者\nの重要度","違いを設けている理由","対応方針検討",{"$f":"COUNTIF($I$59:$I$68,1)","v":5},null,0]
[null,null,null,null,null,null,null,null,null,null,{"$f":"IF($A58<>$J58,1,0)","v":0}]
[null,null,"D01",{"$f":"IF(手順２・３・４《待遇の入力》!$R$8=2,手順２・３・４《待遇の入力》!$M$8,\"\")","v":"職務の遂行能力"},null,null,null,null,{"$f":"IF($I60=1,1,IF($D59<>\"\",1,0))","v":1}]
[null,null,"D02",{"$f":"IF(手順２・３・４《待遇の入力》!$R$9=2,手順２・３・４《待遇の入力》!$M$9,\"\")","v":"業務の内容や責任の重さ"},null,null,null,null,1]
[null,null,"D03",{"$f":"IF(手順２・３・４《待遇の入力》!$R$10=2,手順２・３・４《待遇の入力》!$M$10,\"\")","v":"仕事の成果や業績"},null,null,null,null,1]
[null,null,"D04",{"$f":"IF(手順２・３・４《待遇の入力》!$R$11=2,手順２・３・４《待遇の入力》!$M$11,\"\")","v":"年齢や勤続年数"},null,null,null,null,1]
[null,null,"D05",{"$f":"IF(手順２・３・４《待遇の入力》!$R$12=2,手順２・３・４《待遇の入力》!$M$12,\"\")","v":"市場での賃金相場"},null,null,null,null,1]
[null,null,"D06",{"$f":"IF(手順２・３・４《待遇の入力》!$R$13=2,手順２・３・４《待遇の入力》!$M$13,\"\")","v":""},null,null,null,null,0]
[null,null,"D07",{"$f":"IF(手順２・３・４《待遇の入力》!$R$14=2,手順２・３・４《待遇の入力》!$M$14,\"\")","v":""},null,null,null,null,0]
[null,null,"D08",{"$f":"IF(手順２・３・４《待遇の入力》!$R$15=2,手順２・３・４《待遇の入力》!$M$15,\"\")","v":""},null,null,null,null,0]
[null,null,"D09",{"$f":"IF(手順２・３・４《待遇の入力》!$R$16=2,手順２・３・４《待遇の入力》!$M$16,\"\")","v":""},null,null,null,null,0]
[null,null,"D10",{"$f":"IF(手順２・３・４《待遇の入力》!$R$17=2,手順２・３・４《待遇の入力》!$M$17,\"\")","v":""},null,null,null,null,{"$f":"IF($D$68<>\"\",1,0)","v":0}]
[]
[]
["次の社員タイプへ"]

{"sheet":"手順２・３・４社員タイプ#03","index":11,"n_rows":71,"n_cols":13,"rows_kept":71,"cut":false,"hidden":true,"merged":[[70,0,70,7],[18,0,18,1],[34,0,34,1],[40,0,40,1],[56,0,56,1],[56,2,57,3],[56,4,57,4],[56,5,57,5],[57,0,68,1],[57,6,68,6],[57,7,68,7],[68,2,68,5],[11,1,11,7],[12,2,12,3],[13,2,13,3],[14,1,14,7],[16,0,16,1],[16,2,16,5],[10,2,10,3],[0,0,0,7],[1,0,1,1],[1,2,1,6],[2,1,2,7],[3,1,3,7],[4,1,4,7],[5,1,5,7],[6,1,6,7],[7,1,7,7],[8,1,8,7],[9,2,9,3]]}
["「パートタイム・有期雇用労働法」対応のための取組手順書",null,null,null,null,null,null,null,1,{"$f":"INT(RIGHT(CELL(\"filename\",I1),2))","v":3},null,null,"非常に重要"]
["←戻る",null,"手順２・３・４《社員タイプ別 入力シート》",null,null,null,null,"次へ→",2,null,null,"すべて","やや重要"]
[null,"社員タイプごとに、以下の手順で点検を行いましょう。",null,null,null,null,null,null,3,null,null,"手当","重要ではない"]
[null,"① 正社員と短時間労働者・有期雇用労働者との間の待遇の違いの有無について、以下の選択肢から選択しましょう。",null,null,null,null,null,null,null,null,null,"賞与","決定要素ではない"]
[null,"【１】 正社員と短時間労働者・有期雇用労働者との間で待遇の違いがない\n【２】 正社員と短時間労働者・有期雇用労働者との間で待遇の違いがある\n【３】 正社員、短時間労働者・有期雇用労働者とも、該当する待遇がない\n\n※選択肢「１」「２」「３」について、右上の「１２３の詳細説明」をクリックすると、より詳しい説明が表示されます。",null,null,null,null,null,null,null,null,null,"福利厚生その他"]
[null,"② ①で「１」「２」を選択した場合、待遇の支給目的を入力しましょう（福利厚生その他、基本給は不要）。",null,null,null,null,null,null,null,null,null,"基本給"]
[null,"③ 正社員と短時間労働者・有期雇用労働者との間に待遇の違いがある場合（①で「２」を選択した場合）、正社員、短時間労働者・有期雇用労働者それぞれの支給状況を入力しましょう。\n  基本給については、基本給の決定要素としている事項の重要度の違いをプルダウンから選択しましょう。"]
[null,"④ 待遇に違いを設けている理由を入力しましょう。\n⑤ 違いを設けている待遇について、対応方針を検討しましょう。"]
[null,"入力欄の行の高さ及び文字のサイズが変更できます。記載量に合わせて調整してください。"]
[null,null,"行の高さ（50～400）",null,"文字の大きさ（6～15）"]
[null,null,50,null,11]
[null,"既に点検を行った社員タイプの入力内容をコピーすることができます。待遇の状況が同じ場合などにご活用ください。"]
[null,null,"コピー元の社員タイプ",null,"コピー元の待遇種別"]
[]
[null,"※コピーを行うと、既に入力していた部分にも上書きされます。ご注意ください。"]
[]
[{"$f":"\"社員タイプ#\"&TEXT($J$1,\"00\")","v":"社員タイプ#03"},null,{"$f":"OFFSET('手順1-3'!$N$9,$J$1,0)","v":""}]
[null,null,null,null,null,null,null,null,{"$f":"IF($I$19>0,20,IF($I$35>0,36,42))","v":36},null,{"$f":"COUNTIF($K$19:$K$58,1)","v":0},{"$f":"IF($K$20=1,\"20a\",\"\")&IF($K$21=1,\"21a\",\"\")&IF($K$22=1,\"22a\",\"\")&IF($K$23=1,\"23a\",\"\")&IF($K$24=1,\"24a\",\"\")&IF($K$25=1,\"25a\",\"\")&IF($K$26=1,\"26a\",\"\")&IF($K$27=1,\"27a\",\"\")&IF($K$28=1,\"28a\",\"\")&IF($K$29=1,\"29a\",\"\")&IF($K$30=1,\"30a\",\"\")&IF($K$31=1,\"31a\",\"\")&IF($K$32=1,\"32a\",\"\")&IF($K$33=1,\"33a\",\"\")&IF($K$34=1,\"34a\",\"\")&IF($K$36=1,\"36a\",\"\")&IF($K$37=1,\"37a\",\"\")&IF($K$38=1,\"38a\",\"\")&IF($K$39=1,\"39a\",\"\")&IF($K$40=1,\"40a\",\"\")&IF($K$42=1,\"42a\",\"\")&IF($K$43=1,\"43a\",\"\")&IF($K$44=1,\"44a\",\"\")&IF($K$45=1,\"45a\",\"\")&IF($K$46=1,\"46a\",\"\")&IF($K$47=1,\"47a\",\"\")&IF($K$48=1,\"48a\",\"\")&IF($K$49=1,\"49a\",\"\")&IF($K$50=1,\"50a\",\"\")&IF($K$51=1,\"51a\",\"\")&IF($K$52=1,\"52a\",\"\")&IF($K$53=1,\"53a\",\"\")&IF($K$54=1,\"54a\",\"\")&IF($K$55=1,\"55a\",\"\")&IF($K$56=1,\"56a\",\"\")&IF($K$58=1,\"58a\",\"\")","v":""}]
["手当",null,"待遇の\n違いの\n有無","手当の支給の目的","正社員への支給状況","短時間労働者・有期雇用労働者\nへの支給状況","違いを設けている理由","対応方針検討",{"$f":"COUNTIF($I$20:$I$34,1)","v":0},null,0]
["A01",{"$f":"IF(手順２・３・４《待遇の入力》!$O$8=2,手順２・３・４《待遇の入力》!$S$8,\"\")","v":""},null,null,null,null,null,null,{"$f":"IF($I21=1,1,IF($B20<>\"\",1,0))","v":0},null,{"$f":"IF($C20<>$J20,1,0)","v":0}]
["A02",{"$f":"IF(手順２・３・４《待遇の入力》!$O$9=2,手順２・３・４《待遇の入力》!$S$9,\"\")","v":""},null,null,null,null,null,null,0,null,{"$f":"IF($C21<>$J21,1,0)","v":0}]
["A03",{"$f":"IF(手順２・３・４《待遇の入力》!$O$10=2,手順２・３・４《待遇の入力》!$S$10,\"\")","v":""},null,null,null,null,null,null,0,null,0]
["A04",{"$f":"IF(手順２・３・４《待遇の入力》!$O$11=2,手順２・３・４《待遇の入力》!$S$11,\"\")","v":""},null,null,null,null,null,null,0,null,0]
["A05",{"$f":"IF(手順２・３・４《待遇の入力》!$O$12=2,手順２・３・４《待遇の入力》!$S$12,\"\")","v":""},null,null,null,null,null,null,0,null,0]
["A06",{"$f":"IF(手順２・３・４《待遇の入力》!$O$13=2,手順２・３・４《待遇の入力》!$S$13,\"\")","v":""},null,null,null,null,null,null,0,null,0]
["A07",{"$f":"IF(手順２・３・４《待遇の入力》!$O$14=2,手順２・３・４《待遇の入力》!$S$14,\"\")","v":""},null,null,null,null,null,null,0,null,0]
["A08",{"$f":"IF(手順２・３・４《待遇の入力》!$O$15=2,手順２・３・４《待遇の入力》!$S$15,\"\")","v":""},null,null,null,null,null,null,0,null,0]
["A09",{"$f":"IF(手順２・３・４《待遇の入力》!$O$16=2,手順２・３・４《待遇の入力》!$S$16,\"\")","v":""},null,null,null,null,null,null,0,null,0]
["A10",{"$f":"IF(手順２・３・４《待遇の入力》!$O$17=2,手順２・３・４《待遇の入力》!$S$17,\"\")","v":""},null,null,null,null,null,null,0,null,0]
["A11",{"$f":"IF(手順２・３・４《待遇の入力》!$O$18=2,手順２・３・４《待遇の入力》!$S$18,\"\")","v":""},null,null,null,null,null,null,0,null,0]
["A12",{"$f":"IF(手順２・３・４《待遇の入力》!$O$19=2,手順２・３・４《待遇の入力》!$S$19,\"\")","v":""},null,null,null,null,null,null,0,null,0]
["A13",{"$f":"IF(手順２・３・４《待遇の入力》!$O$20=2,手順２・３・４《待遇の入力》!$S$20,\"\")","v":""},null,null,null,null,null,null,0,null,0]
["A14",{"$f":"IF(手順２・３・４《待遇の入力》!$O$21=2,手順２・３・４《待遇の入力》!$S$21,\"\")","v":""},null,null,null,null,null,null,0,null,0]
["A15",{"$f":"IF(手順２・３・４《待遇の入力》!$O$22=2,手順２・３・４《待遇の入力》!$S$22,\"\")","v":""},null,null,null,null,null,null,{"$f":"IF($B$34<>\"\",1,0)","v":0},null,0]
["賞与",null,"待遇の\n違いの\n有無","賞与の支給の目的","正社員への支給状況","短時間労働者・有期雇用労働者\nへの支給状況","違いを設けている理由","対応方針検討",{"$f":"COUNTIF($I$36:$I$40,1)","v":1},null,0]
["B01",{"$f":"IF(手順２・３・４《待遇の入力》!$P$8=2,手順２・３・４《待遇の入力》!$G$8,\"\")","v":"賞与"},null,null,null,null,null,null,{"$f":"IF($I37=1,1,IF($B36<>\"\",1,0))","v":1},null,{"$f":"IF($C36<>$J36,1,0)","v":0}]
["B02",{"$f":"IF(手順２・３・４《待遇の入力》!$P$9=2,手順２・３・４《待遇の入力》!$G$9,\"\")","v":""},null,null,null,null,null,null,{"$f":"IF($I38=1,1,IF($B37<>\"\",1,0))","v":0},null,{"$f":"IF($C37<>$J37,1,0)","v":0}]
["B03",{"$f":"IF(手順２・３・４《待遇の入力》!$P$10=2,手順２・３・４《待遇の入力》!$G$10,\"\")","v":""},null,null,null,null,null,null,{"$f":"IF($I39=1,1,IF($B38<>\"\",1,0))","v":0},null,{"$f":"IF($C38<>$J38,1,0)","v":0}]
["B04",{"$f":"IF(手順２・３・４《待遇の入力》!$P$11=2,手順２・３・４《待遇の入力》!$G$11,\"\")","v":""},null,null,null,null,null,null,{"$f":"IF($I40=1,1,IF($B39<>\"\",1,0))","v":0},null,{"$f":"IF($C39<>$J39,1,0)","v":0}]
["B05",{"$f":"IF(手順２・３・４《待遇の入力》!$P$12=2,手順２・３・４《待遇の入力》!$G$12,\"\")","v":""},null,null,null,null,null,null,{"$f":"IF($B$40<>\"\",1,0)","v":0},null,{"$f":"IF($C40<>$J40,1,0)","v":0}]
["福利厚生その他",null,"待遇の\n違いの\n有無","―","正社員の利用状況、措置状況","短時間労働者・有期雇用労働者の利用状況、措置状況","違いを設けている理由","対応方針検討",{"$f":"COUNTIF($I$42:$I$56,1)","v":3},null,0]
["C01",{"$f":"IF(手順２・３・４《待遇の入力》!$Q$8=2,手順２・３・４《待遇の入力》!$J$8,\"\")","v":"給食施設（食堂）"},null,null,null,null,null,null,{"$f":"IF($I43=1,1,IF($B42<>\"\",1,0))","v":1},null,{"$f":"IF($C42<>$J42,1,0)","v":0}]
["C02",{"$f":"IF(手順２・３・４《待遇の入力》!$Q$9=2,手順２・３・４《待遇の入力》!$J$9,\"\")","v":"休憩室"},null,null,null,null,null,null,1,null,0]
["C03",{"$f":"IF(手順２・３・４《待遇の入力》!$Q$10=2,手順２・３・４《待遇の入力》!$J$10,\"\")","v":"更衣室"},null,null,null,null,null,null,1,null,0]
["C04",{"$f":"IF(手順２・３・４《待遇の入力》!$Q$11=2,手順２・３・４《待遇の入力》!$J$11,\"\")","v":""},null,null,null,null,null,null,0,null,0]
["C05",{"$f":"IF(手順２・３・４《待遇の入力》!$Q$12=2,手順２・３・４《待遇の入力》!$J$12,\"\")","v":""},null,null,null,null,null,null,0,null,0]
["C06",{"$f":"IF(手順２・３・４《待遇の入力》!$Q$13=2,手順２・３・４《待遇の入力》!$J$13,\"\")","v":""},null,null,null,null,null,null,0,null,0]
["C07",{"$f":"IF(手順２・３・４《待遇の入力》!$Q$14=2,手順２・３・４《待遇の入力》!$J$14,\"\")","v":""},null,null,null,null,null,null,0,null,0]
["C08",{"$f":"IF(手順２・３・４《待遇の入力》!$Q$15=2,手順２・３・４《待遇の入力》!$J$15,\"\")","v":""},null,null,null,null,null,null,0,null,0]
["C09",{"$f":"IF(手順２・３・４《待遇の入力》!$Q$16=2,手順２・３・４《待遇の入力》!$J$16,\"\")","v":""},null,null,null,null,null,null,0,null,0]
["C10",{"$f":"IF(手順２・３・４《待遇の入力》!$Q$17=2,手順２・３・４《待遇の入力》!$J$17,\"\")","v":""},null,null,null,null,null,null,0,null,0]
["C11",{"$f":"IF(手順２・３・４《待遇の入力》!$Q$18=2,手順２・３・４《待遇の入力》!$J$18,\"\")","v":""},null,null,null,null,null,null,0,null,0]
["C12",{"$f":"IF(手順２・３・４《待遇の入力》!$Q$19=2,手順２・３・４《待遇の入力》!$J$19,\"\")","v":""},null,null,null,null,null,null,0,null,0]
["C13",{"$f":"IF(手順２・３・４《待遇の入力》!$Q$20=2,手順２・３・４《待遇の入力》!$J$20,\"\")","v":""},null,null,null,null,null,null,0,null,0]
["C14",{"$f":"IF(手順２・３・４《待遇の入力》!$Q$21=2,手順２・３・４《待遇の入力》!$J$21,\"\")","v":""},null,null,null,null,null,null,0,null,0]
["C15",{"$f":"IF(手順２・３・４《待遇の入力》!$Q$22=2,手順２・３・４《待遇の入力》!$J$22,\"\")","v":""},null,null,null,null,null,null,{"$f":"IF($B$56<>\"\",1,0)","v":0},null,0]
["基本給\n待遇の違いの有無",null,"基本給決定要素",null,"正社員の重要度","短時間労働者・有期雇用労働者\nの重要度","違いを設けている理由","対応方針検討",{"$f":"COUNTIF($I$59:$I$68,1)","v":5},null,0]
[null,null,null,null,null,null,null,null,null,null,{"$f":"IF($A58<>$J58,1,0)","v":0}]
[null,null,"D01",{"$f":"IF(手順２・３・４《待遇の入力》!$R$8=2,手順２・３・４《待遇の入力》!$M$8,\"\")","v":"職務の遂行能力"},null,null,null,null,{"$f":"IF($I60=1,1,IF($D59<>\"\",1,0))","v":1}]
[null,null,"D02",{"$f":"IF(手順２・３・４《待遇の入力》!$R$9=2,手順２・３・４《待遇の入力》!$M$9,\"\")","v":"業務の内容や責任の重さ"},null,null,null,null,1]
[null,null,"D03",{"$f":"IF(手順２・３・４《待遇の入力》!$R$10=2,手順２・３・４《待遇の入力》!$M$10,\"\")","v":"仕事の成果や業績"},null,null,null,null,1]
[null,null,"D04",{"$f":"IF(手順２・３・４《待遇の入力》!$R$11=2,手順２・３・４《待遇の入力》!$M$11,\"\")","v":"年齢や勤続年数"},null,null,null,null,1]
[null,null,"D05",{"$f":"IF(手順２・３・４《待遇の入力》!$R$12=2,手順２・３・４《待遇の入力》!$M$12,\"\")","v":"市場での賃金相場"},null,null,null,null,1]
[null,null,"D06",{"$f":"IF(手順２・３・４《待遇の入力》!$R$13=2,手順２・３・４《待遇の入力》!$M$13,\"\")","v":""},null,null,null,null,0]
[null,null,"D07",{"$f":"IF(手順２・３・４《待遇の入力》!$R$14=2,手順２・３・４《待遇の入力》!$M$14,\"\")","v":""},null,null,null,null,0]
[null,null,"D08",{"$f":"IF(手順２・３・４《待遇の入力》!$R$15=2,手順２・３・４《待遇の入力》!$M$15,\"\")","v":""},null,null,null,null,0]
[null,null,"D09",{"$f":"IF(手順２・３・４《待遇の入力》!$R$16=2,手順２・３・４《待遇の入力》!$M$16,\"\")","v":""},null,null,null,null,0]
[null,null,"D10",{"$f":"IF(手順２・３・４《待遇の入力》!$R$17=2,手順２・３・４《待遇の入力》!$M$17,\"\")","v":""},null,null,null,null,{"$f":"IF($D$68<>\"\",1,0)","v":0}]
[]
[]
["次の社員タイプへ"]

{"sheet":"手順２・３・４社員タイプ#04","index":12,"n_rows":71,"n_cols":13,"rows_kept":71,"cut":false,"hidden":true,"merged":[[70,0,70,7],[18,0,18,1],[34,0,34,1],[40,0,40,1],[56,0,56,1],[56,2,57,3],[56,4,57,4],[56,5,57,5],[57,0,68,1],[57,6,68,6],[57,7,68,7],[68,2,68,5],[11,1,11,7],[12,2,12,3],[13,2,13,3],[14,1,14,7],[16,0,16,1],[16,2,16,5],[10,2,10,3],[0,0,0,7],[1,0,1,1],[1,2,1,6],[2,1,2,7],[3,1,3,7],[4,1,4,7],[5,1,5,7],[6,1,6,7],[7,1,7,7],[8,1,8,7],[9,2,9,3]]}
["「パートタイム・有期雇用労働法」対応のための取組手順書",null,null,null,null,null,null,null,1,{"$f":"INT(RIGHT(CELL(\"filename\",I1),2))","v":4},null,null,"非常に重要"]
["←戻る",null,"手順２・３・４《社員タイプ別 入力シート》",null,null,null,null,"次へ→",2,null,null,"すべて","やや重要"]
[null,"社員タイプごとに、以下の手順で点検を行いましょう。",null,null,null,null,null,null,3,null,null,"手当","重要ではない"]
[null,"① 正社員と短時間労働者・有期雇用労働者との間の待遇の違いの有無について、以下の選択肢から選択しましょう。",null,null,null,null,null,null,null,null,null,"賞与","決定要素ではない"]
[null,"【１】 正社員と短時間労働者・有期雇用労働者との間で待遇の違いがない\n【２】 正社員と短時間労働者・有期雇用労働者との間で待遇の違いがある\n【３】 正社員、短時間労働者・有期雇用労働者とも、該当する待遇がない\n\n※選択肢「１」「２」「３」について、右上の「１２３の詳細説明」をクリックすると、より詳しい説明が表示されます。",null,null,null,null,null,null,null,null,null,"福利厚生その他"]
[null,"② ①で「１」「２」を選択した場合、待遇の支給目的を入力しましょう（福利厚生その他、基本給は不要）。",null,null,null,null,null,null,null,null,null,"基本給"]
[null,"③ 正社員と短時間労働者・有期雇用労働者との間に待遇の違いがある場合（①で「２」を選択した場合）、正社員、短時間労働者・有期雇用労働者それぞれの支給状況を入力しましょう。\n  基本給については、基本給の決定要素としている事項の重要度の違いをプルダウンから選択しましょう。"]
[null,"④ 待遇に違いを設けている理由を入力しましょう。\n⑤ 違いを設けている待遇について、対応方針を検討しましょう。"]
[null,"入力欄の行の高さ及び文字のサイズが変更できます。記載量に合わせて調整してください。"]
[null,null,"行の高さ（50～400）",null,"文字の大きさ（6～15）"]
[null,null,50,null,11]
[null,"既に点検を行った社員タイプの入力内容をコピーすることができます。待遇の状況が同じ場合などにご活用ください。"]
[null,null,"コピー元の社員タイプ",null,"コピー元の待遇種別"]
[]
[null,"※コピーを行うと、既に入力していた部分にも上書きされます。ご注意ください。"]
[]
[{"$f":"\"社員タイプ#\"&TEXT($J$1,\"00\")","v":"社員タイプ#04"},null,{"$f":"OFFSET('手順1-3'!$N$9,$J$1,0)","v":""}]
[null,null,null,null,null,null,null,null,{"$f":"IF($I$19>0,20,IF($I$35>0,36,42))","v":36},null,{"$f":"COUNTIF($K$19:$K$58,1)","v":0},{"$f":"IF($K$20=1,\"20a\",\"\")&IF($K$21=1,\"21a\",\"\")&IF($K$22=1,\"22a\",\"\")&IF($K$23=1,\"23a\",\"\")&IF($K$24=1,\"24a\",\"\")&IF($K$25=1,\"25a\",\"\")&IF($K$26=1,\"26a\",\"\")&IF($K$27=1,\"27a\",\"\")&IF($K$28=1,\"28a\",\"\")&IF($K$29=1,\"29a\",\"\")&IF($K$30=1,\"30a\",\"\")&IF($K$31=1,\"31a\",\"\")&IF($K$32=1,\"32a\",\"\")&IF($K$33=1,\"33a\",\"\")&IF($K$34=1,\"34a\",\"\")&IF($K$36=1,\"36a\",\"\")&IF($K$37=1,\"37a\",\"\")&IF($K$38=1,\"38a\",\"\")&IF($K$39=1,\"39a\",\"\")&IF($K$40=1,\"40a\",\"\")&IF($K$42=1,\"42a\",\"\")&IF($K$43=1,\"43a\",\"\")&IF($K$44=1,\"44a\",\"\")&IF($K$45=1,\"45a\",\"\")&IF($K$46=1,\"46a\",\"\")&IF($K$47=1,\"47a\",\"\")&IF($K$48=1,\"48a\",\"\")&IF($K$49=1,\"49a\",\"\")&IF($K$50=1,\"50a\",\"\")&IF($K$51=1,\"51a\",\"\")&IF($K$52=1,\"52a\",\"\")&IF($K$53=1,\"53a\",\"\")&IF($K$54=1,\"54a\",\"\")&IF($K$55=1,\"55a\",\"\")&IF($K$56=1,\"56a\",\"\")&IF($K$58=1,\"58a\",\"\")","v":""}]
["手当",null,"待遇の\n違いの\n有無","手当の支給の目的","正社員への支給状況","短時間労働者・有期雇用労働者\nへの支給状況","違いを設けている理由","対応方針検討",{"$f":"COUNTIF($I$20:$I$34,1)","v":0},null,0]
["A01",{"$f":"IF(手順２・３・４《待遇の入力》!$O$8=2,手順２・３・４《待遇の入力》!$S$8,\"\")","v":""},null,null,null,null,null,null,{"$f":"IF($I21=1,1,IF($B20<>\"\",1,0))","v":0},null,{"$f":"IF($C20<>$J20,1,0)","v":0}]
["A02",{"$f":"IF(手順２・３・４《待遇の入力》!$O$9=2,手順２・３・４《待遇の入力》!$S$9,\"\")","v":""},null,null,null,null,null,null,0,null,{"$f":"IF($C21<>$J21,1,0)","v":0}]
["A03",{"$f":"IF(手順２・３・４《待遇の入力》!$O$10=2,手順２・３・４《待遇の入力》!$S$10,\"\")","v":""},null,null,null,null,null,null,0,null,0]
["A04",{"$f":"IF(手順２・３・４《待遇の入力》!$O$11=2,手順２・３・４《待遇の入力》!$S$11,\"\")","v":""},null,null,null,null,null,null,0,null,0]
["A05",{"$f":"IF(手順２・３・４《待遇の入力》!$O$12=2,手順２・３・４《待遇の入力》!$S$12,\"\")","v":""},null,null,null,null,null,null,0,null,0]
["A06",{"$f":"IF(手順２・３・４《待遇の入力》!$O$13=2,手順２・３・４《待遇の入力》!$S$13,\"\")","v":""},null,null,null,null,null,null,0,null,0]
["A07",{"$f":"IF(手順２・３・４《待遇の入力》!$O$14=2,手順２・３・４《待遇の入力》!$S$14,\"\")","v":""},null,null,null,null,null,null,0,null,0]
["A08",{"$f":"IF(手順２・３・４《待遇の入力》!$O$15=2,手順２・３・４《待遇の入力》!$S$15,\"\")","v":""},null,null,null,null,null,null,0,null,0]
["A09",{"$f":"IF(手順２・３・４《待遇の入力》!$O$16=2,手順２・３・４《待遇の入力》!$S$16,\"\")","v":""},null,null,null,null,null,null,0,null,0]
["A10",{"$f":"IF(手順２・３・４《待遇の入力》!$O$17=2,手順２・３・４《待遇の入力》!$S$17,\"\")","v":""},null,null,null,null,null,null,0,null,0]
["A11",{"$f":"IF(手順２・３・４《待遇の入力》!$O$18=2,手順２・３・４《待遇の入力》!$S$18,\"\")","v":""},null,null,null,null,null,null,0,null,0]
["A12",{"$f":"IF(手順２・３・４《待遇の入力》!$O$19=2,手順２・３・４《待遇の入力》!$S$19,\"\")","v":""},null,null,null,null,null,null,0,null,0]
["A13",{"$f":"IF(手順２・３・４《待遇の入力》!$O$20=2,手順２・３・４《待遇の入力》!$S$20,\"\")","v":""},null,null,null,null,null,null,0,null,0]
["A14",{"$f":"IF(手順２・３・４《待遇の入力》!$O$21=2,手順２・３・４《待遇の入力》!$S$21,\"\")","v":""},null,null,null,null,null,null,0,null,0]
["A15",{"$f":"IF(手順２・３・４《待遇の入力》!$O$22=2,手順２・３・４《待遇の入力》!$S$22,\"\")","v":""},null,null,null,null,null,null,{"$f":"IF($B$34<>\"\",1,0)","v":0},null,0]
["賞与",null,"待遇の\n違いの\n有無","賞与の支給の目的","正社員への支給状況","短時間労働者・有期雇用労働者\nへの支給状況","違いを設けている理由","対応方針検討",{"$f":"COUNTIF($I$36:$I$40,1)","v":1},null,0]
["B01",{"$f":"IF(手順２・３・４《待遇の入力》!$P$8=2,手順２・３・４《待遇の入力》!$G$8,\"\")","v":"賞与"},null,null,null,null,null,null,{"$f":"IF($I37=1,1,IF($B36<>\"\",1,0))","v":1},null,{"$f":"IF($C36<>$J36,1,0)","v":0}]
["B02",{"$f":"IF(手順２・３・４《待遇の入力》!$P$9=2,手順２・３・４《待遇の入力》!$G$9,\"\")","v":""},null,null,null,null,null,null,{"$f":"IF($I38=1,1,IF($B37<>\"\",1,0))","v":0},null,{"$f":"IF($C37<>$J37,1,0)","v":0}]
["B03",{"$f":"IF(手順２・３・４《待遇の入力》!$P$10=2,手順２・３・４《待遇の入力》!$G$10,\"\")","v":""},null,null,null,null,null,null,{"$f":"IF($I39=1,1,IF($B38<>\"\",1,0))","v":0},null,{"$f":"IF($C38<>$J38,1,0)","v":0}]
["B04",{"$f":"IF(手順２・３・４《待遇の入力》!$P$11=2,手順２・３・４《待遇の入力》!$G$11,\"\")","v":""},null,null,null,null,null,null,{"$f":"IF($I40=1,1,IF($B39<>\"\",1,0))","v":0},null,{"$f":"IF($C39<>$J39,1,0)","v":0}]
["B05",{"$f":"IF(手順２・３・４《待遇の入力》!$P$12=2,手順２・３・４《待遇の入力》!$G$12,\"\")","v":""},null,null,null,null,null,null,{"$f":"IF($B$40<>\"\",1,0)","v":0},null,{"$f":"IF($C40<>$J40,1,0)","v":0}]
["福利厚生その他",null,"待遇の\n違いの\n有無","―","正社員の利用状況、措置状況","短時間労働者・有期雇用労働者の利用状況、措置状況","違いを設けている理由","対応方針検討",{"$f":"COUNTIF($I$42:$I$56,1)","v":3},null,0]
["C01",{"$f":"IF(手順２・３・４《待遇の入力》!$Q$8=2,手順２・３・４《待遇の入力》!$J$8,\"\")","v":"給食施設（食堂）"},null,null,null,null,null,null,{"$f":"IF($I43=1,1,IF($B42<>\"\",1,0))","v":1},null,{"$f":"IF($C42<>$J42,1,0)","v":0}]
["C02",{"$f":"IF(手順２・３・４《待遇の入力》!$Q$9=2,手順２・３・４《待遇の入力》!$J$9,\"\")","v":"休憩室"},null,null,null,null,null,null,1,null,0]
["C03",{"$f":"IF(手順２・３・４《待遇の入力》!$Q$10=2,手順２・３・４《待遇の入力》!$J$10,\"\")","v":"更衣室"},null,null,null,null,null,null,1,null,0]
["C04",{"$f":"IF(手順２・３・４《待遇の入力》!$Q$11=2,手順２・３・４《待遇の入力》!$J$11,\"\")","v":""},null,null,null,null,null,null,0,null,0]
["C05",{"$f":"IF(手順２・３・４《待遇の入力》!$Q$12=2,手順２・３・４《待遇の入力》!$J$12,\"\")","v":""},null,null,null,null,null,null,0,null,0]
["C06",{"$f":"IF(手順２・３・４《待遇の入力》!$Q$13=2,手順２・３・４《待遇の入力》!$J$13,\"\")","v":""},null,null,null,null,null,null,0,null,0]
["C07",{"$f":"IF(手順２・３・４《待遇の入力》!$Q$14=2,手順２・３・４《待遇の入力》!$J$14,\"\")","v":""},null,null,null,null,null,null,0,null,0]
["C08",{"$f":"IF(手順２・３・４《待遇の入力》!$Q$15=2,手順２・３・４《待遇の入力》!$J$15,\"\")","v":""},null,null,null,null,null,null,0,null,0]
["C09",{"$f":"IF(手順２・３・４《待遇の入力》!$Q$16=2,手順２・３・４《待遇の入力》!$J$16,\"\")","v":""},null,null,null,null,null,null,0,null,0]
["C10",{"$f":"IF(手順２・３・４《待遇の入力》!$Q$17=2,手順２・３・４《待遇の入力》!$J$17,\"\")","v":""},null,null,null,null,null,null,0,null,0]
["C11",{"$f":"IF(手順２・３・４《待遇の入力》!$Q$18=2,手順２・３・４《待遇の入力》!$J$18,\"\")","v":""},null,null,null,null,null,null,0,null,0]
["C12",{"$f":"IF(手順２・３・４《待遇の入力》!$Q$19=2,手順２・３・４《待遇の入力》!$J$19,\"\")","v":""},null,null,null,null,null,null,0,null,0]
["C13",{"$f":"IF(手順２・３・４《待遇の入力》!$Q$20=2,手順２・３・４《待遇の入力》!$J$20,\"\")","v":""},null,null,null,null,null,null,0,null,0]
["C14",{"$f":"IF(手順２・３・４《待遇の入力》!$Q$21=2,手順２・３・４《待遇の入力》!$J$21,\"\")","v":""},null,null,null,null,null,null,0,null,0]
["C15",{"$f":"IF(手順２・３・４《待遇の入力》!$Q$22=2,手順２・３・４《待遇の入力》!$J$22,\"\")","v":""},null,null,null,null,null,null,{"$f":"IF($B$56<>\"\",1,0)","v":0},null,0]
["基本給\n待遇の違いの有無",null,"基本給決定要素",null,"正社員の重要度","短時間労働者・有期雇用労働者\nの重要度","違いを設けている理由","対応方針検討",{"$f":"COUNTIF($I$59:$I$68,1)","v":5},null,0]
[null,null,null,null,null,null,null,null,null,null,{"$f":"IF($A58<>$J58,1,0)","v":0}]
[null,null,"D01",{"$f":"IF(手順２・３・４《待遇の入力》!$R$8=2,手順２・３・４《待遇の入力》!$M$8,\"\")","v":"職務の遂行能力"},null,null,null,null,{"$f":"IF($I60=1,1,IF($D59<>\"\",1,0))","v":1}]
[null,null,"D02",{"$f":"IF(手順２・３・４《待遇の入力》!$R$9=2,手順２・３・４《待遇の入力》!$M$9,\"\")","v":"業務の内容や責任の重さ"},null,null,null,null,1]
[null,null,"D03",{"$f":"IF(手順２・３・４《待遇の入力》!$R$10=2,手順２・３・４《待遇の入力》!$M$10,\"\")","v":"仕事の成果や業績"},null,null,null,null,1]
[null,null,"D04",{"$f":"IF(手順２・３・４《待遇の入力》!$R$11=2,手順２・３・４《待遇の入力》!$M$11,\"\")","v":"年齢や勤続年数"},null,null,null,null,1]
[null,null,"D05",{"$f":"IF(手順２・３・４《待遇の入力》!$R$12=2,手順２・３・４《待遇の入力》!$M$12,\"\")","v":"市場での賃金相場"},null,null,null,null,1]
[null,null,"D06",{"$f":"IF(手順２・３・４《待遇の入力》!$R$13=2,手順２・３・４《待遇の入力》!$M$13,\"\")","v":""},null,null,null,null,0]
[null,null,"D07",{"$f":"IF(手順２・３・４《待遇の入力》!$R$14=2,手順２・３・４《待遇の入力》!$M$14,\"\")","v":""},null,null,null,null,0]
[null,null,"D08",{"$f":"IF(手順２・３・４《待遇の入力》!$R$15=2,手順２・３・４《待遇の入力》!$M$15,\"\")","v":""},null,null,null,null,0]
[null,null,"D09",{"$f":"IF(手順２・３・４《待遇の入力》!$R$16=2,手順２・３・４《待遇の入力》!$M$16,\"\")","v":""},null,null,null,null,0]
[null,null,"D10",{"$f":"IF(手順２・３・４《待遇の入力》!$R$17=2,手順２・３・４《待遇の入力》!$M$17,\"\")","v":""},null,null,null,null,{"$f":"IF($D$68<>\"\",1,0)","v":0}]
[]
[]
["次の社員タイプへ"]

{"sheet":"手順２・３・４社員タイプ#05","index":13,"n_rows":71,"n_cols":13,"rows_kept":71,"cut":false,"hidden":true,"merged":[[70,0,70,7],[18,0,18,1],[34,0,34,1],[40,0,40,1],[56,0,56,1],[56,2,57,3],[56,4,57,4],[56,5,57,5],[57,0,68,1],[57,6,68,6],[57,7,68,7],[68,2,68,5],[11,1,11,7],[12,2,12,3],[13,2,13,3],[14,1,14,7],[16,0,16,1],[16,2,16,5],[10,2,10,3],[0,0,0,7],[1,0,1,1],[1,2,1,6],[2,1,2,7],[3,1,3,7],[4,1,4,7],[5,1,5,7],[6,1,6,7],[7,1,7,7],[8,1,8,7],[9,2,9,3]]}
["「パートタイム・有期雇用労働法」対応のための取組手順書",null,null,null,null,null,null,null,1,{"$f":"INT(RIGHT(CELL(\"filename\",I1),2))","v":5},null,null,"非常に重要"]
["←戻る",null,"手順２・３・４《社員タイプ別 入力シート》",null,null,null,null,"次へ→",2,null,null,"すべて","やや重要"]
[null,"社員タイプごとに、以下の手順で点検を行いましょう。",null,null,null,null,null,null,3,null,null,"手当","重要ではない"]
[null,"① 正社員と短時間労働者・有期雇用労働者との間の待遇の違いの有無について、以下の選択肢から選択しましょう。",null,null,null,null,null,null,null,null,null,"賞与","決定要素ではない"]
[null,"【１】 正社員と短時間労働者・有期雇用労働者との間で待遇の違いがない\n【２】 正社員と短時間労働者・有期雇用労働者との間で待遇の違いがある\n【３】 正社員、短時間労働者・有期雇用労働者とも、該当する待遇がない\n\n※選択肢「１」「２」「３」について、右上の「１２３の詳細説明」をクリックすると、より詳しい説明が表示されます。",null,null,null,null,null,null,null,null,null,"福利厚生その他"]
[null,"② ①で「１」「２」を選択した場合、待遇の支給目的を入力しましょう（福利厚生その他、基本給は不要）。",null,null,null,null,null,null,null,null,null,"基本給"]
[null,"③ 正社員と短時間労働者・有期雇用労働者との間に待遇の違いがある場合（①で「２」を選択した場合）、正社員、短時間労働者・有期雇用労働者それぞれの支給状況を入力しましょう。\n  基本給については、基本給の決定要素としている事項の重要度の違いをプルダウンから選択しましょう。"]
[null,"④ 待遇に違いを設けている理由を入力しましょう。\n⑤ 違いを設けている待遇について、対応方針を検討しましょう。"]
[null,"入力欄の行の高さ及び文字のサイズが変更できます。記載量に合わせて調整してください。"]
[null,null,"行の高さ（50～400）",null,"文字の大きさ（6～15）"]
[null,null,50,null,11]
[null,"既に点検を行った社員タイプの入力内容をコピーすることができます。待遇の状況が同じ場合などにご活用ください。"]
[null,null,"コピー元の社員タイプ",null,"コピー元の待遇種別"]
[]
[null,"※コピーを行うと、既に入力していた部分にも上書きされます。ご注意ください。"]
[]
[{"$f":"\"社員タイプ#\"&TEXT($J$1,\"00\")","v":"社員タイプ#05"},null,{"$f":"OFFSET('手順1-3'!$N$9,$J$1,0)","v":""}]
[null,null,null,null,null,null,null,null,{"$f":"IF($I$19>0,20,IF($I$35>0,36,42))","v":36},null,{"$f":"COUNTIF($K$19:$K$58,1)","v":0},{"$f":"IF($K$20=1,\"20a\",\"\")&IF($K$21=1,\"21a\",\"\")&IF($K$22=1,\"22a\",\"\")&IF($K$23=1,\"23a\",\"\")&IF($K$24=1,\"24a\",\"\")&IF($K$25=1,\"25a\",\"\")&IF($K$26=1,\"26a\",\"\")&IF($K$27=1,\"27a\",\"\")&IF($K$28=1,\"28a\",\"\")&IF($K$29=1,\"29a\",\"\")&IF($K$30=1,\"30a\",\"\")&IF($K$31=1,\"31a\",\"\")&IF($K$32=1,\"32a\",\"\")&IF($K$33=1,\"33a\",\"\")&IF($K$34=1,\"34a\",\"\")&IF($K$36=1,\"36a\",\"\")&IF($K$37=1,\"37a\",\"\")&IF($K$38=1,\"38a\",\"\")&IF($K$39=1,\"39a\",\"\")&IF($K$40=1,\"40a\",\"\")&IF($K$42=1,\"42a\",\"\")&IF($K$43=1,\"43a\",\"\")&IF($K$44=1,\"44a\",\"\")&IF($K$45=1,\"45a\",\"\")&IF($K$46=1,\"46a\",\"\")&IF($K$47=1,\"47a\",\"\")&IF($K$48=1,\"48a\",\"\")&IF($K$49=1,\"49a\",\"\")&IF($K$50=1,\"50a\",\"\")&IF($K$51=1,\"51a\",\"\")&IF($K$52=1,\"52a\",\"\")&IF($K$53=1,\"53a\",\"\")&IF($K$54=1,\"54a\",\"\")&IF($K$55=1,\"55a\",\"\")&IF($K$56=1,\"56a\",\"\")&IF($K$58=1,\"58a\",\"\")","v":""}]
["手当",null,"待遇の\n違いの\n有無","手当の支給の目的","正社員への支給状況","短時間労働者・有期雇用労働者\nへの支給状況","違いを設けている理由","対応方針検討",{"$f":"COUNTIF($I$20:$I$34,1)","v":0},null,0]
["A01",{"$f":"IF(手順２・３・４《待遇の入力》!$O$8=2,手順２・３・４《待遇の入力》!$S$8,\"\")","v":""},null,null,null,null,null,null,{"$f":"IF($I21=1,1,IF($B20<>\"\",1,0))","v":0},null,{"$f":"IF($C20<>$J20,1,0)","v":0}]
["A02",{"$f":"IF(手順２・３・４《待遇の入力》!$O$9=2,手順２・３・４《待遇の入力》!$S$9,\"\")","v":""},null,null,null,null,null,null,0,null,{"$f":"IF($C21<>$J21,1,0)","v":0}]
["A03",{"$f":"IF(手順２・３・４《待遇の入力》!$O$10=2,手順２・３・４《待遇の入力》!$S$10,\"\")","v":""},null,null,null,null,null,null,0,null,0]
["A04",{"$f":"IF(手順２・３・４《待遇の入力》!$O$11=2,手順２・３・４《待遇の入力》!$S$11,\"\")","v":""},null,null,null,null,null,null,0,null,0]
["A05",{"$f":"IF(手順２・３・４《待遇の入力》!$O$12=2,手順２・３・４《待遇の入力》!$S$12,\"\")","v":""},null,null,null,null,null,null,0,null,0]
["A06",{"$f":"IF(手順２・３・４《待遇の入力》!$O$13=2,手順２・３・４《待遇の入力》!$S$13,\"\")","v":""},null,null,null,null,null,null,0,null,0]
["A07",{"$f":"IF(手順２・３・４《待遇の入力》!$O$14=2,手順２・３・４《待遇の入力》!$S$14,\"\")","v":""},null,null,null,null,null,null,0,null,0]
["A08",{"$f":"IF(手順２・３・４《待遇の入力》!$O$15=2,手順２・３・４《待遇の入力》!$S$15,\"\")","v":""},null,null,null,null,null,null,0,null,0]
["A09",{"$f":"IF(手順２・３・４《待遇の入力》!$O$16=2,手順２・３・４《待遇の入力》!$S$16,\"\")","v":""},null,null,null,null,null,null,0,null,0]
["A10",{"$f":"IF(手順２・３・４《待遇の入力》!$O$17=2,手順２・３・４《待遇の入力》!$S$17,\"\")","v":""},null,null,null,null,null,null,0,null,0]
["A11",{"$f":"IF(手順２・３・４《待遇の入力》!$O$18=2,手順２・３・４《待遇の入力》!$S$18,\"\")","v":""},null,null,null,null,null,null,0,null,0]
["A12",{"$f":"IF(手順２・３・４《待遇の入力》!$O$19=2,手順２・３・４《待遇の入力》!$S$19,\"\")","v":""},null,null,null,null,null,null,0,null,0]
["A13",{"$f":"IF(手順２・３・４《待遇の入力》!$O$20=2,手順２・３・４《待遇の入力》!$S$20,\"\")","v":""},null,null,null,null,null,null,0,null,0]
["A14",{"$f":"IF(手順２・３・４《待遇の入力》!$O$21=2,手順２・３・４《待遇の入力》!$S$21,\"\")","v":""},null,null,null,null,null,null,0,null,0]
["A15",{"$f":"IF(手順２・３・４《待遇の入力》!$O$22=2,手順２・３・４《待遇の入力》!$S$22,\"\")","v":""},null,null,null,null,null,null,{"$f":"IF($B$34<>\"\",1,0)","v":0},null,0]
["賞与",null,"待遇の\n違いの\n有無","賞与の支給の目的","正社員への支給状況","短時間労働者・有期雇用労働者\nへの支給状況","違いを設けている理由","対応方針検討",{"$f":"COUNTIF($I$36:$I$40,1)","v":1},null,0]
["B01",{"$f":"IF(手順２・３・４《待遇の入力》!$P$8=2,手順２・３・４《待遇の入力》!$G$8,\"\")","v":"賞与"},null,null,null,null,null,null,{"$f":"IF($I37=1,1,IF($B36<>\"\",1,0))","v":1},null,{"$f":"IF($C36<>$J36,1,0)","v":0}]
["B02",{"$f":"IF(手順２・３・４《待遇の入力》!$P$9=2,手順２・３・４《待遇の入力》!$G$9,\"\")","v":""},null,null,null,null,null,null,{"$f":"IF($I38=1,1,IF($B37<>\"\",1,0))","v":0},null,{"$f":"IF($C37<>$J37,1,0)","v":0}]
["B03",{"$f":"IF(手順２・３・４《待遇の入力》!$P$10=2,手順２・３・４《待遇の入力》!$G$10,\"\")","v":""},null,null,null,null,null,null,{"$f":"IF($I39=1,1,IF($B38<>\"\",1,0))","v":0},null,{"$f":"IF($C38<>$J38,1,0)","v":0}]
["B04",{"$f":"IF(手順２・３・４《待遇の入力》!$P$11=2,手順２・３・４《待遇の入力》!$G$11,\"\")","v":""},null,null,null,null,null,null,{"$f":"IF($I40=1,1,IF($B39<>\"\",1,0))","v":0},null,{"$f":"IF($C39<>$J39,1,0)","v":0}]
["B05",{"$f":"IF(手順２・３・４《待遇の入力》!$P$12=2,手順２・３・４《待遇の入力》!$G$12,\"\")","v":""},null,null,null,null,null,null,{"$f":"IF($B$40<>\"\",1,0)","v":0},null,{"$f":"IF($C40<>$J40,1,0)","v":0}]
["福利厚生その他",null,"待遇の\n違いの\n有無","―","正社員の利用状況、措置状況","短時間労働者・有期雇用労働者の利用状況、措置状況","違いを設けている理由","対応方針検討",{"$f":"COUNTIF($I$42:$I$56,1)","v":3},null,0]
["C01",{"$f":"IF(手順２・３・４《待遇の入力》!$Q$8=2,手順２・３・４《待遇の入力》!$J$8,\"\")","v":"給食施設（食堂）"},null,null,null,null,null,null,{"$f":"IF($I43=1,1,IF($B42<>\"\",1,0))","v":1},null,{"$f":"IF($C42<>$J42,1,0)","v":0}]
["C02",{"$f":"IF(手順２・３・４《待遇の入力》!$Q$9=2,手順２・３・４《待遇の入力》!$J$9,\"\")","v":"休憩室"},null,null,null,null,null,null,1,null,0]
["C03",{"$f":"IF(手順２・３・４《待遇の入力》!$Q$10=2,手順２・３・４《待遇の入力》!$J$10,\"\")","v":"更衣室"},null,null,null,null,null,null,1,null,0]
["C04",{"$f":"IF(手順２・３・４《待遇の入力》!$Q$11=2,手順２・３・４《待遇の入力》!$J$11,\"\")","v":""},null,null,null,null,null,null,0,null,0]
["C05",{"$f":"IF(手順２・３・４《待遇の入力》!$Q$12=2,手順２・３・４《待遇の入力》!$J$12,\"\")","v":""},null,null,null,null,null,null,0,null,0]
["C06",{"$f":"IF(手順２・３・４《待遇の入力》!$Q$13=2,手順２・３・４《待遇の入力》!$J$13,\"\")","v":""},null,null,null,null,null,null,0,null,0]
["C07",{"$f":"IF(手順２・３・４《待遇の入力》!$Q$14=2,手順２・３・４《待遇の入力》!$J$14,\"\")","v":""},null,null,null,null,null,null,0,null,0]
["C08",{"$f":"IF(手順２・３・４《待遇の入力》!$Q$15=2,手順２・３・４《待遇の入力》!$J$15,\"\")","v":""},null,null,null,null,null,null,0,null,0]
["C09",{"$f":"IF(手順２・３・４《待遇の入力》!$Q$16=2,手順２・３・４《待遇の入力》!$J$16,\"\")","v":""},null,null,null,null,null,null,0,null,0]
["C10",{"$f":"IF(手順２・３・４《待遇の入力》!$Q$17=2,手順２・３・４《待遇の入力》!$J$17,\"\")","v":""},null,null,null,null,null,null,0,null,0]
["C11",{"$f":"IF(手順２・３・４《待遇の入力》!$Q$18=2,手順２・３・４《待遇の入力》!$J$18,\"\")","v":""},null,null,null,null,null,null,0,null,0]
["C12",{"$f":"IF(手順２・３・４《待遇の入力》!$Q$19=2,手順２・３・４《待遇の入力》!$J$19,\"\")","v":""},null,null,null,null,null,null,0,null,0]
["C13",{"$f":"IF(手順２・３・４《待遇の入力》!$Q$20=2,手順２・３・４《待遇の入力》!$J$20,\"\")","v":""},null,null,null,null,null,null,0,null,0]
["C14",{"$f":"IF(手順２・３・４《待遇の入力》!$Q$21=2,手順２・３・４《待遇の入力》!$J$21,\"\")","v":""},null,null,null,null,null,null,0,null,0]
["C15",{"$f":"IF(手順２・３・４《待遇の入力》!$Q$22=2,手順２・３・４《待遇の入力》!$J$22,\"\")","v":""},null,null,null,null,null,null,{"$f":"IF($B$56<>\"\",1,0)","v":0},null,0]
["基本給\n待遇の違いの有無",null,"基本給決定要素",null,"正社員の重要度","短時間労働者・有期雇用労働者\nの重要度","違いを設けている理由","対応方針検討",{"$f":"COUNTIF($I$59:$I$68,1)","v":5},null,0]
[null,null,null,null,null,null,null,null,null,null,{"$f":"IF($A58<>$J58,1,0)","v":0}]
[null,null,"D01",{"$f":"IF(手順２・３・４《待遇の入力》!$R$8=2,手順２・３・４《待遇の入力》!$M$8,\"\")","v":"職務の遂行能力"},null,null,null,null,{"$f":"IF($I60=1,1,IF($D59<>\"\",1,0))","v":1}]
[null,null,"D02",{"$f":"IF(手順２・３・４《待遇の入力》!$R$9=2,手順２・３・４《待遇の入力》!$M$9,\"\")","v":"業務の内容や責任の重さ"},null,null,null,null,1]
[null,null,"D03",{"$f":"IF(手順２・３・４《待遇の入力》!$R$10=2,手順２・３・４《待遇の入力》!$M$10,\"\")","v":"仕事の成果や業績"},null,null,null,null,1]
[null,null,"D04",{"$f":"IF(手順２・３・４《待遇の入力》!$R$11=2,手順２・３・４《待遇の入力》!$M$11,\"\")","v":"年齢や勤続年数"},null,null,null,null,1]
[null,null,"D05",{"$f":"IF(手順２・３・４《待遇の入力》!$R$12=2,手順２・３・４《待遇の入力》!$M$12,\"\")","v":"市場での賃金相場"},null,null,null,null,1]
[null,null,"D06",{"$f":"IF(手順２・３・４《待遇の入力》!$R$13=2,手順２・３・４《待遇の入力》!$M$13,\"\")","v":""},null,null,null,null,0]
[null,null,"D07",{"$f":"IF(手順２・３・４《待遇の入力》!$R$14=2,手順２・３・４《待遇の入力》!$M$14,\"\")","v":""},null,null,null,null,0]
[null,null,"D08",{"$f":"IF(手順２・３・４《待遇の入力》!$R$15=2,手順２・３・４《待遇の入力》!$M$15,\"\")","v":""},null,null,null,null,0]
[null,null,"D09",{"$f":"IF(手順２・３・４《待遇の入力》!$R$16=2,手順２・３・４《待遇の入力》!$M$16,\"\")","v":""},null,null,null,null,0]
[null,null,"D10",{"$f":"IF(手順２・３・４《待遇の入力》!$R$17=2,手順２・３・４《待遇の入力》!$M$17,\"\")","v":""},null,null,null,null,{"$f":"IF($D$68<>\"\",1,0)","v":0}]
[]
[]
["次の社員タイプへ"]

{"sheet":"手順２・３・４社員タイプ#06","index":14,"n_rows":71,"n_cols":13,"rows_kept":71,"cut":false,"hidden":true,"merged":[[70,0,70,7],[18,0,18,1],[34,0,34,1],[40,0,40,1],[56,0,56,1],[56,2,57,3],[56,4,57,4],[56,5,57,5],[57,0,68,1],[57,6,68,6],[57,7,68,7],[68,2,68,5],[11,1,11,7],[12,2,12,3],[13,2,13,3],[14,1,14,7],[16,0,16,1],[16,2,16,5],[10,2,10,3],[0,0,0,7],[1,0,1,1],[1,2,1,6],[2,1,2,7],[3,1,3,7],[4,1,4,7],[5,1,5,7],[6,1,6,7],[7,1,7,7],[8,1,8,7],[9,2,9,3]]}
["「パートタイム・有期雇用労働法」対応のための取組手順書",null,null,null,null,null,null,null,1,{"$f":"INT(RIGHT(CELL(\"filename\",I1),2))","v":6},null,null,"非常に重要"]
["←戻る",null,"手順２・３・４《社員タイプ別 入力シート》",null,null,null,null,"次へ→",2,null,null,"すべて","やや重要"]
[null,"社員タイプごとに、以下の手順で点検を行いましょう。",null,null,null,null,null,null,3,null,null,"手当","重要ではない"]
[null,"① 正社員と短時間労働者・有期雇用労働者との間の待遇の違いの有無について、以下の選択肢から選択しましょう。",null,null,null,null,null,null,null,null,null,"賞与","決定要素ではない"]
[null,"【１】 正社員と短時間労働者・有期雇用労働者との間で待遇の違いがない\n【２】 正社員と短時間労働者・有期雇用労働者との間で待遇の違いがある\n【３】 正社員、短時間労働者・有期雇用労働者とも、該当する待遇がない\n\n※選択肢「１」「２」「３」について、右上の「１２３の詳細説明」をクリックすると、より詳しい説明が表示されます。",null,null,null,null,null,null,null,null,null,"福利厚生その他"]
[null,"② ①で「１」「２」を選択した場合、待遇の支給目的を入力しましょう（福利厚生その他、基本給は不要）。",null,null,null,null,null,null,null,null,null,"基本給"]
[null,"③ 正社員と短時間労働者・有期雇用労働者との間に待遇の違いがある場合（①で「２」を選択した場合）、正社員、短時間労働者・有期雇用労働者それぞれの支給状況を入力しましょう。\n  基本給については、基本給の決定要素としている事項の重要度の違いをプルダウンから選択しましょう。"]
[null,"④ 待遇に違いを設けている理由を入力しましょう。\n⑤ 違いを設けている待遇について、対応方針を検討しましょう。"]
[null,"入力欄の行の高さ及び文字のサイズが変更できます。記載量に合わせて調整してください。"]
[null,null,"行の高さ（50～400）",null,"文字の大きさ（6～15）"]
[null,null,50,null,11]
[null,"既に点検を行った社員タイプの入力内容をコピーすることができます。待遇の状況が同じ場合などにご活用ください。"]
[null,null,"コピー元の社員タイプ",null,"コピー元の待遇種別"]
[]
[null,"※コピーを行うと、既に入力していた部分にも上書きされます。ご注意ください。"]
[]
[{"$f":"\"社員タイプ#\"&TEXT($J$1,\"00\")","v":"社員タイプ#06"},null,{"$f":"OFFSET('手順1-3'!$N$9,$J$1,0)","v":""}]
[null,null,null,null,null,null,null,null,{"$f":"IF($I$19>0,20,IF($I$35>0,36,42))","v":36},null,{"$f":"COUNTIF($K$19:$K$58,1)","v":0},{"$f":"IF($K$20=1,\"20a\",\"\")&IF($K$21=1,\"21a\",\"\")&IF($K$22=1,\"22a\",\"\")&IF($K$23=1,\"23a\",\"\")&IF($K$24=1,\"24a\",\"\")&IF($K$25=1,\"25a\",\"\")&IF($K$26=1,\"26a\",\"\")&IF($K$27=1,\"27a\",\"\")&IF($K$28=1,\"28a\",\"\")&IF($K$29=1,\"29a\",\"\")&IF($K$30=1,\"30a\",\"\")&IF($K$31=1,\"31a\",\"\")&IF($K$32=1,\"32a\",\"\")&IF($K$33=1,\"33a\",\"\")&IF($K$34=1,\"34a\",\"\")&IF($K$36=1,\"36a\",\"\")&IF($K$37=1,\"37a\",\"\")&IF($K$38=1,\"38a\",\"\")&IF($K$39=1,\"39a\",\"\")&IF($K$40=1,\"40a\",\"\")&IF($K$42=1,\"42a\",\"\")&IF($K$43=1,\"43a\",\"\")&IF($K$44=1,\"44a\",\"\")&IF($K$45=1,\"45a\",\"\")&IF($K$46=1,\"46a\",\"\")&IF($K$47=1,\"47a\",\"\")&IF($K$48=1,\"48a\",\"\")&IF($K$49=1,\"49a\",\"\")&IF($K$50=1,\"50a\",\"\")&IF($K$51=1,\"51a\",\"\")&IF($K$52=1,\"52a\",\"\")&IF($K$53=1,\"53a\",\"\")&IF($K$54=1,\"54a\",\"\")&IF($K$55=1,\"55a\",\"\")&IF($K$56=1,\"56a\",\"\")&IF($K$58=1,\"58a\",\"\")","v":""}]
["手当",null,"待遇の\n違いの\n有無","手当の支給の目的","正社員への支給状況","短時間労働者・有期雇用労働者\nへの支給状況","違いを設けている理由","対応方針検討",{"$f":"COUNTIF($I$20:$I$34,1)","v":0},null,0]
["A01",{"$f":"IF(手順２・３・４《待遇の入力》!$O$8=2,手順２・３・４《待遇の入力》!$S$8,\"\")","v":""},null,null,null,null,null,null,{"$f":"IF($I21=1,1,IF($B20<>\"\",1,0))","v":0},null,{"$f":"IF($C20<>$J20,1,0)","v":0}]
["A02",{"$f":"IF(手順２・３・４《待遇の入力》!$O$9=2,手順２・３・４《待遇の入力》!$S$9,\"\")","v":""},null,null,null,null,null,null,0,null,{"$f":"IF($C21<>$J21,1,0)","v":0}]
["A03",{"$f":"IF(手順２・３・４《待遇の入力》!$O$10=2,手順２・３・４《待遇の入力》!$S$10,\"\")","v":""},null,null,null,null,null,null,0,null,0]
["A04",{"$f":"IF(手順２・３・４《待遇の入力》!$O$11=2,手順２・３・４《待遇の入力》!$S$11,\"\")","v":""},null,null,null,null,null,null,0,null,0]
["A05",{"$f":"IF(手順２・３・４《待遇の入力》!$O$12=2,手順２・３・４《待遇の入力》!$S$12,\"\")","v":""},null,null,null,null,null,null,0,null,0]
["A06",{"$f":"IF(手順２・３・４《待遇の入力》!$O$13=2,手順２・３・４《待遇の入力》!$S$13,\"\")","v":""},null,null,null,null,null,null,0,null,0]
["A07",{"$f":"IF(手順２・３・４《待遇の入力》!$O$14=2,手順２・３・４《待遇の入力》!$S$14,\"\")","v":""},null,null,null,null,null,null,0,null,0]
["A08",{"$f":"IF(手順２・３・４《待遇の入力》!$O$15=2,手順２・３・４《待遇の入力》!$S$15,\"\")","v":""},null,null,null,null,null,null,0,null,0]
["A09",{"$f":"IF(手順２・３・４《待遇の入力》!$O$16=2,手順２・３・４《待遇の入力》!$S$16,\"\")","v":""},null,null,null,null,null,null,0,null,0]
["A10",{"$f":"IF(手順２・３・４《待遇の入力》!$O$17=2,手順２・３・４《待遇の入力》!$S$17,\"\")","v":""},null,null,null,null,null,null,0,null,0]
["A11",{"$f":"IF(手順２・３・４《待遇の入力》!$O$18=2,手順２・３・４《待遇の入力》!$S$18,\"\")","v":""},null,null,null,null,null,null,0,null,0]
["A12",{"$f":"IF(手順２・３・４《待遇の入力》!$O$19=2,手順２・３・４《待遇の入力》!$S$19,\"\")","v":""},null,null,null,null,null,null,0,null,0]
["A13",{"$f":"IF(手順２・３・４《待遇の入力》!$O$20=2,手順２・３・４《待遇の入力》!$S$20,\"\")","v":""},null,null,null,null,null,null,0,null,0]
["A14",{"$f":"IF(手順２・３・４《待遇の入力》!$O$21=2,手順２・３・４《待遇の入力》!$S$21,\"\")","v":""},null,null,null,null,null,null,0,null,0]
["A15",{"$f":"IF(手順２・３・４《待遇の入力》!$O$22=2,手順２・３・４《待遇の入力》!$S$22,\"\")","v":""},null,null,null,null,null,null,{"$f":"IF($B$34<>\"\",1,0)","v":0},null,0]
["賞与",null,"待遇の\n違いの\n有無","賞与の支給の目的","正社員への支給状況","短時間労働者・有期雇用労働者\nへの支給状況","違いを設けている理由","対応方針検討",{"$f":"COUNTIF($I$36:$I$40,1)","v":1},null,0]
["B01",{"$f":"IF(手順２・３・４《待遇の入力》!$P$8=2,手順２・３・４《待遇の入力》!$G$8,\"\")","v":"賞与"},null,null,null,null,null,null,{"$f":"IF($I37=1,1,IF($B36<>\"\",1,0))","v":1},null,{"$f":"IF($C36<>$J36,1,0)","v":0}]
["B02",{"$f":"IF(手順２・３・４《待遇の入力》!$P$9=2,手順２・３・４《待遇の入力》!$G$9,\"\")","v":""},null,null,null,null,null,null,{"$f":"IF($I38=1,1,IF($B37<>\"\",1,0))","v":0},null,{"$f":"IF($C37<>$J37,1,0)","v":0}]
["B03",{"$f":"IF(手順２・３・４《待遇の入力》!$P$10=2,手順２・３・４《待遇の入力》!$G$10,\"\")","v":""},null,null,null,null,null,null,{"$f":"IF($I39=1,1,IF($B38<>\"\",1,0))","v":0},null,{"$f":"IF($C38<>$J38,1,0)","v":0}]
["B04",{"$f":"IF(手順２・３・４《待遇の入力》!$P$11=2,手順２・３・４《待遇の入力》!$G$11,\"\")","v":""},null,null,null,null,null,null,{"$f":"IF($I40=1,1,IF($B39<>\"\",1,0))","v":0},null,{"$f":"IF($C39<>$J39,1,0)","v":0}]
["B05",{"$f":"IF(手順２・３・４《待遇の入力》!$P$12=2,手順２・３・４《待遇の入力》!$G$12,\"\")","v":""},null,null,null,null,null,null,{"$f":"IF($B$40<>\"\",1,0)","v":0},null,{"$f":"IF($C40<>$J40,1,0)","v":0}]
["福利厚生その他",null,"待遇の\n違いの\n有無","―","正社員の利用状況、措置状況","短時間労働者・有期雇用労働者の利用状況、措置状況","違いを設けている理由","対応方針検討",{"$f":"COUNTIF($I$42:$I$56,1)","v":3},null,0]
["C01",{"$f":"IF(手順２・３・４《待遇の入力》!$Q$8=2,手順２・３・４《待遇の入力》!$J$8,\"\")","v":"給食施設（食堂）"},null,null,null,null,null,null,{"$f":"IF($I43=1,1,IF($B42<>\"\",1,0))","v":1},null,{"$f":"IF($C42<>$J42,1,0)","v":0}]
["C02",{"$f":"IF(手順２・３・４《待遇の入力》!$Q$9=2,手順２・３・４《待遇の入力》!$J$9,\"\")","v":"休憩室"},null,null,null,null,null,null,1,null,0]
["C03",{"$f":"IF(手順２・３・４《待遇の入力》!$Q$10=2,手順２・３・４《待遇の入力》!$J$10,\"\")","v":"更衣室"},null,null,null,null,null,null,1,null,0]
["C04",{"$f":"IF(手順２・３・４《待遇の入力》!$Q$11=2,手順２・３・４《待遇の入力》!$J$11,\"\")","v":""},null,null,null,null,null,null,0,null,0]
["C05",{"$f":"IF(手順２・３・４《待遇の入力》!$Q$12=2,手順２・３・４《待遇の入力》!$J$12,\"\")","v":""},null,null,null,null,null,null,0,null,0]
["C06",{"$f":"IF(手順２・３・４《待遇の入力》!$Q$13=2,手順２・３・４《待遇の入力》!$J$13,\"\")","v":""},null,null,null,null,null,null,0,null,0]
["C07",{"$f":"IF(手順２・３・４《待遇の入力》!$Q$14=2,手順２・３・４《待遇の入力》!$J$14,\"\")","v":""},null,null,null,null,null,null,0,null,0]
["C08",{"$f":"IF(手順２・３・４《待遇の入力》!$Q$15=2,手順２・３・４《待遇の入力》!$J$15,\"\")","v":""},null,null,null,null,null,null,0,null,0]
["C09",{"$f":"IF(手順２・３・４《待遇の入力》!$Q$16=2,手順２・３・４《待遇の入力》!$J$16,\"\")","v":""},null,null,null,null,null,null,0,null,0]
["C10",{"$f":"IF(手順２・３・４《待遇の入力》!$Q$17=2,手順２・３・４《待遇の入力》!$J$17,\"\")","v":""},null,null,null,null,null,null,0,null,0]
["C11",{"$f":"IF(手順２・３・４《待遇の入力》!$Q$18=2,手順２・３・４《待遇の入力》!$J$18,\"\")","v":""},null,null,null,null,null,null,0,null,0]
["C12",{"$f":"IF(手順２・３・４《待遇の入力》!$Q$19=2,手順２・３・４《待遇の入力》!$J$19,\"\")","v":""},null,null,null,null,null,null,0,null,0]
["C13",{"$f":"IF(手順２・３・４《待遇の入力》!$Q$20=2,手順２・３・４《待遇の入力》!$J$20,\"\")","v":""},null,null,null,null,null,null,0,null,0]
["C14",{"$f":"IF(手順２・３・４《待遇の入力》!$Q$21=2,手順２・３・４《待遇の入力》!$J$21,\"\")","v":""},null,null,null,null,null,null,0,null,0]
["C15",{"$f":"IF(手順２・３・４《待遇の入力》!$Q$22=2,手順２・３・４《待遇の入力》!$J$22,\"\")","v":""},null,null,null,null,null,null,{"$f":"IF($B$56<>\"\",1,0)","v":0},null,0]
["基本給\n待遇の違いの有無",null,"基本給決定要素",null,"正社員の重要度","短時間労働者・有期雇用労働者\nの重要度","違いを設けている理由","対応方針検討",{"$f":"COUNTIF($I$59:$I$68,1)","v":5},null,0]
[null,null,null,null,null,null,null,null,null,null,{"$f":"IF($A58<>$J58,1,0)","v":0}]
[null,null,"D01",{"$f":"IF(手順２・３・４《待遇の入力》!$R$8=2,手順２・３・４《待遇の入力》!$M$8,\"\")","v":"職務の遂行能力"},null,null,null,null,{"$f":"IF($I60=1,1,IF($D59<>\"\",1,0))","v":1}]
[null,null,"D02",{"$f":"IF(手順２・３・４《待遇の入力》!$R$9=2,手順２・３・４《待遇の入力》!$M$9,\"\")","v":"業務の内容や責任の重さ"},null,null,null,null,1]
[null,null,"D03",{"$f":"IF(手順２・３・４《待遇の入力》!$R$10=2,手順２・３・４《待遇の入力》!$M$10,\"\")","v":"仕事の成果や業績"},null,null,null,null,1]
[null,null,"D04",{"$f":"IF(手順２・３・４《待遇の入力》!$R$11=2,手順２・３・４《待遇の入力》!$M$11,\"\")","v":"年齢や勤続年数"},null,null,null,null,1]
[null,null,"D05",{"$f":"IF(手順２・３・４《待遇の入力》!$R$12=2,手順２・３・４《待遇の入力》!$M$12,\"\")","v":"市場での賃金相場"},null,null,null,null,1]
[null,null,"D06",{"$f":"IF(手順２・３・４《待遇の入力》!$R$13=2,手順２・３・４《待遇の入力》!$M$13,\"\")","v":""},null,null,null,null,0]
[null,null,"D07",{"$f":"IF(手順２・３・４《待遇の入力》!$R$14=2,手順２・３・４《待遇の入力》!$M$14,\"\")","v":""},null,null,null,null,0]
[null,null,"D08",{"$f":"IF(手順２・３・４《待遇の入力》!$R$15=2,手順２・３・４《待遇の入力》!$M$15,\"\")","v":""},null,null,null,null,0]
[null,null,"D09",{"$f":"IF(手順２・３・４《待遇の入力》!$R$16=2,手順２・３・４《待遇の入力》!$M$16,\"\")","v":""},null,null,null,null,0]
[null,null,"D10",{"$f":"IF(手順２・３・４《待遇の入力》!$R$17=2,手順２・３・４《待遇の入力》!$M$17,\"\")","v":""},null,null,null,null,{"$f":"IF($D$68<>\"\",1,0)","v":0}]
[]
[]
["次の社員タイプへ"]

{"sheet":"手順２・３・４社員タイプ#07","index":15,"n_rows":71,"n_cols":13,"rows_kept":71,"cut":false,"hidden":true,"merged":[[70,0,70,7],[18,0,18,1],[34,0,34,1],[40,0,40,1],[56,0,56,1],[56,2,57,3],[56,4,57,4],[56,5,57,5],[57,0,68,1],[57,6,68,6],[57,7,68,7],[68,2,68,5],[11,1,11,7],[12,2,12,3],[13,2,13,3],[14,1,14,7],[16,0,16,1],[16,2,16,5],[10,2,10,3],[0,0,0,7],[1,0,1,1],[1,2,1,6],[2,1,2,7],[3,1,3,7],[4,1,4,7],[5,1,5,7],[6,1,6,7],[7,1,7,7],[8,1,8,7],[9,2,9,3]]}
["「パートタイム・有期雇用労働法」対応のための取組手順書",null,null,null,null,null,null,null,1,{"$f":"INT(RIGHT(CELL(\"filename\",I1),2))","v":7},null,null,"非常に重要"]
["←戻る",null,"手順２・３・４《社員タイプ別 入力シート》",null,null,null,null,"次へ→",2,null,null,"すべて","やや重要"]
[null,"社員タイプごとに、以下の手順で点検を行いましょう。",null,null,null,null,null,null,3,null,null,"手当","重要ではない"]
[null,"① 正社員と短時間労働者・有期雇用労働者との間の待遇の違いの有無について、以下の選択肢から選択しましょう。",null,null,null,null,null,null,null,null,null,"賞与","決定要素ではない"]
[null,"【１】 正社員と短時間労働者・有期雇用労働者との間で待遇の違いがない\n【２】 正社員と短時間労働者・有期雇用労働者との間で待遇の違いがある\n【３】 正社員、短時間労働者・有期雇用労働者とも、該当する待遇がない\n\n※選択肢「１」「２」「３」について、右上の「１２３の詳細説明」をクリックすると、より詳しい説明が表示されます。",null,null,null,null,null,null,null,null,null,"福利厚生その他"]
[null,"② ①で「１」「２」を選択した場合、待遇の支給目的を入力しましょう（福利厚生その他、基本給は不要）。",null,null,null,null,null,null,null,null,null,"基本給"]
[null,"③ 正社員と短時間労働者・有期雇用労働者との間に待遇の違いがある場合（①で「２」を選択した場合）、正社員、短時間労働者・有期雇用労働者それぞれの支給状況を入力しましょう。\n  基本給については、基本給の決定要素としている事項の重要度の違いをプルダウンから選択しましょう。"]
[null,"④ 待遇に違いを設けている理由を入力しましょう。\n⑤ 違いを設けている待遇について、対応方針を検討しましょう。"]
[null,"入力欄の行の高さ及び文字のサイズが変更できます。記載量に合わせて調整してください。"]
[null,null,"行の高さ（50～400）",null,"文字の大きさ（6～15）"]
[null,null,50,null,11]
[null,"既に点検を行った社員タイプの入力内容をコピーすることができます。待遇の状況が同じ場合などにご活用ください。"]
[null,null,"コピー元の社員タイプ",null,"コピー元の待遇種別"]
[]
[null,"※コピーを行うと、既に入力していた部分にも上書きされます。ご注意ください。"]
[]
[{"$f":"\"社員タイプ#\"&TEXT($J$1,\"00\")","v":"社員タイプ#07"},null,{"$f":"OFFSET('手順1-3'!$N$9,$J$1,0)","v":""}]
[null,null,null,null,null,null,null,null,{"$f":"IF($I$19>0,20,IF($I$35>0,36,42))","v":36},null,{"$f":"COUNTIF($K$19:$K$58,1)","v":0},{"$f":"IF($K$20=1,\"20a\",\"\")&IF($K$21=1,\"21a\",\"\")&IF($K$22=1,\"22a\",\"\")&IF($K$23=1,\"23a\",\"\")&IF($K$24=1,\"24a\",\"\")&IF($K$25=1,\"25a\",\"\")&IF($K$26=1,\"26a\",\"\")&IF($K$27=1,\"27a\",\"\")&IF($K$28=1,\"28a\",\"\")&IF($K$29=1,\"29a\",\"\")&IF($K$30=1,\"30a\",\"\")&IF($K$31=1,\"31a\",\"\")&IF($K$32=1,\"32a\",\"\")&IF($K$33=1,\"33a\",\"\")&IF($K$34=1,\"34a\",\"\")&IF($K$36=1,\"36a\",\"\")&IF($K$37=1,\"37a\",\"\")&IF($K$38=1,\"38a\",\"\")&IF($K$39=1,\"39a\",\"\")&IF($K$40=1,\"40a\",\"\")&IF($K$42=1,\"42a\",\"\")&IF($K$43=1,\"43a\",\"\")&IF($K$44=1,\"44a\",\"\")&IF($K$45=1,\"45a\",\"\")&IF($K$46=1,\"46a\",\"\")&IF($K$47=1,\"47a\",\"\")&IF($K$48=1,\"48a\",\"\")&IF($K$49=1,\"49a\",\"\")&IF($K$50=1,\"50a\",\"\")&IF($K$51=1,\"51a\",\"\")&IF($K$52=1,\"52a\",\"\")&IF($K$53=1,\"53a\",\"\")&IF($K$54=1,\"54a\",\"\")&IF($K$55=1,\"55a\",\"\")&IF($K$56=1,\"56a\",\"\")&IF($K$58=1,\"58a\",\"\")","v":""}]
["手当",null,"待遇の\n違いの\n有無","手当の支給の目的","正社員への支給状況","短時間労働者・有期雇用労働者\nへの支給状況","違いを設けている理由","対応方針検討",{"$f":"COUNTIF($I$20:$I$34,1)","v":0},null,0]
["A01",{"$f":"IF(手順２・３・４《待遇の入力》!$O$8=2,手順２・３・４《待遇の入力》!$S$8,\"\")","v":""},null,null,null,null,null,null,{"$f":"IF($I21=1,1,IF($B20<>\"\",1,0))","v":0},null,{"$f":"IF($C20<>$J20,1,0)","v":0}]
["A02",{"$f":"IF(手順２・３・４《待遇の入力》!$O$9=2,手順２・３・４《待遇の入力》!$S$9,\"\")","v":""},null,null,null,null,null,null,0,null,{"$f":"IF($C21<>$J21,1,0)","v":0}]
["A03",{"$f":"IF(手順２・３・４《待遇の入力》!$O$10=2,手順２・３・４《待遇の入力》!$S$10,\"\")","v":""},null,null,null,null,null,null,0,null,0]
["A04",{"$f":"IF(手順２・３・４《待遇の入力》!$O$11=2,手順２・３・４《待遇の入力》!$S$11,\"\")","v":""},null,null,null,null,null,null,0,null,0]
["A05",{"$f":"IF(手順２・３・４《待遇の入力》!$O$12=2,手順２・３・４《待遇の入力》!$S$12,\"\")","v":""},null,null,null,null,null,null,0,null,0]
["A06",{"$f":"IF(手順２・３・４《待遇の入力》!$O$13=2,手順２・３・４《待遇の入力》!$S$13,\"\")","v":""},null,null,null,null,null,null,0,null,0]
["A07",{"$f":"IF(手順２・３・４《待遇の入力》!$O$14=2,手順２・３・４《待遇の入力》!$S$14,\"\")","v":""},null,null,null,null,null,null,0,null,0]
["A08",{"$f":"IF(手順２・３・４《待遇の入力》!$O$15=2,手順２・３・４《待遇の入力》!$S$15,\"\")","v":""},null,null,null,null,null,null,0,null,0]
["A09",{"$f":"IF(手順２・３・４《待遇の入力》!$O$16=2,手順２・３・４《待遇の入力》!$S$16,\"\")","v":""},null,null,null,null,null,null,0,null,0]
["A10",{"$f":"IF(手順２・３・４《待遇の入力》!$O$17=2,手順２・３・４《待遇の入力》!$S$17,\"\")","v":""},null,null,null,null,null,null,0,null,0]
["A11",{"$f":"IF(手順２・３・４《待遇の入力》!$O$18=2,手順２・３・４《待遇の入力》!$S$18,\"\")","v":""},null,null,null,null,null,null,0,null,0]
["A12",{"$f":"IF(手順２・３・４《待遇の入力》!$O$19=2,手順２・３・４《待遇の入力》!$S$19,\"\")","v":""},null,null,null,null,null,null,0,null,0]
["A13",{"$f":"IF(手順２・３・４《待遇の入力》!$O$20=2,手順２・３・４《待遇の入力》!$S$20,\"\")","v":""},null,null,null,null,null,null,0,null,0]
["A14",{"$f":"IF(手順２・３・４《待遇の入力》!$O$21=2,手順２・３・４《待遇の入力》!$S$21,\"\")","v":""},null,null,null,null,null,null,0,null,0]
["A15",{"$f":"IF(手順２・３・４《待遇の入力》!$O$22=2,手順２・３・４《待遇の入力》!$S$22,\"\")","v":""},null,null,null,null,null,null,{"$f":"IF($B$34<>\"\",1,0)","v":0},null,0]
["賞与",null,"待遇の\n違いの\n有無","賞与の支給の目的","正社員への支給状況","短時間労働者・有期雇用労働者\nへの支給状況","違いを設けている理由","対応方針検討",{"$f":"COUNTIF($I$36:$I$40,1)","v":1},null,0]
["B01",{"$f":"IF(手順２・３・４《待遇の入力》!$P$8=2,手順２・３・４《待遇の入力》!$G$8,\"\")","v":"賞与"},null,null,null,null,null,null,{"$f":"IF($I37=1,1,IF($B36<>\"\",1,0))","v":1},null,{"$f":"IF($C36<>$J36,1,0)","v":0}]
["B02",{"$f":"IF(手順２・３・４《待遇の入力》!$P$9=2,手順２・３・４《待遇の入力》!$G$9,\"\")","v":""},null,null,null,null,null,null,{"$f":"IF($I38=1,1,IF($B37<>\"\",1,0))","v":0},null,{"$f":"IF($C37<>$J37,1,0)","v":0}]
["B03",{"$f":"IF(手順２・３・４《待遇の入力》!$P$10=2,手順２・３・４《待遇の入力》!$G$10,\"\")","v":""},null,null,null,null,null,null,{"$f":"IF($I39=1,1,IF($B38<>\"\",1,0))","v":0},null,{"$f":"IF($C38<>$J38,1,0)","v":0}]
["B04",{"$f":"IF(手順２・３・４《待遇の入力》!$P$11=2,手順２・３・４《待遇の入力》!$G$11,\"\")","v":""},null,null,null,null,null,null,{"$f":"IF($I40=1,1,IF($B39<>\"\",1,0))","v":0},null,{"$f":"IF($C39<>$J39,1,0)","v":0}]
["B05",{"$f":"IF(手順２・３・４《待遇の入力》!$P$12=2,手順２・３・４《待遇の入力》!$G$12,\"\")","v":""},null,null,null,null,null,null,{"$f":"IF($B$40<>\"\",1,0)","v":0},null,{"$f":"IF($C40<>$J40,1,0)","v":0}]
["福利厚生その他",null,"待遇の\n違いの\n有無","―","正社員の利用状況、措置状況","短時間労働者・有期雇用労働者の利用状況、措置状況","違いを設けている理由","対応方針検討",{"$f":"COUNTIF($I$42:$I$56,1)","v":3},null,0]
["C01",{"$f":"IF(手順２・３・４《待遇の入力》!$Q$8=2,手順２・３・４《待遇の入力》!$J$8,\"\")","v":"給食施設（食堂）"},null,null,null,null,null,null,{"$f":"IF($I43=1,1,IF($B42<>\"\",1,0))","v":1},null,{"$f":"IF($C42<>$J42,1,0)","v":0}]
["C02",{"$f":"IF(手順２・３・４《待遇の入力》!$Q$9=2,手順２・３・４《待遇の入力》!$J$9,\"\")","v":"休憩室"},null,null,null,null,null,null,1,null,0]
["C03",{"$f":"IF(手順２・３・４《待遇の入力》!$Q$10=2,手順２・３・４《待遇の入力》!$J$10,\"\")","v":"更衣室"},null,null,null,null,null,null,1,null,0]
["C04",{"$f":"IF(手順２・３・４《待遇の入力》!$Q$11=2,手順２・３・４《待遇の入力》!$J$11,\"\")","v":""},null,null,null,null,null,null,0,null,0]
["C05",{"$f":"IF(手順２・３・４《待遇の入力》!$Q$12=2,手順２・３・４《待遇の入力》!$J$12,\"\")","v":""},null,null,null,null,null,null,0,null,0]
["C06",{"$f":"IF(手順２・３・４《待遇の入力》!$Q$13=2,手順２・３・４《待遇の入力》!$J$13,\"\")","v":""},null,null,null,null,null,null,0,null,0]
["C07",{"$f":"IF(手順２・３・４《待遇の入力》!$Q$14=2,手順２・３・４《待遇の入力》!$J$14,\"\")","v":""},null,null,null,null,null,null,0,null,0]
["C08",{"$f":"IF(手順２・３・４《待遇の入力》!$Q$15=2,手順２・３・４《待遇の入力》!$J$15,\"\")","v":""},null,null,null,null,null,null,0,null,0]
["C09",{"$f":"IF(手順２・３・４《待遇の入力》!$Q$16=2,手順２・３・４《待遇の入力》!$J$16,\"\")","v":""},null,null,null,null,null,null,0,null,0]
["C10",{"$f":"IF(手順２・３・４《待遇の入力》!$Q$17=2,手順２・３・４《待遇の入力》!$J$17,\"\")","v":""},null,null,null,null,null,null,0,null,0]
["C11",{"$f":"IF(手順２・３・４《待遇の入力》!$Q$18=2,手順２・３・４《待遇の入力》!$J$18,\"\")","v":""},null,null,null,null,null,null,0,null,0]
["C12",{"$f":"IF(手順２・３・４《待遇の入力》!$Q$19=2,手順２・３・４《待遇の入力》!$J$19,\"\")","v":""},null,null,null,null,null,null,0,null,0]
["C13",{"$f":"IF(手順２・３・４《待遇の入力》!$Q$20=2,手順２・３・４《待遇の入力》!$J$20,\"\")","v":""},null,null,null,null,null,null,0,null,0]
["C14",{"$f":"IF(手順２・３・４《待遇の入力》!$Q$21=2,手順２・３・４《待遇の入力》!$J$21,\"\")","v":""},null,null,null,null,null,null,0,null,0]
["C15",{"$f":"IF(手順２・３・４《待遇の入力》!$Q$22=2,手順２・３・４《待遇の入力》!$J$22,\"\")","v":""},null,null,null,null,null,null,{"$f":"IF($B$56<>\"\",1,0)","v":0},null,0]
["基本給\n待遇の違いの有無",null,"基本給決定要素",null,"正社員の重要度","短時間労働者・有期雇用労働者\nの重要度","違いを設けている理由","対応方針検討",{"$f":"COUNTIF($I$59:$I$68,1)","v":5},null,0]
[null,null,null,null,null,null,null,null,null,null,{"$f":"IF($A58<>$J58,1,0)","v":0}]
[null,null,"D01",{"$f":"IF(手順２・３・４《待遇の入力》!$R$8=2,手順２・３・４《待遇の入力》!$M$8,\"\")","v":"職務の遂行能力"},null,null,null,null,{"$f":"IF($I60=1,1,IF($D59<>\"\",1,0))","v":1}]
[null,null,"D02",{"$f":"IF(手順２・３・４《待遇の入力》!$R$9=2,手順２・３・４《待遇の入力》!$M$9,\"\")","v":"業務の内容や責任の重さ"},null,null,null,null,1]
[null,null,"D03",{"$f":"IF(手順２・３・４《待遇の入力》!$R$10=2,手順２・３・４《待遇の入力》!$M$10,\"\")","v":"仕事の成果や業績"},null,null,null,null,1]
[null,null,"D04",{"$f":"IF(手順２・３・４《待遇の入力》!$R$11=2,手順２・３・４《待遇の入力》!$M$11,\"\")","v":"年齢や勤続年数"},null,null,null,null,1]
[null,null,"D05",{"$f":"IF(手順２・３・４《待遇の入力》!$R$12=2,手順２・３・４《待遇の入力》!$M$12,\"\")","v":"市場での賃金相場"},null,null,null,null,1]
[null,null,"D06",{"$f":"IF(手順２・３・４《待遇の入力》!$R$13=2,手順２・３・４《待遇の入力》!$M$13,\"\")","v":""},null,null,null,null,0]
[null,null,"D07",{"$f":"IF(手順２・３・４《待遇の入力》!$R$14=2,手順２・３・４《待遇の入力》!$M$14,\"\")","v":""},null,null,null,null,0]
[null,null,"D08",{"$f":"IF(手順２・３・４《待遇の入力》!$R$15=2,手順２・３・４《待遇の入力》!$M$15,\"\")","v":""},null,null,null,null,0]
[null,null,"D09",{"$f":"IF(手順２・３・４《待遇の入力》!$R$16=2,手順２・３・４《待遇の入力》!$M$16,\"\")","v":""},null,null,null,null,0]
[null,null,"D10",{"$f":"IF(手順２・３・４《待遇の入力》!$R$17=2,手順２・３・４《待遇の入力》!$M$17,\"\")","v":""},null,null,null,null,{"$f":"IF($D$68<>\"\",1,0)","v":0}]
[]
[]
["次の社員タイプへ"]

{"sheet":"手順２・３・４社員タイプ#08","index":16,"n_rows":71,"n_cols":13,"rows_kept":71,"cut":false,"hidden":true,"merged":[[70,0,70,7],[18,0,18,1],[34,0,34,1],[40,0,40,1],[56,0,56,1],[56,2,57,3],[56,4,57,4],[56,5,57,5],[57,0,68,1],[57,6,68,6],[57,7,68,7],[68,2,68,5],[11,1,11,7],[12,2,12,3],[13,2,13,3],[14,1,14,7],[16,0,16,1],[16,2,16,5],[10,2,10,3],[0,0,0,7],[1,0,1,1],[1,2,1,6],[2,1,2,7],[3,1,3,7],[4,1,4,7],[5,1,5,7],[6,1,6,7],[7,1,7,7],[8,1,8,7],[9,2,9,3]]}
["「パートタイム・有期雇用労働法」対応のための取組手順書",null,null,null,null,null,null,null,1,{"$f":"INT(RIGHT(CELL(\"filename\",I1),2))","v":8},null,null,"非常に重要"]
["←戻る",null,"手順２・３・４《社員タイプ別 入力シート》",null,null,null,null,"次へ→",2,null,null,"すべて","やや重要"]
[null,"社員タイプごとに、以下の手順で点検を行いましょう。",null,null,null,null,null,null,3,null,null,"手当","重要ではない"]
[null,"① 正社員と短時間労働者・有期雇用労働者との間の待遇の違いの有無について、以下の選択肢から選択しましょう。",null,null,null,null,null,null,null,null,null,"賞与","決定要素ではない"]
[null,"【１】 正社員と短時間労働者・有期雇用労働者との間で待遇の違いがない\n【２】 正社員と短時間労働者・有期雇用労働者との間で待遇の違いがある\n【３】 正社員、短時間労働者・有期雇用労働者とも、該当する待遇がない\n\n※選択肢「１」「２」「３」について、右上の「１２３の詳細説明」をクリックすると、より詳しい説明が表示されます。",null,null,null,null,null,null,null,null,null,"福利厚生その他"]
[null,"② ①で「１」「２」を選択した場合、待遇の支給目的を入力しましょう（福利厚生その他、基本給は不要）。",null,null,null,null,null,null,null,null,null,"基本給"]
[null,"③ 正社員と短時間労働者・有期雇用労働者との間に待遇の違いがある場合（①で「２」を選択した場合）、正社員、短時間労働者・有期雇用労働者それぞれの支給状況を入力しましょう。\n  基本給については、基本給の決定要素としている事項の重要度の違いをプルダウンから選択しましょう。"]
[null,"④ 待遇に違いを設けている理由を入力しましょう。\n⑤ 違いを設けている待遇について、対応方針を検討しましょう。"]
[null,"入力欄の行の高さ及び文字のサイズが変更できます。記載量に合わせて調整してください。"]
[null,null,"行の高さ（50～400）",null,"文字の大きさ（6～15）"]
[null,null,50,null,11]
[null,"既に点検を行った社員タイプの入力内容をコピーすることができます。待遇の状況が同じ場合などにご活用ください。"]
[null,null,"コピー元の社員タイプ",null,"コピー元の待遇種別"]
[]
[null,"※コピーを行うと、既に入力していた部分にも上書きされます。ご注意ください。"]
[]
[{"$f":"\"社員タイプ#\"&TEXT($J$1,\"00\")","v":"社員タイプ#08"},null,{"$f":"OFFSET('手順1-3'!$N$9,$J$1,0)","v":""}]
[null,null,null,null,null,null,null,null,{"$f":"IF($I$19>0,20,IF($I$35>0,36,42))","v":36},null,{"$f":"COUNTIF($K$19:$K$58,1)","v":0},{"$f":"IF($K$20=1,\"20a\",\"\")&IF($K$21=1,\"21a\",\"\")&IF($K$22=1,\"22a\",\"\")&IF($K$23=1,\"23a\",\"\")&IF($K$24=1,\"24a\",\"\")&IF($K$25=1,\"25a\",\"\")&IF($K$26=1,\"26a\",\"\")&IF($K$27=1,\"27a\",\"\")&IF($K$28=1,\"28a\",\"\")&IF($K$29=1,\"29a\",\"\")&IF($K$30=1,\"30a\",\"\")&IF($K$31=1,\"31a\",\"\")&IF($K$32=1,\"32a\",\"\")&IF($K$33=1,\"33a\",\"\")&IF($K$34=1,\"34a\",\"\")&IF($K$36=1,\"36a\",\"\")&IF($K$37=1,\"37a\",\"\")&IF($K$38=1,\"38a\",\"\")&IF($K$39=1,\"39a\",\"\")&IF($K$40=1,\"40a\",\"\")&IF($K$42=1,\"42a\",\"\")&IF($K$43=1,\"43a\",\"\")&IF($K$44=1,\"44a\",\"\")&IF($K$45=1,\"45a\",\"\")&IF($K$46=1,\"46a\",\"\")&IF($K$47=1,\"47a\",\"\")&IF($K$48=1,\"48a\",\"\")&IF($K$49=1,\"49a\",\"\")&IF($K$50=1,\"50a\",\"\")&IF($K$51=1,\"51a\",\"\")&IF($K$52=1,\"52a\",\"\")&IF($K$53=1,\"53a\",\"\")&IF($K$54=1,\"54a\",\"\")&IF($K$55=1,\"55a\",\"\")&IF($K$56=1,\"56a\",\"\")&IF($K$58=1,\"58a\",\"\")","v":""}]
["手当",null,"待遇の\n違いの\n有無","手当の支給の目的","正社員への支給状況","短時間労働者・有期雇用労働者\nへの支給状況","違いを設けている理由","対応方針検討",{"$f":"COUNTIF($I$20:$I$34,1)","v":0},null,0]
["A01",{"$f":"IF(手順２・３・４《待遇の入力》!$O$8=2,手順２・３・４《待遇の入力》!$S$8,\"\")","v":""},null,null,null,null,null,null,{"$f":"IF($I21=1,1,IF($B20<>\"\",1,0))","v":0},null,{"$f":"IF($C20<>$J20,1,0)","v":0}]
["A02",{"$f":"IF(手順２・３・４《待遇の入力》!$O$9=2,手順２・３・４《待遇の入力》!$S$9,\"\")","v":""},null,null,null,null,null,null,0,null,{"$f":"IF($C21<>$J21,1,0)","v":0}]
["A03",{"$f":"IF(手順２・３・４《待遇の入力》!$O$10=2,手順２・３・４《待遇の入力》!$S$10,\"\")","v":""},null,null,null,null,null,null,0,null,0]
["A04",{"$f":"IF(手順２・３・４《待遇の入力》!$O$11=2,手順２・３・４《待遇の入力》!$S$11,\"\")","v":""},null,null,null,null,null,null,0,null,0]
["A05",{"$f":"IF(手順２・３・４《待遇の入力》!$O$12=2,手順２・３・４《待遇の入力》!$S$12,\"\")","v":""},null,null,null,null,null,null,0,null,0]
["A06",{"$f":"IF(手順２・３・４《待遇の入力》!$O$13=2,手順２・３・４《待遇の入力》!$S$13,\"\")","v":""},null,null,null,null,null,null,0,null,0]
["A07",{"$f":"IF(手順２・３・４《待遇の入力》!$O$14=2,手順２・３・４《待遇の入力》!$S$14,\"\")","v":""},null,null,null,null,null,null,0,null,0]
["A08",{"$f":"IF(手順２・３・４《待遇の入力》!$O$15=2,手順２・３・４《待遇の入力》!$S$15,\"\")","v":""},null,null,null,null,null,null,0,null,0]
["A09",{"$f":"IF(手順２・３・４《待遇の入力》!$O$16=2,手順２・３・４《待遇の入力》!$S$16,\"\")","v":""},null,null,null,null,null,null,0,null,0]
["A10",{"$f":"IF(手順２・３・４《待遇の入力》!$O$17=2,手順２・３・４《待遇の入力》!$S$17,\"\")","v":""},null,null,null,null,null,null,0,null,0]
["A11",{"$f":"IF(手順２・３・４《待遇の入力》!$O$18=2,手順２・３・４《待遇の入力》!$S$18,\"\")","v":""},null,null,null,null,null,null,0,null,0]
["A12",{"$f":"IF(手順２・３・４《待遇の入力》!$O$19=2,手順２・３・４《待遇の入力》!$S$19,\"\")","v":""},null,null,null,null,null,null,0,null,0]
["A13",{"$f":"IF(手順２・３・４《待遇の入力》!$O$20=2,手順２・３・４《待遇の入力》!$S$20,\"\")","v":""},null,null,null,null,null,null,0,null,0]
["A14",{"$f":"IF(手順２・３・４《待遇の入力》!$O$21=2,手順２・３・４《待遇の入力》!$S$21,\"\")","v":""},null,null,null,null,null,null,0,null,0]
["A15",{"$f":"IF(手順２・３・４《待遇の入力》!$O$22=2,手順２・３・４《待遇の入力》!$S$22,\"\")","v":""},null,null,null,null,null,null,{"$f":"IF($B$34<>\"\",1,0)","v":0},null,0]
["賞与",null,"待遇の\n違いの\n有無","賞与の支給の目的","正社員への支給状況","短時間労働者・有期雇用労働者\nへの支給状況","違いを設けている理由","対応方針検討",{"$f":"COUNTIF($I$36:$I$40,1)","v":1},null,0]
["B01",{"$f":"IF(手順２・３・４《待遇の入力》!$P$8=2,手順２・３・４《待遇の入力》!$G$8,\"\")","v":"賞与"},null,null,null,null,null,null,{"$f":"IF($I37=1,1,IF($B36<>\"\",1,0))","v":1},null,{"$f":"IF($C36<>$J36,1,0)","v":0}]
["B02",{"$f":"IF(手順２・３・４《待遇の入力》!$P$9=2,手順２・３・４《待遇の入力》!$G$9,\"\")","v":""},null,null,null,null,null,null,{"$f":"IF($I38=1,1,IF($B37<>\"\",1,0))","v":0},null,{"$f":"IF($C37<>$J37,1,0)","v":0}]
["B03",{"$f":"IF(手順２・３・４《待遇の入力》!$P$10=2,手順２・３・４《待遇の入力》!$G$10,\"\")","v":""},null,null,null,null,null,null,{"$f":"IF($I39=1,1,IF($B38<>\"\",1,0))","v":0},null,{"$f":"IF($C38<>$J38,1,0)","v":0}]
["B04",{"$f":"IF(手順２・３・４《待遇の入力》!$P$11=2,手順２・３・４《待遇の入力》!$G$11,\"\")","v":""},null,null,null,null,null,null,{"$f":"IF($I40=1,1,IF($B39<>\"\",1,0))","v":0},null,{"$f":"IF($C39<>$J39,1,0)","v":0}]
["B05",{"$f":"IF(手順２・３・４《待遇の入力》!$P$12=2,手順２・３・４《待遇の入力》!$G$12,\"\")","v":""},null,null,null,null,null,null,{"$f":"IF($B$40<>\"\",1,0)","v":0},null,{"$f":"IF($C40<>$J40,1,0)","v":0}]
["福利厚生その他",null,"待遇の\n違いの\n有無","―","正社員の利用状況、措置状況","短時間労働者・有期雇用労働者の利用状況、措置状況","違いを設けている理由","対応方針検討",{"$f":"COUNTIF($I$42:$I$56,1)","v":3},null,0]
["C01",{"$f":"IF(手順２・３・４《待遇の入力》!$Q$8=2,手順２・３・４《待遇の入力》!$J$8,\"\")","v":"給食施設（食堂）"},null,null,null,null,null,null,{"$f":"IF($I43=1,1,IF($B42<>\"\",1,0))","v":1},null,{"$f":"IF($C42<>$J42,1,0)","v":0}]
["C02",{"$f":"IF(手順２・３・４《待遇の入力》!$Q$9=2,手順２・３・４《待遇の入力》!$J$9,\"\")","v":"休憩室"},null,null,null,null,null,null,1,null,0]
["C03",{"$f":"IF(手順２・３・４《待遇の入力》!$Q$10=2,手順２・３・４《待遇の入力》!$J$10,\"\")","v":"更衣室"},null,null,null,null,null,null,1,null,0]
["C04",{"$f":"IF(手順２・３・４《待遇の入力》!$Q$11=2,手順２・３・４《待遇の入力》!$J$11,\"\")","v":""},null,null,null,null,null,null,0,null,0]
["C05",{"$f":"IF(手順２・３・４《待遇の入力》!$Q$12=2,手順２・３・４《待遇の入力》!$J$12,\"\")","v":""},null,null,null,null,null,null,0,null,0]
["C06",{"$f":"IF(手順２・３・４《待遇の入力》!$Q$13=2,手順２・３・４《待遇の入力》!$J$13,\"\")","v":""},null,null,null,null,null,null,0,null,0]
["C07",{"$f":"IF(手順２・３・４《待遇の入力》!$Q$14=2,手順２・３・４《待遇の入力》!$J$14,\"\")","v":""},null,null,null,null,null,null,0,null,0]
["C08",{"$f":"IF(手順２・３・４《待遇の入力》!$Q$15=2,手順２・３・４《待遇の入力》!$J$15,\"\")","v":""},null,null,null,null,null,null,0,null,0]
["C09",{"$f":"IF(手順２・３・４《待遇の入力》!$Q$16=2,手順２・３・４《待遇の入力》!$J$16,\"\")","v":""},null,null,null,null,null,null,0,null,0]
["C10",{"$f":"IF(手順２・３・４《待遇の入力》!$Q$17=2,手順２・３・４《待遇の入力》!$J$17,\"\")","v":""},null,null,null,null,null,null,0,null,0]
["C11",{"$f":"IF(手順２・３・４《待遇の入力》!$Q$18=2,手順２・３・４《待遇の入力》!$J$18,\"\")","v":""},null,null,null,null,null,null,0,null,0]
["C12",{"$f":"IF(手順２・３・４《待遇の入力》!$Q$19=2,手順２・３・４《待遇の入力》!$J$19,\"\")","v":""},null,null,null,null,null,null,0,null,0]
["C13",{"$f":"IF(手順２・３・４《待遇の入力》!$Q$20=2,手順２・３・４《待遇の入力》!$J$20,\"\")","v":""},null,null,null,null,null,null,0,null,0]
["C14",{"$f":"IF(手順２・３・４《待遇の入力》!$Q$21=2,手順２・３・４《待遇の入力》!$J$21,\"\")","v":""},null,null,null,null,null,null,0,null,0]
["C15",{"$f":"IF(手順２・３・４《待遇の入力》!$Q$22=2,手順２・３・４《待遇の入力》!$J$22,\"\")","v":""},null,null,null,null,null,null,{"$f":"IF($B$56<>\"\",1,0)","v":0},null,0]
["基本給\n待遇の違いの有無",null,"基本給決定要素",null,"正社員の重要度","短時間労働者・有期雇用労働者\nの重要度","違いを設けている理由","対応方針検討",{"$f":"COUNTIF($I$59:$I$68,1)","v":5},null,0]
[null,null,null,null,null,null,null,null,null,null,{"$f":"IF($A58<>$J58,1,0)","v":0}]
[null,null,"D01",{"$f":"IF(手順２・３・４《待遇の入力》!$R$8=2,手順２・３・４《待遇の入力》!$M$8,\"\")","v":"職務の遂行能力"},null,null,null,null,{"$f":"IF($I60=1,1,IF($D59<>\"\",1,0))","v":1}]
[null,null,"D02",{"$f":"IF(手順２・３・４《待遇の入力》!$R$9=2,手順２・３・４《待遇の入力》!$M$9,\"\")","v":"業務の内容や責任の重さ"},null,null,null,null,1]
[null,null,"D03",{"$f":"IF(手順２・３・４《待遇の入力》!$R$10=2,手順２・３・４《待遇の入力》!$M$10,\"\")","v":"仕事の成果や業績"},null,null,null,null,1]
[null,null,"D04",{"$f":"IF(手順２・３・４《待遇の入力》!$R$11=2,手順２・３・４《待遇の入力》!$M$11,\"\")","v":"年齢や勤続年数"},null,null,null,null,1]
[null,null,"D05",{"$f":"IF(手順２・３・４《待遇の入力》!$R$12=2,手順２・３・４《待遇の入力》!$M$12,\"\")","v":"市場での賃金相場"},null,null,null,null,1]
[null,null,"D06",{"$f":"IF(手順２・３・４《待遇の入力》!$R$13=2,手順２・３・４《待遇の入力》!$M$13,\"\")","v":""},null,null,null,null,0]
[null,null,"D07",{"$f":"IF(手順２・３・４《待遇の入力》!$R$14=2,手順２・３・４《待遇の入力》!$M$14,\"\")","v":""},null,null,null,null,0]
[null,null,"D08",{"$f":"IF(手順２・３・４《待遇の入力》!$R$15=2,手順２・３・４《待遇の入力》!$M$15,\"\")","v":""},null,null,null,null,0]
[null,null,"D09",{"$f":"IF(手順２・３・４《待遇の入力》!$R$16=2,手順２・３・４《待遇の入力》!$M$16,\"\")","v":""},null,null,null,null,0]
[null,null,"D10",{"$f":"IF(手順２・３・４《待遇の入力》!$R$17=2,手順２・３・４《待遇の入力》!$M$17,\"\")","v":""},null,null,null,null,{"$f":"IF($D$68<>\"\",1,0)","v":0}]
[]
[]
["次の社員タイプへ"]

{"sheet":"手順２・３・４社員タイプ#09","index":17,"n_rows":71,"n_cols":13,"rows_kept":71,"cut":false,"hidden":true,"merged":[[70,0,70,7],[18,0,18,1],[34,0,34,1],[40,0,40,1],[56,0,56,1],[56,2,57,3],[56,4,57,4],[56,5,57,5],[57,0,68,1],[57,6,68,6],[57,7,68,7],[68,2,68,5],[11,1,11,7],[12,2,12,3],[13,2,13,3],[14,1,14,7],[16,0,16,1],[16,2,16,5],[10,2,10,3],[0,0,0,7],[1,0,1,1],[1,2,1,6],[2,1,2,7],[3,1,3,7],[4,1,4,7],[5,1,5,7],[6,1,6,7],[7,1,7,7],[8,1,8,7],[9,2,9,3]]}
["「パートタイム・有期雇用労働法」対応のための取組手順書",null,null,null,null,null,null,null,1,{"$f":"INT(RIGHT(CELL(\"filename\",I1),2))","v":9},null,null,"非常に重要"]
["←戻る",null,"手順２・３・４《社員タイプ別 入力シート》",null,null,null,null,"次へ→",2,null,null,"すべて","やや重要"]
[null,"社員タイプごとに、以下の手順で点検を行いましょう。",null,null,null,null,null,null,3,null,null,"手当","重要ではない"]
[null,"① 正社員と短時間労働者・有期雇用労働者との間の待遇の違いの有無について、以下の選択肢から選択しましょう。",null,null,null,null,null,null,null,null,null,"賞与","決定要素ではない"]
[null,"【１】 正社員と短時間労働者・有期雇用労働者との間で待遇の違いがない\n【２】 正社員と短時間労働者・有期雇用労働者との間で待遇の違いがある\n【３】 正社員、短時間労働者・有期雇用労働者とも、該当する待遇がない\n\n※選択肢「１」「２」「３」について、右上の「１２３の詳細説明」をクリックすると、より詳しい説明が表示されます。",null,null,null,null,null,null,null,null,null,"福利厚生その他"]
[null,"② ①で「１」「２」を選択した場合、待遇の支給目的を入力しましょう（福利厚生その他、基本給は不要）。",null,null,null,null,null,null,null,null,null,"基本給"]
[null,"③ 正社員と短時間労働者・有期雇用労働者との間に待遇の違いがある場合（①で「２」を選択した場合）、正社員、短時間労働者・有期雇用労働者それぞれの支給状況を入力しましょう。\n  基本給については、基本給の決定要素としている事項の重要度の違いをプルダウンから選択しましょう。"]
[null,"④ 待遇に違いを設けている理由を入力しましょう。\n⑤ 違いを設けている待遇について、対応方針を検討しましょう。"]
[null,"入力欄の行の高さ及び文字のサイズが変更できます。記載量に合わせて調整してください。"]
[null,null,"行の高さ（50～400）",null,"文字の大きさ（6～15）"]
[null,null,50,null,11]
[null,"既に点検を行った社員タイプの入力内容をコピーすることができます。待遇の状況が同じ場合などにご活用ください。"]
[null,null,"コピー元の社員タイプ",null,"コピー元の待遇種別"]
[]
[null,"※コピーを行うと、既に入力していた部分にも上書きされます。ご注意ください。"]
[]
[{"$f":"\"社員タイプ#\"&TEXT($J$1,\"00\")","v":"社員タイプ#09"},null,{"$f":"OFFSET('手順1-3'!$N$9,$J$1,0)","v":""}]
[null,null,null,null,null,null,null,null,{"$f":"IF($I$19>0,20,IF($I$35>0,36,42))","v":36},null,{"$f":"COUNTIF($K$19:$K$58,1)","v":0},{"$f":"IF($K$20=1,\"20a\",\"\")&IF($K$21=1,\"21a\",\"\")&IF($K$22=1,\"22a\",\"\")&IF($K$23=1,\"23a\",\"\")&IF($K$24=1,\"24a\",\"\")&IF($K$25=1,\"25a\",\"\")&IF($K$26=1,\"26a\",\"\")&IF($K$27=1,\"27a\",\"\")&IF($K$28=1,\"28a\",\"\")&IF($K$29=1,\"29a\",\"\")&IF($K$30=1,\"30a\",\"\")&IF($K$31=1,\"31a\",\"\")&IF($K$32=1,\"32a\",\"\")&IF($K$33=1,\"33a\",\"\")&IF($K$34=1,\"34a\",\"\")&IF($K$36=1,\"36a\",\"\")&IF($K$37=1,\"37a\",\"\")&IF($K$38=1,\"38a\",\"\")&IF($K$39=1,\"39a\",\"\")&IF($K$40=1,\"40a\",\"\")&IF($K$42=1,\"42a\",\"\")&IF($K$43=1,\"43a\",\"\")&IF($K$44=1,\"44a\",\"\")&IF($K$45=1,\"45a\",\"\")&IF($K$46=1,\"46a\",\"\")&IF($K$47=1,\"47a\",\"\")&IF($K$48=1,\"48a\",\"\")&IF($K$49=1,\"49a\",\"\")&IF($K$50=1,\"50a\",\"\")&IF($K$51=1,\"51a\",\"\")&IF($K$52=1,\"52a\",\"\")&IF($K$53=1,\"53a\",\"\")&IF($K$54=1,\"54a\",\"\")&IF($K$55=1,\"55a\",\"\")&IF($K$56=1,\"56a\",\"\")&IF($K$58=1,\"58a\",\"\")","v":""}]
["手当",null,"待遇の\n違いの\n有無","手当の支給の目的","正社員への支給状況","短時間労働者・有期雇用労働者\nへの支給状況","違いを設けている理由","対応方針検討",{"$f":"COUNTIF($I$20:$I$34,1)","v":0},null,0]
["A01",{"$f":"IF(手順２・３・４《待遇の入力》!$O$8=2,手順２・３・４《待遇の入力》!$S$8,\"\")","v":""},null,null,null,null,null,null,{"$f":"IF($I21=1,1,IF($B20<>\"\",1,0))","v":0},null,{"$f":"IF($C20<>$J20,1,0)","v":0}]
["A02",{"$f":"IF(手順２・３・４《待遇の入力》!$O$9=2,手順２・３・４《待遇の入力》!$S$9,\"\")","v":""},null,null,null,null,null,null,0,null,{"$f":"IF($C21<>$J21,1,0)","v":0}]
["A03",{"$f":"IF(手順２・３・４《待遇の入力》!$O$10=2,手順２・３・４《待遇の入力》!$S$10,\"\")","v":""},null,null,null,null,null,null,0,null,0]
["A04",{"$f":"IF(手順２・３・４《待遇の入力》!$O$11=2,手順２・３・４《待遇の入力》!$S$11,\"\")","v":""},null,null,null,null,null,null,0,null,0]
["A05",{"$f":"IF(手順２・３・４《待遇の入力》!$O$12=2,手順２・３・４《待遇の入力》!$S$12,\"\")","v":""},null,null,null,null,null,null,0,null,0]
["A06",{"$f":"IF(手順２・３・４《待遇の入力》!$O$13=2,手順２・３・４《待遇の入力》!$S$13,\"\")","v":""},null,null,null,null,null,null,0,null,0]
["A07",{"$f":"IF(手順２・３・４《待遇の入力》!$O$14=2,手順２・３・４《待遇の入力》!$S$14,\"\")","v":""},null,null,null,null,null,null,0,null,0]
["A08",{"$f":"IF(手順２・３・４《待遇の入力》!$O$15=2,手順２・３・４《待遇の入力》!$S$15,\"\")","v":""},null,null,null,null,null,null,0,null,0]
["A09",{"$f":"IF(手順２・３・４《待遇の入力》!$O$16=2,手順２・３・４《待遇の入力》!$S$16,\"\")","v":""},null,null,null,null,null,null,0,null,0]
["A10",{"$f":"IF(手順２・３・４《待遇の入力》!$O$17=2,手順２・３・４《待遇の入力》!$S$17,\"\")","v":""},null,null,null,null,null,null,0,null,0]
["A11",{"$f":"IF(手順２・３・４《待遇の入力》!$O$18=2,手順２・３・４《待遇の入力》!$S$18,\"\")","v":""},null,null,null,null,null,null,0,null,0]
["A12",{"$f":"IF(手順２・３・４《待遇の入力》!$O$19=2,手順２・３・４《待遇の入力》!$S$19,\"\")","v":""},null,null,null,null,null,null,0,null,0]
["A13",{"$f":"IF(手順２・３・４《待遇の入力》!$O$20=2,手順２・３・４《待遇の入力》!$S$20,\"\")","v":""},null,null,null,null,null,null,0,null,0]
["A14",{"$f":"IF(手順２・３・４《待遇の入力》!$O$21=2,手順２・３・４《待遇の入力》!$S$21,\"\")","v":""},null,null,null,null,null,null,0,null,0]
["A15",{"$f":"IF(手順２・３・４《待遇の入力》!$O$22=2,手順２・３・４《待遇の入力》!$S$22,\"\")","v":""},null,null,null,null,null,null,{"$f":"IF($B$34<>\"\",1,0)","v":0},null,0]
["賞与",null,"待遇の\n違いの\n有無","賞与の支給の目的","正社員への支給状況","短時間労働者・有期雇用労働者\nへの支給状況","違いを設けている理由","対応方針検討",{"$f":"COUNTIF($I$36:$I$40,1)","v":1},null,0]
["B01",{"$f":"IF(手順２・３・４《待遇の入力》!$P$8=2,手順２・３・４《待遇の入力》!$G$8,\"\")","v":"賞与"},null,null,null,null,null,null,{"$f":"IF($I37=1,1,IF($B36<>\"\",1,0))","v":1},null,{"$f":"IF($C36<>$J36,1,0)","v":0}]
["B02",{"$f":"IF(手順２・３・４《待遇の入力》!$P$9=2,手順２・３・４《待遇の入力》!$G$9,\"\")","v":""},null,null,null,null,null,null,{"$f":"IF($I38=1,1,IF($B37<>\"\",1,0))","v":0},null,{"$f":"IF($C37<>$J37,1,0)","v":0}]
["B03",{"$f":"IF(手順２・３・４《待遇の入力》!$P$10=2,手順２・３・４《待遇の入力》!$G$10,\"\")","v":""},null,null,null,null,null,null,{"$f":"IF($I39=1,1,IF($B38<>\"\",1,0))","v":0},null,{"$f":"IF($C38<>$J38,1,0)","v":0}]
["B04",{"$f":"IF(手順２・３・４《待遇の入力》!$P$11=2,手順２・３・４《待遇の入力》!$G$11,\"\")","v":""},null,null,null,null,null,null,{"$f":"IF($I40=1,1,IF($B39<>\"\",1,0))","v":0},null,{"$f":"IF($C39<>$J39,1,0)","v":0}]
["B05",{"$f":"IF(手順２・３・４《待遇の入力》!$P$12=2,手順２・３・４《待遇の入力》!$G$12,\"\")","v":""},null,null,null,null,null,null,{"$f":"IF($B$40<>\"\",1,0)","v":0},null,{"$f":"IF($C40<>$J40,1,0)","v":0}]
["福利厚生その他",null,"待遇の\n違いの\n有無","―","正社員の利用状況、措置状況","短時間労働者・有期雇用労働者の利用状況、措置状況","違いを設けている理由","対応方針検討",{"$f":"COUNTIF($I$42:$I$56,1)","v":3},null,0]
["C01",{"$f":"IF(手順２・３・４《待遇の入力》!$Q$8=2,手順２・３・４《待遇の入力》!$J$8,\"\")","v":"給食施設（食堂）"},null,null,null,null,null,null,{"$f":"IF($I43=1,1,IF($B42<>\"\",1,0))","v":1},null,{"$f":"IF($C42<>$J42,1,0)","v":0}]
["C02",{"$f":"IF(手順２・３・４《待遇の入力》!$Q$9=2,手順２・３・４《待遇の入力》!$J$9,\"\")","v":"休憩室"},null,null,null,null,null,null,1,null,0]
["C03",{"$f":"IF(手順２・３・４《待遇の入力》!$Q$10=2,手順２・３・４《待遇の入力》!$J$10,\"\")","v":"更衣室"},null,null,null,null,null,null,1,null,0]
["C04",{"$f":"IF(手順２・３・４《待遇の入力》!$Q$11=2,手順２・３・４《待遇の入力》!$J$11,\"\")","v":""},null,null,null,null,null,null,0,null,0]
["C05",{"$f":"IF(手順２・３・４《待遇の入力》!$Q$12=2,手順２・３・４《待遇の入力》!$J$12,\"\")","v":""},null,null,null,null,null,null,0,null,0]
["C06",{"$f":"IF(手順２・３・４《待遇の入力》!$Q$13=2,手順２・３・４《待遇の入力》!$J$13,\"\")","v":""},null,null,null,null,null,null,0,null,0]
["C07",{"$f":"IF(手順２・３・４《待遇の入力》!$Q$14=2,手順２・３・４《待遇の入力》!$J$14,\"\")","v":""},null,null,null,null,null,null,0,null,0]
["C08",{"$f":"IF(手順２・３・４《待遇の入力》!$Q$15=2,手順２・３・４《待遇の入力》!$J$15,\"\")","v":""},null,null,null,null,null,null,0,null,0]
["C09",{"$f":"IF(手順２・３・４《待遇の入力》!$Q$16=2,手順２・３・４《待遇の入力》!$J$16,\"\")","v":""},null,null,null,null,null,null,0,null,0]
["C10",{"$f":"IF(手順２・３・４《待遇の入力》!$Q$17=2,手順２・３・４《待遇の入力》!$J$17,\"\")","v":""},null,null,null,null,null,null,0,null,0]
["C11",{"$f":"IF(手順２・３・４《待遇の入力》!$Q$18=2,手順２・３・４《待遇の入力》!$J$18,\"\")","v":""},null,null,null,null,null,null,0,null,0]
["C12",{"$f":"IF(手順２・３・４《待遇の入力》!$Q$19=2,手順２・３・４《待遇の入力》!$J$19,\"\")","v":""},null,null,null,null,null,null,0,null,0]
["C13",{"$f":"IF(手順２・３・４《待遇の入力》!$Q$20=2,手順２・３・４《待遇の入力》!$J$20,\"\")","v":""},null,null,null,null,null,null,0,null,0]
["C14",{"$f":"IF(手順２・３・４《待遇の入力》!$Q$21=2,手順２・３・４《待遇の入力》!$J$21,\"\")","v":""},null,null,null,null,null,null,0,null,0]
["C15",{"$f":"IF(手順２・３・４《待遇の入力》!$Q$22=2,手順２・３・４《待遇の入力》!$J$22,\"\")","v":""},null,null,null,null,null,null,{"$f":"IF($B$56<>\"\",1,0)","v":0},null,0]
["基本給\n待遇の違いの有無",null,"基本給決定要素",null,"正社員の重要度","短時間労働者・有期雇用労働者\nの重要度","違いを設けている理由","対応方針検討",{"$f":"COUNTIF($I$59:$I$68,1)","v":5},null,0]
[null,null,null,null,null,null,null,null,null,null,{"$f":"IF($A58<>$J58,1,0)","v":0}]
[null,null,"D01",{"$f":"IF(手順２・３・４《待遇の入力》!$R$8=2,手順２・３・４《待遇の入力》!$M$8,\"\")","v":"職務の遂行能力"},null,null,null,null,{"$f":"IF($I60=1,1,IF($D59<>\"\",1,0))","v":1}]
[null,null,"D02",{"$f":"IF(手順２・３・４《待遇の入力》!$R$9=2,手順２・３・４《待遇の入力》!$M$9,\"\")","v":"業務の内容や責任の重さ"},null,null,null,null,1]
[null,null,"D03",{"$f":"IF(手順２・３・４《待遇の入力》!$R$10=2,手順２・３・４《待遇の入力》!$M$10,\"\")","v":"仕事の成果や業績"},null,null,null,null,1]
[null,null,"D04",{"$f":"IF(手順２・３・４《待遇の入力》!$R$11=2,手順２・３・４《待遇の入力》!$M$11,\"\")","v":"年齢や勤続年数"},null,null,null,null,1]
[null,null,"D05",{"$f":"IF(手順２・３・４《待遇の入力》!$R$12=2,手順２・３・４《待遇の入力》!$M$12,\"\")","v":"市場での賃金相場"},null,null,null,null,1]
[null,null,"D06",{"$f":"IF(手順２・３・４《待遇の入力》!$R$13=2,手順２・３・４《待遇の入力》!$M$13,\"\")","v":""},null,null,null,null,0]
[null,null,"D07",{"$f":"IF(手順２・３・４《待遇の入力》!$R$14=2,手順２・３・４《待遇の入力》!$M$14,\"\")","v":""},null,null,null,null,0]
[null,null,"D08",{"$f":"IF(手順２・３・４《待遇の入力》!$R$15=2,手順２・３・４《待遇の入力》!$M$15,\"\")","v":""},null,null,null,null,0]
[null,null,"D09",{"$f":"IF(手順２・３・４《待遇の入力》!$R$16=2,手順２・３・４《待遇の入力》!$M$16,\"\")","v":""},null,null,null,null,0]
[null,null,"D10",{"$f":"IF(手順２・３・４《待遇の入力》!$R$17=2,手順２・３・４《待遇の入力》!$M$17,\"\")","v":""},null,null,null,null,{"$f":"IF($D$68<>\"\",1,0)","v":0}]
[]
[]
["次の社員タイプへ"]

{"sheet":"手順２・３・４社員タイプ#10","index":18,"n_rows":71,"n_cols":13,"rows_kept":71,"cut":false,"hidden":true,"merged":[[70,0,70,7],[18,0,18,1],[34,0,34,1],[40,0,40,1],[56,0,56,1],[56,2,57,3],[56,4,57,4],[56,5,57,5],[57,0,68,1],[57,6,68,6],[57,7,68,7],[68,2,68,5],[11,1,11,7],[12,2,12,3],[13,2,13,3],[14,1,14,7],[16,0,16,1],[16,2,16,5],[10,2,10,3],[0,0,0,7],[1,0,1,1],[1,2,1,6],[2,1,2,7],[3,1,3,7],[4,1,4,7],[5,1,5,7],[6,1,6,7],[7,1,7,7],[8,1,8,7],[9,2,9,3]]}
["「パートタイム・有期雇用労働法」対応のための取組手順書",null,null,null,null,null,null,null,1,{"$f":"INT(RIGHT(CELL(\"filename\",I1),2))","v":10},null,null,"非常に重要"]
["←戻る",null,"手順２・３・４《社員タイプ別 入力シート》",null,null,null,null,"次へ→",2,null,null,"すべて","やや重要"]
[null,"社員タイプごとに、以下の手順で点検を行いましょう。",null,null,null,null,null,null,3,null,null,"手当","重要ではない"]
[null,"① 正社員と短時間労働者・有期雇用労働者との間の待遇の違いの有無について、以下の選択肢から選択しましょう。",null,null,null,null,null,null,null,null,null,"賞与","決定要素ではない"]
[null,"【１】 正社員と短時間労働者・有期雇用労働者との間で待遇の違いがない\n【２】 正社員と短時間労働者・有期雇用労働者との間で待遇の違いがある\n【３】 正社員、短時間労働者・有期雇用労働者とも、該当する待遇がない\n\n※選択肢「１」「２」「３」について、右上の「１２３の詳細説明」をクリックすると、より詳しい説明が表示されます。",null,null,null,null,null,null,null,null,null,"福利厚生その他"]
[null,"② ①で「１」「２」を選択した場合、待遇の支給目的を入力しましょう（福利厚生その他、基本給は不要）。",null,null,null,null,null,null,null,null,null,"基本給"]
[null,"③ 正社員と短時間労働者・有期雇用労働者との間に待遇の違いがある場合（①で「２」を選択した場合）、正社員、短時間労働者・有期雇用労働者それぞれの支給状況を入力しましょう。\n  基本給については、基本給の決定要素としている事項の重要度の違いをプルダウンから選択しましょう。"]
[null,"④ 待遇に違いを設けている理由を入力しましょう。\n⑤ 違いを設けている待遇について、対応方針を検討しましょう。"]
[null,"入力欄の行の高さ及び文字のサイズが変更できます。記載量に合わせて調整してください。"]
[null,null,"行の高さ（50～400）",null,"文字の大きさ（6～15）"]
[null,null,50,null,11]
[null,"既に点検を行った社員タイプの入力内容をコピーすることができます。待遇の状況が同じ場合などにご活用ください。"]
[null,null,"コピー元の社員タイプ",null,"コピー元の待遇種別"]
[]
[null,"※コピーを行うと、既に入力していた部分にも上書きされます。ご注意ください。"]
[]
[{"$f":"\"社員タイプ#\"&TEXT($J$1,\"00\")","v":"社員タイプ#10"},null,{"$f":"OFFSET('手順1-3'!$N$9,$J$1,0)","v":""}]
[null,null,null,null,null,null,null,null,{"$f":"IF($I$19>0,20,IF($I$35>0,36,42))","v":36},null,{"$f":"COUNTIF($K$19:$K$58,1)","v":0},{"$f":"IF($K$20=1,\"20a\",\"\")&IF($K$21=1,\"21a\",\"\")&IF($K$22=1,\"22a\",\"\")&IF($K$23=1,\"23a\",\"\")&IF($K$24=1,\"24a\",\"\")&IF($K$25=1,\"25a\",\"\")&IF($K$26=1,\"26a\",\"\")&IF($K$27=1,\"27a\",\"\")&IF($K$28=1,\"28a\",\"\")&IF($K$29=1,\"29a\",\"\")&IF($K$30=1,\"30a\",\"\")&IF($K$31=1,\"31a\",\"\")&IF($K$32=1,\"32a\",\"\")&IF($K$33=1,\"33a\",\"\")&IF($K$34=1,\"34a\",\"\")&IF($K$36=1,\"36a\",\"\")&IF($K$37=1,\"37a\",\"\")&IF($K$38=1,\"38a\",\"\")&IF($K$39=1,\"39a\",\"\")&IF($K$40=1,\"40a\",\"\")&IF($K$42=1,\"42a\",\"\")&IF($K$43=1,\"43a\",\"\")&IF($K$44=1,\"44a\",\"\")&IF($K$45=1,\"45a\",\"\")&IF($K$46=1,\"46a\",\"\")&IF($K$47=1,\"47a\",\"\")&IF($K$48=1,\"48a\",\"\")&IF($K$49=1,\"49a\",\"\")&IF($K$50=1,\"50a\",\"\")&IF($K$51=1,\"51a\",\"\")&IF($K$52=1,\"52a\",\"\")&IF($K$53=1,\"53a\",\"\")&IF($K$54=1,\"54a\",\"\")&IF($K$55=1,\"55a\",\"\")&IF($K$56=1,\"56a\",\"\")&IF($K$58=1,\"58a\",\"\")","v":""}]
["手当",null,"待遇の\n違いの\n有無","手当の支給の目的","正社員への支給状況","短時間労働者・有期雇用労働者\nへの支給状況","違いを設けている理由","対応方針検討",{"$f":"COUNTIF($I$20:$I$34,1)","v":0},null,0]
["A01",{"$f":"IF(手順２・３・４《待遇の入力》!$O$8=2,手順２・３・４《待遇の入力》!$S$8,\"\")","v":""},null,null,null,null,null,null,{"$f":"IF($I21=1,1,IF($B20<>\"\",1,0))","v":0},null,{"$f":"IF($C20<>$J20,1,0)","v":0}]
["A02",{"$f":"IF(手順２・３・４《待遇の入力》!$O$9=2,手順２・３・４《待遇の入力》!$S$9,\"\")","v":""},null,null,null,null,null,null,0,null,{"$f":"IF($C21<>$J21,1,0)","v":0}]
["A03",{"$f":"IF(手順２・３・４《待遇の入力》!$O$10=2,手順２・３・４《待遇の入力》!$S$10,\"\")","v":""},null,null,null,null,null,null,0,null,0]
["A04",{"$f":"IF(手順２・３・４《待遇の入力》!$O$11=2,手順２・３・４《待遇の入力》!$S$11,\"\")","v":""},null,null,null,null,null,null,0,null,0]
["A05",{"$f":"IF(手順２・３・４《待遇の入力》!$O$12=2,手順２・３・４《待遇の入力》!$S$12,\"\")","v":""},null,null,null,null,null,null,0,null,0]
["A06",{"$f":"IF(手順２・３・４《待遇の入力》!$O$13=2,手順２・３・４《待遇の入力》!$S$13,\"\")","v":""},null,null,null,null,null,null,0,null,0]
["A07",{"$f":"IF(手順２・３・４《待遇の入力》!$O$14=2,手順２・３・４《待遇の入力》!$S$14,\"\")","v":""},null,null,null,null,null,null,0,null,0]
["A08",{"$f":"IF(手順２・３・４《待遇の入力》!$O$15=2,手順２・３・４《待遇の入力》!$S$15,\"\")","v":""},null,null,null,null,null,null,0,null,0]
["A09",{"$f":"IF(手順２・３・４《待遇の入力》!$O$16=2,手順２・３・４《待遇の入力》!$S$16,\"\")","v":""},null,null,null,null,null,null,0,null,0]
["A10",{"$f":"IF(手順２・３・４《待遇の入力》!$O$17=2,手順２・３・４《待遇の入力》!$S$17,\"\")","v":""},null,null,null,null,null,null,0,null,0]
["A11",{"$f":"IF(手順２・３・４《待遇の入力》!$O$18=2,手順２・３・４《待遇の入力》!$S$18,\"\")","v":""},null,null,null,null,null,null,0,null,0]
["A12",{"$f":"IF(手順２・３・４《待遇の入力》!$O$19=2,手順２・３・４《待遇の入力》!$S$19,\"\")","v":""},null,null,null,null,null,null,0,null,0]
["A13",{"$f":"IF(手順２・３・４《待遇の入力》!$O$20=2,手順２・３・４《待遇の入力》!$S$20,\"\")","v":""},null,null,null,null,null,null,0,null,0]
["A14",{"$f":"IF(手順２・３・４《待遇の入力》!$O$21=2,手順２・３・４《待遇の入力》!$S$21,\"\")","v":""},null,null,null,null,null,null,0,null,0]
["A15",{"$f":"IF(手順２・３・４《待遇の入力》!$O$22=2,手順２・３・４《待遇の入力》!$S$22,\"\")","v":""},null,null,null,null,null,null,{"$f":"IF($B$34<>\"\",1,0)","v":0},null,0]
["賞与",null,"待遇の\n違いの\n有無","賞与の支給の目的","正社員への支給状況","短時間労働者・有期雇用労働者\nへの支給状況","違いを設けている理由","対応方針検討",{"$f":"COUNTIF($I$36:$I$40,1)","v":1},null,0]
["B01",{"$f":"IF(手順２・３・４《待遇の入力》!$P$8=2,手順２・３・４《待遇の入力》!$G$8,\"\")","v":"賞与"},null,null,null,null,null,null,{"$f":"IF($I37=1,1,IF($B36<>\"\",1,0))","v":1},null,{"$f":"IF($C36<>$J36,1,0)","v":0}]
["B02",{"$f":"IF(手順２・３・４《待遇の入力》!$P$9=2,手順２・３・４《待遇の入力》!$G$9,\"\")","v":""},null,null,null,null,null,null,{"$f":"IF($I38=1,1,IF($B37<>\"\",1,0))","v":0},null,{"$f":"IF($C37<>$J37,1,0)","v":0}]
["B03",{"$f":"IF(手順２・３・４《待遇の入力》!$P$10=2,手順２・３・４《待遇の入力》!$G$10,\"\")","v":""},null,null,null,null,null,null,{"$f":"IF($I39=1,1,IF($B38<>\"\",1,0))","v":0},null,{"$f":"IF($C38<>$J38,1,0)","v":0}]
["B04",{"$f":"IF(手順２・３・４《待遇の入力》!$P$11=2,手順２・３・４《待遇の入力》!$G$11,\"\")","v":""},null,null,null,null,null,null,{"$f":"IF($I40=1,1,IF($B39<>\"\",1,0))","v":0},null,{"$f":"IF($C39<>$J39,1,0)","v":0}]
["B05",{"$f":"IF(手順２・３・４《待遇の入力》!$P$12=2,手順２・３・４《待遇の入力》!$G$12,\"\")","v":""},null,null,null,null,null,null,{"$f":"IF($B$40<>\"\",1,0)","v":0},null,{"$f":"IF($C40<>$J40,1,0)","v":0}]
["福利厚生その他",null,"待遇の\n違いの\n有無","―","正社員の利用状況、措置状況","短時間労働者・有期雇用労働者の利用状況、措置状況","違いを設けている理由","対応方針検討",{"$f":"COUNTIF($I$42:$I$56,1)","v":3},null,0]
["C01",{"$f":"IF(手順２・３・４《待遇の入力》!$Q$8=2,手順２・３・４《待遇の入力》!$J$8,\"\")","v":"給食施設（食堂）"},null,null,null,null,null,null,{"$f":"IF($I43=1,1,IF($B42<>\"\",1,0))","v":1},null,{"$f":"IF($C42<>$J42,1,0)","v":0}]
["C02",{"$f":"IF(手順２・３・４《待遇の入力》!$Q$9=2,手順２・３・４《待遇の入力》!$J$9,\"\")","v":"休憩室"},null,null,null,null,null,null,1,null,0]
["C03",{"$f":"IF(手順２・３・４《待遇の入力》!$Q$10=2,手順２・３・４《待遇の入力》!$J$10,\"\")","v":"更衣室"},null,null,null,null,null,null,1,null,0]
["C04",{"$f":"IF(手順２・３・４《待遇の入力》!$Q$11=2,手順２・３・４《待遇の入力》!$J$11,\"\")","v":""},null,null,null,null,null,null,0,null,0]
["C05",{"$f":"IF(手順２・３・４《待遇の入力》!$Q$12=2,手順２・３・４《待遇の入力》!$J$12,\"\")","v":""},null,null,null,null,null,null,0,null,0]
["C06",{"$f":"IF(手順２・３・４《待遇の入力》!$Q$13=2,手順２・３・４《待遇の入力》!$J$13,\"\")","v":""},null,null,null,null,null,null,0,null,0]
["C07",{"$f":"IF(手順２・３・４《待遇の入力》!$Q$14=2,手順２・３・４《待遇の入力》!$J$14,\"\")","v":""},null,null,null,null,null,null,0,null,0]
["C08",{"$f":"IF(手順２・３・４《待遇の入力》!$Q$15=2,手順２・３・４《待遇の入力》!$J$15,\"\")","v":""},null,null,null,null,null,null,0,null,0]
["C09",{"$f":"IF(手順２・３・４《待遇の入力》!$Q$16=2,手順２・３・４《待遇の入力》!$J$16,\"\")","v":""},null,null,null,null,null,null,0,null,0]
["C10",{"$f":"IF(手順２・３・４《待遇の入力》!$Q$17=2,手順２・３・４《待遇の入力》!$J$17,\"\")","v":""},null,null,null,null,null,null,0,null,0]
["C11",{"$f":"IF(手順２・３・４《待遇の入力》!$Q$18=2,手順２・３・４《待遇の入力》!$J$18,\"\")","v":""},null,null,null,null,null,null,0,null,0]
["C12",{"$f":"IF(手順２・３・４《待遇の入力》!$Q$19=2,手順２・３・４《待遇の入力》!$J$19,\"\")","v":""},null,null,null,null,null,null,0,null,0]
["C13",{"$f":"IF(手順２・３・４《待遇の入力》!$Q$20=2,手順２・３・４《待遇の入力》!$J$20,\"\")","v":""},null,null,null,null,null,null,0,null,0]
["C14",{"$f":"IF(手順２・３・４《待遇の入力》!$Q$21=2,手順２・３・４《待遇の入力》!$J$21,\"\")","v":""},null,null,null,null,null,null,0,null,0]
["C15",{"$f":"IF(手順２・３・４《待遇の入力》!$Q$22=2,手順２・３・４《待遇の入力》!$J$22,\"\")","v":""},null,null,null,null,null,null,{"$f":"IF($B$56<>\"\",1,0)","v":0},null,0]
["基本給\n待遇の違いの有無",null,"基本給決定要素",null,"正社員の重要度","短時間労働者・有期雇用労働者\nの重要度","違いを設けている理由","対応方針検討",{"$f":"COUNTIF($I$59:$I$68,1)","v":5},null,0]
[null,null,null,null,null,null,null,null,null,null,{"$f":"IF($A58<>$J58,1,0)","v":0}]
[null,null,"D01",{"$f":"IF(手順２・３・４《待遇の入力》!$R$8=2,手順２・３・４《待遇の入力》!$M$8,\"\")","v":"職務の遂行能力"},null,null,null,null,{"$f":"IF($I60=1,1,IF($D59<>\"\",1,0))","v":1}]
[null,null,"D02",{"$f":"IF(手順２・３・４《待遇の入力》!$R$9=2,手順２・３・４《待遇の入力》!$M$9,\"\")","v":"業務の内容や責任の重さ"},null,null,null,null,1]
[null,null,"D03",{"$f":"IF(手順２・３・４《待遇の入力》!$R$10=2,手順２・３・４《待遇の入力》!$M$10,\"\")","v":"仕事の成果や業績"},null,null,null,null,1]
[null,null,"D04",{"$f":"IF(手順２・３・４《待遇の入力》!$R$11=2,手順２・３・４《待遇の入力》!$M$11,\"\")","v":"年齢や勤続年数"},null,null,null,null,1]
[null,null,"D05",{"$f":"IF(手順２・３・４《待遇の入力》!$R$12=2,手順２・３・４《待遇の入力》!$M$12,\"\")","v":"市場での賃金相場"},null,null,null,null,1]
[null,null,"D06",{"$f":"IF(手順２・３・４《待遇の入力》!$R$13=2,手順２・３・４《待遇の入力》!$M$13,\"\")","v":""},null,null,null,null,0]
[null,null,"D07",{"$f":"IF(手順２・３・４《待遇の入力》!$R$14=2,手順２・３・４《待遇の入力》!$M$14,\"\")","v":""},null,null,null,null,0]
[null,null,"D08",{"$f":"IF(手順２・３・４《待遇の入力》!$R$15=2,手順２・３・４《待遇の入力》!$M$15,\"\")","v":""},null,null,null,null,0]
[null,null,"D09",{"$f":"IF(手順２・３・４《待遇の入力》!$R$16=2,手順２・３・４《待遇の入力》!$M$16,\"\")","v":""},null,null,null,null,0]
[null,null,"D10",{"$f":"IF(手順２・３・４《待遇の入力》!$R$17=2,手順２・３・４《待遇の入力》!$M$17,\"\")","v":""},null,null,null,null,{"$f":"IF($D$68<>\"\",1,0)","v":0}]
[]
[]
["次の社員タイプへ"]

{"sheet":"印刷シート","index":19,"n_rows":393,"n_cols":139,"rows_kept":393,"cut":false,"hidden":false,"merged":[[0,0,1,1],[81,20,81,23],[81,24,81,25],[81,26,81,27],[81,30,81,31],[132,20,132,21],[132,22,132,23],[47,0,47,1],[34,0,35,1],[19,0,22,1],[15,0,18,1],[3,0,6,1],[7,0,14,0],[7,1,14,1],[90,5,90,7],[91,5,91,7],[92,4,92,7],[102,12,102,17],[103,13,103,16],[104,13,104,16],[105,13,105,16],[106,12,106,17],[107,12,107,15],[108,13,108,15],[109,13,109,15],[110,13,110,15],[93,4,93,7],[90,8,91,8],[90,9,90,10],[91,9,91,10],[92,8,92,10],[93,8,93,10],[111,13,111,15],[112,13,112,15],[113,13,113,15],[114,13,114,15],[115,13,115,15],[116,13,116,15],[117,13,117,15],[118,12,118,17],[119,12,119,14],[145,20,145,21],[142,20,142,21],[141,20,141,21],[144,20,144,21],[143,20,143,21],[150,20,150,21],[150,22,150,23],[150,24,150,25],[150,26,150,27],[150,28,150,29],[150,30,150,31],[149,30,149,31],[149,20,149,21],[149,22,149,23],[149,24,149,25],[149,26,149,27],[149,28,149,29],[148,20,148,21],[148,22,148,23],[148,24,148,25],[148,26,148,27],[148,28,148,29],[148,30,148,31],[137,20,137,21],[5,3,5,10],[136,20,136,21],[133,20,133,23],[5,12,5,17],[140,20,140,21],[139,20,139,21],[138,20,138,21],[135,20,135,21],[134,20,134,23],[155,28,155,29],[155,30,155,31],[154,20,154,21],[154,22,154,23],[154,24,154,25],[154,26,154,27],[154,28,154,29],[154,30,154,31],[155,20,155,21],[155,22,155,23],[155,24,155,25],[155,26,155,27],[153,20,153,21],[153,22,153,23],[153,24,153,25],[153,26,153,27],[153,28,153,29],[153,30,153,31],[152,20,152,21],[152,22,152,23],[152,24,152,25],[152,26,152,27],[152,28,152,29],[152,30,152,31],[151,20,151,21],[151,22,151,23],[151,24,151,25],[151,26,151,27],[151,28,151,29],[151,30,151,31],[147,20,147,21],[147,22,147,23],[146,20,146,21],[146,22,146,23],[161,20,161,21],[161,22,161,23],[161,24,161,25],[161,26,161,27],[161,28,161,29],[161,30,161,31],[160,20,160,21],[160,22,160,23],[160,24,160,25],[160,26,160,27],[160,28,160,29],[160,30,160,31],[159,20,159,21],[159,22,159,23],[159,24,159,25],[159,26,159,27],[159,28,159,29],[159,30,159,31],[158,20,158,21],[158,22,158,23],[158,24,158,25],[158,26,158,27],[158,28,158,29],[158,30,158,31],[157,20,157,21],[157,22,157,23],[157,24,157,25],[157,26,157,27],[157,28,157,29],[157,30,157,31],[156,20,156,21],[156,22,156,23],[156,24,156,25],[156,26,156,27],[156,28,156,29],[156,30,156,31],[167,20,167,21],[167,22,167,23],[167,24,167,25],[167,26,167,27],[167,28,167,29],[167,30,167,31],[166,20,166,21],[166,22,166,23],[166,24,166,25],[166,26,166,27],[166,28,166,29],[166,30,166,31],[165,28,165,29],[165,30,165,31],[164,20,164,21],[164,22,164,23],[164,24,164,25],[164,26,164,27],[164,28,164,29],[164,30,164,31],[165,20,165,21],[165,22,165,23],[165,24,165,25],[165,26,165,27],[163,20,163,21],[163,22,163,23],[163,24,163,25],[163,26,163,27],[163,28,163,29],[163,30,163,31],[162,20,162,21],[162,22,162,23],[162,24,162,25],[162,26,162,27],[162,28,162,29],[162,30,162,31],[173,20,173,21],[173,22,173,23],[173,24,173,25],[173,26,173,27],[173,28,173,29],[173,30,173,31],[172,20,172,21],[172,22,172,23],[172,24,172,25],[172,26,172,27],[172,28,172,29],[172,30,172,31],[171,20,171,21],[171,22,171,23],[171,24,171,25],[171,26,171,27],[171,28,171,29],[171,30,171,31],[170,20,170,21],[170,22,170,23],[170,24,170,25],[170,26,170,27],[170,28,170,29],[170,30,170,31],[169,20,169,21],[169,22,169,23],[169,24,169,25],[169,26,169,27],[169,28,169,29],[169,30,169,31],[168,20,168,21],[168,22,168,23],[168,24,168,25],[168,26,168,27],[168,28,168,29],[168,30,168,31],[180,20,180,21],[180,22,180,23],[180,24,180,25],[180,26,180,27],[180,28,180,29],[180,30,180,31],[179,20,179,21],[179,22,179,23],[179,24,179,25],[179,26,179,27],[179,28,179,29],[179,30,179,31],[178,20,178,21],[178,22,178,23],[178,24,178,25],[178,26,178,27],[178,28,178,29],[178,30,178,31],[177,20,177,21],[177,22,177,23],[177,24,177,25],[177,26,177,27],[177,28,177,29],[177,30,177,31],[176,20,176,21],[176,22,176,23],[176,24,176,25],[176,26,176,27],[176,28,176,29],[176,30,176,31],[175,28,175,29],[175,30,175,31],[174,20,174,21],[174,22,174,23],[174,24,174,25],[174,26,174,27],[174,28,174,29],[174,30,174,31],[175,20,175,21],[175,22,175,23],[175,24,175,25],[175,26,175,27],[188,20,188,21],[188,22,188,23],[188,24,188,25],[188,26,188,27],[188,28,188,29],[188,30,188,31],[187,20,187,21],[187,22,187,23],[187,24,187,25],[187,26,187,27],[187,28,187,29],[187,30,187,31],[186,20,186,21],[186,22,186,23],[186,24,186,25],[186,26,186,27],[186,28,186,29],[186,30,186,31],[182,20,182,21],[182,22,182,23],[182,24,182,25],[182,26,182,27],[182,28,182,29],[182,30,182,31],[181,20,181,21],[181,22,181,23],[181,24,181,25],[181,26,181,27],[181,28,181,29],[181,30,181,31],[185,20,185,21],[185,22,185,23],[185,24,185,25],[185,26,185,27],[185,28,185,29],[185,30,185,31],[184,20,184,21],[184,22,184,23],[184,24,184,25],[184,26,184,27],[184,28,184,29],[184,30,184,31],[183,20,183,21],[183,22,183,23],[183,24,183,25],[183,26,183,27],[183,28,183,29],[183,30,183,31],[194,20,194,21],[194,22,194,23],[194,24,194,25],[194,26,194,27],[194,28,194,29],[194,30,194,31],[193,20,193,21],[193,22,193,23],[193,24,193,25],[193,26,193,27],[193,28,193,29],[193,30,193,31],[192,20,192,21],[192,22,192,23],[192,24,192,25],[192,26,192,27],[192,28,192,29],[192,30,192,31],[191,20,191,21],[191,22,191,23],[191,24,191,25],[191,26,191,27],[191,28,191,29],[191,30,191,31],[190,28,190,29],[190,30,190,31],[189,20,189,21],[189,22,189,23],[189,24,189,25],[189,26,189,27],[189,28,189,29],[189,30,189,31],[190,20,190,21],[190,22,190,23],[190,24,190,25],[190,26,190,27],[200,28,200,29],[200,30,200,31],[199,20,199,21],[199,22,199,23],[199,24,199,25],[199,26,199,27],[199,28,199,29],[199,30,199,31],[200,20,200,21],[200,22,200,23],[200,24,200,25],[200,26,200,27],[198,20,198,21],[198,22,198,23],[198,24,198,25],[198,26,198,27],[198,28,198,29],[198,30,198,31],[197,20,197,21],[197,22,197,23],[197,24,197,25],[197,26,197,27],[197,28,197,29],[197,30,197,31],[196,20,196,21],[196,22,196,23],[196,24,196,25],[196,26,196,27],[196,28,196,29],[196,30,196,31],[195,20,195,21],[195,22,195,23],[195,24,195,25],[195,26,195,27],[195,28,195,29],[195,30,195,31],[206,20,206,21],[206,22,206,23],[206,24,206,25],[206,26,206,27],[206,28,206,29],[206,30,206,31],[205,20,205,21],[205,22,205,23],[205,24,205,25],[205,26,205,27],[205,28,205,29],[205,30,205,31],[204,20,204,21],[204,22,204,23],[204,24,204,25],[204,26,204,27],[204,28,204,29],[204,30,204,31],[203,20,203,21],[203,22,203,23],[203,24,203,25],[203,26,203,27],[203,28,203,29],[203,30,203,31],[202,20,202,21],[202,22,202,23],[202,24,202,25],[202,26,202,27],[202,28,202,29],[202,30,202,31],[201,20,201,21],[201,22,201,23],[201,24,201,25],[201,26,201,27],[201,28,201,29],[201,30,201,31],[212,20,212,21],[212,22,212,23],[212,24,212,25],[212,26,212,27],[212,28,212,29],[212,30,212,31],[211,20,211,21],[211,22,211,23],[211,24,211,25],[211,26,211,27],[211,28,211,29],[211,30,211,31],[210,28,210,29],[210,30,210,31],[209,20,209,21],[209,22,209,23],[209,24,209,25],[209,26,209,27],[209,28,209,29],[209,30,209,31],[210,20,210,21],[210,22,210,23],[210,24,210,25],[210,26,210,27],[208,20,208,21],[208,22,208,23],[208,24,208,25],[208,26,208,27],[208,28,208,29],[208,30,208,31],[207,20,207,21],[207,22,207,23],[207,24,207,25],[207,26,207,27],[207,28,207,29],[207,30,207,31],[218,20,218,21],[218,22,218,23],[218,24,218,25],[218,26,218,27],[218,28,218,29],[218,30,218,31],[217,20,217,21],[217,22,217,23],[217,24,217,25],[217,26,217,27],[217,28,217,29],[217,30,217,31],[216,20,216,21],[216,22,216,23],[216,24,216,25],[216,26,216,27],[216,28,216,29],[216,30,216,31],[215,20,215,21],[215,22,215,23],[215,24,215,25],[215,26,215,27],[215,28,215,29],[215,30,215,31],[214,20,214,21],[214,22,214,23],[214,24,214,25],[214,26,214,27],[214,28,214,29],[214,30,214,31],[213,20,213,21],[213,22,213,23],[213,24,213,25],[213,26,213,27],[213,28,213,29],[213,30,213,31],[224,20,224,21],[224,22,224,23],[224,24,224,25],[224,26,224,27],[224,28,224,29],[224,30,224,31],[223,20,223,21],[223,22,223,23],[223,24,223,25],[223,26,223,27],[223,28,223,29],[223,30,223,31],[222,20,222,21],[222,22,222,23],[222,24,222,25],[222,26,222,27],[222,28,222,29],[222,30,222,31],[221,20,221,21],[221,22,221,23],[221,24,221,25],[221,26,221,27],[221,28,221,29],[221,30,221,31],[220,28,220,29],[220,30,220,31],[219,20,219,21],[219,22,219,23],[219,24,219,25],[219,26,219,27],[219,28,219,29],[219,30,219,31],[220,20,220,21],[220,22,220,23],[220,24,220,25],[220,26,220,27],[230,28,230,29],[230,30,230,31],[229,20,229,21],[229,22,229,23],[229,24,229,25],[229,26,229,27],[229,28,229,29],[229,30,229,31],[230,20,230,21],[230,22,230,23],[230,24,230,25],[230,26,230,27],[228,20,228,21],[228,22,228,23],[228,24,228,25],[228,26,228,27],[228,28,228,29],[228,30,228,31],[227,20,227,21],[227,22,227,23],[227,24,227,25],[227,26,227,27],[227,28,227,29],[227,30,227,31],[226,20,226,21],[226,22,226,23],[226,24,226,25],[226,26,226,27],[226,28,226,29],[226,30,226,31],[225,20,225,21],[225,22,225,23],[225,24,225,25],[225,26,225,27],[225,28,225,29],[225,30,225,31],[236,20,236,21],[236,22,236,23],[236,24,236,25],[236,26,236,27],[236,28,236,29],[236,30,236,31],[235,20,235,21],[235,22,235,23],[235,24,235,25],[235,26,235,27],[235,28,235,29],[235,30,235,31],[234,20,234,21],[234,22,234,23],[234,24,234,25],[234,26,234,27],[234,28,234,29],[234,30,234,31],[233,20,233,21],[233,22,233,23],[233,24,233,25],[233,26,233,27],[233,28,233,29],[233,30,233,31],[232,20,232,21],[232,22,232,23],[232,24,232,25],[232,26,232,27],[232,28,232,29],[232,30,232,31],[231,20,231,21],[231,22,231,23],[231,24,231,25],[231,26,231,27],[231,28,231,29],[231,30,231,31],[242,20,242,21],[242,22,242,23],[242,24,242,25],[242,26,242,27],[242,28,242,29],[242,30,242,31],[241,20,241,21],[241,22,241,23],[241,24,241,25],[241,26,241,27],[241,28,241,29],[241,30,241,31],[240,28,240,29],[240,30,240,31],[239,20,239,21],[239,22,239,23],[239,24,239,25],[239,26,239,27],[239,28,239,29],[239,30,239,31],[240,20,240,21],[240,22,240,23],[240,24,240,25],[240,26,240,27],[238,20,238,21],[238,22,238,23],[238,24,238,25],[238,26,238,27],[238,28,238,29],[238,30,238,31],[237,20,237,21],[237,22,237,23],[237,24,237,25],[237,26,237,27],[237,28,237,29],[237,30,237,31],[248,20,248,21],[248,22,248,23],[248,24,248,25],[248,26,248,27],[248,28,248,29],[248,30,248,31],[247,20,247,21],[247,22,247,23],[247,24,247,25],[247,26,247,27],[247,28,247,29],[247,30,247,31],[246,20,246,21],[246,22,246,23],[246,24,246,25],[246,26,246,27],[246,28,246,29],[246,30,246,31],[245,20,245,21],[245,22,245,23],[245,24,245,25],[245,26,245,27],[245,28,245,29],[245,30,245,31],[244,20,244,21],[244,22,244,23],[244,24,244,25],[244,26,244,27],[244,28,244,29],[244,30,244,31],[243,20,243,21],[243,22,243,23],[243,24,243,25],[243,26,243,27],[243,28,243,29],[243,30,243,31],[254,20,254,21],[254,22,254,23],[254,24,254,25],[254,26,254,27],[254,28,254,29],[254,30,254,31],[253,20,253,21],[253,22,253,23],[253,24,253,25],[253,26,253,27],[253,28,253,29],[253,30,253,31],[252,20,252,21],[252,22,252,23],[252,24,252,25],[252,26,252,27],[252,28,252,29],[252,30,252,31],[251,20,251,21],[251,22,251,23],[251,24,251,25],[251,26,251,27],[251,28,251,29],[251,30,251,31],[250,28,250,29],[250,30,250,31],[249,20,249,21],[249,22,249,23],[249,24,249,25],[249,26,249,27],[249,28,249,29],[249,30,249,31],[250,20,250,21],[250,22,250,23],[250,24,250,25],[250,26,250,27],[260,28,260,29],[260,30,260,31],[259,20,259,21],[259,22,259,23],[259,24,259,25],[259,26,259,27],[259,28,259,29],[259,30,259,31],[260,20,260,21],[260,22,260,23],[260,24,260,25],[260,26,260,27],[258,20,258,21],[258,22,258,23],[258,24,258,25],[258,26,258,27],[258,28,258,29],[258,30,258,31],[257,20,257,21],[257,22,257,23],[257,24,257,25],[257,26,257,27],[257,28,257,29],[257,30,257,31],[256,20,256,21],[256,22,256,23],[256,24,256,25],[256,26,256,27],[256,28,256,29],[256,30,256,31],[255,20,255,21],[255,22,255,23],[255,24,255,25],[255,26,255,27],[255,28,255,29],[255,30,255,31],[266,20,266,21],[266,22,266,23],[266,24,266,25],[266,26,266,27],[266,28,266,29],[266,30,266,31],[265,20,265,21],[265,22,265,23],[265,24,265,25],[265,26,265,27],[265,28,265,29],[265,30,265,31],[264,20,264,21],[264,22,264,23],[264,24,264,25],[264,26,264,27],[264,28,264,29],[264,30,264,31],[263,20,263,21],[263,22,263,23],[263,24,263,25],[263,26,263,27],[263,28,263,29],[263,30,263,31],[262,20,262,21],[262,22,262,23],[262,24,262,25],[262,26,262,27],[262,28,262,29],[262,30,262,31],[261,20,261,21],[261,22,261,23],[261,24,261,25],[261,26,261,27],[261,28,261,29],[261,30,261,31],[272,20,272,21],[272,22,272,23],[272,24,272,25],[272,26,272,27],[272,28,272,29],[272,30,272,31],[271,20,271,21],[271,22,271,23],[271,24,271,25],[271,26,271,27],[271,28,271,29],[271,30,271,31],[270,28,270,29],[270,30,270,31],[269,20,269,21],[269,22,269,23],[269,24,269,25],[269,26,269,27],[269,28,269,29],[269,30,269,31],[270,20,270,21],[270,22,270,23],[270,24,270,25],[270,26,270,27],[268,20,268,21],[268,22,268,23],[268,24,268,25],[268,26,268,27],[268,28,268,29],[268,30,268,31],[267,20,267,21],[267,22,267,23],[267,24,267,25],[267,26,267,27],[267,28,267,29],[267,30,267,31],[278,20,278,21],[278,22,278,23],[278,24,278,25],[278,26,278,27],[278,28,278,29],[278,30,278,31],[277,20,277,21],[277,22,277,23],[277,24,277,25],[277,26,277,27],[277,28,277,29],[277,30,277,31],[276,20,276,21],[276,22,276,23],[276,24,276,25],[276,26,276,27],[276,28,276,29],[276,30,276,31],[275,20,275,21],[275,22,275,23],[275,24,275,25],[275,26,275,27],[275,28,275,29],[275,30,275,31],[274,20,274,21],[274,22,274,23],[274,24,274,25],[274,26,274,27],[274,28,274,29],[274,30,274,31],[273,20,273,21],[273,22,273,23],[273,24,273,25],[273,26,273,27],[273,28,273,29],[273,30,273,31],[285,20,285,21],[285,22,285,23],[285,24,285,25],[285,26,285,27],[285,28,285,29],[285,30,285,31],[284,20,284,21],[284,22,284,23],[284,24,284,25],[284,26,284,27],[284,28,284,29],[284,30,284,31],[283,20,283,21],[283,22,283,23],[283,24,283,25],[283,26,283,27],[283,28,283,29],[283,30,283,31],[282,20,282,21],[282,22,282,23],[282,24,282,25],[282,26,282,27],[282,28,282,29],[282,30,282,31],[281,20,281,21],[281,22,281,23],[281,24,281,25],[281,26,281,27],[281,28,281,29],[281,30,281,31],[280,28,280,29],[280,30,280,31],[279,20,279,21],[279,22,279,23],[279,24,279,25],[279,26,279,27],[279,28,279,29],[279,30,279,31],[280,20,280,21],[280,22,280,23],[280,24,280,25],[280,26,280,27],[293,20,293,21],[293,22,293,23],[293,24,293,25],[293,26,293,27],[293,28,293,29],[293,30,293,31],[292,20,292,21],[292,22,292,23],[292,24,292,25],[292,26,292,27],[292,28,292,29],[292,30,292,31],[291,20,291,21],[291,22,291,23],[291,24,291,25],[291,26,291,27],[291,28,291,29],[291,30,291,31],[287,20,287,21],[287,22,287,23],[287,24,287,25],[287,26,287,27],[287,28,287,29],[287,30,287,31],[286,20,286,21],[286,22,286,23],[286,24,286,25],[286,26,286,27],[286,28,286,29],[286,30,286,31],[290,20,290,21],[290,22,290,23],[290,24,290,25],[290,26,290,27],[290,28,290,29],[290,30,290,31],[289,20,289,21],[289,22,289,23],[289,24,289,25],[289,26,289,27],[289,28,289,29],[289,30,289,31],[288,20,288,21],[288,22,288,23],[288,24,288,25],[288,26,288,27],[288,28,288,29],[288,30,288,31],[299,20,299,21],[299,22,299,23],[299,24,299,25],[299,26,299,27],[299,28,299,29],[299,30,299,31],[298,20,298,21],[298,22,298,23],[298,24,298,25],[298,26,298,27],[298,28,298,29],[298,30,298,31],[297,20,297,21],[297,22,297,23],[297,24,297,25],[297,26,297,27],[297,28,297,29],[297,30,297,31],[296,20,296,21],[296,22,296,23],[296,24,296,25],[296,26,296,27],[296,28,296,29],[296,30,296,31],[295,28,295,29],[295,30,295,31],[294,20,294,21],[294,22,294,23],[294,24,294,25],[294,26,294,27],[294,28,294,29],[294,30,294,31],[295,20,295,21],[295,22,295,23],[295,24,295,25],[295,26,295,27],[305,28,305,29],[305,30,305,31],[304,20,304,21],[304,22,304,23],[304,24,304,25],[304,26,304,27],[304,28,304,29],[304,30,304,31],[305,20,305,21],[305,22,305,23],[305,24,305,25],[305,26,305,27],[303,20,303,21],[303,22,303,23],[303,24,303,25],[303,26,303,27],[303,28,303,29],[303,30,303,31],[302,20,302,21],[302,22,302,23],[302,24,302,25],[302,26,302,27],[302,28,302,29],[302,30,302,31],[301,20,301,21],[301,22,301,23],[301,24,301,25],[301,26,301,27]],"merged_total":14981,"flags":["merged_cut"]}
["「パートタイム・有期雇用労働法」対応のための取組手順書",null,1]
[]
["←戻る","印刷シート"," "]
["※ この「印刷シート」は、表示に少し時間がかかります。\n    下のステータス欄に、「印刷の準備ができました。」と表示されるまでお待ちください。",null,"正社員、短時間労働者・有期雇用労働者とも同じ基準で支給している"]
[null,null,"正社員と、短時間労働者・有期雇用労働者の支給基準は異なる"]
[null,null," "]
[null,null,"正社員、短時間労働者・有期雇用労働者とも同じ基準で支給している"]
["ステータス","印刷の準備ができました。","正社員には支給するが、短時間労働者・有期雇用労働者には支給しない。または、正社員、短時間労働者・有期雇用労働者とも支給するが、支給基準が異なる"]
[null,null,"正社員、短時間労働者・有期雇用労働者とも支給なし"]
[null,null," "]
[null,null,"正社員、短時間労働者・有期雇用労働者とも同じ基準で利用できる"]
[null,null,"正社員と、短時間労働者・有期雇用労働者は利用の基準、範囲が異なる"]
[null,null,"施設がない"]
[null,null," "]
[null,null,"正社員、短時間労働者・有期雇用労働者とも同じ基準で措置している"]
["これまで入力した、全社員タイプの全待遇に関する点検結果が一度に印刷できます。\nただし、正社員と短時間労働者・有期雇用労働者との間の待遇の違いの有無について、\n「【３】正社員、短時間労働者・有期雇用労働者とも、該当する待遇がない」を選択した待遇については、印刷されません。\nこの「印刷シート」を開いた状態で、Excelのメニューバーの「ファイル」の「印刷」を選択して、印刷を行ってください。",null,"正社員には措置があるが、短時間労働者・有期雇用労働者には措置していない。または、正社員、短時間労働者・有期雇用労働者とも措置しているが、措置の基準が異なる"]
[null,null,"正社員、短時間労働者・有期雇用労働者とも措置していない"]
[]
[]
["※ 印刷レイアウトは、A4縦の余白「標準」で調整されています。\n    ただし、使用されているパソコンやプリンターによって、レイアウトが崩れる可能性があります。\n   レイアウトの確認は、印刷のプレビューで、3ページ目を表示して確認してください。"]
[null,null," "]
[]
[]
[]
[]
[]
[]
[]
[]
[]
[]
[]
[]
[]
["プレビュー画面でレイアウト崩れが発生していた場合は、上下の余白を変更して、上図の正しいレイアウトになるよう調整してください。\n動作検証時の印刷レイアウトの設定は次のようになっています。\nなお、パソコンやプリンターの違いによって、下記と全く同じ設定にしてもレイアウトが崩れる場合があります。上下の余白を変更して\n調整してください。"]
[]
[]
[]
[]
[]
[]
[]
[]
[]
[]
[]
[]
["終わり"]
[]
[]
[]
[]
[]
[]
[]
[]
[]
[]
[]
[]
[]
[]
[]
[]
[]
[]
[]
[]
[]
[]
[]
[]
[]
[]
[]
[]
[]
[]
[]
[]
[]
[null,null,null,null,null,null,null,null,null,null,null,null,null,null,null,null,null,null,null,null,{"$f":"'手順２・３・４社員タイプ#01'!$C$17&\"\"","v":""},null,null,null,null,null,null,null,null,null,null,null,{"$f":"'手順２・３・４社員タイプ#02'!$C$17&\"\"","v":""},null,null,null,null,null,null,null,null,null,null,null,{"$f":"'手順２・３・４社員タイプ#03'!$C$17&\"\"","v":""},null,null,null,null,null,null,null,null,null,null,null,{"$f":"'手順２・３・４社員タイプ#04'!$C$17&\"\"","v":""},null,null,null,null,null,null,null,null,null,null,null,{"$f":"'手順２・３・４社員タイプ#05'!$C$17&\"\"","v":""},null,null,null,null,null,null,null,null,null,null,null,{"$f":"'手順２・３・４社員タイプ#06'!$C$17&\"\"","v":""},null,null,null,null,null,null,null,null,null,null,null,{"$f":"'手順２・３・４社員タイプ#07'!$C$17&\"\"","v":""},null,null,null,null,null,null,null,null,null,null,null,{"$f":"'手順２・３・４社員タイプ#08'!$C$17&\"\"","v":""},null,null,null,null,null,null,null,null,null,null,null,{"$f":"'手順２・３・４社員タイプ#09'!$C$17&\"\"","v":""},null,null,null,null,null,null,null,null,null,null,null,{"$f":"'手順２・３・４社員タイプ#10'!$C$17&\"\"","v":""}]
[]
[null,null,null,"事業主のみなさまへ"]
[null,null,null,"2020年4月1日施行"]
[null,null,null,"（中小企業は2021年4月1日から適用）"]
[null,null,null,"パートタイム・有期雇用労働法"]
[null,null,null,"対応のための取組手順書"]
[null,null,null,"自社の状況が法の内容に沿ったものかをあらかじめ把握するため、\nこの「点検ツール」に沿って社内の制度の点検を行いましょう。\n点検の結果、制度の改定の必要があれば、法の施行までに改定の準備を進めましょう。"]
[null,null,null,"事業主に求められることとは・・・？"]
[null,null,null,null,1,"同じ企業で働く正社員と短時間労働者・",null,null,2,"事業主は、短時間労働者・有期雇用労働者"]
[null,null,null,null,null,"有期雇用労働者との間で、基本給や賞与、",null,null,null,"から、正社員との待遇の違いやその理由"]
[null,null,null,null,"手当などあらゆる待遇について、不合理な差を",null,null,null,"などについて説明を求められた場合は、説明を"]
[null,null,null,null,"設けることが禁止されます。",null,null,null,"しなければなりません。"]
[]
[null,null,null,null,null,null,"点検日",{"$f":"IF(点検の流れ!D20=\"\",\"\",点検の流れ!D20)","v":""}]
[null,null,null,null,null,null,"会社名",{"$f":"IF(点検の流れ!D21=\"\",\"\",点検の流れ!D21)","v":""}]
[null,null,null,null,null,null,"部署名",{"$f":"IF(点検の流れ!D22=\"\",\"\",点検の流れ!D22)","v":""}]
[null,null,null,null,null,null,"点検実施者",{"$f":"IF(点検の流れ!D23=\"\",\"\",点検の流れ!D23)","v":""}]
[null,null,null,null,null,null,"備考",{"$f":"IF(点検の流れ!D24=\"\",\"\",点検の流れ!D24)","v":""}]
[]
[]
[null,null,null,null,null,null,null,null,null,null,null,null,"■ 短時間労働者・有期雇用労働者の有無確認"]
[null,null,null,null,null,null,null,null,null,null,null,null,"A","正社員と比較して１週間当たりの所定労働時間が短い労働者\n（短時間労働者）を雇用している（雇用契約期間は有期・無期を問わない）",null,null,null,{"$f":"IF('手順1-1'!D6=\"\",\"\",'手順1-1'!D6)","v":""}]
[null,null,null,null,null,null,null,null,null,null,null,null,"B","雇用契約期間の定めのある労働者（有期雇用労働者）を雇用している",null,null,null,{"$f":"IF('手順1-1'!D8=\"\",\"\",'手順1-1'!D8)","v":""}]
[null,null,null,null,null,null,null,null,null,null,null,null,"C","短時間労働者も有期雇用労働者も雇用していない",null,null,null,{"$f":"IF('手順1-1'!D9=\"\",\"\",'手順1-1'!D9)","v":""}]
[null,null,null,null,null,null,null,null,null,null,null,null,"■ 短時間労働者・有期雇用労働者について社員タイプごとに区分"]
[null,null,null,null,null,null,null,null,null,null,null,null,"社内の短時間労働者や有期雇用労働者を社員タイプごとに区分",null,null,null,"短時間か\nフルタイムか","有期か\n無期か"]
[null,null,null,null,null,null,null,null,null,null,null,null,{"$f":"IF('手順1-2'!A9=\"\",\"\",'手順1-2'!A9)","v":""},{"$f":"IF($M109=\"\",\"\",'手順1-2'!B9)","v":""},null,"",{"$f":"IF($M109=\"\",\"\",'手順1-2'!C9)","v":""},{"$f":"IF($M109=\"\",\"\",'手順1-2'!D9)","v":""}]
[null,null,null,null,null,null,null,null,null,null,null,null,{"$f":"IF('手順1-2'!A10=\"\",\"\",'手順1-2'!A10)","v":""},{"$f":"IF($M110=\"\",\"\",'手順1-2'!B10)","v":""},null,"",{"$f":"IF($M110=\"\",\"\",'手順1-2'!C10)","v":""},{"$f":"IF($M110=\"\",\"\",'手順1-2'!D10)","v":""}]
[null,null,null,null,null,null,null,null,null,null,null,null,{"$f":"IF('手順1-2'!A11=\"\",\"\",'手順1-2'!A11)","v":""},{"$f":"IF($M111=\"\",\"\",'手順1-2'!B11)","v":""},null,"",{"$f":"IF($M111=\"\",\"\",'手順1-2'!C11)","v":""},{"$f":"IF($M111=\"\",\"\",'手順1-2'!D11)","v":""}]
[null,null,null,null,null,null,null,null,null,null,null,null,{"$f":"IF('手順1-2'!A12=\"\",\"\",'手順1-2'!A12)","v":""},{"$f":"IF($M112=\"\",\"\",'手順1-2'!B12)","v":""},null,"",{"$f":"IF($M112=\"\",\"\",'手順1-2'!C12)","v":""},{"$f":"IF($M112=\"\",\"\",'手順1-2'!D12)","v":""}]
[null,null,null,null,null,null,null,null,null,null,null,null,{"$f":"IF('手順1-2'!A13=\"\",\"\",'手順1-2'!A13)","v":""},{"$f":"IF($M113=\"\",\"\",'手順1-2'!B13)","v":""},null,"",{"$f":"IF($M113=\"\",\"\",'手順1-2'!C13)","v":""},{"$f":"IF($M113=\"\",\"\",'手順1-2'!D13)","v":""}]
[null,null,null,null,null,null,null,null,null,null,null,null,{"$f":"IF('手順1-2'!A14=\"\",\"\",'手順1-2'!A14)","v":""},{"$f":"IF($M114=\"\",\"\",'手順1-2'!B14)","v":""},null,"",{"$f":"IF($M114=\"\",\"\",'手順1-2'!C14)","v":""},{"$f":"IF($M114=\"\",\"\",'手順1-2'!D14)","v":""}]
[null,null,null,null,null,null,null,null,null,null,null,null,{"$f":"IF('手順1-2'!A15=\"\",\"\",'手順1-2'!A15)","v":""},{"$f":"IF($M115=\"\",\"\",'手順1-2'!B15)","v":""},null,"",{"$f":"IF($M115=\"\",\"\",'手順1-2'!C15)","v":""},{"$f":"IF($M115=\"\",\"\",'手順1-2'!D15)","v":""}]
[null,null,null,null,null,null,null,null,null,null,null,null,{"$f":"IF('手順1-2'!A16=\"\",\"\",'手順1-2'!A16)","v":""},{"$f":"IF($M116=\"\",\"\",'手順1-2'!B16)","v":""},null,"",{"$f":"IF($M116=\"\",\"\",'手順1-2'!C16)","v":""},{"$f":"IF($M116=\"\",\"\",'手順1-2'!D16)","v":""}]
[null,null,null,null,null,null,null,null,null,null,null,null,{"$f":"IF('手順1-2'!A17=\"\",\"\",'手順1-2'!A17)","v":""},{"$f":"IF($M117=\"\",\"\",'手順1-2'!B17)","v":""},null,"",{"$f":"IF($M117=\"\",\"\",'手順1-2'!C17)","v":""},{"$f":"IF($M117=\"\",\"\",'手順1-2'!D17)","v":""}]
[null,null,null,null,null,null,null,null,null,null,null,null,{"$f":"IF('手順1-2'!A18=\"\",\"\",'手順1-2'!A18)","v":""},{"$f":"IF($M118=\"\",\"\",'手順1-2'!B18)","v":""},null,"",{"$f":"IF($M118=\"\",\"\",'手順1-2'!C18)","v":""},{"$f":"IF($M118=\"\",\"\",'手順1-2'!D18)","v":""}]
[null,null,null,null,null,null,null,null,null,null,null,null,"■ 社員タイプごとの人数の洗い出し"]
[null,null,null,null,null,null,null,null,null,null,null,null,"待遇が同じ社員タイプごとに区分",null,null,"短時間か\nフルタイムか","有期か\n無期か","人数\nまたは概数"]
[null,null,null,null,null,null,null,null,null,null,null,null,{"$f":"IF('手順1-3'!H10=1,'手順1-3'!A10,\"\")","v":""},{"$f":"IF($M121=\"\",\"\",'手順1-3'!C10)","v":""},{"$f":"IF(OR($M121=\"\",'手順1-3'!D10=\"\"),\"\",'手順1-3'!D10)","v":""},{"$f":"IF($M121=\"\",\"\",'手順1-3'!E10)","v":""},{"$f":"IF($M121=\"\",\"\",'手順1-3'!F10)","v":""},{"$f":"IF($M121=\"\",\"\",'手順1-3'!G10)","v":""}]
[null,null,null,null,null,null,null,null,null,null,null,null,{"$f":"IF('手順1-3'!H11=1,'手順1-3'!A11,\"\")","v":""},{"$f":"IF($M122=\"\",\"\",'手順1-3'!C11)","v":""},{"$f":"IF(OR($M122=\"\",'手順1-3'!D11=\"\"),\"\",'手順1-3'!D11)","v":""},{"$f":"IF($M122=\"\",\"\",'手順1-3'!E11)","v":""},{"$f":"IF($M122=\"\",\"\",'手順1-3'!F11)","v":""},{"$f":"IF($M122=\"\",\"\",'手順1-3'!G11)","v":""}]
[null,null,null,null,null,null,null,null,null,null,null,null,{"$f":"IF('手順1-3'!H12=1,'手順1-3'!A12,\"\")","v":""},{"$f":"IF($M123=\"\",\"\",'手順1-3'!C12)","v":""},{"$f":"IF(OR($M123=\"\",'手順1-3'!D12=\"\"),\"\",'手順1-3'!D12)","v":""},{"$f":"IF($M123=\"\",\"\",'手順1-3'!E12)","v":""},{"$f":"IF($M123=\"\",\"\",'手順1-3'!F12)","v":""},{"$f":"IF($M123=\"\",\"\",'手順1-3'!G12)","v":""}]
[null,null,null,null,null,null,null,null,null,null,null,null,{"$f":"IF('手順1-3'!H13=1,'手順1-3'!A13,\"\")","v":""},{"$f":"IF($M124=\"\",\"\",'手順1-3'!C13)","v":""},{"$f":"IF(OR($M124=\"\",'手順1-3'!D13=\"\"),\"\",'手順1-3'!D13)","v":""},{"$f":"IF($M124=\"\",\"\",'手順1-3'!E13)","v":""},{"$f":"IF($M124=\"\",\"\",'手順1-3'!F13)","v":""},{"$f":"IF($M124=\"\",\"\",'手順1-3'!G13)","v":""}]
[null,null,null,null,null,null,null,null,null,null,null,null,{"$f":"IF('手順1-3'!H14=1,'手順1-3'!A14,\"\")","v":""},{"$f":"IF($M125=\"\",\"\",'手順1-3'!C14)","v":""},{"$f":"IF(OR($M125=\"\",'手順1-3'!D14=\"\"),\"\",'手順1-3'!D14)","v":""},{"$f":"IF($M125=\"\",\"\",'手順1-3'!E14)","v":""},{"$f":"IF($M125=\"\",\"\",'手順1-3'!F14)","v":""},{"$f":"IF($M125=\"\",\"\",'手順1-3'!G14)","v":""}]
[null,null,null,null,null,null,null,null,null,null,null,null,{"$f":"IF('手順1-3'!H15=1,'手順1-3'!A15,\"\")","v":""},{"$f":"IF($M126=\"\",\"\",'手順1-3'!C15)","v":""},{"$f":"IF(OR($M126=\"\",'手順1-3'!D15=\"\"),\"\",'手順1-3'!D15)","v":""},{"$f":"IF($M126=\"\",\"\",'手順1-3'!E15)","v":""},{"$f":"IF($M126=\"\",\"\",'手順1-3'!F15)","v":""},{"$f":"IF($M126=\"\",\"\",'手順1-3'!G15)","v":""}]
[null,null,null,null,null,null,null,null,null,null,null,null,{"$f":"IF('手順1-3'!H16=1,'手順1-3'!A16,\"\")","v":""},{"$f":"IF($M127=\"\",\"\",'手順1-3'!C16)","v":""},{"$f":"IF(OR($M127=\"\",'手順1-3'!D16=\"\"),\"\",'手順1-3'!D16)","v":""},{"$f":"IF($M127=\"\",\"\",'手順1-3'!E16)","v":""},{"$f":"IF($M127=\"\",\"\",'手順1-3'!F16)","v":""},{"$f":"IF($M127=\"\",\"\",'手順1-3'!G16)","v":""}]
[null,null,null,null,null,null,null,null,null,null,null,null,{"$f":"IF('手順1-3'!H17=1,'手順1-3'!A17,\"\")","v":""},{"$f":"IF($M128=\"\",\"\",'手順1-3'!C17)","v":""},{"$f":"IF(OR($M128=\"\",'手順1-3'!D17=\"\"),\"\",'手順1-3'!D17)","v":""},{"$f":"IF($M128=\"\",\"\",'手順1-3'!E17)","v":""},{"$f":"IF($M128=\"\",\"\",'手順1-3'!F17)","v":""},{"$f":"IF($M128=\"\",\"\",'手順1-3'!G17)","v":""}]
[null,null,null,null,null,null,null,null,null,null,null,null,{"$f":"IF('手順1-3'!H18=1,'手順1-3'!A18,\"\")","v":""},{"$f":"IF($M129=\"\",\"\",'手順1-3'!C18)","v":""},{"$f":"IF(OR($M129=\"\",'手順1-3'!D18=\"\"),\"\",'手順1-3'!D18)","v":""},{"$f":"IF($M129=\"\",\"\",'手順1-3'!E18)","v":""},{"$f":"IF($M129=\"\",\"\",'手順1-3'!F18)","v":""},{"$f":"IF($M129=\"\",\"\",'手順1-3'!G18)","v":""}]
[null,null,null,null,null,null,null,null,null,null,null,null,{"$f":"IF('手順1-3'!H19=1,'手順1-3'!A19,\"\")","v":""},{"$f":"IF($M130=\"\",\"\",'手順1-3'!C19)","v":""},{"$f":"IF(OR($M130=\"\",'手順1-3'!D19=\"\"),\"\",'手順1-3'!D19)","v":""},{"$f":"IF($M130=\"\",\"\",'手順1-3'!E19)","v":""},{"$f":"IF($M130=\"\",\"\",'手順1-3'!F19)","v":""},{"$f":"IF($M130=\"\",\"\",'手順1-3'!G19)","v":""}]
[]
[]
[null,null,null,null,null,null,null,null,null,null,null,null,null,null,null,null,null,null,null,null,"基本給",null,{"$f":"'手順２・３・４社員タイプ#01'!$A$58","v":0},null,{"$f":"'手順２・３・４社員タイプ#01'!$I$57","v":5},null,null,null,null,null,{"$f":"COUNTIF($AE$149:$AE$393,\"<1000\")+148","v":169},null,"基本給",null,{"$f":"'手順２・３・４社員タイプ#02'!$A$58","v":0},null,{"$f":"'手順２・３・４社員タイプ#02'!$I$57","v":5},null,null,null,null,null,{"$f":"COUNTIF($AQ$149:$AQ$393,\"<1000\")+148","v":169},null,"基本給",null,{"$f":"'手順２・３・４社員タイプ#03'!$A$58","v":0},null,{"$f":"'手順２・３・４社員タイプ#03'!$I$57","v":5},null,null,null,null,null,{"$f":"COUNTIF($BC$149:$BC$393,\"<1000\")+148","v":169},null,"基本給",null,{"$f":"'手順２・３・４社員タイプ#04'!$A$58","v":0},null,{"$f":"'手順２・３・４社員タイプ#04'!$I$57","v":5},null,null,null,null,null,{"$f":"COUNTIF($BO$149:$BO$393,\"<1000\")+148","v":169},null,"基本給",null,{"$f":"'手順２・３・４社員タイプ#05'!$A$58","v":0},null,{"$f":"'手順２・３・４社員タイプ#05'!$I$57","v":5},null,null,null,null,null,{"$f":"COUNTIF($CA$149:$CA$393,\"<1000\")+148","v":169},null,"基本給",null,{"$f":"'手順２・３・４社員タイプ#06'!$A$58","v":0},null,{"$f":"'手順２・３・４社員タイプ#06'!$I$57","v":5},null,null,null,null,null,{"$f":"COUNTIF($CM$149:$CM$393,\"<1000\")+148","v":169},null,"基本給",null,{"$f":"'手順２・３・４社員タイプ#07'!$A$58","v":0},null,{"$f":"'手順２・３・４社員タイプ#07'!$I$57","v":5},null,null,null,null,null,{"$f":"COUNTIF($CY$149:$CY$393,\"<1000\")+148","v":169},null,"基本給",null,{"$f":"'手順２・３・４社員タイプ#08'!$A$58","v":0},null,{"$f":"'手順２・３・４社員タイプ#08'!$I$57","v":5},null,null,null,null,null,{"$f":"COUNTIF($DK$149:$DK$393,\"<1000\")+148","v":169},null,"基本給",null,{"$f":"'手順２・３・４社員タイプ#09'!$A$58","v":0},null,{"$f":"'手順２・３・４社員タイプ#09'!$I$57","v":5},null,null,null,null,null,{"$f":"COUNTIF($DW$149:$DW$393,\"<1000\")+148","v":169},null,"基本給",null,{"$f":"'手順２・３・４社員タイプ#10'!$A$58","v":0},null,{"$f":"'手順２・３・４社員タイプ#10'!$I$57","v":5},null,null,null,null,null,{"$f":"COUNTIF($EI$149:$EI$393,\"<1000\")+148","v":169}]
[null,null,null,null,null,null,null,null,null,null,null,null,null,null,null,null,null,null,null,null,"待遇の違いの有無",null,null,null,null,null,null,null,null,null,null,null,"待遇の違いの有無",null,null,null,null,null,null,null,null,null,null,null,"待遇の違いの有無",null,null,null,null,null,null,null,null,null,null,null,"待遇の違いの有無",null,null,null,null,null,null,null,null,null,null,null,"待遇の違いの有無",null,null,null,null,null,null,null,null,null,null,null,"待遇の違いの有無",null,null,null,null,null,null,null,null,null,null,null,"待遇の違いの有無",null,null,null,null,null,null,null,null,null,null,null,"待遇の違いの有無",null,null,null,null,null,null,null,null,null,null,null,"待遇の違いの有無",null,null,null,null,null,null,null,null,null,null,null,"待遇の違いの有無"]
[null,null,null,null,null,null,null,null,null,null,null,null,null,null,null,null,null,null,null,null,{"$f":"OFFSET($C$3,$W$133,0)","v":" "},null,null,null,null,null,null,null,null,null,null,null,{"$f":"OFFSET($C$3,$AI$133,0)","v":" "},null,null,null,null,null,null,null,null,null,null,null,{"$f":"OFFSET($C$3,$AU$133,0)","v":" "},null,null,null,null,null,null,null,null,null,null,null,{"$f":"OFFSET($C$3,$BG$133,0)","v":" "},null,null,null,null,null,null,null,null,null,null,null,{"$f":"OFFSET($C$3,$BS$133,0)","v":" "},null,null,null,null,null,null,null,null,null,null,null,{"$f":"OFFSET($C$3,$CE$133,0)","v":" "},null,null,null,null,null,null,null,null,null,null,null,{"$f":"OFFSET($C$3,$CQ$133,0)","v":" "},null,null,null,null,null,null,null,null,null,null,null,{"$f":"OFFSET($C$3,$DC$133,0)","v":" "},null,null,null,null,null,null,null,null,null,null,null,{"$f":"OFFSET($C$3,$DO$133,0)","v":" "},null,null,null,null,null,null,null,null,null,null,null,{"$f":"OFFSET($C$3,$EA$133,0)","v":" "}]
[null,null,null,null,null,null,null,null,null,null,null,null,null,null,null,null,null,null,null,null,"基本給の決定要素",null,"正社員","短時間労働者・有期雇用労働者",null,null,null,null,null,null,null,null,"基本給の決定要素",null,"正社員","短時間労働者・有期雇用労働者",null,null,null,null,null,null,null,null,"基本給の決定要素",null,"正社員","短時間労働者・有期雇用労働者",null,null,null,null,null,null,null,null,"基本給の決定要素",null,"正社員","短時間労働者・有期雇用労働者",null,null,null,null,null,null,null,null,"基本給の決定要素",null,"正社員","短時間労働者・有期雇用労働者",null,null,null,null,null,null,null,null,"基本給の決定要素",null,"正社員","短時間労働者・有期雇用労働者",null,null,null,null,null,null,null,null,"基本給の決定要素",null,"正社員","短時間労働者・有期雇用労働者",null,null,null,null,null,null,null,null,"基本給の決定要素",null,"正社員","短時間労働者・有期雇用労働者",null,null,null,null,null,null,null,null,"基本給の決定要素",null,"正社員","短時間労働者・有期雇用労働者",null,null,null,null,null,null,null,null,"基本給の決定要素",null,"正社員","短時間労働者・有期雇用労働者"]
[null,null,null,null,null,null,null,null,null,null,null,null,null,null,null,null,null,null,null,null,{"$f":"'手順２・３・４社員タイプ#01'!$D$59&\"\"","v":"職務の遂行能力"},null,{"$f":"IF($W$133<>2, \"\",'手順２・３・４社員タイプ#01'!$E$59&\"\")","v":""},{"$f":"IF($W$133<>2, \"\",'手順２・３・４社員タイプ#01'!$F$59&\"\")","v":""},null,{"$f":"$W$133","v":0},null,{"$f":"$W$133","v":0},0,null,null,null,{"$f":"'手順２・３・４社員タイプ#02'!$D$59&\"\"","v":"職務の遂行能力"},null,{"$f":"IF($AI$133<>2, \"\",'手順２・３・４社員タイプ#02'!$E$59&\"\")","v":""},{"$f":"IF($AI$133<>2, \"\",'手順２・３・４社員タイプ#02'!$F$59&\"\")","v":""},null,{"$f":"$AI$133","v":0},null,{"$f":"$AI$133","v":0},0,null,null,null,{"$f":"'手順２・３・４社員タイプ#03'!$D$59&\"\"","v":"職務の遂行能力"},null,{"$f":"IF($AU$133<>2, \"\",'手順２・３・４社員タイプ#03'!$E$59&\"\")","v":""},{"$f":"IF($AU$133<>2, \"\",'手順２・３・４社員タイプ#03'!$F$59&\"\")","v":""},null,{"$f":"$AU$133","v":0},null,{"$f":"$AU$133","v":0},0,null,null,null,{"$f":"'手順２・３・４社員タイプ#04'!$D$59&\"\"","v":"職務の遂行能力"},null,{"$f":"IF($BG$133<>2, \"\",'手順２・３・４社員タイプ#04'!$E$59&\"\")","v":""},{"$f":"IF($BG$133<>2, \"\",'手順２・３・４社員タイプ#04'!$F$59&\"\")","v":""},null,{"$f":"$BG$133","v":0},null,{"$f":"$BG$133","v":0},0,null,null,null,{"$f":"'手順２・３・４社員タイプ#05'!$D$59&\"\"","v":"職務の遂行能力"},null,{"$f":"IF($BS$133<>2, \"\",'手順２・３・４社員タイプ#05'!$E$59&\"\")","v":""},{"$f":"IF($BS$133<>2, \"\",'手順２・３・４社員タイプ#05'!$F$59&\"\")","v":""},null,{"$f":"$BS$133","v":0},null,{"$f":"$BS$133","v":0},0,null,null,null,{"$f":"'手順２・３・４社員タイプ#06'!$D$59&\"\"","v":"職務の遂行能力"},null,{"$f":"IF($CE$133<>2, \"\",'手順２・３・４社員タイプ#06'!$E$59&\"\")","v":""},{"$f":"IF($CE$133<>2, \"\",'手順２・３・４社員タイプ#06'!$F$59&\"\")","v":""},null,{"$f":"$CE$133","v":0},null,{"$f":"$CE$133","v":0},0,null,null,null,{"$f":"'手順２・３・４社員タイプ#07'!$D$59&\"\"","v":"職務の遂行能力"},null,{"$f":"IF($CQ$133<>2, \"\",'手順２・３・４社員タイプ#07'!$E$59&\"\")","v":""},{"$f":"IF($CQ$133<>2, \"\",'手順２・３・４社員タイプ#07'!$F$59&\"\")","v":""},null,{"$f":"$CQ$133","v":0},null,{"$f":"$CQ$133","v":0},0,null,null,null,{"$f":"'手順２・３・４社員タイプ#08'!$D$59&\"\"","v":"職務の遂行能力"},null,{"$f":"IF($DC$133<>2, \"\",'手順２・３・４社員タイプ#08'!$E$59&\"\")","v":""},{"$f":"IF($DC$133<>2, \"\",'手順２・３・４社員タイプ#08'!$F$59&\"\")","v":""},null,{"$f":"$DC$133","v":0},null,{"$f":"$DC$133","v":0},0,null,null,null,{"$f":"'手順２・３・４社員タイプ#09'!$D$59&\"\"","v":"職務の遂行能力"},null,{"$f":"IF($DO$133<>2, \"\",'手順２・３・４社員タイプ#09'!$E$59&\"\")","v":""},{"$f":"IF($DO$133<>2, \"\",'手順２・３・４社員タイプ#09'!$F$59&\"\")","v":""},null,{"$f":"$DO$133","v":0},null,{"$f":"$DO$133","v":0},0,null,null,null,{"$f":"'手順２・３・４社員タイプ#10'!$D$59&\"\"","v":"職務の遂行能力"},null,{"$f":"IF($EA$133<>2, \"\",'手順２・３・４社員タイプ#10'!$E$59&\"\")","v":""},{"$f":"IF($EA$133<>2, \"\",'手順２・３・４社員タイプ#10'!$F$59&\"\")","v":""},null,{"$f":"$EA$133","v":0},null,{"$f":"$EA$133","v":0},0]
[null,null,null,null,null,null,null,null,null,null,null,null,null,null,null,null,null,null,null,null,{"$f":"'手順２・３・４社員タイプ#01'!$D$60&\"\"","v":"業務の内容や責任の重さ"},null,{"$f":"IF($W$133<>2, \"\",'手順２・３・４社員タイプ#01'!$E$60&\"\")","v":""},{"$f":"IF($W$133<>2, \"\",'手順２・３・４社員タイプ#01'!$F$60&\"\")","v":""},null,0,null,0,0,null,null,null,{"$f":"'手順２・３・４社員タイプ#02'!$D$60&\"\"","v":"業務の内容や責任の重さ"},null,{"$f":"IF($AI$133<>2, \"\",'手順２・３・４社員タイプ#02'!$E$60&\"\")","v":""},{"$f":"IF($AI$133<>2, \"\",'手順２・３・４社員タイプ#02'!$F$60&\"\")","v":""},null,0,null,0,0,null,null,null,{"$f":"'手順２・３・４社員タイプ#03'!$D$60&\"\"","v":"業務の内容や責任の重さ"},null,{"$f":"IF($AU$133<>2, \"\",'手順２・３・４社員タイプ#03'!$E$60&\"\")","v":""},{"$f":"IF($AU$133<>2, \"\",'手順２・３・４社員タイプ#03'!$F$60&\"\")","v":""},null,0,null,0,0,null,null,null,{"$f":"'手順２・３・４社員タイプ#04'!$D$60&\"\"","v":"業務の内容や責任の重さ"},null,{"$f":"IF($BG$133<>2, \"\",'手順２・３・４社員タイプ#04'!$E$60&\"\")","v":""},{"$f":"IF($BG$133<>2, \"\",'手順２・３・４社員タイプ#04'!$F$60&\"\")","v":""},null,0,null,0,0,null,null,null,{"$f":"'手順２・３・４社員タイプ#05'!$D$60&\"\"","v":"業務の内容や責任の重さ"},null,{"$f":"IF($BS$133<>2, \"\",'手順２・３・４社員タイプ#05'!$E$60&\"\")","v":""},{"$f":"IF($BS$133<>2, \"\",'手順２・３・４社員タイプ#05'!$F$60&\"\")","v":""},null,0,null,0,0,null,null,null,{"$f":"'手順２・３・４社員タイプ#06'!$D$60&\"\"","v":"業務の内容や責任の重さ"},null,{"$f":"IF($CE$133<>2, \"\",'手順２・３・４社員タイプ#06'!$E$60&\"\")","v":""},{"$f":"IF($CE$133<>2, \"\",'手順２・３・４社員タイプ#06'!$F$60&\"\")","v":""},null,0,null,0,0,null,null,null,{"$f":"'手順２・３・４社員タイプ#07'!$D$60&\"\"","v":"業務の内容や責任の重さ"},null,{"$f":"IF($CQ$133<>2, \"\",'手順２・３・４社員タイプ#07'!$E$60&\"\")","v":""},{"$f":"IF($CQ$133<>2, \"\",'手順２・３・４社員タイプ#07'!$F$60&\"\")","v":""},null,0,null,0,0,null,null,null,{"$f":"'手順２・３・４社員タイプ#08'!$D$60&\"\"","v":"業務の内容や責任の重さ"},null,{"$f":"IF($DC$133<>2, \"\",'手順２・３・４社員タイプ#08'!$E$60&\"\")","v":""},{"$f":"IF($DC$133<>2, \"\",'手順２・３・４社員タイプ#08'!$F$60&\"\")","v":""},null,0,null,0,0,null,null,null,{"$f":"'手順２・３・４社員タイプ#09'!$D$60&\"\"","v":"業務の内容や責任の重さ"},null,{"$f":"IF($DO$133<>2, \"\",'手順２・３・４社員タイプ#09'!$E$60&\"\")","v":""},{"$f":"IF($DO$133<>2, \"\",'手順２・３・４社員タイプ#09'!$F$60&\"\")","v":""},null,0,null,0,0,null,null,null,{"$f":"'手順２・３・４社員タイプ#10'!$D$60&\"\"","v":"業務の内容や責任の重さ"},null,{"$f":"IF($EA$133<>2, \"\",'手順２・３・４社員タイプ#10'!$E$60&\"\")","v":""},{"$f":"IF($EA$133<>2, \"\",'手順２・３・４社員タイプ#10'!$F$60&\"\")","v":""},null,0,null,0,0]
[null,null,null,null,null,null,null,null,null,null,null,null,null,null,null,null,null,null,null,null,{"$f":"'手順２・３・４社員タイプ#01'!$D$61&\"\"","v":"仕事の成果や業績"},null,{"$f":"IF($W$133<>2, \"\",'手順２・３・４社員タイプ#01'!$E$61&\"\")","v":""},{"$f":"IF($W$133<>2, \"\",'手順２・３・４社員タイプ#01'!$F$61&\"\")","v":""},null,0,null,0,0,null,null,null,{"$f":"'手順２・３・４社員タイプ#02'!$D$61&\"\"","v":"仕事の成果や業績"},null,{"$f":"IF($AI$133<>2, \"\",'手順２・３・４社員タイプ#02'!$E$61&\"\")","v":""},{"$f":"IF($AI$133<>2, \"\",'手順２・３・４社員タイプ#02'!$F$61&\"\")","v":""},null,0,null,0,0,null,null,null,{"$f":"'手順２・３・４社員タイプ#03'!$D$61&\"\"","v":"仕事の成果や業績"},null,{"$f":"IF($AU$133<>2, \"\",'手順２・３・４社員タイプ#03'!$E$61&\"\")","v":""},{"$f":"IF($AU$133<>2, \"\",'手順２・３・４社員タイプ#03'!$F$61&\"\")","v":""},null,0,null,0,0,null,null,null,{"$f":"'手順２・３・４社員タイプ#04'!$D$61&\"\"","v":"仕事の成果や業績"},null,{"$f":"IF($BG$133<>2, \"\",'手順２・３・４社員タイプ#04'!$E$61&\"\")","v":""},{"$f":"IF($BG$133<>2, \"\",'手順２・３・４社員タイプ#04'!$F$61&\"\")","v":""},null,0,null,0,0,null,null,null,{"$f":"'手順２・３・４社員タイプ#05'!$D$61&\"\"","v":"仕事の成果や業績"},null,{"$f":"IF($BS$133<>2, \"\",'手順２・３・４社員タイプ#05'!$E$61&\"\")","v":""},{"$f":"IF($BS$133<>2, \"\",'手順２・３・４社員タイプ#05'!$F$61&\"\")","v":""},null,0,null,0,0,null,null,null,{"$f":"'手順２・３・４社員タイプ#06'!$D$61&\"\"","v":"仕事の成果や業績"},null,{"$f":"IF($CE$133<>2, \"\",'手順２・３・４社員タイプ#06'!$E$61&\"\")","v":""},{"$f":"IF($CE$133<>2, \"\",'手順２・３・４社員タイプ#06'!$F$61&\"\")","v":""},null,0,null,0,0,null,null,null,{"$f":"'手順２・３・４社員タイプ#07'!$D$61&\"\"","v":"仕事の成果や業績"},null,{"$f":"IF($CQ$133<>2, \"\",'手順２・３・４社員タイプ#07'!$E$61&\"\")","v":""},{"$f":"IF($CQ$133<>2, \"\",'手順２・３・４社員タイプ#07'!$F$61&\"\")","v":""},null,0,null,0,0,null,null,null,{"$f":"'手順２・３・４社員タイプ#08'!$D$61&\"\"","v":"仕事の成果や業績"},null,{"$f":"IF($DC$133<>2, \"\",'手順２・３・４社員タイプ#08'!$E$61&\"\")","v":""},{"$f":"IF($DC$133<>2, \"\",'手順２・３・４社員タイプ#08'!$F$61&\"\")","v":""},null,0,null,0,0,null,null,null,{"$f":"'手順２・３・４社員タイプ#09'!$D$61&\"\"","v":"仕事の成果や業績"},null,{"$f":"IF($DO$133<>2, \"\",'手順２・３・４社員タイプ#09'!$E$61&\"\")","v":""},{"$f":"IF($DO$133<>2, \"\",'手順２・３・４社員タイプ#09'!$F$61&\"\")","v":""},null,0,null,0,0,null,null,null,{"$f":"'手順２・３・４社員タイプ#10'!$D$61&\"\"","v":"仕事の成果や業績"},null,{"$f":"IF($EA$133<>2, \"\",'手順２・３・４社員タイプ#10'!$E$61&\"\")","v":""},{"$f":"IF($EA$133<>2, \"\",'手順２・３・４社員タイプ#10'!$F$61&\"\")","v":""},null,0,null,0,0]
[null,null,null,null,null,null,null,null,null,null,null,null,null,null,null,null,null,null,null,null,{"$f":"'手順２・３・４社員タイプ#01'!$D$62&\"\"","v":"年齢や勤続年数"},null,{"$f":"IF($W$133<>2, \"\",'手順２・３・４社員タイプ#01'!$E$62&\"\")","v":""},{"$f":"IF($W$133<>2, \"\",'手順２・３・４社員タイプ#01'!$F$62&\"\")","v":""},null,0,null,0,0,null,null,null,{"$f":"'手順２・３・４社員タイプ#02'!$D$62&\"\"","v":"年齢や勤続年数"},null,{"$f":"IF($AI$133<>2, \"\",'手順２・３・４社員タイプ#02'!$E$62&\"\")","v":""},{"$f":"IF($AI$133<>2, \"\",'手順２・３・４社員タイプ#02'!$F$62&\"\")","v":""},null,0,null,0,0,null,null,null,{"$f":"'手順２・３・４社員タイプ#03'!$D$62&\"\"","v":"年齢や勤続年数"},null,{"$f":"IF($AU$133<>2, \"\",'手順２・３・４社員タイプ#03'!$E$62&\"\")","v":""},{"$f":"IF($AU$133<>2, \"\",'手順２・３・４社員タイプ#03'!$F$62&\"\")","v":""},null,0,null,0,0,null,null,null,{"$f":"'手順２・３・４社員タイプ#04'!$D$62&\"\"","v":"年齢や勤続年数"},null,{"$f":"IF($BG$133<>2, \"\",'手順２・３・４社員タイプ#04'!$E$62&\"\")","v":""},{"$f":"IF($BG$133<>2, \"\",'手順２・３・４社員タイプ#04'!$F$62&\"\")","v":""},null,0,null,0,0,null,null,null,{"$f":"'手順２・３・４社員タイプ#05'!$D$62&\"\"","v":"年齢や勤続年数"},null,{"$f":"IF($BS$133<>2, \"\",'手順２・３・４社員タイプ#05'!$E$62&\"\")","v":""},{"$f":"IF($BS$133<>2, \"\",'手順２・３・４社員タイプ#05'!$F$62&\"\")","v":""},null,0,null,0,0,null,null,null,{"$f":"'手順２・３・４社員タイプ#06'!$D$62&\"\"","v":"年齢や勤続年数"},null,{"$f":"IF($CE$133<>2, \"\",'手順２・３・４社員タイプ#06'!$E$62&\"\")","v":""},{"$f":"IF($CE$133<>2, \"\",'手順２・３・４社員タイプ#06'!$F$62&\"\")","v":""},null,0,null,0,0,null,null,null,{"$f":"'手順２・３・４社員タイプ#07'!$D$62&\"\"","v":"年齢や勤続年数"},null,{"$f":"IF($CQ$133<>2, \"\",'手順２・３・４社員タイプ#07'!$E$62&\"\")","v":""},{"$f":"IF($CQ$133<>2, \"\",'手順２・３・４社員タイプ#07'!$F$62&\"\")","v":""},null,0,null,0,0,null,null,null,{"$f":"'手順２・３・４社員タイプ#08'!$D$62&\"\"","v":"年齢や勤続年数"},null,{"$f":"IF($DC$133<>2, \"\",'手順２・３・４社員タイプ#08'!$E$62&\"\")","v":""},{"$f":"IF($DC$133<>2, \"\",'手順２・３・４社員タイプ#08'!$F$62&\"\")","v":""},null,0,null,0,0,null,null,null,{"$f":"'手順２・３・４社員タイプ#09'!$D$62&\"\"","v":"年齢や勤続年数"},null,{"$f":"IF($DO$133<>2, \"\",'手順２・３・４社員タイプ#09'!$E$62&\"\")","v":""},{"$f":"IF($DO$133<>2, \"\",'手順２・３・４社員タイプ#09'!$F$62&\"\")","v":""},null,0,null,0,0,null,null,null,{"$f":"'手順２・３・４社員タイプ#10'!$D$62&\"\"","v":"年齢や勤続年数"},null,{"$f":"IF($EA$133<>2, \"\",'手順２・３・４社員タイプ#10'!$E$62&\"\")","v":""},{"$f":"IF($EA$133<>2, \"\",'手順２・３・４社員タイプ#10'!$F$62&\"\")","v":""},null,0,null,0,0]
[null,null,null,null,null,null,null,null,null,null,null,null,null,null,null,null,null,null,null,null,{"$f":"'手順２・３・４社員タイプ#01'!$D$63&\"\"","v":"市場での賃金相場"},null,{"$f":"IF($W$133<>2, \"\",'手順２・３・４社員タイプ#01'!$E$63&\"\")","v":""},{"$f":"IF($W$133<>2, \"\",'手順２・３・４社員タイプ#01'!$F$63&\"\")","v":""},null,0,null,0,0,null,null,null,{"$f":"'手順２・３・４社員タイプ#02'!$D$63&\"\"","v":"市場での賃金相場"},null,{"$f":"IF($AI$133<>2, \"\",'手順２・３・４社員タイプ#02'!$E$63&\"\")","v":""},{"$f":"IF($AI$133<>2, \"\",'手順２・３・４社員タイプ#02'!$F$63&\"\")","v":""},null,0,null,0,0,null,null,null,{"$f":"'手順２・３・４社員タイプ#03'!$D$63&\"\"","v":"市場での賃金相場"},null,{"$f":"IF($AU$133<>2, \"\",'手順２・３・４社員タイプ#03'!$E$63&\"\")","v":""},{"$f":"IF($AU$133<>2, \"\",'手順２・３・４社員タイプ#03'!$F$63&\"\")","v":""},null,0,null,0,0,null,null,null,{"$f":"'手順２・３・４社員タイプ#04'!$D$63&\"\"","v":"市場での賃金相場"},null,{"$f":"IF($BG$133<>2, \"\",'手順２・３・４社員タイプ#04'!$E$63&\"\")","v":""},{"$f":"IF($BG$133<>2, \"\",'手順２・３・４社員タイプ#04'!$F$63&\"\")","v":""},null,0,null,0,0,null,null,null,{"$f":"'手順２・３・４社員タイプ#05'!$D$63&\"\"","v":"市場での賃金相場"},null,{"$f":"IF($BS$133<>2, \"\",'手順２・３・４社員タイプ#05'!$E$63&\"\")","v":""},{"$f":"IF($BS$133<>2, \"\",'手順２・３・４社員タイプ#05'!$F$63&\"\")","v":""},null,0,null,0,0,null,null,null,{"$f":"'手順２・３・４社員タイプ#06'!$D$63&\"\"","v":"市場での賃金相場"},null,{"$f":"IF($CE$133<>2, \"\",'手順２・３・４社員タイプ#06'!$E$63&\"\")","v":""},{"$f":"IF($CE$133<>2, \"\",'手順２・３・４社員タイプ#06'!$F$63&\"\")","v":""},null,0,null,0,0,null,null,null,{"$f":"'手順２・３・４社員タイプ#07'!$D$63&\"\"","v":"市場での賃金相場"},null,{"$f":"IF($CQ$133<>2, \"\",'手順２・３・４社員タイプ#07'!$E$63&\"\")","v":""},{"$f":"IF($CQ$133<>2, \"\",'手順２・３・４社員タイプ#07'!$F$63&\"\")","v":""},null,0,null,0,0,null,null,null,{"$f":"'手順２・３・４社員タイプ#08'!$D$63&\"\"","v":"市場での賃金相場"},null,{"$f":"IF($DC$133<>2, \"\",'手順２・３・４社員タイプ#08'!$E$63&\"\")","v":""},{"$f":"IF($DC$133<>2, \"\",'手順２・３・４社員タイプ#08'!$F$63&\"\")","v":""},null,0,null,0,0,null,null,null,{"$f":"'手順２・３・４社員タイプ#09'!$D$63&\"\"","v":"市場での賃金相場"},null,{"$f":"IF($DO$133<>2, \"\",'手順２・３・４社員タイプ#09'!$E$63&\"\")","v":""},{"$f":"IF($DO$133<>2, \"\",'手順２・３・４社員タイプ#09'!$F$63&\"\")","v":""},null,0,null,0,0,null,null,null,{"$f":"'手順２・３・４社員タイプ#10'!$D$63&\"\"","v":"市場での賃金相場"},null,{"$f":"IF($EA$133<>2, \"\",'手順２・３・４社員タイプ#10'!$E$63&\"\")","v":""},{"$f":"IF($EA$133<>2, \"\",'手順２・３・４社員タイプ#10'!$F$63&\"\")","v":""},null,0,null,0,0]
[null,null,null,null,null,null,null,null,null,null,null,null,null,null,null,null,null,null,null,null,{"$f":"'手順２・３・４社員タイプ#01'!$D$64&\"\"","v":""},null,{"$f":"IF($W$133<>2, \"\",'手順２・３・４社員タイプ#01'!$E$64&\"\")","v":""},{"$f":"IF($W$133<>2, \"\",'手順２・３・４社員タイプ#01'!$F$64&\"\")","v":""},null,0,null,0,0,null,null,null,{"$f":"'手順２・３・４社員タイプ#02'!$D$64&\"\"","v":""},null,{"$f":"IF($AI$133<>2, \"\",'手順２・３・４社員タイプ#02'!$E$64&\"\")","v":""},{"$f":"IF($AI$133<>2, \"\",'手順２・３・４社員タイプ#02'!$F$64&\"\")","v":""},null,0,null,0,0,null,null,null,{"$f":"'手順２・３・４社員タイプ#03'!$D$64&\"\"","v":""},null,{"$f":"IF($AU$133<>2, \"\",'手順２・３・４社員タイプ#03'!$E$64&\"\")","v":""},{"$f":"IF($AU$133<>2, \"\",'手順２・３・４社員タイプ#03'!$F$64&\"\")","v":""},null,0,null,0,0,null,null,null,{"$f":"'手順２・３・４社員タイプ#04'!$D$64&\"\"","v":""},null,{"$f":"IF($BG$133<>2, \"\",'手順２・３・４社員タイプ#04'!$E$64&\"\")","v":""},{"$f":"IF($BG$133<>2, \"\",'手順２・３・４社員タイプ#04'!$F$64&\"\")","v":""},null,0,null,0,0,null,null,null,{"$f":"'手順２・３・４社員タイプ#05'!$D$64&\"\"","v":""},null,{"$f":"IF($BS$133<>2, \"\",'手順２・３・４社員タイプ#05'!$E$64&\"\")","v":""},{"$f":"IF($BS$133<>2, \"\",'手順２・３・４社員タイプ#05'!$F$64&\"\")","v":""},null,0,null,0,0,null,null,null,{"$f":"'手順２・３・４社員タイプ#06'!$D$64&\"\"","v":""},null,{"$f":"IF($CE$133<>2, \"\",'手順２・３・４社員タイプ#06'!$E$64&\"\")","v":""},{"$f":"IF($CE$133<>2, \"\",'手順２・３・４社員タイプ#06'!$F$64&\"\")","v":""},null,0,null,0,0,null,null,null,{"$f":"'手順２・３・４社員タイプ#07'!$D$64&\"\"","v":""},null,{"$f":"IF($CQ$133<>2, \"\",'手順２・３・４社員タイプ#07'!$E$64&\"\")","v":""},{"$f":"IF($CQ$133<>2, \"\",'手順２・３・４社員タイプ#07'!$F$64&\"\")","v":""},null,0,null,0,0,null,null,null,{"$f":"'手順２・３・４社員タイプ#08'!$D$64&\"\"","v":""},null,{"$f":"IF($DC$133<>2, \"\",'手順２・３・４社員タイプ#08'!$E$64&\"\")","v":""},{"$f":"IF($DC$133<>2, \"\",'手順２・３・４社員タイプ#08'!$F$64&\"\")","v":""},null,0,null,0,0,null,null,null,{"$f":"'手順２・３・４社員タイプ#09'!$D$64&\"\"","v":""},null,{"$f":"IF($DO$133<>2, \"\",'手順２・３・４社員タイプ#09'!$E$64&\"\")","v":""},{"$f":"IF($DO$133<>2, \"\",'手順２・３・４社員タイプ#09'!$F$64&\"\")","v":""},null,0,null,0,0,null,null,null,{"$f":"'手順２・３・４社員タイプ#10'!$D$64&\"\"","v":""},null,{"$f":"IF($EA$133<>2, \"\",'手順２・３・４社員タイプ#10'!$E$64&\"\")","v":""},{"$f":"IF($EA$133<>2, \"\",'手順２・３・４社員タイプ#10'!$F$64&\"\")","v":""},null,0,null,0,0]
[null,null,null,null,null,null,null,null,null,null,null,null,null,null,null,null,null,null,null,null,{"$f":"'手順２・３・４社員タイプ#01'!$D$65&\"\"","v":""},null,{"$f":"IF($W$133<>2, \"\",'手順２・３・４社員タイプ#01'!$E$65&\"\")","v":""},{"$f":"IF($W$133<>2, \"\",'手順２・３・４社員タイプ#01'!$F$65&\"\")","v":""},null,0,null,0,0,null,null,null,{"$f":"'手順２・３・４社員タイプ#02'!$D$65&\"\"","v":""},null,{"$f":"IF($AI$133<>2, \"\",'手順２・３・４社員タイプ#02'!$E$65&\"\")","v":""},{"$f":"IF($AI$133<>2, \"\",'手順２・３・４社員タイプ#02'!$F$65&\"\")","v":""},null,0,null,0,0,null,null,null,{"$f":"'手順２・３・４社員タイプ#03'!$D$65&\"\"","v":""},null,{"$f":"IF($AU$133<>2, \"\",'手順２・３・４社員タイプ#03'!$E$65&\"\")","v":""},{"$f":"IF($AU$133<>2, \"\",'手順２・３・４社員タイプ#03'!$F$65&\"\")","v":""},null,0,null,0,0,null,null,null,{"$f":"'手順２・３・４社員タイプ#04'!$D$65&\"\"","v":""},null,{"$f":"IF($BG$133<>2, \"\",'手順２・３・４社員タイプ#04'!$E$65&\"\")","v":""},{"$f":"IF($BG$133<>2, \"\",'手順２・３・４社員タイプ#04'!$F$65&\"\")","v":""},null,0,null,0,0,null,null,null,{"$f":"'手順２・３・４社員タイプ#05'!$D$65&\"\"","v":""},null,{"$f":"IF($BS$133<>2, \"\",'手順２・３・４社員タイプ#05'!$E$65&\"\")","v":""},{"$f":"IF($BS$133<>2, \"\",'手順２・３・４社員タイプ#05'!$F$65&\"\")","v":""},null,0,null,0,0,null,null,null,{"$f":"'手順２・３・４社員タイプ#06'!$D$65&\"\"","v":""},null,{"$f":"IF($CE$133<>2, \"\",'手順２・３・４社員タイプ#06'!$E$65&\"\")","v":""},{"$f":"IF($CE$133<>2, \"\",'手順２・３・４社員タイプ#06'!$F$65&\"\")","v":""},null,0,null,0,0,null,null,null,{"$f":"'手順２・３・４社員タイプ#07'!$D$65&\"\"","v":""},null,{"$f":"IF($CQ$133<>2, \"\",'手順２・３・４社員タイプ#07'!$E$65&\"\")","v":""},{"$f":"IF($CQ$133<>2, \"\",'手順２・３・４社員タイプ#07'!$F$65&\"\")","v":""},null,0,null,0,0,null,null,null,{"$f":"'手順２・３・４社員タイプ#08'!$D$65&\"\"","v":""},null,{"$f":"IF($DC$133<>2, \"\",'手順２・３・４社員タイプ#08'!$E$65&\"\")","v":""},{"$f":"IF($DC$133<>2, \"\",'手順２・３・４社員タイプ#08'!$F$65&\"\")","v":""},null,0,null,0,0,null,null,null,{"$f":"'手順２・３・４社員タイプ#09'!$D$65&\"\"","v":""},null,{"$f":"IF($DO$133<>2, \"\",'手順２・３・４社員タイプ#09'!$E$65&\"\")","v":""},{"$f":"IF($DO$133<>2, \"\",'手順２・３・４社員タイプ#09'!$F$65&\"\")","v":""},null,0,null,0,0,null,null,null,{"$f":"'手順２・３・４社員タイプ#10'!$D$65&\"\"","v":""},null,{"$f":"IF($EA$133<>2, \"\",'手順２・３・４社員タイプ#10'!$E$65&\"\")","v":""},{"$f":"IF($EA$133<>2, \"\",'手順２・３・４社員タイプ#10'!$F$65&\"\")","v":""},null,0,null,0,0]
[null,null,null,null,null,null,null,null,null,null,null,null,null,null,null,null,null,null,null,null,{"$f":"'手順２・３・４社員タイプ#01'!$D$66&\"\"","v":""},null,{"$f":"IF($W$133<>2, \"\",'手順２・３・４社員タイプ#01'!$E$66&\"\")","v":""},{"$f":"IF($W$133<>2, \"\",'手順２・３・４社員タイプ#01'!$F$66&\"\")","v":""},null,0,null,0,0,null,null,null,{"$f":"'手順２・３・４社員タイプ#02'!$D$66&\"\"","v":""},null,{"$f":"IF($AI$133<>2, \"\",'手順２・３・４社員タイプ#02'!$E$66&\"\")","v":""},{"$f":"IF($AI$133<>2, \"\",'手順２・３・４社員タイプ#02'!$F$66&\"\")","v":""},null,0,null,0,0,null,null,null,{"$f":"'手順２・３・４社員タイプ#03'!$D$66&\"\"","v":""},null,{"$f":"IF($AU$133<>2, \"\",'手順２・３・４社員タイプ#03'!$E$66&\"\")","v":""},{"$f":"IF($AU$133<>2, \"\",'手順２・３・４社員タイプ#03'!$F$66&\"\")","v":""},null,0,null,0,0,null,null,null,{"$f":"'手順２・３・４社員タイプ#04'!$D$66&\"\"","v":""},null,{"$f":"IF($BG$133<>2, \"\",'手順２・３・４社員タイプ#04'!$E$66&\"\")","v":""},{"$f":"IF($BG$133<>2, \"\",'手順２・３・４社員タイプ#04'!$F$66&\"\")","v":""},null,0,null,0,0,null,null,null,{"$f":"'手順２・３・４社員タイプ#05'!$D$66&\"\"","v":""},null,{"$f":"IF($BS$133<>2, \"\",'手順２・３・４社員タイプ#05'!$E$66&\"\")","v":""},{"$f":"IF($BS$133<>2, \"\",'手順２・３・４社員タイプ#05'!$F$66&\"\")","v":""},null,0,null,0,0,null,null,null,{"$f":"'手順２・３・４社員タイプ#06'!$D$66&\"\"","v":""},null,{"$f":"IF($CE$133<>2, \"\",'手順２・３・４社員タイプ#06'!$E$66&\"\")","v":""},{"$f":"IF($CE$133<>2, \"\",'手順２・３・４社員タイプ#06'!$F$66&\"\")","v":""},null,0,null,0,0,null,null,null,{"$f":"'手順２・３・４社員タイプ#07'!$D$66&\"\"","v":""},null,{"$f":"IF($CQ$133<>2, \"\",'手順２・３・４社員タイプ#07'!$E$66&\"\")","v":""},{"$f":"IF($CQ$133<>2, \"\",'手順２・３・４社員タイプ#07'!$F$66&\"\")","v":""},null,0,null,0,0,null,null,null,{"$f":"'手順２・３・４社員タイプ#08'!$D$66&\"\"","v":""},null,{"$f":"IF($DC$133<>2, \"\",'手順２・３・４社員タイプ#08'!$E$66&\"\")","v":""},{"$f":"IF($DC$133<>2, \"\",'手順２・３・４社員タイプ#08'!$F$66&\"\")","v":""},null,0,null,0,0,null,null,null,{"$f":"'手順２・３・４社員タイプ#09'!$D$66&\"\"","v":""},null,{"$f":"IF($DO$133<>2, \"\",'手順２・３・４社員タイプ#09'!$E$66&\"\")","v":""},{"$f":"IF($DO$133<>2, \"\",'手順２・３・４社員タイプ#09'!$F$66&\"\")","v":""},null,0,null,0,0,null,null,null,{"$f":"'手順２・３・４社員タイプ#10'!$D$66&\"\"","v":""},null,{"$f":"IF($EA$133<>2, \"\",'手順２・３・４社員タイプ#10'!$E$66&\"\")","v":""},{"$f":"IF($EA$133<>2, \"\",'手順２・３・４社員タイプ#10'!$F$66&\"\")","v":""},null,0,null,0,0]
[null,null,null,null,null,null,null,null,null,null,null,null,null,null,null,null,null,null,null,null,{"$f":"'手順２・３・４社員タイプ#01'!$D$67&\"\"","v":""},null,{"$f":"IF($W$133<>2, \"\",'手順２・３・４社員タイプ#01'!$E$67&\"\")","v":""},{"$f":"IF($W$133<>2, \"\",'手順２・３・４社員タイプ#01'!$F$67&\"\")","v":""},null,0,null,0,0,null,null,null,{"$f":"'手順２・３・４社員タイプ#02'!$D$67&\"\"","v":""},null,{"$f":"IF($AI$133<>2, \"\",'手順２・３・４社員タイプ#02'!$E$67&\"\")","v":""},{"$f":"IF($AI$133<>2, \"\",'手順２・３・４社員タイプ#02'!$F$67&\"\")","v":""},null,0,null,0,0,null,null,null,{"$f":"'手順２・３・４社員タイプ#03'!$D$67&\"\"","v":""},null,{"$f":"IF($AU$133<>2, \"\",'手順２・３・４社員タイプ#03'!$E$67&\"\")","v":""},{"$f":"IF($AU$133<>2, \"\",'手順２・３・４社員タイプ#03'!$F$67&\"\")","v":""},null,0,null,0,0,null,null,null,{"$f":"'手順２・３・４社員タイプ#04'!$D$67&\"\"","v":""},null,{"$f":"IF($BG$133<>2, \"\",'手順２・３・４社員タイプ#04'!$E$67&\"\")","v":""},{"$f":"IF($BG$133<>2, \"\",'手順２・３・４社員タイプ#04'!$F$67&\"\")","v":""},null,0,null,0,0,null,null,null,{"$f":"'手順２・３・４社員タイプ#05'!$D$67&\"\"","v":""},null,{"$f":"IF($BS$133<>2, \"\",'手順２・３・４社員タイプ#05'!$E$67&\"\")","v":""},{"$f":"IF($BS$133<>2, \"\",'手順２・３・４社員タイプ#05'!$F$67&\"\")","v":""},null,0,null,0,0,null,null,null,{"$f":"'手順２・３・４社員タイプ#06'!$D$67&\"\"","v":""},null,{"$f":"IF($CE$133<>2, \"\",'手順２・３・４社員タイプ#06'!$E$67&\"\")","v":""},{"$f":"IF($CE$133<>2, \"\",'手順２・３・４社員タイプ#06'!$F$67&\"\")","v":""},null,0,null,0,0,null,null,null,{"$f":"'手順２・３・４社員タイプ#07'!$D$67&\"\"","v":""},null,{"$f":"IF($CQ$133<>2, \"\",'手順２・３・４社員タイプ#07'!$E$67&\"\")","v":""},{"$f":"IF($CQ$133<>2, \"\",'手順２・３・４社員タイプ#07'!$F$67&\"\")","v":""},null,0,null,0,0,null,null,null,{"$f":"'手順２・３・４社員タイプ#08'!$D$67&\"\"","v":""},null,{"$f":"IF($DC$133<>2, \"\",'手順２・３・４社員タイプ#08'!$E$67&\"\")","v":""},{"$f":"IF($DC$133<>2, \"\",'手順２・３・４社員タイプ#08'!$F$67&\"\")","v":""},null,0,null,0,0,null,null,null,{"$f":"'手順２・３・４社員タイプ#09'!$D$67&\"\"","v":""},null,{"$f":"IF($DO$133<>2, \"\",'手順２・３・４社員タイプ#09'!$E$67&\"\")","v":""},{"$f":"IF($DO$133<>2, \"\",'手順２・３・４社員タイプ#09'!$F$67&\"\")","v":""},null,0,null,0,0,null,null,null,{"$f":"'手順２・３・４社員タイプ#10'!$D$67&\"\"","v":""},null,{"$f":"IF($EA$133<>2, \"\",'手順２・３・４社員タイプ#10'!$E$67&\"\")","v":""},{"$f":"IF($EA$133<>2, \"\",'手順２・３・４社員タイプ#10'!$F$67&\"\")","v":""},null,0,null,0,0]
[null,null,null,null,null,null,null,null,null,null,null,null,null,null,null,null,null,null,null,null,{"$f":"'手順２・３・４社員タイプ#01'!$D$68&\"\"","v":""},null,{"$f":"IF($W$133<>2, \"\",'手順２・３・４社員タイプ#01'!$E$68&\"\")","v":""},{"$f":"IF($W$133<>2, \"\",'手順２・３・４社員タイプ#01'!$F$68&\"\")","v":""},null,0,null,0,0,null,null,null,{"$f":"'手順２・３・４社員タイプ#02'!$D$68&\"\"","v":""},null,{"$f":"IF($AI$133<>2, \"\",'手順２・３・４社員タイプ#02'!$E$68&\"\")","v":""},{"$f":"IF($AI$133<>2, \"\",'手順２・３・４社員タイプ#02'!$F$68&\"\")","v":""},null,0,null,0,0,null,null,null,{"$f":"'手順２・３・４社員タイプ#03'!$D$68&\"\"","v":""},null,{"$f":"IF($AU$133<>2, \"\",'手順２・３・４社員タイプ#03'!$E$68&\"\")","v":""},{"$f":"IF($AU$133<>2, \"\",'手順２・３・４社員タイプ#03'!$F$68&\"\")","v":""},null,0,null,0,0,null,null,null,{"$f":"'手順２・３・４社員タイプ#04'!$D$68&\"\"","v":""},null,{"$f":"IF($BG$133<>2, \"\",'手順２・３・４社員タイプ#04'!$E$68&\"\")","v":""},{"$f":"IF($BG$133<>2, \"\",'手順２・３・４社員タイプ#04'!$F$68&\"\")","v":""},null,0,null,0,0,null,null,null,{"$f":"'手順２・３・４社員タイプ#05'!$D$68&\"\"","v":""},null,{"$f":"IF($BS$133<>2, \"\",'手順２・３・４社員タイプ#05'!$E$68&\"\")","v":""},{"$f":"IF($BS$133<>2, \"\",'手順２・３・４社員タイプ#05'!$F$68&\"\")","v":""},null,0,null,0,0,null,null,null,{"$f":"'手順２・３・４社員タイプ#06'!$D$68&\"\"","v":""},null,{"$f":"IF($CE$133<>2, \"\",'手順２・３・４社員タイプ#06'!$E$68&\"\")","v":""},{"$f":"IF($CE$133<>2, \"\",'手順２・３・４社員タイプ#06'!$F$68&\"\")","v":""},null,0,null,0,0,null,null,null,{"$f":"'手順２・３・４社員タイプ#07'!$D$68&\"\"","v":""},null,{"$f":"IF($CQ$133<>2, \"\",'手順２・３・４社員タイプ#07'!$E$68&\"\")","v":""},{"$f":"IF($CQ$133<>2, \"\",'手順２・３・４社員タイプ#07'!$F$68&\"\")","v":""},null,0,null,0,0,null,null,null,{"$f":"'手順２・３・４社員タイプ#08'!$D$68&\"\"","v":""},null,{"$f":"IF($DC$133<>2, \"\",'手順２・３・４社員タイプ#08'!$E$68&\"\")","v":""},{"$f":"IF($DC$133<>2, \"\",'手順２・３・４社員タイプ#08'!$F$68&\"\")","v":""},null,0,null,0,0,null,null,null,{"$f":"'手順２・３・４社員タイプ#09'!$D$68&\"\"","v":""},null,{"$f":"IF($DO$133<>2, \"\",'手順２・３・４社員タイプ#09'!$E$68&\"\")","v":""},{"$f":"IF($DO$133<>2, \"\",'手順２・３・４社員タイプ#09'!$F$68&\"\")","v":""},null,0,null,0,0,null,null,null,{"$f":"'手順２・３・４社員タイプ#10'!$D$68&\"\"","v":""},null,{"$f":"IF($EA$133<>2, \"\",'手順２・３・４社員タイプ#10'!$E$68&\"\")","v":""},{"$f":"IF($EA$133<>2, \"\",'手順２・３・４社員タイプ#10'!$F$68&\"\")","v":""},null,0,null,0,0]
[null,null,null,null,null,null,null,null,null,null,null,null,null,null,null,null,null,null,null,null,"違いを設けている理由",null,"対応方針",null,null,null,null,null,null,null,null,null,"違いを設けている理由",null,"対応方針",null,null,null,null,null,null,null,null,null,"違いを設けている理由",null,"対応方針",null,null,null,null,null,null,null,null,null,"違いを設けている理由",null,"対応方針",null,null,null,null,null,null,null,null,null,"違いを設けている理由",null,"対応方針",null,null,null,null,null,null,null,null,null,"違いを設けている理由",null,"対応方針",null,null,null,null,null,null,null,null,null,"違いを設けている理由",null,"対応方針",null,null,null,null,null,null,null,null,null,"違いを設けている理由",null,"対応方針",null,null,null,null,null,null,null,null,null,"違いを設けている理由",null,"対応方針",null,null,null,null,null,null,null,null,null,"違いを設けている理由",null,"対応方針"]
[null,null,null,null,null,null,null,null,null,null,null,null,null,null,null,null,null,null,null,null,{"$f":"IF($W$133<>2, \"\",'手順２・３・４社員タイプ#01'!$G$58&\"\")","v":""},null,{"$f":"IF($W$133<>2, \"\",'手順２・３・４社員タイプ#01'!$H$58&\"\")","v":""},null,null,{"$f":"$W$133","v":0},null,{"$f":"$W$133","v":0},null,null,null,null,{"$f":"IF($AI$133<>2, \"\",'手順２・３・４社員タイプ#02'!$G$58&\"\")","v":""},null,{"$f":"IF($AI$133<>2, \"\",'手順２・３・４社員タイプ#02'!$H$58&\"\")","v":""},null,null,{"$f":"$AI$133","v":0},null,{"$f":"$AI$133","v":0},null,null,null,null,{"$f":"IF($AU$133<>2, \"\",'手順２・３・４社員タイプ#03'!$G$58&\"\")","v":""},null,{"$f":"IF($AU$133<>2, \"\",'手順２・３・４社員タイプ#03'!$H$58&\"\")","v":""},null,null,{"$f":"$AU$133","v":0},null,{"$f":"$AU$133","v":0},null,null,null,null,{"$f":"IF($BG$133<>2, \"\",'手順２・３・４社員タイプ#04'!$G$58&\"\")","v":""},null,{"$f":"IF($BG$133<>2, \"\",'手順２・３・４社員タイプ#04'!$H$58&\"\")","v":""},null,null,{"$f":"$BG$133","v":0},null,{"$f":"$BG$133","v":0},null,null,null,null,{"$f":"IF($BS$133<>2, \"\",'手順２・３・４社員タイプ#05'!$G$58&\"\")","v":""},null,{"$f":"IF($BS$133<>2, \"\",'手順２・３・４社員タイプ#05'!$H$58&\"\")","v":""},null,null,{"$f":"$BS$133","v":0},null,{"$f":"$BS$133","v":0},null,null,null,null,{"$f":"IF($CE$133<>2, \"\",'手順２・３・４社員タイプ#06'!$G$58&\"\")","v":""},null,{"$f":"IF($CE$133<>2, \"\",'手順２・３・４社員タイプ#06'!$H$58&\"\")","v":""},null,null,{"$f":"$CE$133","v":0},null,{"$f":"$CE$133","v":0},null,null,null,null,{"$f":"IF($CQ$133<>2, \"\",'手順２・３・４社員タイプ#07'!$G$58&\"\")","v":""},null,{"$f":"IF($CQ$133<>2, \"\",'手順２・３・４社員タイプ#07'!$H$58&\"\")","v":""},null,null,{"$f":"$CQ$133","v":0},null,{"$f":"$CQ$133","v":0},null,null,null,null,{"$f":"IF($DC$133<>2, \"\",'手順２・３・４社員タイプ#08'!$G$58&\"\")","v":""},null,{"$f":"IF($DC$133<>2, \"\",'手順２・３・４社員タイプ#08'!$H$58&\"\")","v":""},null,null,{"$f":"$DC$133","v":0},null,{"$f":"$DC$133","v":0},null,null,null,null,{"$f":"IF($DO$133<>2, \"\",'手順２・３・４社員タイプ#09'!$G$58&\"\")","v":""},null,{"$f":"IF($DO$133<>2, \"\",'手順２・３・４社員タイプ#09'!$H$58&\"\")","v":""},null,null,{"$f":"$DO$133","v":0},null,{"$f":"$DO$133","v":0},null,null,null,null,{"$f":"IF($EA$133<>2, \"\",'手順２・３・４社員タイプ#10'!$G$58&\"\")","v":""},null,{"$f":"IF($EA$133<>2, \"\",'手順２・３・４社員タイプ#10'!$H$58&\"\")","v":""},null,null,{"$f":"$EA$133","v":0},null,{"$f":"$EA$133","v":0}]
[null,null,null,null,null,null,null,null,null,null,null,null,null,null,null,null,null,null,null,null,{"$f":"IF('手順２・３・４社員タイプ#01'!$B$36=\"\",\"\", '手順２・３・４社員タイプ#01'!$B$36)","v":"賞与"},null,{"$f":"'手順２・３・４社員タイプ#01'!$C$36","v":0},null,null,null,null,null,1,null,{"$f":"IF(AND(OFFSET($A$1,ROW()-1,COLUMN()-11)<>\"\",OR(OFFSET($A$1,ROW()-1,COLUMN()-9)=1,OFFSET($A$1,ROW()-1,COLUMN()-9)=2)),OFFSET($A$1,ROW()-1,COLUMN()-3),OFFSET($A$1,ROW()-1,COLUMN()-3)+1000)","v":1001},null,{"$f":"IF('手順２・３・４社員タイプ#02'!$B$36=\"\",\"\", '手順２・３・４社員タイプ#02'!$B$36)","v":"賞与"},null,{"$f":"'手順２・３・４社員タイプ#02'!$C$36","v":0},null,null,null,null,null,1,null,{"$f":"IF(AND(OFFSET($A$1,ROW()-1,COLUMN()-11)<>\"\",OR(OFFSET($A$1,ROW()-1,COLUMN()-9)=1,OFFSET($A$1,ROW()-1,COLUMN()-9)=2)),OFFSET($A$1,ROW()-1,COLUMN()-3),OFFSET($A$1,ROW()-1,COLUMN()-3)+1000)","v":1001},null,{"$f":"IF('手順２・３・４社員タイプ#03'!$B$36=\"\",\"\", '手順２・３・４社員タイプ#03'!$B$36)","v":"賞与"},null,{"$f":"'手順２・３・４社員タイプ#03'!$C$36","v":0},null,null,null,null,null,1,null,{"$f":"IF(AND(OFFSET($A$1,ROW()-1,COLUMN()-11)<>\"\",OR(OFFSET($A$1,ROW()-1,COLUMN()-9)=1,OFFSET($A$1,ROW()-1,COLUMN()-9)=2)),OFFSET($A$1,ROW()-1,COLUMN()-3),OFFSET($A$1,ROW()-1,COLUMN()-3)+1000)","v":1001},null,{"$f":"IF('手順２・３・４社員タイプ#04'!$B$36=\"\",\"\", '手順２・３・４社員タイプ#04'!$B$36)","v":"賞与"},null,{"$f":"'手順２・３・４社員タイプ#04'!$C$36","v":0},null,null,null,null,null,1,null,{"$f":"IF(AND(OFFSET($A$1,ROW()-1,COLUMN()-11)<>\"\",OR(OFFSET($A$1,ROW()-1,COLUMN()-9)=1,OFFSET($A$1,ROW()-1,COLUMN()-9)=2)),OFFSET($A$1,ROW()-1,COLUMN()-3),OFFSET($A$1,ROW()-1,COLUMN()-3)+1000)","v":1001},null,{"$f":"IF('手順２・３・４社員タイプ#05'!$B$36=\"\",\"\", '手順２・３・４社員タイプ#05'!$B$36)","v":"賞与"},null,{"$f":"'手順２・３・４社員タイプ#05'!$C$36","v":0},null,null,null,null,null,1,null,{"$f":"IF(AND(OFFSET($A$1,ROW()-1,COLUMN()-11)<>\"\",OR(OFFSET($A$1,ROW()-1,COLUMN()-9)=1,OFFSET($A$1,ROW()-1,COLUMN()-9)=2)),OFFSET($A$1,ROW()-1,COLUMN()-3),OFFSET($A$1,ROW()-1,COLUMN()-3)+1000)","v":1001},null,{"$f":"IF('手順２・３・４社員タイプ#06'!$B$36=\"\",\"\", '手順２・３・４社員タイプ#06'!$B$36)","v":"賞与"},null,{"$f":"'手順２・３・４社員タイプ#06'!$C$36","v":0},null,null,null,null,null,1,null,{"$f":"IF(AND(OFFSET($A$1,ROW()-1,COLUMN()-11)<>\"\",OR(OFFSET($A$1,ROW()-1,COLUMN()-9)=1,OFFSET($A$1,ROW()-1,COLUMN()-9)=2)),OFFSET($A$1,ROW()-1,COLUMN()-3),OFFSET($A$1,ROW()-1,COLUMN()-3)+1000)","v":1001},null,{"$f":"IF('手順２・３・４社員タイプ#07'!$B$36=\"\",\"\", '手順２・３・４社員タイプ#07'!$B$36)","v":"賞与"},null,{"$f":"'手順２・３・４社員タイプ#07'!$C$36","v":0},null,null,null,null,null,1,null,{"$f":"IF(AND(OFFSET($A$1,ROW()-1,COLUMN()-11)<>\"\",OR(OFFSET($A$1,ROW()-1,COLUMN()-9)=1,OFFSET($A$1,ROW()-1,COLUMN()-9)=2)),OFFSET($A$1,ROW()-1,COLUMN()-3),OFFSET($A$1,ROW()-1,COLUMN()-3)+1000)","v":1001},null,{"$f":"IF('手順２・３・４社員タイプ#08'!$B$36=\"\",\"\", '手順２・３・４社員タイプ#08'!$B$36)","v":"賞与"},null,{"$f":"'手順２・３・４社員タイプ#08'!$C$36","v":0},null,null,null,null,null,1,null,{"$f":"IF(AND(OFFSET($A$1,ROW()-1,COLUMN()-11)<>\"\",OR(OFFSET($A$1,ROW()-1,COLUMN()-9)=1,OFFSET($A$1,ROW()-1,COLUMN()-9)=2)),OFFSET($A$1,ROW()-1,COLUMN()-3),OFFSET($A$1,ROW()-1,COLUMN()-3)+1000)","v":1001},null,{"$f":"IF('手順２・３・４社員タイプ#09'!$B$36=\"\",\"\", '手順２・３・４社員タイプ#09'!$B$36)","v":"賞与"},null,{"$f":"'手順２・３・４社員タイプ#09'!$C$36","v":0},null,null,null,null,null,1,null,{"$f":"IF(AND(OFFSET($A$1,ROW()-1,COLUMN()-11)<>\"\",OR(OFFSET($A$1,ROW()-1,COLUMN()-9)=1,OFFSET($A$1,ROW()-1,COLUMN()-9)=2)),OFFSET($A$1,ROW()-1,COLUMN()-3),OFFSET($A$1,ROW()-1,COLUMN()-3)+1000)","v":1001},null,{"$f":"IF('手順２・３・４社員タイプ#10'!$B$36=\"\",\"\", '手順２・３・４社員タイプ#10'!$B$36)","v":"賞与"},null,{"$f":"'手順２・３・４社員タイプ#10'!$C$36","v":0},null,null,null,null,null,1,null,{"$f":"IF(AND(OFFSET($A$1,ROW()-1,COLUMN()-11)<>\"\",OR(OFFSET($A$1,ROW()-1,COLUMN()-9)=1,OFFSET($A$1,ROW()-1,COLUMN()-9)=2)),OFFSET($A$1,ROW()-1,COLUMN()-3),OFFSET($A$1,ROW()-1,COLUMN()-3)+1000)","v":1001}]
[null,null,null,null,null,null,null,null,null,null,null,null,null,null,null,null,null,null,null,null,"待遇の違いの有無",null,"支給の目的",null,null,null,null,null,2,null,{"$f":"OFFSET($A$1,ROW()-2,COLUMN()-1)+1","v":1002},null,"待遇の違いの有無",null,"支給の目的",null,null,null,null,null,2,null,{"$f":"OFFSET($A$1,ROW()-2,COLUMN()-1)+1","v":1002},null,"待遇の違いの有無",null,"支給の目的",null,null,null,null,null,2,null,{"$f":"OFFSET($A$1,ROW()-2,COLUMN()-1)+1","v":1002},null,"待遇の違いの有無",null,"支給の目的",null,null,null,null,null,2,null,{"$f":"OFFSET($A$1,ROW()-2,COLUMN()-1)+1","v":1002},null,"待遇の違いの有無",null,"支給の目的",null,null,null,null,null,2,null,{"$f":"OFFSET($A$1,ROW()-2,COLUMN()-1)+1","v":1002},null,"待遇の違いの有無",null,"支給の目的",null,null,null,null,null,2,null,{"$f":"OFFSET($A$1,ROW()-2,COLUMN()-1)+1","v":1002},null,"待遇の違いの有無",null,"支給の目的",null,null,null,null,null,2,null,{"$f":"OFFSET($A$1,ROW()-2,COLUMN()-1)+1","v":1002},null,"待遇の違いの有無",null,"支給の目的",null,null,null,null,null,2,null,{"$f":"OFFSET($A$1,ROW()-2,COLUMN()-1)+1","v":1002},null,"待遇の違いの有無",null,"支給の目的",null,null,null,null,null,2,null,{"$f":"OFFSET($A$1,ROW()-2,COLUMN()-1)+1","v":1002},null,"待遇の違いの有無",null,"支給の目的",null,null,null,null,null,2,null,{"$f":"OFFSET($A$1,ROW()-2,COLUMN()-1)+1","v":1002}]
[null,null,null,null,null,null,null,null,null,null,null,null,null,null,null,null,null,null,null,null,{"$f":"OFFSET($C$6,OFFSET($A$1,ROW()-3,COLUMN()+1),0)","v":" "},null,{"$f":"'手順２・３・４社員タイプ#01'!$D$36&\"\"","v":""},null,null,null,null,null,3,null,1003,null,{"$f":"OFFSET($C$6,OFFSET($A$1,ROW()-3,COLUMN()+1),0)","v":" "},null,{"$f":"'手順２・３・４社員タイプ#02'!$D$36&\"\"","v":""},null,null,null,null,null,3,null,1003,null,{"$f":"OFFSET($C$6,OFFSET($A$1,ROW()-3,COLUMN()+1),0)","v":" "},null,{"$f":"'手順２・３・４社員タイプ#03'!$D$36&\"\"","v":""},null,null,null,null,null,3,null,1003,null,{"$f":"OFFSET($C$6,OFFSET($A$1,ROW()-3,COLUMN()+1),0)","v":" "},null,{"$f":"'手順２・３・４社員タイプ#04'!$D$36&\"\"","v":""},null,null,null,null,null,3,null,1003,null,{"$f":"OFFSET($C$6,OFFSET($A$1,ROW()-3,COLUMN()+1),0)","v":" "},null,{"$f":"'手順２・３・４社員タイプ#05'!$D$36&\"\"","v":""},null,null,null,null,null,3,null,1003,null,{"$f":"OFFSET($C$6,OFFSET($A$1,ROW()-3,COLUMN()+1),0)","v":" "},null,{"$f":"'手順２・３・４社員タイプ#06'!$D$36&\"\"","v":""},null,null,null,null,null,3,null,1003,null,{"$f":"OFFSET($C$6,OFFSET($A$1,ROW()-3,COLUMN()+1),0)","v":" "},null,{"$f":"'手順２・３・４社員タイプ#07'!$D$36&\"\"","v":""},null,null,null,null,null,3,null,1003,null,{"$f":"OFFSET($C$6,OFFSET($A$1,ROW()-3,COLUMN()+1),0)","v":" "},null,{"$f":"'手順２・３・４社員タイプ#08'!$D$36&\"\"","v":""},null,null,null,null,null,3,null,1003,null,{"$f":"OFFSET($C$6,OFFSET($A$1,ROW()-3,COLUMN()+1),0)","v":" "},null,{"$f":"'手順２・３・４社員タイプ#09'!$D$36&\"\"","v":""},null,null,null,null,null,3,null,1003,null,{"$f":"OFFSET($C$6,OFFSET($A$1,ROW()-3,COLUMN()+1),0)","v":" "},null,{"$f":"'手順２・３・４社員タイプ#10'!$D$36&\"\"","v":""},null,null,null,null,null,3,null,1003]
[null,null,null,null,null,null,null,null,null,null,null,null,null,null,null,null,null,null,null,null,"正社員",null,"短時間労働者・有期雇用労働者",null,null,null,null,null,4,null,1004,null,"正社員",null,"短時間労働者・有期雇用労働者",null,null,null,null,null,4,null,1004,null,"正社員",null,"短時間労働者・有期雇用労働者",null,null,null,null,null,4,null,1004,null,"正社員",null,"短時間労働者・有期雇用労働者",null,null,null,null,null,4,null,1004,null,"正社員",null,"短時間労働者・有期雇用労働者",null,null,null,null,null,4,null,1004,null,"正社員",null,"短時間労働者・有期雇用労働者",null,null,null,null,null,4,null,1004,null,"正社員",null,"短時間労働者・有期雇用労働者",null,null,null,null,null,4,null,1004,null,"正社員",null,"短時間労働者・有期雇用労働者",null,null,null,null,null,4,null,1004,null,"正社員",null,"短時間労働者・有期雇用労働者",null,null,null,null,null,4,null,1004,null,"正社員",null,"短時間労働者・有期雇用労働者",null,null,null,null,null,4,null,1004]
[null,null,null,null,null,null,null,null,null,null,null,null,null,null,null,null,null,null,null,null,{"$f":"IF(OFFSET($A$1,ROW()-5,COLUMN()+1)<>2,\"\",'手順２・３・４社員タイプ#01'!$E$36&\"\")","v":""},null,{"$f":"IF(OFFSET($A$1,ROW()-5,COLUMN()-1)<>2,\"\",'手順２・３・４社員タイプ#01'!$F$36&\"\")","v":""},null,{"$f":"IF(OFFSET($A$1,ROW()-5,COLUMN()-3)<>2,1,0)","v":1},null,{"$f":"OFFSET($A$1,ROW()-1,COLUMN()-3)","v":1},null,5,null,1005,null,{"$f":"IF(OFFSET($A$1,ROW()-5,COLUMN()+1)<>2,\"\",'手順２・３・４社員タイプ#02'!$E$36&\"\")","v":""},null,{"$f":"IF(OFFSET($A$1,ROW()-5,COLUMN()-1)<>2,\"\",'手順２・３・４社員タイプ#02'!$F$36&\"\")","v":""},null,{"$f":"IF(OFFSET($A$1,ROW()-5,COLUMN()-3)<>2,1,0)","v":1},null,{"$f":"OFFSET($A$1,ROW()-1,COLUMN()-3)","v":1},null,5,null,1005,null,{"$f":"IF(OFFSET($A$1,ROW()-5,COLUMN()+1)<>2,\"\",'手順２・３・４社員タイプ#03'!$E$36&\"\")","v":""},null,{"$f":"IF(OFFSET($A$1,ROW()-5,COLUMN()-1)<>2,\"\",'手順２・３・４社員タイプ#03'!$F$36&\"\")","v":""},null,{"$f":"IF(OFFSET($A$1,ROW()-5,COLUMN()-3)<>2,1,0)","v":1},null,{"$f":"OFFSET($A$1,ROW()-1,COLUMN()-3)","v":1},null,5,null,1005,null,{"$f":"IF(OFFSET($A$1,ROW()-5,COLUMN()+1)<>2,\"\",'手順２・３・４社員タイプ#04'!$E$36&\"\")","v":""},null,{"$f":"IF(OFFSET($A$1,ROW()-5,COLUMN()-1)<>2,\"\",'手順２・３・４社員タイプ#04'!$F$36&\"\")","v":""},null,{"$f":"IF(OFFSET($A$1,ROW()-5,COLUMN()-3)<>2,1,0)","v":1},null,{"$f":"OFFSET($A$1,ROW()-1,COLUMN()-3)","v":1},null,5,null,1005,null,{"$f":"IF(OFFSET($A$1,ROW()-5,COLUMN()+1)<>2,\"\",'手順２・３・４社員タイプ#05'!$E$36&\"\")","v":""},null,{"$f":"IF(OFFSET($A$1,ROW()-5,COLUMN()-1)<>2,\"\",'手順２・３・４社員タイプ#05'!$F$36&\"\")","v":""},null,{"$f":"IF(OFFSET($A$1,ROW()-5,COLUMN()-3)<>2,1,0)","v":1},null,{"$f":"OFFSET($A$1,ROW()-1,COLUMN()-3)","v":1},null,5,null,1005,null,{"$f":"IF(OFFSET($A$1,ROW()-5,COLUMN()+1)<>2,\"\",'手順２・３・４社員タイプ#06'!$E$36&\"\")","v":""},null,{"$f":"IF(OFFSET($A$1,ROW()-5,COLUMN()-1)<>2,\"\",'手順２・３・４社員タイプ#06'!$F$36&\"\")","v":""},null,{"$f":"IF(OFFSET($A$1,ROW()-5,COLUMN()-3)<>2,1,0)","v":1},null,{"$f":"OFFSET($A$1,ROW()-1,COLUMN()-3)","v":1},null,5,null,1005,null,{"$f":"IF(OFFSET($A$1,ROW()-5,COLUMN()+1)<>2,\"\",'手順２・３・４社員タイプ#07'!$E$36&\"\")","v":""},null,{"$f":"IF(OFFSET($A$1,ROW()-5,COLUMN()-1)<>2,\"\",'手順２・３・４社員タイプ#07'!$F$36&\"\")","v":""},null,{"$f":"IF(OFFSET($A$1,ROW()-5,COLUMN()-3)<>2,1,0)","v":1},null,{"$f":"OFFSET($A$1,ROW()-1,COLUMN()-3)","v":1},null,5,null,1005,null,{"$f":"IF(OFFSET($A$1,ROW()-5,COLUMN()+1)<>2,\"\",'手順２・３・４社員タイプ#08'!$E$36&\"\")","v":""},null,{"$f":"IF(OFFSET($A$1,ROW()-5,COLUMN()-1)<>2,\"\",'手順２・３・４社員タイプ#08'!$F$36&\"\")","v":""},null,{"$f":"IF(OFFSET($A$1,ROW()-5,COLUMN()-3)<>2,1,0)","v":1},null,{"$f":"OFFSET($A$1,ROW()-1,COLUMN()-3)","v":1},null,5,null,1005,null,{"$f":"IF(OFFSET($A$1,ROW()-5,COLUMN()+1)<>2,\"\",'手順２・３・４社員タイプ#09'!$E$36&\"\")","v":""},null,{"$f":"IF(OFFSET($A$1,ROW()-5,COLUMN()-1)<>2,\"\",'手順２・３・４社員タイプ#09'!$F$36&\"\")","v":""},null,{"$f":"IF(OFFSET($A$1,ROW()-5,COLUMN()-3)<>2,1,0)","v":1},null,{"$f":"OFFSET($A$1,ROW()-1,COLUMN()-3)","v":1},null,5,null,1005,null,{"$f":"IF(OFFSET($A$1,ROW()-5,COLUMN()+1)<>2,\"\",'手順２・３・４社員タイプ#10'!$E$36&\"\")","v":""},null,{"$f":"IF(OFFSET($A$1,ROW()-5,COLUMN()-1)<>2,\"\",'手順２・３・４社員タイプ#10'!$F$36&\"\")","v":""},null,{"$f":"IF(OFFSET($A$1,ROW()-5,COLUMN()-3)<>2,1,0)","v":1},null,{"$f":"OFFSET($A$1,ROW()-1,COLUMN()-3)","v":1},null,5,null,1005]
[null,null,null,null,null,null,null,null,null,null,null,null,null,null,null,null,null,null,null,null,"違いを設けている理由",null,"対応方針",null,null,null,null,null,6,null,1006,null,"違いを設けている理由",null,"対応方針",null,null,null,null,null,6,null,1006,null,"違いを設けている理由",null,"対応方針",null,null,null,null,null,6,null,1006,null,"違いを設けている理由",null,"対応方針",null,null,null,null,null,6,null,1006,null,"違いを設けている理由",null,"対応方針",null,null,null,null,null,6,null,1006,null,"違いを設けている理由",null,"対応方針",null,null,null,null,null,6,null,1006,null,"違いを設けている理由",null,"対応方針",null,null,null,null,null,6,null,1006,null,"違いを設けている理由",null,"対応方針",null,null,null,null,null,6,null,1006,null,"違いを設けている理由",null,"対応方針",null,null,null,null,null,6,null,1006,null,"違いを設けている理由",null,"対応方針",null,null,null,null,null,6,null,1006]
[null,null,null,null,null,null,null,null,null,null,null,null,null,null,null,null,null,null,null,null,{"$f":"IF(OFFSET($A$1,ROW()-7,COLUMN()+1)<>2,\"\",'手順２・３・４社員タイプ#01'!$G$36&\"\")","v":""},null,{"$f":"IF(OFFSET($A$1,ROW()-7,COLUMN()-1)<>2,\"\",'手順２・３・４社員タイプ#01'!$H$36&\"\")","v":""},null,{"$f":"OFFSET($A$1,ROW()-3,COLUMN()-1)","v":1},null,{"$f":"OFFSET($A$1,ROW()-3,COLUMN()-3)","v":1},null,7,null,1007,null,{"$f":"IF(OFFSET($A$1,ROW()-7,COLUMN()+1)<>2,\"\",'手順２・３・４社員タイプ#02'!$G$36&\"\")","v":""},null,{"$f":"IF(OFFSET($A$1,ROW()-7,COLUMN()-1)<>2,\"\",'手順２・３・４社員タイプ#02'!$H$36&\"\")","v":""},null,{"$f":"OFFSET($A$1,ROW()-3,COLUMN()-1)","v":1},null,{"$f":"OFFSET($A$1,ROW()-3,COLUMN()-3)","v":1},null,7,null,1007,null,{"$f":"IF(OFFSET($A$1,ROW()-7,COLUMN()+1)<>2,\"\",'手順２・３・４社員タイプ#03'!$G$36&\"\")","v":""},null,{"$f":"IF(OFFSET($A$1,ROW()-7,COLUMN()-1)<>2,\"\",'手順２・３・４社員タイプ#03'!$H$36&\"\")","v":""},null,{"$f":"OFFSET($A$1,ROW()-3,COLUMN()-1)","v":1},null,{"$f":"OFFSET($A$1,ROW()-3,COLUMN()-3)","v":1},null,7,null,1007,null,{"$f":"IF(OFFSET($A$1,ROW()-7,COLUMN()+1)<>2,\"\",'手順２・３・４社員タイプ#04'!$G$36&\"\")","v":""},null,{"$f":"IF(OFFSET($A$1,ROW()-7,COLUMN()-1)<>2,\"\",'手順２・３・４社員タイプ#04'!$H$36&\"\")","v":""},null,{"$f":"OFFSET($A$1,ROW()-3,COLUMN()-1)","v":1},null,{"$f":"OFFSET($A$1,ROW()-3,COLUMN()-3)","v":1},null,7,null,1007,null,{"$f":"IF(OFFSET($A$1,ROW()-7,COLUMN()+1)<>2,\"\",'手順２・３・４社員タイプ#05'!$G$36&\"\")","v":""},null,{"$f":"IF(OFFSET($A$1,ROW()-7,COLUMN()-1)<>2,\"\",'手順２・３・４社員タイプ#05'!$H$36&\"\")","v":""},null,{"$f":"OFFSET($A$1,ROW()-3,COLUMN()-1)","v":1},null,{"$f":"OFFSET($A$1,ROW()-3,COLUMN()-3)","v":1},null,7,null,1007,null,{"$f":"IF(OFFSET($A$1,ROW()-7,COLUMN()+1)<>2,\"\",'手順２・３・４社員タイプ#06'!$G$36&\"\")","v":""},null,{"$f":"IF(OFFSET($A$1,ROW()-7,COLUMN()-1)<>2,\"\",'手順２・３・４社員タイプ#06'!$H$36&\"\")","v":""},null,{"$f":"OFFSET($A$1,ROW()-3,COLUMN()-1)","v":1},null,{"$f":"OFFSET($A$1,ROW()-3,COLUMN()-3)","v":1},null,7,null,1007,null,{"$f":"IF(OFFSET($A$1,ROW()-7,COLUMN()+1)<>2,\"\",'手順２・３・４社員タイプ#07'!$G$36&\"\")","v":""},null,{"$f":"IF(OFFSET($A$1,ROW()-7,COLUMN()-1)<>2,\"\",'手順２・３・４社員タイプ#07'!$H$36&\"\")","v":""},null,{"$f":"OFFSET($A$1,ROW()-3,COLUMN()-1)","v":1},null,{"$f":"OFFSET($A$1,ROW()-3,COLUMN()-3)","v":1},null,7,null,1007,null,{"$f":"IF(OFFSET($A$1,ROW()-7,COLUMN()+1)<>2,\"\",'手順２・３・４社員タイプ#08'!$G$36&\"\")","v":""},null,{"$f":"IF(OFFSET($A$1,ROW()-7,COLUMN()-1)<>2,\"\",'手順２・３・４社員タイプ#08'!$H$36&\"\")","v":""},null,{"$f":"OFFSET($A$1,ROW()-3,COLUMN()-1)","v":1},null,{"$f":"OFFSET($A$1,ROW()-3,COLUMN()-3)","v":1},null,7,null,1007,null,{"$f":"IF(OFFSET($A$1,ROW()-7,COLUMN()+1)<>2,\"\",'手順２・３・４社員タイプ#09'!$G$36&\"\")","v":""},null,{"$f":"IF(OFFSET($A$1,ROW()-7,COLUMN()-1)<>2,\"\",'手順２・３・４社員タイプ#09'!$H$36&\"\")","v":""},null,{"$f":"OFFSET($A$1,ROW()-3,COLUMN()-1)","v":1},null,{"$f":"OFFSET($A$1,ROW()-3,COLUMN()-3)","v":1},null,7,null,1007,null,{"$f":"IF(OFFSET($A$1,ROW()-7,COLUMN()+1)<>2,\"\",'手順２・３・４社員タイプ#10'!$G$36&\"\")","v":""},null,{"$f":"IF(OFFSET($A$1,ROW()-7,COLUMN()-1)<>2,\"\",'手順２・３・４社員タイプ#10'!$H$36&\"\")","v":""},null,{"$f":"OFFSET($A$1,ROW()-3,COLUMN()-1)","v":1},null,{"$f":"OFFSET($A$1,ROW()-3,COLUMN()-3)","v":1},null,7,null,1007]
[null,null,null,null,null,null,null,null,null,null,null,null,null,null,null,null,null,null,null,null,{"$f":"IF('手順２・３・４社員タイプ#01'!$B$37=\"\",\"\", '手順２・３・４社員タイプ#01'!$B$37)","v":""},null,{"$f":"'手順２・３・４社員タイプ#01'!$C$37","v":0},null,null,null,null,null,8,null,{"$f":"IF(AND(OFFSET($A$1,ROW()-1,COLUMN()-11)<>\"\",OR(OFFSET($A$1,ROW()-1,COLUMN()-9)=1,OFFSET($A$1,ROW()-1,COLUMN()-9)=2)),OFFSET($A$1,ROW()-1,COLUMN()-3),OFFSET($A$1,ROW()-1,COLUMN()-3)+1000)","v":1008},null,{"$f":"IF('手順２・３・４社員タイプ#02'!$B$37=\"\",\"\", '手順２・３・４社員タイプ#02'!$B$37)","v":""},null,{"$f":"'手順２・３・４社員タイプ#02'!$C$37","v":0},null,null,null,null,null,8,null,{"$f":"IF(AND(OFFSET($A$1,ROW()-1,COLUMN()-11)<>\"\",OR(OFFSET($A$1,ROW()-1,COLUMN()-9)=1,OFFSET($A$1,ROW()-1,COLUMN()-9)=2)),OFFSET($A$1,ROW()-1,COLUMN()-3),OFFSET($A$1,ROW()-1,COLUMN()-3)+1000)","v":1008},null,{"$f":"IF('手順２・３・４社員タイプ#03'!$B$37=\"\",\"\", '手順２・３・４社員タイプ#03'!$B$37)","v":""},null,{"$f":"'手順２・３・４社員タイプ#03'!$C$37","v":0},null,null,null,null,null,8,null,{"$f":"IF(AND(OFFSET($A$1,ROW()-1,COLUMN()-11)<>\"\",OR(OFFSET($A$1,ROW()-1,COLUMN()-9)=1,OFFSET($A$1,ROW()-1,COLUMN()-9)=2)),OFFSET($A$1,ROW()-1,COLUMN()-3),OFFSET($A$1,ROW()-1,COLUMN()-3)+1000)","v":1008},null,{"$f":"IF('手順２・３・４社員タイプ#04'!$B$37=\"\",\"\", '手順２・３・４社員タイプ#04'!$B$37)","v":""},null,{"$f":"'手順２・３・４社員タイプ#04'!$C$37","v":0},null,null,null,null,null,8,null,{"$f":"IF(AND(OFFSET($A$1,ROW()-1,COLUMN()-11)<>\"\",OR(OFFSET($A$1,ROW()-1,COLUMN()-9)=1,OFFSET($A$1,ROW()-1,COLUMN()-9)=2)),OFFSET($A$1,ROW()-1,COLUMN()-3),OFFSET($A$1,ROW()-1,COLUMN()-3)+1000)","v":1008},null,{"$f":"IF('手順２・３・４社員タイプ#05'!$B$37=\"\",\"\", '手順２・３・４社員タイプ#05'!$B$37)","v":""},null,{"$f":"'手順２・３・４社員タイプ#05'!$C$37","v":0},null,null,null,null,null,8,null,{"$f":"IF(AND(OFFSET($A$1,ROW()-1,COLUMN()-11)<>\"\",OR(OFFSET($A$1,ROW()-1,COLUMN()-9)=1,OFFSET($A$1,ROW()-1,COLUMN()-9)=2)),OFFSET($A$1,ROW()-1,COLUMN()-3),OFFSET($A$1,ROW()-1,COLUMN()-3)+1000)","v":1008},null,{"$f":"IF('手順２・３・４社員タイプ#06'!$B$37=\"\",\"\", '手順２・３・４社員タイプ#06'!$B$37)","v":""},null,{"$f":"'手順２・３・４社員タイプ#06'!$C$37","v":0},null,null,null,null,null,8,null,{"$f":"IF(AND(OFFSET($A$1,ROW()-1,COLUMN()-11)<>\"\",OR(OFFSET($A$1,ROW()-1,COLUMN()-9)=1,OFFSET($A$1,ROW()-1,COLUMN()-9)=2)),OFFSET($A$1,ROW()-1,COLUMN()-3),OFFSET($A$1,ROW()-1,COLUMN()-3)+1000)","v":1008},null,{"$f":"IF('手順２・３・４社員タイプ#07'!$B$37=\"\",\"\", '手順２・３・４社員タイプ#07'!$B$37)","v":""},null,{"$f":"'手順２・３・４社員タイプ#07'!$C$37","v":0},null,null,null,null,null,8,null,{"$f":"IF(AND(OFFSET($A$1,ROW()-1,COLUMN()-11)<>\"\",OR(OFFSET($A$1,ROW()-1,COLUMN()-9)=1,OFFSET($A$1,ROW()-1,COLUMN()-9)=2)),OFFSET($A$1,ROW()-1,COLUMN()-3),OFFSET($A$1,ROW()-1,COLUMN()-3)+1000)","v":1008},null,{"$f":"IF('手順２・３・４社員タイプ#08'!$B$37=\"\",\"\", '手順２・３・４社員タイプ#08'!$B$37)","v":""},null,{"$f":"'手順２・３・４社員タイプ#08'!$C$37","v":0},null,null,null,null,null,8,null,{"$f":"IF(AND(OFFSET($A$1,ROW()-1,COLUMN()-11)<>\"\",OR(OFFSET($A$1,ROW()-1,COLUMN()-9)=1,OFFSET($A$1,ROW()-1,COLUMN()-9)=2)),OFFSET($A$1,ROW()-1,COLUMN()-3),OFFSET($A$1,ROW()-1,COLUMN()-3)+1000)","v":1008},null,{"$f":"IF('手順２・３・４社員タイプ#09'!$B$37=\"\",\"\", '手順２・３・４社員タイプ#09'!$B$37)","v":""},null,{"$f":"'手順２・３・４社員タイプ#09'!$C$37","v":0},null,null,null,null,null,8,null,{"$f":"IF(AND(OFFSET($A$1,ROW()-1,COLUMN()-11)<>\"\",OR(OFFSET($A$1,ROW()-1,COLUMN()-9)=1,OFFSET($A$1,ROW()-1,COLUMN()-9)=2)),OFFSET($A$1,ROW()-1,COLUMN()-3),OFFSET($A$1,ROW()-1,COLUMN()-3)+1000)","v":1008},null,{"$f":"IF('手順２・３・４社員タイプ#10'!$B$37=\"\",\"\", '手順２・３・４社員タイプ#10'!$B$37)","v":""},null,{"$f":"'手順２・３・４社員タイプ#10'!$C$37","v":0},null,null,null,null,null,8,null,{"$f":"IF(AND(OFFSET($A$1,ROW()-1,COLUMN()-11)<>\"\",OR(OFFSET($A$1,ROW()-1,COLUMN()-9)=1,OFFSET($A$1,ROW()-1,COLUMN()-9)=2)),OFFSET($A$1,ROW()-1,COLUMN()-3),OFFSET($A$1,ROW()-1,COLUMN()-3)+1000)","v":1008}]
[null,null,null,null,null,null,null,null,null,null,null,null,null,null,null,null,null,null,null,null,"待遇の違いの有無",null,"支給の目的",null,null,null,null,null,9,null,{"$f":"OFFSET($A$1,ROW()-2,COLUMN()-1)+1","v":1009},null,"待遇の違いの有無",null,"支給の目的",null,null,null,null,null,9,null,{"$f":"OFFSET($A$1,ROW()-2,COLUMN()-1)+1","v":1009},null,"待遇の違いの有無",null,"支給の目的",null,null,null,null,null,9,null,{"$f":"OFFSET($A$1,ROW()-2,COLUMN()-1)+1","v":1009},null,"待遇の違いの有無",null,"支給の目的",null,null,null,null,null,9,null,{"$f":"OFFSET($A$1,ROW()-2,COLUMN()-1)+1","v":1009},null,"待遇の違いの有無",null,"支給の目的",null,null,null,null,null,9,null,{"$f":"OFFSET($A$1,ROW()-2,COLUMN()-1)+1","v":1009},null,"待遇の違いの有無",null,"支給の目的",null,null,null,null,null,9,null,{"$f":"OFFSET($A$1,ROW()-2,COLUMN()-1)+1","v":1009},null,"待遇の違いの有無",null,"支給の目的",null,null,null,null,null,9,null,{"$f":"OFFSET($A$1,ROW()-2,COLUMN()-1)+1","v":1009},null,"待遇の違いの有無",null,"支給の目的",null,null,null,null,null,9,null,{"$f":"OFFSET($A$1,ROW()-2,COLUMN()-1)+1","v":1009},null,"待遇の違いの有無",null,"支給の目的",null,null,null,null,null,9,null,{"$f":"OFFSET($A$1,ROW()-2,COLUMN()-1)+1","v":1009},null,"待遇の違いの有無",null,"支給の目的",null,null,null,null,null,9,null,{"$f":"OFFSET($A$1,ROW()-2,COLUMN()-1)+1","v":1009}]
[null,null,null,null,null,null,null,null,null,null,null,null,null,null,null,null,null,null,null,null,{"$f":"OFFSET($C$6,OFFSET($A$1,ROW()-3,COLUMN()+1),0)","v":" "},null,{"$f":"'手順２・３・４社員タイプ#01'!$D$37&\"\"","v":""},null,null,null,null,null,10,null,1010,null,{"$f":"OFFSET($C$6,OFFSET($A$1,ROW()-3,COLUMN()+1),0)","v":" "},null,{"$f":"'手順２・３・４社員タイプ#02'!$D$37&\"\"","v":""},null,null,null,null,null,10,null,1010,null,{"$f":"OFFSET($C$6,OFFSET($A$1,ROW()-3,COLUMN()+1),0)","v":" "},null,{"$f":"'手順２・３・４社員タイプ#03'!$D$37&\"\"","v":""},null,null,null,null,null,10,null,1010,null,{"$f":"OFFSET($C$6,OFFSET($A$1,ROW()-3,COLUMN()+1),0)","v":" "},null,{"$f":"'手順２・３・４社員タイプ#04'!$D$37&\"\"","v":""},null,null,null,null,null,10,null,1010,null,{"$f":"OFFSET($C$6,OFFSET($A$1,ROW()-3,COLUMN()+1),0)","v":" "},null,{"$f":"'手順２・３・４社員タイプ#05'!$D$37&\"\"","v":""},null,null,null,null,null,10,null,1010,null,{"$f":"OFFSET($C$6,OFFSET($A$1,ROW()-3,COLUMN()+1),0)","v":" "},null,{"$f":"'手順２・３・４社員タイプ#06'!$D$37&\"\"","v":""},null,null,null,null,null,10,null,1010,null,{"$f":"OFFSET($C$6,OFFSET($A$1,ROW()-3,COLUMN()+1),0)","v":" "},null,{"$f":"'手順２・３・４社員タイプ#07'!$D$37&\"\"","v":""},null,null,null,null,null,10,null,1010,null,{"$f":"OFFSET($C$6,OFFSET($A$1,ROW()-3,COLUMN()+1),0)","v":" "},null,{"$f":"'手順２・３・４社員タイプ#08'!$D$37&\"\"","v":""},null,null,null,null,null,10,null,1010,null,{"$f":"OFFSET($C$6,OFFSET($A$1,ROW()-3,COLUMN()+1),0)","v":" "},null,{"$f":"'手順２・３・４社員タイプ#09'!$D$37&\"\"","v":""},null,null,null,null,null,10,null,1010,null,{"$f":"OFFSET($C$6,OFFSET($A$1,ROW()-3,COLUMN()+1),0)","v":" "},null,{"$f":"'手順２・３・４社員タイプ#10'!$D$37&\"\"","v":""},null,null,null,null,null,10,null,1010]
[null,null,null,null,null,null,null,null,null,null,null,null,null,null,null,null,null,null,null,null,"正社員",null,"短時間労働者・有期雇用労働者",null,null,null,null,null,11,null,1011,null,"正社員",null,"短時間労働者・有期雇用労働者",null,null,null,null,null,11,null,1011,null,"正社員",null,"短時間労働者・有期雇用労働者",null,null,null,null,null,11,null,1011,null,"正社員",null,"短時間労働者・有期雇用労働者",null,null,null,null,null,11,null,1011,null,"正社員",null,"短時間労働者・有期雇用労働者",null,null,null,null,null,11,null,1011,null,"正社員",null,"短時間労働者・有期雇用労働者",null,null,null,null,null,11,null,1011,null,"正社員",null,"短時間労働者・有期雇用労働者",null,null,null,null,null,11,null,1011,null,"正社員",null,"短時間労働者・有期雇用労働者",null,null,null,null,null,11,null,1011,null,"正社員",null,"短時間労働者・有期雇用労働者",null,null,null,null,null,11,null,1011,null,"正社員",null,"短時間労働者・有期雇用労働者",null,null,null,null,null,11,null,1011]
[null,null,null,null,null,null,null,null,null,null,null,null,null,null,null,null,null,null,null,null,{"$f":"IF(OFFSET($A$1,ROW()-5,COLUMN()+1)<>2,\"\",'手順２・３・４社員タイプ#01'!$E$37&\"\")","v":""},null,{"$f":"IF(OFFSET($A$1,ROW()-5,COLUMN()-1)<>2,\"\",'手順２・３・４社員タイプ#01'!$F$37&\"\")","v":""},null,{"$f":"IF(OFFSET($A$1,ROW()-5,COLUMN()-3)<>2,1,0)","v":1},null,{"$f":"OFFSET($A$1,ROW()-1,COLUMN()-3)","v":1},null,12,null,1012,null,{"$f":"IF(OFFSET($A$1,ROW()-5,COLUMN()+1)<>2,\"\",'手順２・３・４社員タイプ#02'!$E$37&\"\")","v":""},null,{"$f":"IF(OFFSET($A$1,ROW()-5,COLUMN()-1)<>2,\"\",'手順２・３・４社員タイプ#02'!$F$37&\"\")","v":""},null,{"$f":"IF(OFFSET($A$1,ROW()-5,COLUMN()-3)<>2,1,0)","v":1},null,{"$f":"OFFSET($A$1,ROW()-1,COLUMN()-3)","v":1},null,12,null,1012,null,{"$f":"IF(OFFSET($A$1,ROW()-5,COLUMN()+1)<>2,\"\",'手順２・３・４社員タイプ#03'!$E$37&\"\")","v":""},null,{"$f":"IF(OFFSET($A$1,ROW()-5,COLUMN()-1)<>2,\"\",'手順２・３・４社員タイプ#03'!$F$37&\"\")","v":""},null,{"$f":"IF(OFFSET($A$1,ROW()-5,COLUMN()-3)<>2,1,0)","v":1},null,{"$f":"OFFSET($A$1,ROW()-1,COLUMN()-3)","v":1},null,12,null,1012,null,{"$f":"IF(OFFSET($A$1,ROW()-5,COLUMN()+1)<>2,\"\",'手順２・３・４社員タイプ#04'!$E$37&\"\")","v":""},null,{"$f":"IF(OFFSET($A$1,ROW()-5,COLUMN()-1)<>2,\"\",'手順２・３・４社員タイプ#04'!$F$37&\"\")","v":""},null,{"$f":"IF(OFFSET($A$1,ROW()-5,COLUMN()-3)<>2,1,0)","v":1},null,{"$f":"OFFSET($A$1,ROW()-1,COLUMN()-3)","v":1},null,12,null,1012,null,{"$f":"IF(OFFSET($A$1,ROW()-5,COLUMN()+1)<>2,\"\",'手順２・３・４社員タイプ#05'!$E$37&\"\")","v":""},null,{"$f":"IF(OFFSET($A$1,ROW()-5,COLUMN()-1)<>2,\"\",'手順２・３・４社員タイプ#05'!$F$37&\"\")","v":""},null,{"$f":"IF(OFFSET($A$1,ROW()-5,COLUMN()-3)<>2,1,0)","v":1},null,{"$f":"OFFSET($A$1,ROW()-1,COLUMN()-3)","v":1},null,12,null,1012,null,{"$f":"IF(OFFSET($A$1,ROW()-5,COLUMN()+1)<>2,\"\",'手順２・３・４社員タイプ#06'!$E$37&\"\")","v":""},null,{"$f":"IF(OFFSET($A$1,ROW()-5,COLUMN()-1)<>2,\"\",'手順２・３・４社員タイプ#06'!$F$37&\"\")","v":""},null,{"$f":"IF(OFFSET($A$1,ROW()-5,COLUMN()-3)<>2,1,0)","v":1},null,{"$f":"OFFSET($A$1,ROW()-1,COLUMN()-3)","v":1},null,12,null,1012,null,{"$f":"IF(OFFSET($A$1,ROW()-5,COLUMN()+1)<>2,\"\",'手順２・３・４社員タイプ#07'!$E$37&\"\")","v":""},null,{"$f":"IF(OFFSET($A$1,ROW()-5,COLUMN()-1)<>2,\"\",'手順２・３・４社員タイプ#07'!$F$37&\"\")","v":""},null,{"$f":"IF(OFFSET($A$1,ROW()-5,COLUMN()-3)<>2,1,0)","v":1},null,{"$f":"OFFSET($A$1,ROW()-1,COLUMN()-3)","v":1},null,12,null,1012,null,{"$f":"IF(OFFSET($A$1,ROW()-5,COLUMN()+1)<>2,\"\",'手順２・３・４社員タイプ#08'!$E$37&\"\")","v":""},null,{"$f":"IF(OFFSET($A$1,ROW()-5,COLUMN()-1)<>2,\"\",'手順２・３・４社員タイプ#08'!$F$37&\"\")","v":""},null,{"$f":"IF(OFFSET($A$1,ROW()-5,COLUMN()-3)<>2,1,0)","v":1},null,{"$f":"OFFSET($A$1,ROW()-1,COLUMN()-3)","v":1},null,12,null,1012,null,{"$f":"IF(OFFSET($A$1,ROW()-5,COLUMN()+1)<>2,\"\",'手順２・３・４社員タイプ#09'!$E$37&\"\")","v":""},null,{"$f":"IF(OFFSET($A$1,ROW()-5,COLUMN()-1)<>2,\"\",'手順２・３・４社員タイプ#09'!$F$37&\"\")","v":""},null,{"$f":"IF(OFFSET($A$1,ROW()-5,COLUMN()-3)<>2,1,0)","v":1},null,{"$f":"OFFSET($A$1,ROW()-1,COLUMN()-3)","v":1},null,12,null,1012,null,{"$f":"IF(OFFSET($A$1,ROW()-5,COLUMN()+1)<>2,\"\",'手順２・３・４社員タイプ#10'!$E$37&\"\")","v":""},null,{"$f":"IF(OFFSET($A$1,ROW()-5,COLUMN()-1)<>2,\"\",'手順２・３・４社員タイプ#10'!$F$37&\"\")","v":""},null,{"$f":"IF(OFFSET($A$1,ROW()-5,COLUMN()-3)<>2,1,0)","v":1},null,{"$f":"OFFSET($A$1,ROW()-1,COLUMN()-3)","v":1},null,12,null,1012]
[null,null,null,null,null,null,null,null,null,null,null,null,null,null,null,null,null,null,null,null,"違いを設けている理由",null,"対応方針",null,null,null,null,null,13,null,1013,null,"違いを設けている理由",null,"対応方針",null,null,null,null,null,13,null,1013,null,"違いを設けている理由",null,"対応方針",null,null,null,null,null,13,null,1013,null,"違いを設けている理由",null,"対応方針",null,null,null,null,null,13,null,1013,null,"違いを設けている理由",null,"対応方針",null,null,null,null,null,13,null,1013,null,"違いを設けている理由",null,"対応方針",null,null,null,null,null,13,null,1013,null,"違いを設けている理由",null,"対応方針",null,null,null,null,null,13,null,1013,null,"違いを設けている理由",null,"対応方針",null,null,null,null,null,13,null,1013,null,"違いを設けている理由",null,"対応方針",null,null,null,null,null,13,null,1013,null,"違いを設けている理由",null,"対応方針",null,null,null,null,null,13,null,1013]
[null,null,null,null,null,null,null,null,null,null,null,null,null,null,null,null,null,null,null,null,{"$f":"IF(OFFSET($A$1,ROW()-7,COLUMN()+1)<>2,\"\",'手順２・３・４社員タイプ#01'!$G$37&\"\")","v":""},null,{"$f":"IF(OFFSET($A$1,ROW()-7,COLUMN()-1)<>2,\"\",'手順２・３・４社員タイプ#01'!$H$37&\"\")","v":""},null,{"$f":"OFFSET($A$1,ROW()-3,COLUMN()-1)","v":1},null,{"$f":"OFFSET($A$1,ROW()-3,COLUMN()-3)","v":1},null,14,null,1014,null,{"$f":"IF(OFFSET($A$1,ROW()-7,COLUMN()+1)<>2,\"\",'手順２・３・４社員タイプ#02'!$G$37&\"\")","v":""},null,{"$f":"IF(OFFSET($A$1,ROW()-7,COLUMN()-1)<>2,\"\",'手順２・３・４社員タイプ#02'!$H$37&\"\")","v":""},null,{"$f":"OFFSET($A$1,ROW()-3,COLUMN()-1)","v":1},null,{"$f":"OFFSET($A$1,ROW()-3,COLUMN()-3)","v":1},null,14,null,1014,null,{"$f":"IF(OFFSET($A$1,ROW()-7,COLUMN()+1)<>2,\"\",'手順２・３・４社員タイプ#03'!$G$37&\"\")","v":""},null,{"$f":"IF(OFFSET($A$1,ROW()-7,COLUMN()-1)<>2,\"\",'手順２・３・４社員タイプ#03'!$H$37&\"\")","v":""},null,{"$f":"OFFSET($A$1,ROW()-3,COLUMN()-1)","v":1},null,{"$f":"OFFSET($A$1,ROW()-3,COLUMN()-3)","v":1},null,14,null,1014,null,{"$f":"IF(OFFSET($A$1,ROW()-7,COLUMN()+1)<>2,\"\",'手順２・３・４社員タイプ#04'!$G$37&\"\")","v":""},null,{"$f":"IF(OFFSET($A$1,ROW()-7,COLUMN()-1)<>2,\"\",'手順２・３・４社員タイプ#04'!$H$37&\"\")","v":""},null,{"$f":"OFFSET($A$1,ROW()-3,COLUMN()-1)","v":1},null,{"$f":"OFFSET($A$1,ROW()-3,COLUMN()-3)","v":1},null,14,null,1014,null,{"$f":"IF(OFFSET($A$1,ROW()-7,COLUMN()+1)<>2,\"\",'手順２・３・４社員タイプ#05'!$G$37&\"\")","v":""},null,{"$f":"IF(OFFSET($A$1,ROW()-7,COLUMN()-1)<>2,\"\",'手順２・３・４社員タイプ#05'!$H$37&\"\")","v":""},null,{"$f":"OFFSET($A$1,ROW()-3,COLUMN()-1)","v":1},null,{"$f":"OFFSET($A$1,ROW()-3,COLUMN()-3)","v":1},null,14,null,1014,null,{"$f":"IF(OFFSET($A$1,ROW()-7,COLUMN()+1)<>2,\"\",'手順２・３・４社員タイプ#06'!$G$37&\"\")","v":""},null,{"$f":"IF(OFFSET($A$1,ROW()-7,COLUMN()-1)<>2,\"\",'手順２・３・４社員タイプ#06'!$H$37&\"\")","v":""},null,{"$f":"OFFSET($A$1,ROW()-3,COLUMN()-1)","v":1},null,{"$f":"OFFSET($A$1,ROW()-3,COLUMN()-3)","v":1},null,14,null,1014,null,{"$f":"IF(OFFSET($A$1,ROW()-7,COLUMN()+1)<>2,\"\",'手順２・３・４社員タイプ#07'!$G$37&\"\")","v":""},null,{"$f":"IF(OFFSET($A$1,ROW()-7,COLUMN()-1)<>2,\"\",'手順２・３・４社員タイプ#07'!$H$37&\"\")","v":""},null,{"$f":"OFFSET($A$1,ROW()-3,COLUMN()-1)","v":1},null,{"$f":"OFFSET($A$1,ROW()-3,COLUMN()-3)","v":1},null,14,null,1014,null,{"$f":"IF(OFFSET($A$1,ROW()-7,COLUMN()+1)<>2,\"\",'手順２・３・４社員タイプ#08'!$G$37&\"\")","v":""},null,{"$f":"IF(OFFSET($A$1,ROW()-7,COLUMN()-1)<>2,\"\",'手順２・３・４社員タイプ#08'!$H$37&\"\")","v":""},null,{"$f":"OFFSET($A$1,ROW()-3,COLUMN()-1)","v":1},null,{"$f":"OFFSET($A$1,ROW()-3,COLUMN()-3)","v":1},null,14,null,1014,null,{"$f":"IF(OFFSET($A$1,ROW()-7,COLUMN()+1)<>2,\"\",'手順２・３・４社員タイプ#09'!$G$37&\"\")","v":""},null,{"$f":"IF(OFFSET($A$1,ROW()-7,COLUMN()-1)<>2,\"\",'手順２・３・４社員タイプ#09'!$H$37&\"\")","v":""},null,{"$f":"OFFSET($A$1,ROW()-3,COLUMN()-1)","v":1},null,{"$f":"OFFSET($A$1,ROW()-3,COLUMN()-3)","v":1},null,14,null,1014,null,{"$f":"IF(OFFSET($A$1,ROW()-7,COLUMN()+1)<>2,\"\",'手順２・３・４社員タイプ#10'!$G$37&\"\")","v":""},null,{"$f":"IF(OFFSET($A$1,ROW()-7,COLUMN()-1)<>2,\"\",'手順２・３・４社員タイプ#10'!$H$37&\"\")","v":""},null,{"$f":"OFFSET($A$1,ROW()-3,COLUMN()-1)","v":1},null,{"$f":"OFFSET($A$1,ROW()-3,COLUMN()-3)","v":1},null,14,null,1014]
[null,null,null,null,null,null,null,null,null,null,null,null,null,null,null,null,null,null,null,null,{"$f":"IF('手順２・３・４社員タイプ#01'!$B$38=\"\",\"\", '手順２・３・４社員タイプ#01'!$B$38)","v":""},null,{"$f":"'手順２・３・４社員タイプ#01'!$C$38","v":0},null,null,null,null,null,15,null,{"$f":"IF(AND(OFFSET($A$1,ROW()-1,COLUMN()-11)<>\"\",OR(OFFSET($A$1,ROW()-1,COLUMN()-9)=1,OFFSET($A$1,ROW()-1,COLUMN()-9)=2)),OFFSET($A$1,ROW()-1,COLUMN()-3),OFFSET($A$1,ROW()-1,COLUMN()-3)+1000)","v":1015},null,{"$f":"IF('手順２・３・４社員タイプ#02'!$B$38=\"\",\"\", '手順２・３・４社員タイプ#02'!$B$38)","v":""},null,{"$f":"'手順２・３・４社員タイプ#02'!$C$38","v":0},null,null,null,null,null,15,null,{"$f":"IF(AND(OFFSET($A$1,ROW()-1,COLUMN()-11)<>\"\",OR(OFFSET($A$1,ROW()-1,COLUMN()-9)=1,OFFSET($A$1,ROW()-1,COLUMN()-9)=2)),OFFSET($A$1,ROW()-1,COLUMN()-3),OFFSET($A$1,ROW()-1,COLUMN()-3)+1000)","v":1015},null,{"$f":"IF('手順２・３・４社員タイプ#03'!$B$38=\"\",\"\", '手順２・３・４社員タイプ#03'!$B$38)","v":""},null,{"$f":"'手順２・３・４社員タイプ#03'!$C$38","v":0},null,null,null,null,null,15,null,{"$f":"IF(AND(OFFSET($A$1,ROW()-1,COLUMN()-11)<>\"\",OR(OFFSET($A$1,ROW()-1,COLUMN()-9)=1,OFFSET($A$1,ROW()-1,COLUMN()-9)=2)),OFFSET($A$1,ROW()-1,COLUMN()-3),OFFSET($A$1,ROW()-1,COLUMN()-3)+1000)","v":1015},null,{"$f":"IF('手順２・３・４社員タイプ#04'!$B$38=\"\",\"\", '手順２・３・４社員タイプ#04'!$B$38)","v":""},null,{"$f":"'手順２・３・４社員タイプ#04'!$C$38","v":0},null,null,null,null,null,15,null,{"$f":"IF(AND(OFFSET($A$1,ROW()-1,COLUMN()-11)<>\"\",OR(OFFSET($A$1,ROW()-1,COLUMN()-9)=1,OFFSET($A$1,ROW()-1,COLUMN()-9)=2)),OFFSET($A$1,ROW()-1,COLUMN()-3),OFFSET($A$1,ROW()-1,COLUMN()-3)+1000)","v":1015},null,{"$f":"IF('手順２・３・４社員タイプ#05'!$B$38=\"\",\"\", '手順２・３・４社員タイプ#05'!$B$38)","v":""},null,{"$f":"'手順２・３・４社員タイプ#05'!$C$38","v":0},null,null,null,null,null,15,null,{"$f":"IF(AND(OFFSET($A$1,ROW()-1,COLUMN()-11)<>\"\",OR(OFFSET($A$1,ROW()-1,COLUMN()-9)=1,OFFSET($A$1,ROW()-1,COLUMN()-9)=2)),OFFSET($A$1,ROW()-1,COLUMN()-3),OFFSET($A$1,ROW()-1,COLUMN()-3)+1000)","v":1015},null,{"$f":"IF('手順２・３・４社員タイプ#06'!$B$38=\"\",\"\", '手順２・３・４社員タイプ#06'!$B$38)","v":""},null,{"$f":"'手順２・３・４社員タイプ#06'!$C$38","v":0},null,null,null,null,null,15,null,{"$f":"IF(AND(OFFSET($A$1,ROW()-1,COLUMN()-11)<>\"\",OR(OFFSET($A$1,ROW()-1,COLUMN()-9)=1,OFFSET($A$1,ROW()-1,COLUMN()-9)=2)),OFFSET($A$1,ROW()-1,COLUMN()-3),OFFSET($A$1,ROW()-1,COLUMN()-3)+1000)","v":1015},null,{"$f":"IF('手順２・３・４社員タイプ#07'!$B$38=\"\",\"\", '手順２・３・４社員タイプ#07'!$B$38)","v":""},null,{"$f":"'手順２・３・４社員タイプ#07'!$C$38","v":0},null,null,null,null,null,15,null,{"$f":"IF(AND(OFFSET($A$1,ROW()-1,COLUMN()-11)<>\"\",OR(OFFSET($A$1,ROW()-1,COLUMN()-9)=1,OFFSET($A$1,ROW()-1,COLUMN()-9)=2)),OFFSET($A$1,ROW()-1,COLUMN()-3),OFFSET($A$1,ROW()-1,COLUMN()-3)+1000)","v":1015},null,{"$f":"IF('手順２・３・４社員タイプ#08'!$B$38=\"\",\"\", '手順２・３・４社員タイプ#08'!$B$38)","v":""},null,{"$f":"'手順２・３・４社員タイプ#08'!$C$38","v":0},null,null,null,null,null,15,null,{"$f":"IF(AND(OFFSET($A$1,ROW()-1,COLUMN()-11)<>\"\",OR(OFFSET($A$1,ROW()-1,COLUMN()-9)=1,OFFSET($A$1,ROW()-1,COLUMN()-9)=2)),OFFSET($A$1,ROW()-1,COLUMN()-3),OFFSET($A$1,ROW()-1,COLUMN()-3)+1000)","v":1015},null,{"$f":"IF('手順２・３・４社員タイプ#09'!$B$38=\"\",\"\", '手順２・３・４社員タイプ#09'!$B$38)","v":""},null,{"$f":"'手順２・３・４社員タイプ#09'!$C$38","v":0},null,null,null,null,null,15,null,{"$f":"IF(AND(OFFSET($A$1,ROW()-1,COLUMN()-11)<>\"\",OR(OFFSET($A$1,ROW()-1,COLUMN()-9)=1,OFFSET($A$1,ROW()-1,COLUMN()-9)=2)),OFFSET($A$1,ROW()-1,COLUMN()-3),OFFSET($A$1,ROW()-1,COLUMN()-3)+1000)","v":1015},null,{"$f":"IF('手順２・３・４社員タイプ#10'!$B$38=\"\",\"\", '手順２・３・４社員タイプ#10'!$B$38)","v":""},null,{"$f":"'手順２・３・４社員タイプ#10'!$C$38","v":0},null,null,null,null,null,15,null,{"$f":"IF(AND(OFFSET($A$1,ROW()-1,COLUMN()-11)<>\"\",OR(OFFSET($A$1,ROW()-1,COLUMN()-9)=1,OFFSET($A$1,ROW()-1,COLUMN()-9)=2)),OFFSET($A$1,ROW()-1,COLUMN()-3),OFFSET($A$1,ROW()-1,COLUMN()-3)+1000)","v":1015}]
[null,null,null,null,null,null,null,null,null,null,null,null,null,null,null,null,null,null,null,null,"待遇の違いの有無",null,"支給の目的",null,null,null,null,null,16,null,{"$f":"OFFSET($A$1,ROW()-2,COLUMN()-1)+1","v":1016},null,"待遇の違いの有無",null,"支給の目的",null,null,null,null,null,16,null,{"$f":"OFFSET($A$1,ROW()-2,COLUMN()-1)+1","v":1016},null,"待遇の違いの有無",null,"支給の目的",null,null,null,null,null,16,null,{"$f":"OFFSET($A$1,ROW()-2,COLUMN()-1)+1","v":1016},null,"待遇の違いの有無",null,"支給の目的",null,null,null,null,null,16,null,{"$f":"OFFSET($A$1,ROW()-2,COLUMN()-1)+1","v":1016},null,"待遇の違いの有無",null,"支給の目的",null,null,null,null,null,16,null,{"$f":"OFFSET($A$1,ROW()-2,COLUMN()-1)+1","v":1016},null,"待遇の違いの有無",null,"支給の目的",null,null,null,null,null,16,null,{"$f":"OFFSET($A$1,ROW()-2,COLUMN()-1)+1","v":1016},null,"待遇の違いの有無",null,"支給の目的",null,null,null,null,null,16,null,{"$f":"OFFSET($A$1,ROW()-2,COLUMN()-1)+1","v":1016},null,"待遇の違いの有無",null,"支給の目的",null,null,null,null,null,16,null,{"$f":"OFFSET($A$1,ROW()-2,COLUMN()-1)+1","v":1016},null,"待遇の違いの有無",null,"支給の目的",null,null,null,null,null,16,null,{"$f":"OFFSET($A$1,ROW()-2,COLUMN()-1)+1","v":1016},null,"待遇の違いの有無",null,"支給の目的",null,null,null,null,null,16,null,{"$f":"OFFSET($A$1,ROW()-2,COLUMN()-1)+1","v":1016}]
[null,null,null,null,null,null,null,null,null,null,null,null,null,null,null,null,null,null,null,null,{"$f":"OFFSET($C$6,OFFSET($A$1,ROW()-3,COLUMN()+1),0)","v":" "},null,{"$f":"'手順２・３・４社員タイプ#01'!$D$38&\"\"","v":""},null,null,null,null,null,17,null,1017,null,{"$f":"OFFSET($C$6,OFFSET($A$1,ROW()-3,COLUMN()+1),0)","v":" "},null,{"$f":"'手順２・３・４社員タイプ#02'!$D$38&\"\"","v":""},null,null,null,null,null,17,null,1017,null,{"$f":"OFFSET($C$6,OFFSET($A$1,ROW()-3,COLUMN()+1),0)","v":" "},null,{"$f":"'手順２・３・４社員タイプ#03'!$D$38&\"\"","v":""},null,null,null,null,null,17,null,1017,null,{"$f":"OFFSET($C$6,OFFSET($A$1,ROW()-3,COLUMN()+1),0)","v":" "},null,{"$f":"'手順２・３・４社員タイプ#04'!$D$38&\"\"","v":""},null,null,null,null,null,17,null,1017,null,{"$f":"OFFSET($C$6,OFFSET($A$1,ROW()-3,COLUMN()+1),0)","v":" "},null,{"$f":"'手順２・３・４社員タイプ#05'!$D$38&\"\"","v":""},null,null,null,null,null,17,null,1017,null,{"$f":"OFFSET($C$6,OFFSET($A$1,ROW()-3,COLUMN()+1),0)","v":" "},null,{"$f":"'手順２・３・４社員タイプ#06'!$D$38&\"\"","v":""},null,null,null,null,null,17,null,1017,null,{"$f":"OFFSET($C$6,OFFSET($A$1,ROW()-3,COLUMN()+1),0)","v":" "},null,{"$f":"'手順２・３・４社員タイプ#07'!$D$38&\"\"","v":""},null,null,null,null,null,17,null,1017,null,{"$f":"OFFSET($C$6,OFFSET($A$1,ROW()-3,COLUMN()+1),0)","v":" "},null,{"$f":"'手順２・３・４社員タイプ#08'!$D$38&\"\"","v":""},null,null,null,null,null,17,null,1017,null,{"$f":"OFFSET($C$6,OFFSET($A$1,ROW()-3,COLUMN()+1),0)","v":" "},null,{"$f":"'手順２・３・４社員タイプ#09'!$D$38&\"\"","v":""},null,null,null,null,null,17,null,1017,null,{"$f":"OFFSET($C$6,OFFSET($A$1,ROW()-3,COLUMN()+1),0)","v":" "},null,{"$f":"'手順２・３・４社員タイプ#10'!$D$38&\"\"","v":""},null,null,null,null,null,17,null,1017]
[null,null,null,null,null,null,null,null,null,null,null,null,null,null,null,null,null,null,null,null,"正社員",null,"短時間労働者・有期雇用労働者",null,null,null,null,null,18,null,1018,null,"正社員",null,"短時間労働者・有期雇用労働者",null,null,null,null,null,18,null,1018,null,"正社員",null,"短時間労働者・有期雇用労働者",null,null,null,null,null,18,null,1018,null,"正社員",null,"短時間労働者・有期雇用労働者",null,null,null,null,null,18,null,1018,null,"正社員",null,"短時間労働者・有期雇用労働者",null,null,null,null,null,18,null,1018,null,"正社員",null,"短時間労働者・有期雇用労働者",null,null,null,null,null,18,null,1018,null,"正社員",null,"短時間労働者・有期雇用労働者",null,null,null,null,null,18,null,1018,null,"正社員",null,"短時間労働者・有期雇用労働者",null,null,null,null,null,18,null,1018,null,"正社員",null,"短時間労働者・有期雇用労働者",null,null,null,null,null,18,null,1018,null,"正社員",null,"短時間労働者・有期雇用労働者",null,null,null,null,null,18,null,1018]
[null,null,null,null,null,null,null,null,null,null,null,null,null,null,null,null,null,null,null,null,{"$f":"IF(OFFSET($A$1,ROW()-5,COLUMN()+1)<>2,\"\",'手順２・３・４社員タイプ#01'!$E$38&\"\")","v":""},null,{"$f":"IF(OFFSET($A$1,ROW()-5,COLUMN()-1)<>2,\"\",'手順２・３・４社員タイプ#01'!$F$38&\"\")","v":""},null,{"$f":"IF(OFFSET($A$1,ROW()-5,COLUMN()-3)<>2,1,0)","v":1},null,{"$f":"OFFSET($A$1,ROW()-1,COLUMN()-3)","v":1},null,19,null,1019,null,{"$f":"IF(OFFSET($A$1,ROW()-5,COLUMN()+1)<>2,\"\",'手順２・３・４社員タイプ#02'!$E$38&\"\")","v":""},null,{"$f":"IF(OFFSET($A$1,ROW()-5,COLUMN()-1)<>2,\"\",'手順２・３・４社員タイプ#02'!$F$38&\"\")","v":""},null,{"$f":"IF(OFFSET($A$1,ROW()-5,COLUMN()-3)<>2,1,0)","v":1},null,{"$f":"OFFSET($A$1,ROW()-1,COLUMN()-3)","v":1},null,19,null,1019,null,{"$f":"IF(OFFSET($A$1,ROW()-5,COLUMN()+1)<>2,\"\",'手順２・３・４社員タイプ#03'!$E$38&\"\")","v":""},null,{"$f":"IF(OFFSET($A$1,ROW()-5,COLUMN()-1)<>2,\"\",'手順２・３・４社員タイプ#03'!$F$38&\"\")","v":""},null,{"$f":"IF(OFFSET($A$1,ROW()-5,COLUMN()-3)<>2,1,0)","v":1},null,{"$f":"OFFSET($A$1,ROW()-1,COLUMN()-3)","v":1},null,19,null,1019,null,{"$f":"IF(OFFSET($A$1,ROW()-5,COLUMN()+1)<>2,\"\",'手順２・３・４社員タイプ#04'!$E$38&\"\")","v":""},null,{"$f":"IF(OFFSET($A$1,ROW()-5,COLUMN()-1)<>2,\"\",'手順２・３・４社員タイプ#04'!$F$38&\"\")","v":""},null,{"$f":"IF(OFFSET($A$1,ROW()-5,COLUMN()-3)<>2,1,0)","v":1},null,{"$f":"OFFSET($A$1,ROW()-1,COLUMN()-3)","v":1},null,19,null,1019,null,{"$f":"IF(OFFSET($A$1,ROW()-5,COLUMN()+1)<>2,\"\",'手順２・３・４社員タイプ#05'!$E$38&\"\")","v":""},null,{"$f":"IF(OFFSET($A$1,ROW()-5,COLUMN()-1)<>2,\"\",'手順２・３・４社員タイプ#05'!$F$38&\"\")","v":""},null,{"$f":"IF(OFFSET($A$1,ROW()-5,COLUMN()-3)<>2,1,0)","v":1},null,{"$f":"OFFSET($A$1,ROW()-1,COLUMN()-3)","v":1},null,19,null,1019,null,{"$f":"IF(OFFSET($A$1,ROW()-5,COLUMN()+1)<>2,\"\",'手順２・３・４社員タイプ#06'!$E$38&\"\")","v":""},null,{"$f":"IF(OFFSET($A$1,ROW()-5,COLUMN()-1)<>2,\"\",'手順２・３・４社員タイプ#06'!$F$38&\"\")","v":""},null,{"$f":"IF(OFFSET($A$1,ROW()-5,COLUMN()-3)<>2,1,0)","v":1},null,{"$f":"OFFSET($A$1,ROW()-1,COLUMN()-3)","v":1},null,19,null,1019,null,{"$f":"IF(OFFSET($A$1,ROW()-5,COLUMN()+1)<>2,\"\",'手順２・３・４社員タイプ#07'!$E$38&\"\")","v":""},null,{"$f":"IF(OFFSET($A$1,ROW()-5,COLUMN()-1)<>2,\"\",'手順２・３・４社員タイプ#07'!$F$38&\"\")","v":""},null,{"$f":"IF(OFFSET($A$1,ROW()-5,COLUMN()-3)<>2,1,0)","v":1},null,{"$f":"OFFSET($A$1,ROW()-1,COLUMN()-3)","v":1},null,19,null,1019,null,{"$f":"IF(OFFSET($A$1,ROW()-5,COLUMN()+1)<>2,\"\",'手順２・３・４社員タイプ#08'!$E$38&\"\")","v":""},null,{"$f":"IF(OFFSET($A$1,ROW()-5,COLUMN()-1)<>2,\"\",'手順２・３・４社員タイプ#08'!$F$38&\"\")","v":""},null,{"$f":"IF(OFFSET($A$1,ROW()-5,COLUMN()-3)<>2,1,0)","v":1},null,{"$f":"OFFSET($A$1,ROW()-1,COLUMN()-3)","v":1},null,19,null,1019,null,{"$f":"IF(OFFSET($A$1,ROW()-5,COLUMN()+1)<>2,\"\",'手順２・３・４社員タイプ#09'!$E$38&\"\")","v":""},null,{"$f":"IF(OFFSET($A$1,ROW()-5,COLUMN()-1)<>2,\"\",'手順２・３・４社員タイプ#09'!$F$38&\"\")","v":""},null,{"$f":"IF(OFFSET($A$1,ROW()-5,COLUMN()-3)<>2,1,0)","v":1},null,{"$f":"OFFSET($A$1,ROW()-1,COLUMN()-3)","v":1},null,19,null,1019,null,{"$f":"IF(OFFSET($A$1,ROW()-5,COLUMN()+1)<>2,\"\",'手順２・３・４社員タイプ#10'!$E$38&\"\")","v":""},null,{"$f":"IF(OFFSET($A$1,ROW()-5,COLUMN()-1)<>2,\"\",'手順２・３・４社員タイプ#10'!$F$38&\"\")","v":""},null,{"$f":"IF(OFFSET($A$1,ROW()-5,COLUMN()-3)<>2,1,0)","v":1},null,{"$f":"OFFSET($A$1,ROW()-1,COLUMN()-3)","v":1},null,19,null,1019]
[null,null,null,null,null,null,null,null,null,null,null,null,null,null,null,null,null,null,null,null,"違いを設けている理由",null,"対応方針",null,null,null,null,null,20,null,1020,null,"違いを設けている理由",null,"対応方針",null,null,null,null,null,20,null,1020,null,"違いを設けている理由",null,"対応方針",null,null,null,null,null,20,null,1020,null,"違いを設けている理由",null,"対応方針",null,null,null,null,null,20,null,1020,null,"違いを設けている理由",null,"対応方針",null,null,null,null,null,20,null,1020,null,"違いを設けている理由",null,"対応方針",null,null,null,null,null,20,null,1020,null,"違いを設けている理由",null,"対応方針",null,null,null,null,null,20,null,1020,null,"違いを設けている理由",null,"対応方針",null,null,null,null,null,20,null,1020,null,"違いを設けている理由",null,"対応方針",null,null,null,null,null,20,null,1020,null,"違いを設けている理由",null,"対応方針",null,null,null,null,null,20,null,1020]
[null,null,null,null,null,null,null,null,null,null,null,null,null,null,null,null,null,null,null,null,{"$f":"IF(OFFSET($A$1,ROW()-7,COLUMN()+1)<>2,\"\",'手順２・３・４社員タイプ#01'!$G$38&\"\")","v":""},null,{"$f":"IF(OFFSET($A$1,ROW()-7,COLUMN()-1)<>2,\"\",'手順２・３・４社員タイプ#01'!$H$38&\"\")","v":""},null,{"$f":"OFFSET($A$1,ROW()-3,COLUMN()-1)","v":1},null,{"$f":"OFFSET($A$1,ROW()-3,COLUMN()-3)","v":1},null,21,null,1021,null,{"$f":"IF(OFFSET($A$1,ROW()-7,COLUMN()+1)<>2,\"\",'手順２・３・４社員タイプ#02'!$G$38&\"\")","v":""},null,{"$f":"IF(OFFSET($A$1,ROW()-7,COLUMN()-1)<>2,\"\",'手順２・３・４社員タイプ#02'!$H$38&\"\")","v":""},null,{"$f":"OFFSET($A$1,ROW()-3,COLUMN()-1)","v":1},null,{"$f":"OFFSET($A$1,ROW()-3,COLUMN()-3)","v":1},null,21,null,1021,null,{"$f":"IF(OFFSET($A$1,ROW()-7,COLUMN()+1)<>2,\"\",'手順２・３・４社員タイプ#03'!$G$38&\"\")","v":""},null,{"$f":"IF(OFFSET($A$1,ROW()-7,COLUMN()-1)<>2,\"\",'手順２・３・４社員タイプ#03'!$H$38&\"\")","v":""},null,{"$f":"OFFSET($A$1,ROW()-3,COLUMN()-1)","v":1},null,{"$f":"OFFSET($A$1,ROW()-3,COLUMN()-3)","v":1},null,21,null,1021,null,{"$f":"IF(OFFSET($A$1,ROW()-7,COLUMN()+1)<>2,\"\",'手順２・３・４社員タイプ#04'!$G$38&\"\")","v":""},null,{"$f":"IF(OFFSET($A$1,ROW()-7,COLUMN()-1)<>2,\"\",'手順２・３・４社員タイプ#04'!$H$38&\"\")","v":""},null,{"$f":"OFFSET($A$1,ROW()-3,COLUMN()-1)","v":1},null,{"$f":"OFFSET($A$1,ROW()-3,COLUMN()-3)","v":1},null,21,null,1021,null,{"$f":"IF(OFFSET($A$1,ROW()-7,COLUMN()+1)<>2,\"\",'手順２・３・４社員タイプ#05'!$G$38&\"\")","v":""},null,{"$f":"IF(OFFSET($A$1,ROW()-7,COLUMN()-1)<>2,\"\",'手順２・３・４社員タイプ#05'!$H$38&\"\")","v":""},null,{"$f":"OFFSET($A$1,ROW()-3,COLUMN()-1)","v":1},null,{"$f":"OFFSET($A$1,ROW()-3,COLUMN()-3)","v":1},null,21,null,1021,null,{"$f":"IF(OFFSET($A$1,ROW()-7,COLUMN()+1)<>2,\"\",'手順２・３・４社員タイプ#06'!$G$38&\"\")","v":""},null,{"$f":"IF(OFFSET($A$1,ROW()-7,COLUMN()-1)<>2,\"\",'手順２・３・４社員タイプ#06'!$H$38&\"\")","v":""},null,{"$f":"OFFSET($A$1,ROW()-3,COLUMN()-1)","v":1},null,{"$f":"OFFSET($A$1,ROW()-3,COLUMN()-3)","v":1},null,21,null,1021,null,{"$f":"IF(OFFSET($A$1,ROW()-7,COLUMN()+1)<>2,\"\",'手順２・３・４社員タイプ#07'!$G$38&\"\")","v":""},null,{"$f":"IF(OFFSET($A$1,ROW()-7,COLUMN()-1)<>2,\"\",'手順２・３・４社員タイプ#07'!$H$38&\"\")","v":""},null,{"$f":"OFFSET($A$1,ROW()-3,COLUMN()-1)","v":1},null,{"$f":"OFFSET($A$1,ROW()-3,COLUMN()-3)","v":1},null,21,null,1021,null,{"$f":"IF(OFFSET($A$1,ROW()-7,COLUMN()+1)<>2,\"\",'手順２・３・４社員タイプ#08'!$G$38&\"\")","v":""},null,{"$f":"IF(OFFSET($A$1,ROW()-7,COLUMN()-1)<>2,\"\",'手順２・３・４社員タイプ#08'!$H$38&\"\")","v":""},null,{"$f":"OFFSET($A$1,ROW()-3,COLUMN()-1)","v":1},null,{"$f":"OFFSET($A$1,ROW()-3,COLUMN()-3)","v":1},null,21,null,1021,null,{"$f":"IF(OFFSET($A$1,ROW()-7,COLUMN()+1)<>2,\"\",'手順２・３・４社員タイプ#09'!$G$38&\"\")","v":""},null,{"$f":"IF(OFFSET($A$1,ROW()-7,COLUMN()-1)<>2,\"\",'手順２・３・４社員タイプ#09'!$H$38&\"\")","v":""},null,{"$f":"OFFSET($A$1,ROW()-3,COLUMN()-1)","v":1},null,{"$f":"OFFSET($A$1,ROW()-3,COLUMN()-3)","v":1},null,21,null,1021,null,{"$f":"IF(OFFSET($A$1,ROW()-7,COLUMN()+1)<>2,\"\",'手順２・３・４社員タイプ#10'!$G$38&\"\")","v":""},null,{"$f":"IF(OFFSET($A$1,ROW()-7,COLUMN()-1)<>2,\"\",'手順２・３・４社員タイプ#10'!$H$38&\"\")","v":""},null,{"$f":"OFFSET($A$1,ROW()-3,COLUMN()-1)","v":1},null,{"$f":"OFFSET($A$1,ROW()-3,COLUMN()-3)","v":1},null,21,null,1021]
[null,null,null,null,null,null,null,null,null,null,null,null,null,null,null,null,null,null,null,null,{"$f":"IF('手順２・３・４社員タイプ#01'!$B$39=\"\",\"\", '手順２・３・４社員タイプ#01'!$B$39)","v":""},null,{"$f":"'手順２・３・４社員タイプ#01'!$C$39","v":0},null,null,null,null,null,22,null,{"$f":"IF(AND(OFFSET($A$1,ROW()-1,COLUMN()-11)<>\"\",OR(OFFSET($A$1,ROW()-1,COLUMN()-9)=1,OFFSET($A$1,ROW()-1,COLUMN()-9)=2)),OFFSET($A$1,ROW()-1,COLUMN()-3),OFFSET($A$1,ROW()-1,COLUMN()-3)+1000)","v":1022},null,{"$f":"IF('手順２・３・４社員タイプ#02'!$B$39=\"\",\"\", '手順２・３・４社員タイプ#02'!$B$39)","v":""},null,{"$f":"'手順２・３・４社員タイプ#02'!$C$39","v":0},null,null,null,null,null,22,null,{"$f":"IF(AND(OFFSET($A$1,ROW()-1,COLUMN()-11)<>\"\",OR(OFFSET($A$1,ROW()-1,COLUMN()-9)=1,OFFSET($A$1,ROW()-1,COLUMN()-9)=2)),OFFSET($A$1,ROW()-1,COLUMN()-3),OFFSET($A$1,ROW()-1,COLUMN()-3)+1000)","v":1022},null,{"$f":"IF('手順２・３・４社員タイプ#03'!$B$39=\"\",\"\", '手順２・３・４社員タイプ#03'!$B$39)","v":""},null,{"$f":"'手順２・３・４社員タイプ#03'!$C$39","v":0},null,null,null,null,null,22,null,{"$f":"IF(AND(OFFSET($A$1,ROW()-1,COLUMN()-11)<>\"\",OR(OFFSET($A$1,ROW()-1,COLUMN()-9)=1,OFFSET($A$1,ROW()-1,COLUMN()-9)=2)),OFFSET($A$1,ROW()-1,COLUMN()-3),OFFSET($A$1,ROW()-1,COLUMN()-3)+1000)","v":1022},null,{"$f":"IF('手順２・３・４社員タイプ#04'!$B$39=\"\",\"\", '手順２・３・４社員タイプ#04'!$B$39)","v":""},null,{"$f":"'手順２・３・４社員タイプ#04'!$C$39","v":0},null,null,null,null,null,22,null,{"$f":"IF(AND(OFFSET($A$1,ROW()-1,COLUMN()-11)<>\"\",OR(OFFSET($A$1,ROW()-1,COLUMN()-9)=1,OFFSET($A$1,ROW()-1,COLUMN()-9)=2)),OFFSET($A$1,ROW()-1,COLUMN()-3),OFFSET($A$1,ROW()-1,COLUMN()-3)+1000)","v":1022},null,{"$f":"IF('手順２・３・４社員タイプ#05'!$B$39=\"\",\"\", '手順２・３・４社員タイプ#05'!$B$39)","v":""},null,{"$f":"'手順２・３・４社員タイプ#05'!$C$39","v":0},null,null,null,null,null,22,null,{"$f":"IF(AND(OFFSET($A$1,ROW()-1,COLUMN()-11)<>\"\",OR(OFFSET($A$1,ROW()-1,COLUMN()-9)=1,OFFSET($A$1,ROW()-1,COLUMN()-9)=2)),OFFSET($A$1,ROW()-1,COLUMN()-3),OFFSET($A$1,ROW()-1,COLUMN()-3)+1000)","v":1022},null,{"$f":"IF('手順２・３・４社員タイプ#06'!$B$39=\"\",\"\", '手順２・３・４社員タイプ#06'!$B$39)","v":""},null,{"$f":"'手順２・３・４社員タイプ#06'!$C$39","v":0},null,null,null,null,null,22,null,{"$f":"IF(AND(OFFSET($A$1,ROW()-1,COLUMN()-11)<>\"\",OR(OFFSET($A$1,ROW()-1,COLUMN()-9)=1,OFFSET($A$1,ROW()-1,COLUMN()-9)=2)),OFFSET($A$1,ROW()-1,COLUMN()-3),OFFSET($A$1,ROW()-1,COLUMN()-3)+1000)","v":1022},null,{"$f":"IF('手順２・３・４社員タイプ#07'!$B$39=\"\",\"\", '手順２・３・４社員タイプ#07'!$B$39)","v":""},null,{"$f":"'手順２・３・４社員タイプ#07'!$C$39","v":0},null,null,null,null,null,22,null,{"$f":"IF(AND(OFFSET($A$1,ROW()-1,COLUMN()-11)<>\"\",OR(OFFSET($A$1,ROW()-1,COLUMN()-9)=1,OFFSET($A$1,ROW()-1,COLUMN()-9)=2)),OFFSET($A$1,ROW()-1,COLUMN()-3),OFFSET($A$1,ROW()-1,COLUMN()-3)+1000)","v":1022},null,{"$f":"IF('手順２・３・４社員タイプ#08'!$B$39=\"\",\"\", '手順２・３・４社員タイプ#08'!$B$39)","v":""},null,{"$f":"'手順２・３・４社員タイプ#08'!$C$39","v":0},null,null,null,null,null,22,null,{"$f":"IF(AND(OFFSET($A$1,ROW()-1,COLUMN()-11)<>\"\",OR(OFFSET($A$1,ROW()-1,COLUMN()-9)=1,OFFSET($A$1,ROW()-1,COLUMN()-9)=2)),OFFSET($A$1,ROW()-1,COLUMN()-3),OFFSET($A$1,ROW()-1,COLUMN()-3)+1000)","v":1022},null,{"$f":"IF('手順２・３・４社員タイプ#09'!$B$39=\"\",\"\", '手順２・３・４社員タイプ#09'!$B$39)","v":""},null,{"$f":"'手順２・３・４社員タイプ#09'!$C$39","v":0},null,null,null,null,null,22,null,{"$f":"IF(AND(OFFSET($A$1,ROW()-1,COLUMN()-11)<>\"\",OR(OFFSET($A$1,ROW()-1,COLUMN()-9)=1,OFFSET($A$1,ROW()-1,COLUMN()-9)=2)),OFFSET($A$1,ROW()-1,COLUMN()-3),OFFSET($A$1,ROW()-1,COLUMN()-3)+1000)","v":1022},null,{"$f":"IF('手順２・３・４社員タイプ#10'!$B$39=\"\",\"\", '手順２・３・４社員タイプ#10'!$B$39)","v":""},null,{"$f":"'手順２・３・４社員タイプ#10'!$C$39","v":0},null,null,null,null,null,22,null,{"$f":"IF(AND(OFFSET($A$1,ROW()-1,COLUMN()-11)<>\"\",OR(OFFSET($A$1,ROW()-1,COLUMN()-9)=1,OFFSET($A$1,ROW()-1,COLUMN()-9)=2)),OFFSET($A$1,ROW()-1,COLUMN()-3),OFFSET($A$1,ROW()-1,COLUMN()-3)+1000)","v":1022}]
[null,null,null,null,null,null,null,null,null,null,null,null,null,null,null,null,null,null,null,null,"待遇の違いの有無",null,"支給の目的",null,null,null,null,null,23,null,{"$f":"OFFSET($A$1,ROW()-2,COLUMN()-1)+1","v":1023},null,"待遇の違いの有無",null,"支給の目的",null,null,null,null,null,23,null,{"$f":"OFFSET($A$1,ROW()-2,COLUMN()-1)+1","v":1023},null,"待遇の違いの有無",null,"支給の目的",null,null,null,null,null,23,null,{"$f":"OFFSET($A$1,ROW()-2,COLUMN()-1)+1","v":1023},null,"待遇の違いの有無",null,"支給の目的",null,null,null,null,null,23,null,{"$f":"OFFSET($A$1,ROW()-2,COLUMN()-1)+1","v":1023},null,"待遇の違いの有無",null,"支給の目的",null,null,null,null,null,23,null,{"$f":"OFFSET($A$1,ROW()-2,COLUMN()-1)+1","v":1023},null,"待遇の違いの有無",null,"支給の目的",null,null,null,null,null,23,null,{"$f":"OFFSET($A$1,ROW()-2,COLUMN()-1)+1","v":1023},null,"待遇の違いの有無",null,"支給の目的",null,null,null,null,null,23,null,{"$f":"OFFSET($A$1,ROW()-2,COLUMN()-1)+1","v":1023},null,"待遇の違いの有無",null,"支給の目的",null,null,null,null,null,23,null,{"$f":"OFFSET($A$1,ROW()-2,COLUMN()-1)+1","v":1023},null,"待遇の違いの有無",null,"支給の目的",null,null,null,null,null,23,null,{"$f":"OFFSET($A$1,ROW()-2,COLUMN()-1)+1","v":1023},null,"待遇の違いの有無",null,"支給の目的",null,null,null,null,null,23,null,{"$f":"OFFSET($A$1,ROW()-2,COLUMN()-1)+1","v":1023}]
[null,null,null,null,null,null,null,null,null,null,null,null,null,null,null,null,null,null,null,null,{"$f":"OFFSET($C$6,OFFSET($A$1,ROW()-3,COLUMN()+1),0)","v":" "},null,{"$f":"'手順２・３・４社員タイプ#01'!$D$39&\"\"","v":""},null,null,null,null,null,24,null,1024,null,{"$f":"OFFSET($C$6,OFFSET($A$1,ROW()-3,COLUMN()+1),0)","v":" "},null,{"$f":"'手順２・３・４社員タイプ#02'!$D$39&\"\"","v":""},null,null,null,null,null,24,null,1024,null,{"$f":"OFFSET($C$6,OFFSET($A$1,ROW()-3,COLUMN()+1),0)","v":" "},null,{"$f":"'手順２・３・４社員タイプ#03'!$D$39&\"\"","v":""},null,null,null,null,null,24,null,1024,null,{"$f":"OFFSET($C$6,OFFSET($A$1,ROW()-3,COLUMN()+1),0)","v":" "},null,{"$f":"'手順２・３・４社員タイプ#04'!$D$39&\"\"","v":""},null,null,null,null,null,24,null,1024,null,{"$f":"OFFSET($C$6,OFFSET($A$1,ROW()-3,COLUMN()+1),0)","v":" "},null,{"$f":"'手順２・３・４社員タイプ#05'!$D$39&\"\"","v":""},null,null,null,null,null,24,null,1024,null,{"$f":"OFFSET($C$6,OFFSET($A$1,ROW()-3,COLUMN()+1),0)","v":" "},null,{"$f":"'手順２・３・４社員タイプ#06'!$D$39&\"\"","v":""},null,null,null,null,null,24,null,1024,null,{"$f":"OFFSET($C$6,OFFSET($A$1,ROW()-3,COLUMN()+1),0)","v":" "},null,{"$f":"'手順２・３・４社員タイプ#07'!$D$39&\"\"","v":""},null,null,null,null,null,24,null,1024,null,{"$f":"OFFSET($C$6,OFFSET($A$1,ROW()-3,COLUMN()+1),0)","v":" "},null,{"$f":"'手順２・３・４社員タイプ#08'!$D$39&\"\"","v":""},null,null,null,null,null,24,null,1024,null,{"$f":"OFFSET($C$6,OFFSET($A$1,ROW()-3,COLUMN()+1),0)","v":" "},null,{"$f":"'手順２・３・４社員タイプ#09'!$D$39&\"\"","v":""},null,null,null,null,null,24,null,1024,null,{"$f":"OFFSET($C$6,OFFSET($A$1,ROW()-3,COLUMN()+1),0)","v":" "},null,{"$f":"'手順２・３・４社員タイプ#10'!$D$39&\"\"","v":""},null,null,null,null,null,24,null,1024]
[null,null,null,null,null,null,null,null,null,null,null,null,null,null,null,null,null,null,null,null,"正社員",null,"短時間労働者・有期雇用労働者",null,null,null,null,null,25,null,1025,null,"正社員",null,"短時間労働者・有期雇用労働者",null,null,null,null,null,25,null,1025,null,"正社員",null,"短時間労働者・有期雇用労働者",null,null,null,null,null,25,null,1025,null,"正社員",null,"短時間労働者・有期雇用労働者",null,null,null,null,null,25,null,1025,null,"正社員",null,"短時間労働者・有期雇用労働者",null,null,null,null,null,25,null,1025,null,"正社員",null,"短時間労働者・有期雇用労働者",null,null,null,null,null,25,null,1025,null,"正社員",null,"短時間労働者・有期雇用労働者",null,null,null,null,null,25,null,1025,null,"正社員",null,"短時間労働者・有期雇用労働者",null,null,null,null,null,25,null,1025,null,"正社員",null,"短時間労働者・有期雇用労働者",null,null,null,null,null,25,null,1025,null,"正社員",null,"短時間労働者・有期雇用労働者",null,null,null,null,null,25,null,1025]
[null,null,null,null,null,null,null,null,null,null,null,null,null,null,null,null,null,null,null,null,{"$f":"IF(OFFSET($A$1,ROW()-5,COLUMN()+1)<>2,\"\",'手順２・３・４社員タイプ#01'!$E$39&\"\")","v":""},null,{"$f":"IF(OFFSET($A$1,ROW()-5,COLUMN()-1)<>2,\"\",'手順２・３・４社員タイプ#01'!$F$39&\"\")","v":""},null,{"$f":"IF(OFFSET($A$1,ROW()-5,COLUMN()-3)<>2,1,0)","v":1},null,{"$f":"OFFSET($A$1,ROW()-1,COLUMN()-3)","v":1},null,26,null,1026,null,{"$f":"IF(OFFSET($A$1,ROW()-5,COLUMN()+1)<>2,\"\",'手順２・３・４社員タイプ#02'!$E$39&\"\")","v":""},null,{"$f":"IF(OFFSET($A$1,ROW()-5,COLUMN()-1)<>2,\"\",'手順２・３・４社員タイプ#02'!$F$39&\"\")","v":""},null,{"$f":"IF(OFFSET($A$1,ROW()-5,COLUMN()-3)<>2,1,0)","v":1},null,{"$f":"OFFSET($A$1,ROW()-1,COLUMN()-3)","v":1},null,26,null,1026,null,{"$f":"IF(OFFSET($A$1,ROW()-5,COLUMN()+1)<>2,\"\",'手順２・３・４社員タイプ#03'!$E$39&\"\")","v":""},null,{"$f":"IF(OFFSET($A$1,ROW()-5,COLUMN()-1)<>2,\"\",'手順２・３・４社員タイプ#03'!$F$39&\"\")","v":""},null,{"$f":"IF(OFFSET($A$1,ROW()-5,COLUMN()-3)<>2,1,0)","v":1},null,{"$f":"OFFSET($A$1,ROW()-1,COLUMN()-3)","v":1},null,26,null,1026,null,{"$f":"IF(OFFSET($A$1,ROW()-5,COLUMN()+1)<>2,\"\",'手順２・３・４社員タイプ#04'!$E$39&\"\")","v":""},null,{"$f":"IF(OFFSET($A$1,ROW()-5,COLUMN()-1)<>2,\"\",'手順２・３・４社員タイプ#04'!$F$39&\"\")","v":""},null,{"$f":"IF(OFFSET($A$1,ROW()-5,COLUMN()-3)<>2,1,0)","v":1},null,{"$f":"OFFSET($A$1,ROW()-1,COLUMN()-3)","v":1},null,26,null,1026,null,{"$f":"IF(OFFSET($A$1,ROW()-5,COLUMN()+1)<>2,\"\",'手順２・３・４社員タイプ#05'!$E$39&\"\")","v":""},null,{"$f":"IF(OFFSET($A$1,ROW()-5,COLUMN()-1)<>2,\"\",'手順２・３・４社員タイプ#05'!$F$39&\"\")","v":""},null,{"$f":"IF(OFFSET($A$1,ROW()-5,COLUMN()-3)<>2,1,0)","v":1},null,{"$f":"OFFSET($A$1,ROW()-1,COLUMN()-3)","v":1},null,26,null,1026,null,{"$f":"IF(OFFSET($A$1,ROW()-5,COLUMN()+1)<>2,\"\",'手順２・３・４社員タイプ#06'!$E$39&\"\")","v":""},null,{"$f":"IF(OFFSET($A$1,ROW()-5,COLUMN()-1)<>2,\"\",'手順２・３・４社員タイプ#06'!$F$39&\"\")","v":""},null,{"$f":"IF(OFFSET($A$1,ROW()-5,COLUMN()-3)<>2,1,0)","v":1},null,{"$f":"OFFSET($A$1,ROW()-1,COLUMN()-3)","v":1},null,26,null,1026,null,{"$f":"IF(OFFSET($A$1,ROW()-5,COLUMN()+1)<>2,\"\",'手順２・３・４社員タイプ#07'!$E$39&\"\")","v":""},null,{"$f":"IF(OFFSET($A$1,ROW()-5,COLUMN()-1)<>2,\"\",'手順２・３・４社員タイプ#07'!$F$39&\"\")","v":""},null,{"$f":"IF(OFFSET($A$1,ROW()-5,COLUMN()-3)<>2,1,0)","v":1},null,{"$f":"OFFSET($A$1,ROW()-1,COLUMN()-3)","v":1},null,26,null,1026,null,{"$f":"IF(OFFSET($A$1,ROW()-5,COLUMN()+1)<>2,\"\",'手順２・３・４社員タイプ#08'!$E$39&\"\")","v":""},null,{"$f":"IF(OFFSET($A$1,ROW()-5,COLUMN()-1)<>2,\"\",'手順２・３・４社員タイプ#08'!$F$39&\"\")","v":""},null,{"$f":"IF(OFFSET($A$1,ROW()-5,COLUMN()-3)<>2,1,0)","v":1},null,{"$f":"OFFSET($A$1,ROW()-1,COLUMN()-3)","v":1},null,26,null,1026,null,{"$f":"IF(OFFSET($A$1,ROW()-5,COLUMN()+1)<>2,\"\",'手順２・３・４社員タイプ#09'!$E$39&\"\")","v":""},null,{"$f":"IF(OFFSET($A$1,ROW()-5,COLUMN()-1)<>2,\"\",'手順２・３・４社員タイプ#09'!$F$39&\"\")","v":""},null,{"$f":"IF(OFFSET($A$1,ROW()-5,COLUMN()-3)<>2,1,0)","v":1},null,{"$f":"OFFSET($A$1,ROW()-1,COLUMN()-3)","v":1},null,26,null,1026,null,{"$f":"IF(OFFSET($A$1,ROW()-5,COLUMN()+1)<>2,\"\",'手順２・３・４社員タイプ#10'!$E$39&\"\")","v":""},null,{"$f":"IF(OFFSET($A$1,ROW()-5,COLUMN()-1)<>2,\"\",'手順２・３・４社員タイプ#10'!$F$39&\"\")","v":""},null,{"$f":"IF(OFFSET($A$1,ROW()-5,COLUMN()-3)<>2,1,0)","v":1},null,{"$f":"OFFSET($A$1,ROW()-1,COLUMN()-3)","v":1},null,26,null,1026]
[null,null,null,null,null,null,null,null,null,null,null,null,null,null,null,null,null,null,null,null,"違いを設けている理由",null,"対応方針",null,null,null,null,null,27,null,1027,null,"違いを設けている理由",null,"対応方針",null,null,null,null,null,27,null,1027,null,"違いを設けている理由",null,"対応方針",null,null,null,null,null,27,null,1027,null,"違いを設けている理由",null,"対応方針",null,null,null,null,null,27,null,1027,null,"違いを設けている理由",null,"対応方針",null,null,null,null,null,27,null,1027,null,"違いを設けている理由",null,"対応方針",null,null,null,null,null,27,null,1027,null,"違いを設けている理由",null,"対応方針",null,null,null,null,null,27,null,1027,null,"違いを設けている理由",null,"対応方針",null,null,null,null,null,27,null,1027,null,"違いを設けている理由",null,"対応方針",null,null,null,null,null,27,null,1027,null,"違いを設けている理由",null,"対応方針",null,null,null,null,null,27,null,1027]
[null,null,null,null,null,null,null,null,null,null,null,null,null,null,null,null,null,null,null,null,{"$f":"IF(OFFSET($A$1,ROW()-7,COLUMN()+1)<>2,\"\",'手順２・３・４社員タイプ#01'!$G$39&\"\")","v":""},null,{"$f":"IF(OFFSET($A$1,ROW()-7,COLUMN()-1)<>2,\"\",'手順２・３・４社員タイプ#01'!$H$39&\"\")","v":""},null,{"$f":"OFFSET($A$1,ROW()-3,COLUMN()-1)","v":1},null,{"$f":"OFFSET($A$1,ROW()-3,COLUMN()-3)","v":1},null,28,null,1028,null,{"$f":"IF(OFFSET($A$1,ROW()-7,COLUMN()+1)<>2,\"\",'手順２・３・４社員タイプ#02'!$G$39&\"\")","v":""},null,{"$f":"IF(OFFSET($A$1,ROW()-7,COLUMN()-1)<>2,\"\",'手順２・３・４社員タイプ#02'!$H$39&\"\")","v":""},null,{"$f":"OFFSET($A$1,ROW()-3,COLUMN()-1)","v":1},null,{"$f":"OFFSET($A$1,ROW()-3,COLUMN()-3)","v":1},null,28,null,1028,null,{"$f":"IF(OFFSET($A$1,ROW()-7,COLUMN()+1)<>2,\"\",'手順２・３・４社員タイプ#03'!$G$39&\"\")","v":""},null,{"$f":"IF(OFFSET($A$1,ROW()-7,COLUMN()-1)<>2,\"\",'手順２・３・４社員タイプ#03'!$H$39&\"\")","v":""},null,{"$f":"OFFSET($A$1,ROW()-3,COLUMN()-1)","v":1},null,{"$f":"OFFSET($A$1,ROW()-3,COLUMN()-3)","v":1},null,28,null,1028,null,{"$f":"IF(OFFSET($A$1,ROW()-7,COLUMN()+1)<>2,\"\",'手順２・３・４社員タイプ#04'!$G$39&\"\")","v":""},null,{"$f":"IF(OFFSET($A$1,ROW()-7,COLUMN()-1)<>2,\"\",'手順２・３・４社員タイプ#04'!$H$39&\"\")","v":""},null,{"$f":"OFFSET($A$1,ROW()-3,COLUMN()-1)","v":1},null,{"$f":"OFFSET($A$1,ROW()-3,COLUMN()-3)","v":1},null,28,null,1028,null,{"$f":"IF(OFFSET($A$1,ROW()-7,COLUMN()+1)<>2,\"\",'手順２・３・４社員タイプ#05'!$G$39&\"\")","v":""},null,{"$f":"IF(OFFSET($A$1,ROW()-7,COLUMN()-1)<>2,\"\",'手順２・３・４社員タイプ#05'!$H$39&\"\")","v":""},null,{"$f":"OFFSET($A$1,ROW()-3,COLUMN()-1)","v":1},null,{"$f":"OFFSET($A$1,ROW()-3,COLUMN()-3)","v":1},null,28,null,1028,null,{"$f":"IF(OFFSET($A$1,ROW()-7,COLUMN()+1)<>2,\"\",'手順２・３・４社員タイプ#06'!$G$39&\"\")","v":""},null,{"$f":"IF(OFFSET($A$1,ROW()-7,COLUMN()-1)<>2,\"\",'手順２・３・４社員タイプ#06'!$H$39&\"\")","v":""},null,{"$f":"OFFSET($A$1,ROW()-3,COLUMN()-1)","v":1},null,{"$f":"OFFSET($A$1,ROW()-3,COLUMN()-3)","v":1},null,28,null,1028,null,{"$f":"IF(OFFSET($A$1,ROW()-7,COLUMN()+1)<>2,\"\",'手順２・３・４社員タイプ#07'!$G$39&\"\")","v":""},null,{"$f":"IF(OFFSET($A$1,ROW()-7,COLUMN()-1)<>2,\"\",'手順２・３・４社員タイプ#07'!$H$39&\"\")","v":""},null,{"$f":"OFFSET($A$1,ROW()-3,COLUMN()-1)","v":1},null,{"$f":"OFFSET($A$1,ROW()-3,COLUMN()-3)","v":1},null,28,null,1028,null,{"$f":"IF(OFFSET($A$1,ROW()-7,COLUMN()+1)<>2,\"\",'手順２・３・４社員タイプ#08'!$G$39&\"\")","v":""},null,{"$f":"IF(OFFSET($A$1,ROW()-7,COLUMN()-1)<>2,\"\",'手順２・３・４社員タイプ#08'!$H$39&\"\")","v":""},null,{"$f":"OFFSET($A$1,ROW()-3,COLUMN()-1)","v":1},null,{"$f":"OFFSET($A$1,ROW()-3,COLUMN()-3)","v":1},null,28,null,1028,null,{"$f":"IF(OFFSET($A$1,ROW()-7,COLUMN()+1)<>2,\"\",'手順２・３・４社員タイプ#09'!$G$39&\"\")","v":""},null,{"$f":"IF(OFFSET($A$1,ROW()-7,COLUMN()-1)<>2,\"\",'手順２・３・４社員タイプ#09'!$H$39&\"\")","v":""},null,{"$f":"OFFSET($A$1,ROW()-3,COLUMN()-1)","v":1},null,{"$f":"OFFSET($A$1,ROW()-3,COLUMN()-3)","v":1},null,28,null,1028,null,{"$f":"IF(OFFSET($A$1,ROW()-7,COLUMN()+1)<>2,\"\",'手順２・３・４社員タイプ#10'!$G$39&\"\")","v":""},null,{"$f":"IF(OFFSET($A$1,ROW()-7,COLUMN()-1)<>2,\"\",'手順２・３・４社員タイプ#10'!$H$39&\"\")","v":""},null,{"$f":"OFFSET($A$1,ROW()-3,COLUMN()-1)","v":1},null,{"$f":"OFFSET($A$1,ROW()-3,COLUMN()-3)","v":1},null,28,null,1028]
[null,null,null,null,null,null,null,null,null,null,null,null,null,null,null,null,null,null,null,null,{"$f":"IF('手順２・３・４社員タイプ#01'!$B$40=\"\",\"\", '手順２・３・４社員タイプ#01'!$B$40)","v":""},null,{"$f":"'手順２・３・４社員タイプ#01'!$C$40","v":0},null,null,null,null,null,29,null,{"$f":"IF(AND(OFFSET($A$1,ROW()-1,COLUMN()-11)<>\"\",OR(OFFSET($A$1,ROW()-1,COLUMN()-9)=1,OFFSET($A$1,ROW()-1,COLUMN()-9)=2)),OFFSET($A$1,ROW()-1,COLUMN()-3),OFFSET($A$1,ROW()-1,COLUMN()-3)+1000)","v":1029},null,{"$f":"IF('手順２・３・４社員タイプ#02'!$B$40=\"\",\"\", '手順２・３・４社員タイプ#02'!$B$40)","v":""},null,{"$f":"'手順２・３・４社員タイプ#02'!$C$40","v":0},null,null,null,null,null,29,null,{"$f":"IF(AND(OFFSET($A$1,ROW()-1,COLUMN()-11)<>\"\",OR(OFFSET($A$1,ROW()-1,COLUMN()-9)=1,OFFSET($A$1,ROW()-1,COLUMN()-9)=2)),OFFSET($A$1,ROW()-1,COLUMN()-3),OFFSET($A$1,ROW()-1,COLUMN()-3)+1000)","v":1029},null,{"$f":"IF('手順２・３・４社員タイプ#03'!$B$40=\"\",\"\", '手順２・３・４社員タイプ#03'!$B$40)","v":""},null,{"$f":"'手順２・３・４社員タイプ#03'!$C$40","v":0},null,null,null,null,null,29,null,{"$f":"IF(AND(OFFSET($A$1,ROW()-1,COLUMN()-11)<>\"\",OR(OFFSET($A$1,ROW()-1,COLUMN()-9)=1,OFFSET($A$1,ROW()-1,COLUMN()-9)=2)),OFFSET($A$1,ROW()-1,COLUMN()-3),OFFSET($A$1,ROW()-1,COLUMN()-3)+1000)","v":1029},null,{"$f":"IF('手順２・３・４社員タイプ#04'!$B$40=\"\",\"\", '手順２・３・４社員タイプ#04'!$B$40)","v":""},null,{"$f":"'手順２・３・４社員タイプ#04'!$C$40","v":0},null,null,null,null,null,29,null,{"$f":"IF(AND(OFFSET($A$1,ROW()-1,COLUMN()-11)<>\"\",OR(OFFSET($A$1,ROW()-1,COLUMN()-9)=1,OFFSET($A$1,ROW()-1,COLUMN()-9)=2)),OFFSET($A$1,ROW()-1,COLUMN()-3),OFFSET($A$1,ROW()-1,COLUMN()-3)+1000)","v":1029},null,{"$f":"IF('手順２・３・４社員タイプ#05'!$B$40=\"\",\"\", '手順２・３・４社員タイプ#05'!$B$40)","v":""},null,{"$f":"'手順２・３・４社員タイプ#05'!$C$40","v":0},null,null,null,null,null,29,null,{"$f":"IF(AND(OFFSET($A$1,ROW()-1,COLUMN()-11)<>\"\",OR(OFFSET($A$1,ROW()-1,COLUMN()-9)=1,OFFSET($A$1,ROW()-1,COLUMN()-9)=2)),OFFSET($A$1,ROW()-1,COLUMN()-3),OFFSET($A$1,ROW()-1,COLUMN()-3)+1000)","v":1029},null,{"$f":"IF('手順２・３・４社員タイプ#06'!$B$40=\"\",\"\", '手順２・３・４社員タイプ#06'!$B$40)","v":""},null,{"$f":"'手順２・３・４社員タイプ#06'!$C$40","v":0},null,null,null,null,null,29,null,{"$f":"IF(AND(OFFSET($A$1,ROW()-1,COLUMN()-11)<>\"\",OR(OFFSET($A$1,ROW()-1,COLUMN()-9)=1,OFFSET($A$1,ROW()-1,COLUMN()-9)=2)),OFFSET($A$1,ROW()-1,COLUMN()-3),OFFSET($A$1,ROW()-1,COLUMN()-3)+1000)","v":1029},null,{"$f":"IF('手順２・３・４社員タイプ#07'!$B$40=\"\",\"\", '手順２・３・４社員タイプ#07'!$B$40)","v":""},null,{"$f":"'手順２・３・４社員タイプ#07'!$C$40","v":0},null,null,null,null,null,29,null,{"$f":"IF(AND(OFFSET($A$1,ROW()-1,COLUMN()-11)<>\"\",OR(OFFSET($A$1,ROW()-1,COLUMN()-9)=1,OFFSET($A$1,ROW()-1,COLUMN()-9)=2)),OFFSET($A$1,ROW()-1,COLUMN()-3),OFFSET($A$1,ROW()-1,COLUMN()-3)+1000)","v":1029},null,{"$f":"IF('手順２・３・４社員タイプ#08'!$B$40=\"\",\"\", '手順２・３・４社員タイプ#08'!$B$40)","v":""},null,{"$f":"'手順２・３・４社員タイプ#08'!$C$40","v":0},null,null,null,null,null,29,null,{"$f":"IF(AND(OFFSET($A$1,ROW()-1,COLUMN()-11)<>\"\",OR(OFFSET($A$1,ROW()-1,COLUMN()-9)=1,OFFSET($A$1,ROW()-1,COLUMN()-9)=2)),OFFSET($A$1,ROW()-1,COLUMN()-3),OFFSET($A$1,ROW()-1,COLUMN()-3)+1000)","v":1029},null,{"$f":"IF('手順２・３・４社員タイプ#09'!$B$40=\"\",\"\", '手順２・３・４社員タイプ#09'!$B$40)","v":""},null,{"$f":"'手順２・３・４社員タイプ#09'!$C$40","v":0},null,null,null,null,null,29,null,{"$f":"IF(AND(OFFSET($A$1,ROW()-1,COLUMN()-11)<>\"\",OR(OFFSET($A$1,ROW()-1,COLUMN()-9)=1,OFFSET($A$1,ROW()-1,COLUMN()-9)=2)),OFFSET($A$1,ROW()-1,COLUMN()-3),OFFSET($A$1,ROW()-1,COLUMN()-3)+1000)","v":1029},null,{"$f":"IF('手順２・３・４社員タイプ#10'!$B$40=\"\",\"\", '手順２・３・４社員タイプ#10'!$B$40)","v":""},null,{"$f":"'手順２・３・４社員タイプ#10'!$C$40","v":0},null,null,null,null,null,29,null,{"$f":"IF(AND(OFFSET($A$1,ROW()-1,COLUMN()-11)<>\"\",OR(OFFSET($A$1,ROW()-1,COLUMN()-9)=1,OFFSET($A$1,ROW()-1,COLUMN()-9)=2)),OFFSET($A$1,ROW()-1,COLUMN()-3),OFFSET($A$1,ROW()-1,COLUMN()-3)+1000)","v":1029}]
[null,null,null,null,null,null,null,null,null,null,null,null,null,null,null,null,null,null,null,null,"待遇の違いの有無",null,"支給の目的",null,null,null,null,null,30,null,{"$f":"OFFSET($A$1,ROW()-2,COLUMN()-1)+1","v":1030},null,"待遇の違いの有無",null,"支給の目的",null,null,null,null,null,30,null,{"$f":"OFFSET($A$1,ROW()-2,COLUMN()-1)+1","v":1030},null,"待遇の違いの有無",null,"支給の目的",null,null,null,null,null,30,null,{"$f":"OFFSET($A$1,ROW()-2,COLUMN()-1)+1","v":1030},null,"待遇の違いの有無",null,"支給の目的",null,null,null,null,null,30,null,{"$f":"OFFSET($A$1,ROW()-2,COLUMN()-1)+1","v":1030},null,"待遇の違いの有無",null,"支給の目的",null,null,null,null,null,30,null,{"$f":"OFFSET($A$1,ROW()-2,COLUMN()-1)+1","v":1030},null,"待遇の違いの有無",null,"支給の目的",null,null,null,null,null,30,null,{"$f":"OFFSET($A$1,ROW()-2,COLUMN()-1)+1","v":1030},null,"待遇の違いの有無",null,"支給の目的",null,null,null,null,null,30,null,{"$f":"OFFSET($A$1,ROW()-2,COLUMN()-1)+1","v":1030},null,"待遇の違いの有無",null,"支給の目的",null,null,null,null,null,30,null,{"$f":"OFFSET($A$1,ROW()-2,COLUMN()-1)+1","v":1030},null,"待遇の違いの有無",null,"支給の目的",null,null,null,null,null,30,null,{"$f":"OFFSET($A$1,ROW()-2,COLUMN()-1)+1","v":1030},null,"待遇の違いの有無",null,"支給の目的",null,null,null,null,null,30,null,{"$f":"OFFSET($A$1,ROW()-2,COLUMN()-1)+1","v":1030}]
[null,null,null,null,null,null,null,null,null,null,null,null,null,null,null,null,null,null,null,null,{"$f":"OFFSET($C$6,OFFSET($A$1,ROW()-3,COLUMN()+1),0)","v":" "},null,{"$f":"'手順２・３・４社員タイプ#01'!$D$40&\"\"","v":""},null,null,null,null,null,31,null,1031,null,{"$f":"OFFSET($C$6,OFFSET($A$1,ROW()-3,COLUMN()+1),0)","v":" "},null,{"$f":"'手順２・３・４社員タイプ#02'!$D$40&\"\"","v":""},null,null,null,null,null,31,null,1031,null,{"$f":"OFFSET($C$6,OFFSET($A$1,ROW()-3,COLUMN()+1),0)","v":" "},null,{"$f":"'手順２・３・４社員タイプ#03'!$D$40&\"\"","v":""},null,null,null,null,null,31,null,1031,null,{"$f":"OFFSET($C$6,OFFSET($A$1,ROW()-3,COLUMN()+1),0)","v":" "},null,{"$f":"'手順２・３・４社員タイプ#04'!$D$40&\"\"","v":""},null,null,null,null,null,31,null,1031,null,{"$f":"OFFSET($C$6,OFFSET($A$1,ROW()-3,COLUMN()+1),0)","v":" "},null,{"$f":"'手順２・３・４社員タイプ#05'!$D$40&\"\"","v":""},null,null,null,null,null,31,null,1031,null,{"$f":"OFFSET($C$6,OFFSET($A$1,ROW()-3,COLUMN()+1),0)","v":" "},null,{"$f":"'手順２・３・４社員タイプ#06'!$D$40&\"\"","v":""},null,null,null,null,null,31,null,1031,null,{"$f":"OFFSET($C$6,OFFSET($A$1,ROW()-3,COLUMN()+1),0)","v":" "},null,{"$f":"'手順２・３・４社員タイプ#07'!$D$40&\"\"","v":""},null,null,null,null,null,31,null,1031,null,{"$f":"OFFSET($C$6,OFFSET($A$1,ROW()-3,COLUMN()+1),0)","v":" "},null,{"$f":"'手順２・３・４社員タイプ#08'!$D$40&\"\"","v":""},null,null,null,null,null,31,null,1031,null,{"$f":"OFFSET($C$6,OFFSET($A$1,ROW()-3,COLUMN()+1),0)","v":" "},null,{"$f":"'手順２・３・４社員タイプ#09'!$D$40&\"\"","v":""},null,null,null,null,null,31,null,1031,null,{"$f":"OFFSET($C$6,OFFSET($A$1,ROW()-3,COLUMN()+1),0)","v":" "},null,{"$f":"'手順２・３・４社員タイプ#10'!$D$40&\"\"","v":""},null,null,null,null,null,31,null,1031]
[null,null,null,null,null,null,null,null,null,null,null,null,null,null,null,null,null,null,null,null,"正社員",null,"短時間労働者・有期雇用労働者",null,null,null,null,null,32,null,1032,null,"正社員",null,"短時間労働者・有期雇用労働者",null,null,null,null,null,32,null,1032,null,"正社員",null,"短時間労働者・有期雇用労働者",null,null,null,null,null,32,null,1032,null,"正社員",null,"短時間労働者・有期雇用労働者",null,null,null,null,null,32,null,1032,null,"正社員",null,"短時間労働者・有期雇用労働者",null,null,null,null,null,32,null,1032,null,"正社員",null,"短時間労働者・有期雇用労働者",null,null,null,null,null,32,null,1032,null,"正社員",null,"短時間労働者・有期雇用労働者",null,null,null,null,null,32,null,1032,null,"正社員",null,"短時間労働者・有期雇用労働者",null,null,null,null,null,32,null,1032,null,"正社員",null,"短時間労働者・有期雇用労働者",null,null,null,null,null,32,null,1032,null,"正社員",null,"短時間労働者・有期雇用労働者",null,null,null,null,null,32,null,1032]
[null,null,null,null,null,null,null,null,null,null,null,null,null,null,null,null,null,null,null,null,{"$f":"IF(OFFSET($A$1,ROW()-5,COLUMN()+1)<>2,\"\",'手順２・３・４社員タイプ#01'!$E$40&\"\")","v":""},null,{"$f":"IF(OFFSET($A$1,ROW()-5,COLUMN()-1)<>2,\"\",'手順２・３・４社員タイプ#01'!$F$40&\"\")","v":""},null,{"$f":"IF(OFFSET($A$1,ROW()-5,COLUMN()-3)<>2,1,0)","v":1},null,{"$f":"OFFSET($A$1,ROW()-1,COLUMN()-3)","v":1},null,33,null,1033,null,{"$f":"IF(OFFSET($A$1,ROW()-5,COLUMN()+1)<>2,\"\",'手順２・３・４社員タイプ#02'!$E$40&\"\")","v":""},null,{"$f":"IF(OFFSET($A$1,ROW()-5,COLUMN()-1)<>2,\"\",'手順２・３・４社員タイプ#02'!$F$40&\"\")","v":""},null,{"$f":"IF(OFFSET($A$1,ROW()-5,COLUMN()-3)<>2,1,0)","v":1},null,{"$f":"OFFSET($A$1,ROW()-1,COLUMN()-3)","v":1},null,33,null,1033,null,{"$f":"IF(OFFSET($A$1,ROW()-5,COLUMN()+1)<>2,\"\",'手順２・３・４社員タイプ#03'!$E$40&\"\")","v":""},null,{"$f":"IF(OFFSET($A$1,ROW()-5,COLUMN()-1)<>2,\"\",'手順２・３・４社員タイプ#03'!$F$40&\"\")","v":""},null,{"$f":"IF(OFFSET($A$1,ROW()-5,COLUMN()-3)<>2,1,0)","v":1},null,{"$f":"OFFSET($A$1,ROW()-1,COLUMN()-3)","v":1},null,33,null,1033,null,{"$f":"IF(OFFSET($A$1,ROW()-5,COLUMN()+1)<>2,\"\",'手順２・３・４社員タイプ#04'!$E$40&\"\")","v":""},null,{"$f":"IF(OFFSET($A$1,ROW()-5,COLUMN()-1)<>2,\"\",'手順２・３・４社員タイプ#04'!$F$40&\"\")","v":""},null,{"$f":"IF(OFFSET($A$1,ROW()-5,COLUMN()-3)<>2,1,0)","v":1},null,{"$f":"OFFSET($A$1,ROW()-1,COLUMN()-3)","v":1},null,33,null,1033,null,{"$f":"IF(OFFSET($A$1,ROW()-5,COLUMN()+1)<>2,\"\",'手順２・３・４社員タイプ#05'!$E$40&\"\")","v":""},null,{"$f":"IF(OFFSET($A$1,ROW()-5,COLUMN()-1)<>2,\"\",'手順２・３・４社員タイプ#05'!$F$40&\"\")","v":""},null,{"$f":"IF(OFFSET($A$1,ROW()-5,COLUMN()-3)<>2,1,0)","v":1},null,{"$f":"OFFSET($A$1,ROW()-1,COLUMN()-3)","v":1},null,33,null,1033,null,{"$f":"IF(OFFSET($A$1,ROW()-5,COLUMN()+1)<>2,\"\",'手順２・３・４社員タイプ#06'!$E$40&\"\")","v":""},null,{"$f":"IF(OFFSET($A$1,ROW()-5,COLUMN()-1)<>2,\"\",'手順２・３・４社員タイプ#06'!$F$40&\"\")","v":""},null,{"$f":"IF(OFFSET($A$1,ROW()-5,COLUMN()-3)<>2,1,0)","v":1},null,{"$f":"OFFSET($A$1,ROW()-1,COLUMN()-3)","v":1},null,33,null,1033,null,{"$f":"IF(OFFSET($A$1,ROW()-5,COLUMN()+1)<>2,\"\",'手順２・３・４社員タイプ#07'!$E$40&\"\")","v":""},null,{"$f":"IF(OFFSET($A$1,ROW()-5,COLUMN()-1)<>2,\"\",'手順２・３・４社員タイプ#07'!$F$40&\"\")","v":""},null,{"$f":"IF(OFFSET($A$1,ROW()-5,COLUMN()-3)<>2,1,0)","v":1},null,{"$f":"OFFSET($A$1,ROW()-1,COLUMN()-3)","v":1},null,33,null,1033,null,{"$f":"IF(OFFSET($A$1,ROW()-5,COLUMN()+1)<>2,\"\",'手順２・３・４社員タイプ#08'!$E$40&\"\")","v":""},null,{"$f":"IF(OFFSET($A$1,ROW()-5,COLUMN()-1)<>2,\"\",'手順２・３・４社員タイプ#08'!$F$40&\"\")","v":""},null,{"$f":"IF(OFFSET($A$1,ROW()-5,COLUMN()-3)<>2,1,0)","v":1},null,{"$f":"OFFSET($A$1,ROW()-1,COLUMN()-3)","v":1},null,33,null,1033,null,{"$f":"IF(OFFSET($A$1,ROW()-5,COLUMN()+1)<>2,\"\",'手順２・３・４社員タイプ#09'!$E$40&\"\")","v":""},null,{"$f":"IF(OFFSET($A$1,ROW()-5,COLUMN()-1)<>2,\"\",'手順２・３・４社員タイプ#09'!$F$40&\"\")","v":""},null,{"$f":"IF(OFFSET($A$1,ROW()-5,COLUMN()-3)<>2,1,0)","v":1},null,{"$f":"OFFSET($A$1,ROW()-1,COLUMN()-3)","v":1},null,33,null,1033,null,{"$f":"IF(OFFSET($A$1,ROW()-5,COLUMN()+1)<>2,\"\",'手順２・３・４社員タイプ#10'!$E$40&\"\")","v":""},null,{"$f":"IF(OFFSET($A$1,ROW()-5,COLUMN()-1)<>2,\"\",'手順２・３・４社員タイプ#10'!$F$40&\"\")","v":""},null,{"$f":"IF(OFFSET($A$1,ROW()-5,COLUMN()-3)<>2,1,0)","v":1},null,{"$f":"OFFSET($A$1,ROW()-1,COLUMN()-3)","v":1},null,33,null,1033]
[null,null,null,null,null,null,null,null,null,null,null,null,null,null,null,null,null,null,null,null,"違いを設けている理由",null,"対応方針",null,null,null,null,null,34,null,1034,null,"違いを設けている理由",null,"対応方針",null,null,null,null,null,34,null,1034,null,"違いを設けている理由",null,"対応方針",null,null,null,null,null,34,null,1034,null,"違いを設けている理由",null,"対応方針",null,null,null,null,null,34,null,1034,null,"違いを設けている理由",null,"対応方針",null,null,null,null,null,34,null,1034,null,"違いを設けている理由",null,"対応方針",null,null,null,null,null,34,null,1034,null,"違いを設けている理由",null,"対応方針",null,null,null,null,null,34,null,1034,null,"違いを設けている理由",null,"対応方針",null,null,null,null,null,34,null,1034,null,"違いを設けている理由",null,"対応方針",null,null,null,null,null,34,null,1034,null,"違いを設けている理由",null,"対応方針",null,null,null,null,null,34,null,1034]
[null,null,null,null,null,null,null,null,null,null,null,null,null,null,null,null,null,null,null,null,{"$f":"IF(OFFSET($A$1,ROW()-7,COLUMN()+1)<>2,\"\",'手順２・３・４社員タイプ#01'!$G$40&\"\")","v":""},null,{"$f":"IF(OFFSET($A$1,ROW()-7,COLUMN()-1)<>2,\"\",'手順２・３・４社員タイプ#01'!$H$40&\"\")","v":""},null,{"$f":"OFFSET($A$1,ROW()-3,COLUMN()-1)","v":1},null,{"$f":"OFFSET($A$1,ROW()-3,COLUMN()-3)","v":1},null,35,null,1035,null,{"$f":"IF(OFFSET($A$1,ROW()-7,COLUMN()+1)<>2,\"\",'手順２・３・４社員タイプ#02'!$G$40&\"\")","v":""},null,{"$f":"IF(OFFSET($A$1,ROW()-7,COLUMN()-1)<>2,\"\",'手順２・３・４社員タイプ#02'!$H$40&\"\")","v":""},null,{"$f":"OFFSET($A$1,ROW()-3,COLUMN()-1)","v":1},null,{"$f":"OFFSET($A$1,ROW()-3,COLUMN()-3)","v":1},null,35,null,1035,null,{"$f":"IF(OFFSET($A$1,ROW()-7,COLUMN()+1)<>2,\"\",'手順２・３・４社員タイプ#03'!$G$40&\"\")","v":""},null,{"$f":"IF(OFFSET($A$1,ROW()-7,COLUMN()-1)<>2,\"\",'手順２・３・４社員タイプ#03'!$H$40&\"\")","v":""},null,{"$f":"OFFSET($A$1,ROW()-3,COLUMN()-1)","v":1},null,{"$f":"OFFSET($A$1,ROW()-3,COLUMN()-3)","v":1},null,35,null,1035,null,{"$f":"IF(OFFSET($A$1,ROW()-7,COLUMN()+1)<>2,\"\",'手順２・３・４社員タイプ#04'!$G$40&\"\")","v":""},null,{"$f":"IF(OFFSET($A$1,ROW()-7,COLUMN()-1)<>2,\"\",'手順２・３・４社員タイプ#04'!$H$40&\"\")","v":""},null,{"$f":"OFFSET($A$1,ROW()-3,COLUMN()-1)","v":1},null,{"$f":"OFFSET($A$1,ROW()-3,COLUMN()-3)","v":1},null,35,null,1035,null,{"$f":"IF(OFFSET($A$1,ROW()-7,COLUMN()+1)<>2,\"\",'手順２・３・４社員タイプ#05'!$G$40&\"\")","v":""},null,{"$f":"IF(OFFSET($A$1,ROW()-7,COLUMN()-1)<>2,\"\",'手順２・３・４社員タイプ#05'!$H$40&\"\")","v":""},null,{"$f":"OFFSET($A$1,ROW()-3,COLUMN()-1)","v":1},null,{"$f":"OFFSET($A$1,ROW()-3,COLUMN()-3)","v":1},null,35,null,1035,null,{"$f":"IF(OFFSET($A$1,ROW()-7,COLUMN()+1)<>2,\"\",'手順２・３・４社員タイプ#06'!$G$40&\"\")","v":""},null,{"$f":"IF(OFFSET($A$1,ROW()-7,COLUMN()-1)<>2,\"\",'手順２・３・４社員タイプ#06'!$H$40&\"\")","v":""},null,{"$f":"OFFSET($A$1,ROW()-3,COLUMN()-1)","v":1},null,{"$f":"OFFSET($A$1,ROW()-3,COLUMN()-3)","v":1},null,35,null,1035,null,{"$f":"IF(OFFSET($A$1,ROW()-7,COLUMN()+1)<>2,\"\",'手順２・３・４社員タイプ#07'!$G$40&\"\")","v":""},null,{"$f":"IF(OFFSET($A$1,ROW()-7,COLUMN()-1)<>2,\"\",'手順２・３・４社員タイプ#07'!$H$40&\"\")","v":""},null,{"$f":"OFFSET($A$1,ROW()-3,COLUMN()-1)","v":1},null,{"$f":"OFFSET($A$1,ROW()-3,COLUMN()-3)","v":1},null,35,null,1035,null,{"$f":"IF(OFFSET($A$1,ROW()-7,COLUMN()+1)<>2,\"\",'手順２・３・４社員タイプ#08'!$G$40&\"\")","v":""},null,{"$f":"IF(OFFSET($A$1,ROW()-7,COLUMN()-1)<>2,\"\",'手順２・３・４社員タイプ#08'!$H$40&\"\")","v":""},null,{"$f":"OFFSET($A$1,ROW()-3,COLUMN()-1)","v":1},null,{"$f":"OFFSET($A$1,ROW()-3,COLUMN()-3)","v":1},null,35,null,1035,null,{"$f":"IF(OFFSET($A$1,ROW()-7,COLUMN()+1)<>2,\"\",'手順２・３・４社員タイプ#09'!$G$40&\"\")","v":""},null,{"$f":"IF(OFFSET($A$1,ROW()-7,COLUMN()-1)<>2,\"\",'手順２・３・４社員タイプ#09'!$H$40&\"\")","v":""},null,{"$f":"OFFSET($A$1,ROW()-3,COLUMN()-1)","v":1},null,{"$f":"OFFSET($A$1,ROW()-3,COLUMN()-3)","v":1},null,35,null,1035,null,{"$f":"IF(OFFSET($A$1,ROW()-7,COLUMN()+1)<>2,\"\",'手順２・３・４社員タイプ#10'!$G$40&\"\")","v":""},null,{"$f":"IF(OFFSET($A$1,ROW()-7,COLUMN()-1)<>2,\"\",'手順２・３・４社員タイプ#10'!$H$40&\"\")","v":""},null,{"$f":"OFFSET($A$1,ROW()-3,COLUMN()-1)","v":1},null,{"$f":"OFFSET($A$1,ROW()-3,COLUMN()-3)","v":1},null,35,null,1035]
[null,null,null,null,null,null,null,null,null,null,null,null,null,null,null,null,null,null,null,null,{"$f":"IF('手順２・３・４社員タイプ#01'!$B$20=\"\",\"\", '手順２・３・４社員タイプ#01'!$B$20)","v":""},null,{"$f":"'手順２・３・４社員タイプ#01'!$C$20","v":0},null,null,null,null,null,36,null,{"$f":"IF(AND(OFFSET($A$1,ROW()-1,COLUMN()-11)<>\"\",OR(OFFSET($A$1,ROW()-1,COLUMN()-9)=1,OFFSET($A$1,ROW()-1,COLUMN()-9)=2)),OFFSET($A$1,ROW()-1,COLUMN()-3),OFFSET($A$1,ROW()-1,COLUMN()-3)+1000)","v":1036},null,{"$f":"IF('手順２・３・４社員タイプ#02'!$B$20=\"\",\"\", '手順２・３・４社員タイプ#02'!$B$20)","v":""},null,{"$f":"'手順２・３・４社員タイプ#02'!$C$20","v":0},null,null,null,null,null,36,null,{"$f":"IF(AND(OFFSET($A$1,ROW()-1,COLUMN()-11)<>\"\",OR(OFFSET($A$1,ROW()-1,COLUMN()-9)=1,OFFSET($A$1,ROW()-1,COLUMN()-9)=2)),OFFSET($A$1,ROW()-1,COLUMN()-3),OFFSET($A$1,ROW()-1,COLUMN()-3)+1000)","v":1036},null,{"$f":"IF('手順２・３・４社員タイプ#03'!$B$20=\"\",\"\", '手順２・３・４社員タイプ#03'!$B$20)","v":""},null,{"$f":"'手順２・３・４社員タイプ#03'!$C$20","v":0},null,null,null,null,null,36,null,{"$f":"IF(AND(OFFSET($A$1,ROW()-1,COLUMN()-11)<>\"\",OR(OFFSET($A$1,ROW()-1,COLUMN()-9)=1,OFFSET($A$1,ROW()-1,COLUMN()-9)=2)),OFFSET($A$1,ROW()-1,COLUMN()-3),OFFSET($A$1,ROW()-1,COLUMN()-3)+1000)","v":1036},null,{"$f":"IF('手順２・３・４社員タイプ#04'!$B$20=\"\",\"\", '手順２・３・４社員タイプ#04'!$B$20)","v":""},null,{"$f":"'手順２・３・４社員タイプ#04'!$C$20","v":0},null,null,null,null,null,36,null,{"$f":"IF(AND(OFFSET($A$1,ROW()-1,COLUMN()-11)<>\"\",OR(OFFSET($A$1,ROW()-1,COLUMN()-9)=1,OFFSET($A$1,ROW()-1,COLUMN()-9)=2)),OFFSET($A$1,ROW()-1,COLUMN()-3),OFFSET($A$1,ROW()-1,COLUMN()-3)+1000)","v":1036},null,{"$f":"IF('手順２・３・４社員タイプ#05'!$B$20=\"\",\"\", '手順２・３・４社員タイプ#05'!$B$20)","v":""},null,{"$f":"'手順２・３・４社員タイプ#05'!$C$20","v":0},null,null,null,null,null,36,null,{"$f":"IF(AND(OFFSET($A$1,ROW()-1,COLUMN()-11)<>\"\",OR(OFFSET($A$1,ROW()-1,COLUMN()-9)=1,OFFSET($A$1,ROW()-1,COLUMN()-9)=2)),OFFSET($A$1,ROW()-1,COLUMN()-3),OFFSET($A$1,ROW()-1,COLUMN()-3)+1000)","v":1036},null,{"$f":"IF('手順２・３・４社員タイプ#06'!$B$20=\"\",\"\", '手順２・３・４社員タイプ#06'!$B$20)","v":""},null,{"$f":"'手順２・３・４社員タイプ#06'!$C$20","v":0},null,null,null,null,null,36,null,{"$f":"IF(AND(OFFSET($A$1,ROW()-1,COLUMN()-11)<>\"\",OR(OFFSET($A$1,ROW()-1,COLUMN()-9)=1,OFFSET($A$1,ROW()-1,COLUMN()-9)=2)),OFFSET($A$1,ROW()-1,COLUMN()-3),OFFSET($A$1,ROW()-1,COLUMN()-3)+1000)","v":1036},null,{"$f":"IF('手順２・３・４社員タイプ#07'!$B$20=\"\",\"\", '手順２・３・４社員タイプ#07'!$B$20)","v":""},null,{"$f":"'手順２・３・４社員タイプ#07'!$C$20","v":0},null,null,null,null,null,36,null,{"$f":"IF(AND(OFFSET($A$1,ROW()-1,COLUMN()-11)<>\"\",OR(OFFSET($A$1,ROW()-1,COLUMN()-9)=1,OFFSET($A$1,ROW()-1,COLUMN()-9)=2)),OFFSET($A$1,ROW()-1,COLUMN()-3),OFFSET($A$1,ROW()-1,COLUMN()-3)+1000)","v":1036},null,{"$f":"IF('手順２・３・４社員タイプ#08'!$B$20=\"\",\"\", '手順２・３・４社員タイプ#08'!$B$20)","v":""},null,{"$f":"'手順２・３・４社員タイプ#08'!$C$20","v":0},null,null,null,null,null,36,null,{"$f":"IF(AND(OFFSET($A$1,ROW()-1,COLUMN()-11)<>\"\",OR(OFFSET($A$1,ROW()-1,COLUMN()-9)=1,OFFSET($A$1,ROW()-1,COLUMN()-9)=2)),OFFSET($A$1,ROW()-1,COLUMN()-3),OFFSET($A$1,ROW()-1,COLUMN()-3)+1000)","v":1036},null,{"$f":"IF('手順２・３・４社員タイプ#09'!$B$20=\"\",\"\", '手順２・３・４社員タイプ#09'!$B$20)","v":""},null,{"$f":"'手順２・３・４社員タイプ#09'!$C$20","v":0},null,null,null,null,null,36,null,{"$f":"IF(AND(OFFSET($A$1,ROW()-1,COLUMN()-11)<>\"\",OR(OFFSET($A$1,ROW()-1,COLUMN()-9)=1,OFFSET($A$1,ROW()-1,COLUMN()-9)=2)),OFFSET($A$1,ROW()-1,COLUMN()-3),OFFSET($A$1,ROW()-1,COLUMN()-3)+1000)","v":1036},null,{"$f":"IF('手順２・３・４社員タイプ#10'!$B$20=\"\",\"\", '手順２・３・４社員タイプ#10'!$B$20)","v":""},null,{"$f":"'手順２・３・４社員タイプ#10'!$C$20","v":0},null,null,null,null,null,36,null,{"$f":"IF(AND(OFFSET($A$1,ROW()-1,COLUMN()-11)<>\"\",OR(OFFSET($A$1,ROW()-1,COLUMN()-9)=1,OFFSET($A$1,ROW()-1,COLUMN()-9)=2)),OFFSET($A$1,ROW()-1,COLUMN()-3),OFFSET($A$1,ROW()-1,COLUMN()-3)+1000)","v":1036}]
[null,null,null,null,null,null,null,null,null,null,null,null,null,null,null,null,null,null,null,null,"待遇の違いの有無",null,"支給の目的",null,null,null,null,null,37,null,{"$f":"OFFSET($A$1,ROW()-2,COLUMN()-1)+1","v":1037},null,"待遇の違いの有無",null,"支給の目的",null,null,null,null,null,37,null,{"$f":"OFFSET($A$1,ROW()-2,COLUMN()-1)+1","v":1037},null,"待遇の違いの有無",null,"支給の目的",null,null,null,null,null,37,null,{"$f":"OFFSET($A$1,ROW()-2,COLUMN()-1)+1","v":1037},null,"待遇の違いの有無",null,"支給の目的",null,null,null,null,null,37,null,{"$f":"OFFSET($A$1,ROW()-2,COLUMN()-1)+1","v":1037},null,"待遇の違いの有無",null,"支給の目的",null,null,null,null,null,37,null,{"$f":"OFFSET($A$1,ROW()-2,COLUMN()-1)+1","v":1037},null,"待遇の違いの有無",null,"支給の目的",null,null,null,null,null,37,null,{"$f":"OFFSET($A$1,ROW()-2,COLUMN()-1)+1","v":1037},null,"待遇の違いの有無",null,"支給の目的",null,null,null,null,null,37,null,{"$f":"OFFSET($A$1,ROW()-2,COLUMN()-1)+1","v":1037},null,"待遇の違いの有無",null,"支給の目的",null,null,null,null,null,37,null,{"$f":"OFFSET($A$1,ROW()-2,COLUMN()-1)+1","v":1037},null,"待遇の違いの有無",null,"支給の目的",null,null,null,null,null,37,null,{"$f":"OFFSET($A$1,ROW()-2,COLUMN()-1)+1","v":1037},null,"待遇の違いの有無",null,"支給の目的",null,null,null,null,null,37,null,{"$f":"OFFSET($A$1,ROW()-2,COLUMN()-1)+1","v":1037}]
[null,null,null,null,null,null,null,null,null,null,null,null,null,null,null,null,null,null,null,null,{"$f":"OFFSET($C$6,OFFSET($A$1,ROW()-3,COLUMN()+1),0)","v":" "},null,{"$f":"'手順２・３・４社員タイプ#01'!$D$20&\"\"","v":""},null,null,null,null,null,38,null,1038,null,{"$f":"OFFSET($C$6,OFFSET($A$1,ROW()-3,COLUMN()+1),0)","v":" "},null,{"$f":"'手順２・３・４社員タイプ#02'!$D$20&\"\"","v":""},null,null,null,null,null,38,null,1038,null,{"$f":"OFFSET($C$6,OFFSET($A$1,ROW()-3,COLUMN()+1),0)","v":" "},null,{"$f":"'手順２・３・４社員タイプ#03'!$D$20&\"\"","v":""},null,null,null,null,null,38,null,1038,null,{"$f":"OFFSET($C$6,OFFSET($A$1,ROW()-3,COLUMN()+1),0)","v":" "},null,{"$f":"'手順２・３・４社員タイプ#04'!$D$20&\"\"","v":""},null,null,null,null,null,38,null,1038,null,{"$f":"OFFSET($C$6,OFFSET($A$1,ROW()-3,COLUMN()+1),0)","v":" "},null,{"$f":"'手順２・３・４社員タイプ#05'!$D$20&\"\"","v":""},null,null,null,null,null,38,null,1038,null,{"$f":"OFFSET($C$6,OFFSET($A$1,ROW()-3,COLUMN()+1),0)","v":" "},null,{"$f":"'手順２・３・４社員タイプ#06'!$D$20&\"\"","v":""},null,null,null,null,null,38,null,1038,null,{"$f":"OFFSET($C$6,OFFSET($A$1,ROW()-3,COLUMN()+1),0)","v":" "},null,{"$f":"'手順２・３・４社員タイプ#07'!$D$20&\"\"","v":""},null,null,null,null,null,38,null,1038,null,{"$f":"OFFSET($C$6,OFFSET($A$1,ROW()-3,COLUMN()+1),0)","v":" "},null,{"$f":"'手順２・３・４社員タイプ#08'!$D$20&\"\"","v":""},null,null,null,null,null,38,null,1038,null,{"$f":"OFFSET($C$6,OFFSET($A$1,ROW()-3,COLUMN()+1),0)","v":" "},null,{"$f":"'手順２・３・４社員タイプ#09'!$D$20&\"\"","v":""},null,null,null,null,null,38,null,1038,null,{"$f":"OFFSET($C$6,OFFSET($A$1,ROW()-3,COLUMN()+1),0)","v":" "},null,{"$f":"'手順２・３・４社員タイプ#10'!$D$20&\"\"","v":""},null,null,null,null,null,38,null,1038]
[null,null,null,null,null,null,null,null,null,null,null,null,null,null,null,null,null,null,null,null,"正社員",null,"短時間労働者・有期雇用労働者",null,null,null,null,null,39,null,1039,null,"正社員",null,"短時間労働者・有期雇用労働者",null,null,null,null,null,39,null,1039,null,"正社員",null,"短時間労働者・有期雇用労働者",null,null,null,null,null,39,null,1039,null,"正社員",null,"短時間労働者・有期雇用労働者",null,null,null,null,null,39,null,1039,null,"正社員",null,"短時間労働者・有期雇用労働者",null,null,null,null,null,39,null,1039,null,"正社員",null,"短時間労働者・有期雇用労働者",null,null,null,null,null,39,null,1039,null,"正社員",null,"短時間労働者・有期雇用労働者",null,null,null,null,null,39,null,1039,null,"正社員",null,"短時間労働者・有期雇用労働者",null,null,null,null,null,39,null,1039,null,"正社員",null,"短時間労働者・有期雇用労働者",null,null,null,null,null,39,null,1039,null,"正社員",null,"短時間労働者・有期雇用労働者",null,null,null,null,null,39,null,1039]
[null,null,null,null,null,null,null,null,null,null,null,null,null,null,null,null,null,null,null,null,{"$f":"IF(OFFSET($A$1,ROW()-5,COLUMN()+1)<>2,\"\",'手順２・３・４社員タイプ#01'!$E$20&\"\")","v":""},null,{"$f":"IF(OFFSET($A$1,ROW()-5,COLUMN()-1)<>2,\"\",'手順２・３・４社員タイプ#01'!$F$20&\"\")","v":""},null,{"$f":"IF(OFFSET($A$1,ROW()-5,COLUMN()-3)<>2,1,0)","v":1},null,{"$f":"OFFSET($A$1,ROW()-1,COLUMN()-3)","v":1},null,40,null,1040,null,{"$f":"IF(OFFSET($A$1,ROW()-5,COLUMN()+1)<>2,\"\",'手順２・３・４社員タイプ#02'!$E$20&\"\")","v":""},null,{"$f":"IF(OFFSET($A$1,ROW()-5,COLUMN()-1)<>2,\"\",'手順２・３・４社員タイプ#02'!$F$20&\"\")","v":""},null,{"$f":"IF(OFFSET($A$1,ROW()-5,COLUMN()-3)<>2,1,0)","v":1},null,{"$f":"OFFSET($A$1,ROW()-1,COLUMN()-3)","v":1},null,40,null,1040,null,{"$f":"IF(OFFSET($A$1,ROW()-5,COLUMN()+1)<>2,\"\",'手順２・３・４社員タイプ#03'!$E$20&\"\")","v":""},null,{"$f":"IF(OFFSET($A$1,ROW()-5,COLUMN()-1)<>2,\"\",'手順２・３・４社員タイプ#03'!$F$20&\"\")","v":""},null,{"$f":"IF(OFFSET($A$1,ROW()-5,COLUMN()-3)<>2,1,0)","v":1},null,{"$f":"OFFSET($A$1,ROW()-1,COLUMN()-3)","v":1},null,40,null,1040,null,{"$f":"IF(OFFSET($A$1,ROW()-5,COLUMN()+1)<>2,\"\",'手順２・３・４社員タイプ#04'!$E$20&\"\")","v":""},null,{"$f":"IF(OFFSET($A$1,ROW()-5,COLUMN()-1)<>2,\"\",'手順２・３・４社員タイプ#04'!$F$20&\"\")","v":""},null,{"$f":"IF(OFFSET($A$1,ROW()-5,COLUMN()-3)<>2,1,0)","v":1},null,{"$f":"OFFSET($A$1,ROW()-1,COLUMN()-3)","v":1},null,40,null,1040,null,{"$f":"IF(OFFSET($A$1,ROW()-5,COLUMN()+1)<>2,\"\",'手順２・３・４社員タイプ#05'!$E$20&\"\")","v":""},null,{"$f":"IF(OFFSET($A$1,ROW()-5,COLUMN()-1)<>2,\"\",'手順２・３・４社員タイプ#05'!$F$20&\"\")","v":""},null,{"$f":"IF(OFFSET($A$1,ROW()-5,COLUMN()-3)<>2,1,0)","v":1},null,{"$f":"OFFSET($A$1,ROW()-1,COLUMN()-3)","v":1},null,40,null,1040,null,{"$f":"IF(OFFSET($A$1,ROW()-5,COLUMN()+1)<>2,\"\",'手順２・３・４社員タイプ#06'!$E$20&\"\")","v":""},null,{"$f":"IF(OFFSET($A$1,ROW()-5,COLUMN()-1)<>2,\"\",'手順２・３・４社員タイプ#06'!$F$20&\"\")","v":""},null,{"$f":"IF(OFFSET($A$1,ROW()-5,COLUMN()-3)<>2,1,0)","v":1},null,{"$f":"OFFSET($A$1,ROW()-1,COLUMN()-3)","v":1},null,40,null,1040,null,{"$f":"IF(OFFSET($A$1,ROW()-5,COLUMN()+1)<>2,\"\",'手順２・３・４社員タイプ#07'!$E$20&\"\")","v":""},null,{"$f":"IF(OFFSET($A$1,ROW()-5,COLUMN()-1)<>2,\"\",'手順２・３・４社員タイプ#07'!$F$20&\"\")","v":""},null,{"$f":"IF(OFFSET($A$1,ROW()-5,COLUMN()-3)<>2,1,0)","v":1},null,{"$f":"OFFSET($A$1,ROW()-1,COLUMN()-3)","v":1},null,40,null,1040,null,{"$f":"IF(OFFSET($A$1,ROW()-5,COLUMN()+1)<>2,\"\",'手順２・３・４社員タイプ#08'!$E$20&\"\")","v":""},null,{"$f":"IF(OFFSET($A$1,ROW()-5,COLUMN()-1)<>2,\"\",'手順２・３・４社員タイプ#08'!$F$20&\"\")","v":""},null,{"$f":"IF(OFFSET($A$1,ROW()-5,COLUMN()-3)<>2,1,0)","v":1},null,{"$f":"OFFSET($A$1,ROW()-1,COLUMN()-3)","v":1},null,40,null,1040,null,{"$f":"IF(OFFSET($A$1,ROW()-5,COLUMN()+1)<>2,\"\",'手順２・３・４社員タイプ#09'!$E$20&\"\")","v":""},null,{"$f":"IF(OFFSET($A$1,ROW()-5,COLUMN()-1)<>2,\"\",'手順２・３・４社員タイプ#09'!$F$20&\"\")","v":""},null,{"$f":"IF(OFFSET($A$1,ROW()-5,COLUMN()-3)<>2,1,0)","v":1},null,{"$f":"OFFSET($A$1,ROW()-1,COLUMN()-3)","v":1},null,40,null,1040,null,{"$f":"IF(OFFSET($A$1,ROW()-5,COLUMN()+1)<>2,\"\",'手順２・３・４社員タイプ#10'!$E$20&\"\")","v":""},null,{"$f":"IF(OFFSET($A$1,ROW()-5,COLUMN()-1)<>2,\"\",'手順２・３・４社員タイプ#10'!$F$20&\"\")","v":""},null,{"$f":"IF(OFFSET($A$1,ROW()-5,COLUMN()-3)<>2,1,0)","v":1},null,{"$f":"OFFSET($A$1,ROW()-1,COLUMN()-3)","v":1},null,40,null,1040]
[null,null,null,null,null,null,null,null,null,null,null,null,null,null,null,null,null,null,null,null,"違いを設けている理由",null,"対応方針",null,null,null,null,null,41,null,1041,null,"違いを設けている理由",null,"対応方針",null,null,null,null,null,41,null,1041,null,"違いを設けている理由",null,"対応方針",null,null,null,null,null,41,null,1041,null,"違いを設けている理由",null,"対応方針",null,null,null,null,null,41,null,1041,null,"違いを設けている理由",null,"対応方針",null,null,null,null,null,41,null,1041,null,"違いを設けている理由",null,"対応方針",null,null,null,null,null,41,null,1041,null,"違いを設けている理由",null,"対応方針",null,null,null,null,null,41,null,1041,null,"違いを設けている理由",null,"対応方針",null,null,null,null,null,41,null,1041,null,"違いを設けている理由",null,"対応方針",null,null,null,null,null,41,null,1041,null,"違いを設けている理由",null,"対応方針",null,null,null,null,null,41,null,1041]
[null,null,null,null,null,null,null,null,null,null,null,null,null,null,null,null,null,null,null,null,{"$f":"IF(OFFSET($A$1,ROW()-7,COLUMN()+1)<>2,\"\",'手順２・３・４社員タイプ#01'!$G$20&\"\")","v":""},null,{"$f":"IF(OFFSET($A$1,ROW()-7,COLUMN()-1)<>2,\"\",'手順２・３・４社員タイプ#01'!$H$20&\"\")","v":""},null,{"$f":"OFFSET($A$1,ROW()-3,COLUMN()-1)","v":1},null,{"$f":"OFFSET($A$1,ROW()-3,COLUMN()-3)","v":1},null,42,null,1042,null,{"$f":"IF(OFFSET($A$1,ROW()-7,COLUMN()+1)<>2,\"\",'手順２・３・４社員タイプ#02'!$G$20&\"\")","v":""},null,{"$f":"IF(OFFSET($A$1,ROW()-7,COLUMN()-1)<>2,\"\",'手順２・３・４社員タイプ#02'!$H$20&\"\")","v":""},null,{"$f":"OFFSET($A$1,ROW()-3,COLUMN()-1)","v":1},null,{"$f":"OFFSET($A$1,ROW()-3,COLUMN()-3)","v":1},null,42,null,1042,null,{"$f":"IF(OFFSET($A$1,ROW()-7,COLUMN()+1)<>2,\"\",'手順２・３・４社員タイプ#03'!$G$20&\"\")","v":""},null,{"$f":"IF(OFFSET($A$1,ROW()-7,COLUMN()-1)<>2,\"\",'手順２・３・４社員タイプ#03'!$H$20&\"\")","v":""},null,{"$f":"OFFSET($A$1,ROW()-3,COLUMN()-1)","v":1},null,{"$f":"OFFSET($A$1,ROW()-3,COLUMN()-3)","v":1},null,42,null,1042,null,{"$f":"IF(OFFSET($A$1,ROW()-7,COLUMN()+1)<>2,\"\",'手順２・３・４社員タイプ#04'!$G$20&\"\")","v":""},null,{"$f":"IF(OFFSET($A$1,ROW()-7,COLUMN()-1)<>2,\"\",'手順２・３・４社員タイプ#04'!$H$20&\"\")","v":""},null,{"$f":"OFFSET($A$1,ROW()-3,COLUMN()-1)","v":1},null,{"$f":"OFFSET($A$1,ROW()-3,COLUMN()-3)","v":1},null,42,null,1042,null,{"$f":"IF(OFFSET($A$1,ROW()-7,COLUMN()+1)<>2,\"\",'手順２・３・４社員タイプ#05'!$G$20&\"\")","v":""},null,{"$f":"IF(OFFSET($A$1,ROW()-7,COLUMN()-1)<>2,\"\",'手順２・３・４社員タイプ#05'!$H$20&\"\")","v":""},null,{"$f":"OFFSET($A$1,ROW()-3,COLUMN()-1)","v":1},null,{"$f":"OFFSET($A$1,ROW()-3,COLUMN()-3)","v":1},null,42,null,1042,null,{"$f":"IF(OFFSET($A$1,ROW()-7,COLUMN()+1)<>2,\"\",'手順２・３・４社員タイプ#06'!$G$20&\"\")","v":""},null,{"$f":"IF(OFFSET($A$1,ROW()-7,COLUMN()-1)<>2,\"\",'手順２・３・４社員タイプ#06'!$H$20&\"\")","v":""},null,{"$f":"OFFSET($A$1,ROW()-3,COLUMN()-1)","v":1},null,{"$f":"OFFSET($A$1,ROW()-3,COLUMN()-3)","v":1},null,42,null,1042,null,{"$f":"IF(OFFSET($A$1,ROW()-7,COLUMN()+1)<>2,\"\",'手順２・３・４社員タイプ#07'!$G$20&\"\")","v":""},null,{"$f":"IF(OFFSET($A$1,ROW()-7,COLUMN()-1)<>2,\"\",'手順２・３・４社員タイプ#07'!$H$20&\"\")","v":""},null,{"$f":"OFFSET($A$1,ROW()-3,COLUMN()-1)","v":1},null,{"$f":"OFFSET($A$1,ROW()-3,COLUMN()-3)","v":1},null,42,null,1042,null,{"$f":"IF(OFFSET($A$1,ROW()-7,COLUMN()+1)<>2,\"\",'手順２・３・４社員タイプ#08'!$G$20&\"\")","v":""},null,{"$f":"IF(OFFSET($A$1,ROW()-7,COLUMN()-1)<>2,\"\",'手順２・３・４社員タイプ#08'!$H$20&\"\")","v":""},null,{"$f":"OFFSET($A$1,ROW()-3,COLUMN()-1)","v":1},null,{"$f":"OFFSET($A$1,ROW()-3,COLUMN()-3)","v":1},null,42,null,1042,null,{"$f":"IF(OFFSET($A$1,ROW()-7,COLUMN()+1)<>2,\"\",'手順２・３・４社員タイプ#09'!$G$20&\"\")","v":""},null,{"$f":"IF(OFFSET($A$1,ROW()-7,COLUMN()-1)<>2,\"\",'手順２・３・４社員タイプ#09'!$H$20&\"\")","v":""},null,{"$f":"OFFSET($A$1,ROW()-3,COLUMN()-1)","v":1},null,{"$f":"OFFSET($A$1,ROW()-3,COLUMN()-3)","v":1},null,42,null,1042,null,{"$f":"IF(OFFSET($A$1,ROW()-7,COLUMN()+1)<>2,\"\",'手順２・３・４社員タイプ#10'!$G$20&\"\")","v":""},null,{"$f":"IF(OFFSET($A$1,ROW()-7,COLUMN()-1)<>2,\"\",'手順２・３・４社員タイプ#10'!$H$20&\"\")","v":""},null,{"$f":"OFFSET($A$1,ROW()-3,COLUMN()-1)","v":1},null,{"$f":"OFFSET($A$1,ROW()-3,COLUMN()-3)","v":1},null,42,null,1042]
[null,null,null,null,null,null,null,null,null,null,null,null,null,null,null,null,null,null,null,null,{"$f":"IF('手順２・３・４社員タイプ#01'!$B$21=\"\",\"\", '手順２・３・４社員タイプ#01'!$B$21)","v":""},null,{"$f":"'手順２・３・４社員タイプ#01'!$C$21","v":0},null,null,null,null,null,43,null,{"$f":"IF(AND(OFFSET($A$1,ROW()-1,COLUMN()-11)<>\"\",OR(OFFSET($A$1,ROW()-1,COLUMN()-9)=1,OFFSET($A$1,ROW()-1,COLUMN()-9)=2)),OFFSET($A$1,ROW()-1,COLUMN()-3),OFFSET($A$1,ROW()-1,COLUMN()-3)+1000)","v":1043},null,{"$f":"IF('手順２・３・４社員タイプ#02'!$B$21=\"\",\"\", '手順２・３・４社員タイプ#02'!$B$21)","v":""},null,{"$f":"'手順２・３・４社員タイプ#02'!$C$21","v":0},null,null,null,null,null,43,null,{"$f":"IF(AND(OFFSET($A$1,ROW()-1,COLUMN()-11)<>\"\",OR(OFFSET($A$1,ROW()-1,COLUMN()-9)=1,OFFSET($A$1,ROW()-1,COLUMN()-9)=2)),OFFSET($A$1,ROW()-1,COLUMN()-3),OFFSET($A$1,ROW()-1,COLUMN()-3)+1000)","v":1043},null,{"$f":"IF('手順２・３・４社員タイプ#03'!$B$21=\"\",\"\", '手順２・３・４社員タイプ#03'!$B$21)","v":""},null,{"$f":"'手順２・３・４社員タイプ#03'!$C$21","v":0},null,null,null,null,null,43,null,{"$f":"IF(AND(OFFSET($A$1,ROW()-1,COLUMN()-11)<>\"\",OR(OFFSET($A$1,ROW()-1,COLUMN()-9)=1,OFFSET($A$1,ROW()-1,COLUMN()-9)=2)),OFFSET($A$1,ROW()-1,COLUMN()-3),OFFSET($A$1,ROW()-1,COLUMN()-3)+1000)","v":1043},null,{"$f":"IF('手順２・３・４社員タイプ#04'!$B$21=\"\",\"\", '手順２・３・４社員タイプ#04'!$B$21)","v":""},null,{"$f":"'手順２・３・４社員タイプ#04'!$C$21","v":0},null,null,null,null,null,43,null,{"$f":"IF(AND(OFFSET($A$1,ROW()-1,COLUMN()-11)<>\"\",OR(OFFSET($A$1,ROW()-1,COLUMN()-9)=1,OFFSET($A$1,ROW()-1,COLUMN()-9)=2)),OFFSET($A$1,ROW()-1,COLUMN()-3),OFFSET($A$1,ROW()-1,COLUMN()-3)+1000)","v":1043},null,{"$f":"IF('手順２・３・４社員タイプ#05'!$B$21=\"\",\"\", '手順２・３・４社員タイプ#05'!$B$21)","v":""},null,{"$f":"'手順２・３・４社員タイプ#05'!$C$21","v":0},null,null,null,null,null,43,null,{"$f":"IF(AND(OFFSET($A$1,ROW()-1,COLUMN()-11)<>\"\",OR(OFFSET($A$1,ROW()-1,COLUMN()-9)=1,OFFSET($A$1,ROW()-1,COLUMN()-9)=2)),OFFSET($A$1,ROW()-1,COLUMN()-3),OFFSET($A$1,ROW()-1,COLUMN()-3)+1000)","v":1043},null,{"$f":"IF('手順２・３・４社員タイプ#06'!$B$21=\"\",\"\", '手順２・３・４社員タイプ#06'!$B$21)","v":""},null,{"$f":"'手順２・３・４社員タイプ#06'!$C$21","v":0},null,null,null,null,null,43,null,{"$f":"IF(AND(OFFSET($A$1,ROW()-1,COLUMN()-11)<>\"\",OR(OFFSET($A$1,ROW()-1,COLUMN()-9)=1,OFFSET($A$1,ROW()-1,COLUMN()-9)=2)),OFFSET($A$1,ROW()-1,COLUMN()-3),OFFSET($A$1,ROW()-1,COLUMN()-3)+1000)","v":1043},null,{"$f":"IF('手順２・３・４社員タイプ#07'!$B$21=\"\",\"\", '手順２・３・４社員タイプ#07'!$B$21)","v":""},null,{"$f":"'手順２・３・４社員タイプ#07'!$C$21","v":0},null,null,null,null,null,43,null,{"$f":"IF(AND(OFFSET($A$1,ROW()-1,COLUMN()-11)<>\"\",OR(OFFSET($A$1,ROW()-1,COLUMN()-9)=1,OFFSET($A$1,ROW()-1,COLUMN()-9)=2)),OFFSET($A$1,ROW()-1,COLUMN()-3),OFFSET($A$1,ROW()-1,COLUMN()-3)+1000)","v":1043},null,{"$f":"IF('手順２・３・４社員タイプ#08'!$B$21=\"\",\"\", '手順２・３・４社員タイプ#08'!$B$21)","v":""},null,{"$f":"'手順２・３・４社員タイプ#08'!$C$21","v":0},null,null,null,null,null,43,null,{"$f":"IF(AND(OFFSET($A$1,ROW()-1,COLUMN()-11)<>\"\",OR(OFFSET($A$1,ROW()-1,COLUMN()-9)=1,OFFSET($A$1,ROW()-1,COLUMN()-9)=2)),OFFSET($A$1,ROW()-1,COLUMN()-3),OFFSET($A$1,ROW()-1,COLUMN()-3)+1000)","v":1043},null,{"$f":"IF('手順２・３・４社員タイプ#09'!$B$21=\"\",\"\", '手順２・３・４社員タイプ#09'!$B$21)","v":""},null,{"$f":"'手順２・３・４社員タイプ#09'!$C$21","v":0},null,null,null,null,null,43,null,{"$f":"IF(AND(OFFSET($A$1,ROW()-1,COLUMN()-11)<>\"\",OR(OFFSET($A$1,ROW()-1,COLUMN()-9)=1,OFFSET($A$1,ROW()-1,COLUMN()-9)=2)),OFFSET($A$1,ROW()-1,COLUMN()-3),OFFSET($A$1,ROW()-1,COLUMN()-3)+1000)","v":1043},null,{"$f":"IF('手順２・３・４社員タイプ#10'!$B$21=\"\",\"\", '手順２・３・４社員タイプ#10'!$B$21)","v":""},null,{"$f":"'手順２・３・４社員タイプ#10'!$C$21","v":0},null,null,null,null,null,43,null,{"$f":"IF(AND(OFFSET($A$1,ROW()-1,COLUMN()-11)<>\"\",OR(OFFSET($A$1,ROW()-1,COLUMN()-9)=1,OFFSET($A$1,ROW()-1,COLUMN()-9)=2)),OFFSET($A$1,ROW()-1,COLUMN()-3),OFFSET($A$1,ROW()-1,COLUMN()-3)+1000)","v":1043}]
[null,null,null,null,null,null,null,null,null,null,null,null,null,null,null,null,null,null,null,null,"待遇の違いの有無",null,"支給の目的",null,null,null,null,null,44,null,{"$f":"OFFSET($A$1,ROW()-2,COLUMN()-1)+1","v":1044},null,"待遇の違いの有無",null,"支給の目的",null,null,null,null,null,44,null,{"$f":"OFFSET($A$1,ROW()-2,COLUMN()-1)+1","v":1044},null,"待遇の違いの有無",null,"支給の目的",null,null,null,null,null,44,null,{"$f":"OFFSET($A$1,ROW()-2,COLUMN()-1)+1","v":1044},null,"待遇の違いの有無",null,"支給の目的",null,null,null,null,null,44,null,{"$f":"OFFSET($A$1,ROW()-2,COLUMN()-1)+1","v":1044},null,"待遇の違いの有無",null,"支給の目的",null,null,null,null,null,44,null,{"$f":"OFFSET($A$1,ROW()-2,COLUMN()-1)+1","v":1044},null,"待遇の違いの有無",null,"支給の目的",null,null,null,null,null,44,null,{"$f":"OFFSET($A$1,ROW()-2,COLUMN()-1)+1","v":1044},null,"待遇の違いの有無",null,"支給の目的",null,null,null,null,null,44,null,{"$f":"OFFSET($A$1,ROW()-2,COLUMN()-1)+1","v":1044},null,"待遇の違いの有無",null,"支給の目的",null,null,null,null,null,44,null,{"$f":"OFFSET($A$1,ROW()-2,COLUMN()-1)+1","v":1044},null,"待遇の違いの有無",null,"支給の目的",null,null,null,null,null,44,null,{"$f":"OFFSET($A$1,ROW()-2,COLUMN()-1)+1","v":1044},null,"待遇の違いの有無",null,"支給の目的",null,null,null,null,null,44,null,{"$f":"OFFSET($A$1,ROW()-2,COLUMN()-1)+1","v":1044}]
[null,null,null,null,null,null,null,null,null,null,null,null,null,null,null,null,null,null,null,null,{"$f":"OFFSET($C$6,OFFSET($A$1,ROW()-3,COLUMN()+1),0)","v":" "},null,{"$f":"'手順２・３・４社員タイプ#01'!$D$21&\"\"","v":""},null,null,null,null,null,45,null,1045,null,{"$f":"OFFSET($C$6,OFFSET($A$1,ROW()-3,COLUMN()+1),0)","v":" "},null,{"$f":"'手順２・３・４社員タイプ#02'!$D$21&\"\"","v":""},null,null,null,null,null,45,null,1045,null,{"$f":"OFFSET($C$6,OFFSET($A$1,ROW()-3,COLUMN()+1),0)","v":" "},null,{"$f":"'手順２・３・４社員タイプ#03'!$D$21&\"\"","v":""},null,null,null,null,null,45,null,1045,null,{"$f":"OFFSET($C$6,OFFSET($A$1,ROW()-3,COLUMN()+1),0)","v":" "},null,{"$f":"'手順２・３・４社員タイプ#04'!$D$21&\"\"","v":""},null,null,null,null,null,45,null,1045,null,{"$f":"OFFSET($C$6,OFFSET($A$1,ROW()-3,COLUMN()+1),0)","v":" "},null,{"$f":"'手順２・３・４社員タイプ#05'!$D$21&\"\"","v":""},null,null,null,null,null,45,null,1045,null,{"$f":"OFFSET($C$6,OFFSET($A$1,ROW()-3,COLUMN()+1),0)","v":" "},null,{"$f":"'手順２・３・４社員タイプ#06'!$D$21&\"\"","v":""},null,null,null,null,null,45,null,1045,null,{"$f":"OFFSET($C$6,OFFSET($A$1,ROW()-3,COLUMN()+1),0)","v":" "},null,{"$f":"'手順２・３・４社員タイプ#07'!$D$21&\"\"","v":""},null,null,null,null,null,45,null,1045,null,{"$f":"OFFSET($C$6,OFFSET($A$1,ROW()-3,COLUMN()+1),0)","v":" "},null,{"$f":"'手順２・３・４社員タイプ#08'!$D$21&\"\"","v":""},null,null,null,null,null,45,null,1045,null,{"$f":"OFFSET($C$6,OFFSET($A$1,ROW()-3,COLUMN()+1),0)","v":" "},null,{"$f":"'手順２・３・４社員タイプ#09'!$D$21&\"\"","v":""},null,null,null,null,null,45,null,1045,null,{"$f":"OFFSET($C$6,OFFSET($A$1,ROW()-3,COLUMN()+1),0)","v":" "},null,{"$f":"'手順２・３・４社員タイプ#10'!$D$21&\"\"","v":""},null,null,null,null,null,45,null,1045]
[null,null,null,null,null,null,null,null,null,null,null,null,null,null,null,null,null,null,null,null,"正社員",null,"短時間労働者・有期雇用労働者",null,null,null,null,null,46,null,1046,null,"正社員",null,"短時間労働者・有期雇用労働者",null,null,null,null,null,46,null,1046,null,"正社員",null,"短時間労働者・有期雇用労働者",null,null,null,null,null,46,null,1046,null,"正社員",null,"短時間労働者・有期雇用労働者",null,null,null,null,null,46,null,1046,null,"正社員",null,"短時間労働者・有期雇用労働者",null,null,null,null,null,46,null,1046,null,"正社員",null,"短時間労働者・有期雇用労働者",null,null,null,null,null,46,null,1046,null,"正社員",null,"短時間労働者・有期雇用労働者",null,null,null,null,null,46,null,1046,null,"正社員",null,"短時間労働者・有期雇用労働者",null,null,null,null,null,46,null,1046,null,"正社員",null,"短時間労働者・有期雇用労働者",null,null,null,null,null,46,null,1046,null,"正社員",null,"短時間労働者・有期雇用労働者",null,null,null,null,null,46,null,1046]
[null,null,null,null,null,null,null,null,null,null,null,null,null,null,null,null,null,null,null,null,{"$f":"IF(OFFSET($A$1,ROW()-5,COLUMN()+1)<>2,\"\",'手順２・３・４社員タイプ#01'!$E$21&\"\")","v":""},null,{"$f":"IF(OFFSET($A$1,ROW()-5,COLUMN()-1)<>2,\"\",'手順２・３・４社員タイプ#01'!$F$21&\"\")","v":""},null,{"$f":"IF(OFFSET($A$1,ROW()-5,COLUMN()-3)<>2,1,0)","v":1},null,{"$f":"OFFSET($A$1,ROW()-1,COLUMN()-3)","v":1},null,47,null,1047,null,{"$f":"IF(OFFSET($A$1,ROW()-5,COLUMN()+1)<>2,\"\",'手順２・３・４社員タイプ#02'!$E$21&\"\")","v":""},null,{"$f":"IF(OFFSET($A$1,ROW()-5,COLUMN()-1)<>2,\"\",'手順２・３・４社員タイプ#02'!$F$21&\"\")","v":""},null,{"$f":"IF(OFFSET($A$1,ROW()-5,COLUMN()-3)<>2,1,0)","v":1},null,{"$f":"OFFSET($A$1,ROW()-1,COLUMN()-3)","v":1},null,47,null,1047,null,{"$f":"IF(OFFSET($A$1,ROW()-5,COLUMN()+1)<>2,\"\",'手順２・３・４社員タイプ#03'!$E$21&\"\")","v":""},null,{"$f":"IF(OFFSET($A$1,ROW()-5,COLUMN()-1)<>2,\"\",'手順２・３・４社員タイプ#03'!$F$21&\"\")","v":""},null,{"$f":"IF(OFFSET($A$1,ROW()-5,COLUMN()-3)<>2,1,0)","v":1},null,{"$f":"OFFSET($A$1,ROW()-1,COLUMN()-3)","v":1},null,47,null,1047,null,{"$f":"IF(OFFSET($A$1,ROW()-5,COLUMN()+1)<>2,\"\",'手順２・３・４社員タイプ#04'!$E$21&\"\")","v":""},null,{"$f":"IF(OFFSET($A$1,ROW()-5,COLUMN()-1)<>2,\"\",'手順２・３・４社員タイプ#04'!$F$21&\"\")","v":""},null,{"$f":"IF(OFFSET($A$1,ROW()-5,COLUMN()-3)<>2,1,0)","v":1},null,{"$f":"OFFSET($A$1,ROW()-1,COLUMN()-3)","v":1},null,47,null,1047,null,{"$f":"IF(OFFSET($A$1,ROW()-5,COLUMN()+1)<>2,\"\",'手順２・３・４社員タイプ#05'!$E$21&\"\")","v":""},null,{"$f":"IF(OFFSET($A$1,ROW()-5,COLUMN()-1)<>2,\"\",'手順２・３・４社員タイプ#05'!$F$21&\"\")","v":""},null,{"$f":"IF(OFFSET($A$1,ROW()-5,COLUMN()-3)<>2,1,0)","v":1},null,{"$f":"OFFSET($A$1,ROW()-1,COLUMN()-3)","v":1},null,47,null,1047,null,{"$f":"IF(OFFSET($A$1,ROW()-5,COLUMN()+1)<>2,\"\",'手順２・３・４社員タイプ#06'!$E$21&\"\")","v":""},null,{"$f":"IF(OFFSET($A$1,ROW()-5,COLUMN()-1)<>2,\"\",'手順２・３・４社員タイプ#06'!$F$21&\"\")","v":""},null,{"$f":"IF(OFFSET($A$1,ROW()-5,COLUMN()-3)<>2,1,0)","v":1},null,{"$f":"OFFSET($A$1,ROW()-1,COLUMN()-3)","v":1},null,47,null,1047,null,{"$f":"IF(OFFSET($A$1,ROW()-5,COLUMN()+1)<>2,\"\",'手順２・３・４社員タイプ#07'!$E$21&\"\")","v":""},null,{"$f":"IF(OFFSET($A$1,ROW()-5,COLUMN()-1)<>2,\"\",'手順２・３・４社員タイプ#07'!$F$21&\"\")","v":""},null,{"$f":"IF(OFFSET($A$1,ROW()-5,COLUMN()-3)<>2,1,0)","v":1},null,{"$f":"OFFSET($A$1,ROW()-1,COLUMN()-3)","v":1},null,47,null,1047,null,{"$f":"IF(OFFSET($A$1,ROW()-5,COLUMN()+1)<>2,\"\",'手順２・３・４社員タイプ#08'!$E$21&\"\")","v":""},null,{"$f":"IF(OFFSET($A$1,ROW()-5,COLUMN()-1)<>2,\"\",'手順２・３・４社員タイプ#08'!$F$21&\"\")","v":""},null,{"$f":"IF(OFFSET($A$1,ROW()-5,COLUMN()-3)<>2,1,0)","v":1},null,{"$f":"OFFSET($A$1,ROW()-1,COLUMN()-3)","v":1},null,47,null,1047,null,{"$f":"IF(OFFSET($A$1,ROW()-5,COLUMN()+1)<>2,\"\",'手順２・３・４社員タイプ#09'!$E$21&\"\")","v":""},null,{"$f":"IF(OFFSET($A$1,ROW()-5,COLUMN()-1)<>2,\"\",'手順２・３・４社員タイプ#09'!$F$21&\"\")","v":""},null,{"$f":"IF(OFFSET($A$1,ROW()-5,COLUMN()-3)<>2,1,0)","v":1},null,{"$f":"OFFSET($A$1,ROW()-1,COLUMN()-3)","v":1},null,47,null,1047,null,{"$f":"IF(OFFSET($A$1,ROW()-5,COLUMN()+1)<>2,\"\",'手順２・３・４社員タイプ#10'!$E$21&\"\")","v":""},null,{"$f":"IF(OFFSET($A$1,ROW()-5,COLUMN()-1)<>2,\"\",'手順２・３・４社員タイプ#10'!$F$21&\"\")","v":""},null,{"$f":"IF(OFFSET($A$1,ROW()-5,COLUMN()-3)<>2,1,0)","v":1},null,{"$f":"OFFSET($A$1,ROW()-1,COLUMN()-3)","v":1},null,47,null,1047]
[null,null,null,null,null,null,null,null,null,null,null,null,null,null,null,null,null,null,null,null,"違いを設けている理由",null,"対応方針",null,null,null,null,null,48,null,1048,null,"違いを設けている理由",null,"対応方針",null,null,null,null,null,48,null,1048,null,"違いを設けている理由",null,"対応方針",null,null,null,null,null,48,null,1048,null,"違いを設けている理由",null,"対応方針",null,null,null,null,null,48,null,1048,null,"違いを設けている理由",null,"対応方針",null,null,null,null,null,48,null,1048,null,"違いを設けている理由",null,"対応方針",null,null,null,null,null,48,null,1048,null,"違いを設けている理由",null,"対応方針",null,null,null,null,null,48,null,1048,null,"違いを設けている理由",null,"対応方針",null,null,null,null,null,48,null,1048,null,"違いを設けている理由",null,"対応方針",null,null,null,null,null,48,null,1048,null,"違いを設けている理由",null,"対応方針",null,null,null,null,null,48,null,1048]
[null,null,null,null,null,null,null,null,null,null,null,null,null,null,null,null,null,null,null,null,{"$f":"IF(OFFSET($A$1,ROW()-7,COLUMN()+1)<>2,\"\",'手順２・３・４社員タイプ#01'!$G$21&\"\")","v":""},null,{"$f":"IF(OFFSET($A$1,ROW()-7,COLUMN()-1)<>2,\"\",'手順２・３・４社員タイプ#01'!$H$21&\"\")","v":""},null,{"$f":"OFFSET($A$1,ROW()-3,COLUMN()-1)","v":1},null,{"$f":"OFFSET($A$1,ROW()-3,COLUMN()-3)","v":1},null,49,null,1049,null,{"$f":"IF(OFFSET($A$1,ROW()-7,COLUMN()+1)<>2,\"\",'手順２・３・４社員タイプ#02'!$G$21&\"\")","v":""},null,{"$f":"IF(OFFSET($A$1,ROW()-7,COLUMN()-1)<>2,\"\",'手順２・３・４社員タイプ#02'!$H$21&\"\")","v":""},null,{"$f":"OFFSET($A$1,ROW()-3,COLUMN()-1)","v":1},null,{"$f":"OFFSET($A$1,ROW()-3,COLUMN()-3)","v":1},null,49,null,1049,null,{"$f":"IF(OFFSET($A$1,ROW()-7,COLUMN()+1)<>2,\"\",'手順２・３・４社員タイプ#03'!$G$21&\"\")","v":""},null,{"$f":"IF(OFFSET($A$1,ROW()-7,COLUMN()-1)<>2,\"\",'手順２・３・４社員タイプ#03'!$H$21&\"\")","v":""},null,{"$f":"OFFSET($A$1,ROW()-3,COLUMN()-1)","v":1},null,{"$f":"OFFSET($A$1,ROW()-3,COLUMN()-3)","v":1},null,49,null,1049,null,{"$f":"IF(OFFSET($A$1,ROW()-7,COLUMN()+1)<>2,\"\",'手順２・３・４社員タイプ#04'!$G$21&\"\")","v":""},null,{"$f":"IF(OFFSET($A$1,ROW()-7,COLUMN()-1)<>2,\"\",'手順２・３・４社員タイプ#04'!$H$21&\"\")","v":""},null,{"$f":"OFFSET($A$1,ROW()-3,COLUMN()-1)","v":1},null,{"$f":"OFFSET($A$1,ROW()-3,COLUMN()-3)","v":1},null,49,null,1049,null,{"$f":"IF(OFFSET($A$1,ROW()-7,COLUMN()+1)<>2,\"\",'手順２・３・４社員タイプ#05'!$G$21&\"\")","v":""},null,{"$f":"IF(OFFSET($A$1,ROW()-7,COLUMN()-1)<>2,\"\",'手順２・３・４社員タイプ#05'!$H$21&\"\")","v":""},null,{"$f":"OFFSET($A$1,ROW()-3,COLUMN()-1)","v":1},null,{"$f":"OFFSET($A$1,ROW()-3,COLUMN()-3)","v":1},null,49,null,1049,null,{"$f":"IF(OFFSET($A$1,ROW()-7,COLUMN()+1)<>2,\"\",'手順２・３・４社員タイプ#06'!$G$21&\"\")","v":""},null,{"$f":"IF(OFFSET($A$1,ROW()-7,COLUMN()-1)<>2,\"\",'手順２・３・４社員タイプ#06'!$H$21&\"\")","v":""},null,{"$f":"OFFSET($A$1,ROW()-3,COLUMN()-1)","v":1},null,{"$f":"OFFSET($A$1,ROW()-3,COLUMN()-3)","v":1},null,49,null,1049,null,{"$f":"IF(OFFSET($A$1,ROW()-7,COLUMN()+1)<>2,\"\",'手順２・３・４社員タイプ#07'!$G$21&\"\")","v":""},null,{"$f":"IF(OFFSET($A$1,ROW()-7,COLUMN()-1)<>2,\"\",'手順２・３・４社員タイプ#07'!$H$21&\"\")","v":""},null,{"$f":"OFFSET($A$1,ROW()-3,COLUMN()-1)","v":1},null,{"$f":"OFFSET($A$1,ROW()-3,COLUMN()-3)","v":1},null,49,null,1049,null,{"$f":"IF(OFFSET($A$1,ROW()-7,COLUMN()+1)<>2,\"\",'手順２・３・４社員タイプ#08'!$G$21&\"\")","v":""},null,{"$f":"IF(OFFSET($A$1,ROW()-7,COLUMN()-1)<>2,\"\",'手順２・３・４社員タイプ#08'!$H$21&\"\")","v":""},null,{"$f":"OFFSET($A$1,ROW()-3,COLUMN()-1)","v":1},null,{"$f":"OFFSET($A$1,ROW()-3,COLUMN()-3)","v":1},null,49,null,1049,null,{"$f":"IF(OFFSET($A$1,ROW()-7,COLUMN()+1)<>2,\"\",'手順２・３・４社員タイプ#09'!$G$21&\"\")","v":""},null,{"$f":"IF(OFFSET($A$1,ROW()-7,COLUMN()-1)<>2,\"\",'手順２・３・４社員タイプ#09'!$H$21&\"\")","v":""},null,{"$f":"OFFSET($A$1,ROW()-3,COLUMN()-1)","v":1},null,{"$f":"OFFSET($A$1,ROW()-3,COLUMN()-3)","v":1},null,49,null,1049,null,{"$f":"IF(OFFSET($A$1,ROW()-7,COLUMN()+1)<>2,\"\",'手順２・３・４社員タイプ#10'!$G$21&\"\")","v":""},null,{"$f":"IF(OFFSET($A$1,ROW()-7,COLUMN()-1)<>2,\"\",'手順２・３・４社員タイプ#10'!$H$21&\"\")","v":""},null,{"$f":"OFFSET($A$1,ROW()-3,COLUMN()-1)","v":1},null,{"$f":"OFFSET($A$1,ROW()-3,COLUMN()-3)","v":1},null,49,null,1049]
[null,null,null,null,null,null,null,null,null,null,null,null,null,null,null,null,null,null,null,null,{"$f":"IF('手順２・３・４社員タイプ#01'!$B$22=\"\",\"\", '手順２・３・４社員タイプ#01'!$B$22)","v":""},null,{"$f":"'手順２・３・４社員タイプ#01'!$C$22","v":0},null,null,null,null,null,50,null,{"$f":"IF(AND(OFFSET($A$1,ROW()-1,COLUMN()-11)<>\"\",OR(OFFSET($A$1,ROW()-1,COLUMN()-9)=1,OFFSET($A$1,ROW()-1,COLUMN()-9)=2)),OFFSET($A$1,ROW()-1,COLUMN()-3),OFFSET($A$1,ROW()-1,COLUMN()-3)+1000)","v":1050},null,{"$f":"IF('手順２・３・４社員タイプ#02'!$B$22=\"\",\"\", '手順２・３・４社員タイプ#02'!$B$22)","v":""},null,{"$f":"'手順２・３・４社員タイプ#02'!$C$22","v":0},null,null,null,null,null,50,null,{"$f":"IF(AND(OFFSET($A$1,ROW()-1,COLUMN()-11)<>\"\",OR(OFFSET($A$1,ROW()-1,COLUMN()-9)=1,OFFSET($A$1,ROW()-1,COLUMN()-9)=2)),OFFSET($A$1,ROW()-1,COLUMN()-3),OFFSET($A$1,ROW()-1,COLUMN()-3)+1000)","v":1050},null,{"$f":"IF('手順２・３・４社員タイプ#03'!$B$22=\"\",\"\", '手順２・３・４社員タイプ#03'!$B$22)","v":""},null,{"$f":"'手順２・３・４社員タイプ#03'!$C$22","v":0},null,null,null,null,null,50,null,{"$f":"IF(AND(OFFSET($A$1,ROW()-1,COLUMN()-11)<>\"\",OR(OFFSET($A$1,ROW()-1,COLUMN()-9)=1,OFFSET($A$1,ROW()-1,COLUMN()-9)=2)),OFFSET($A$1,ROW()-1,COLUMN()-3),OFFSET($A$1,ROW()-1,COLUMN()-3)+1000)","v":1050},null,{"$f":"IF('手順２・３・４社員タイプ#04'!$B$22=\"\",\"\", '手順２・３・４社員タイプ#04'!$B$22)","v":""},null,{"$f":"'手順２・３・４社員タイプ#04'!$C$22","v":0},null,null,null,null,null,50,null,{"$f":"IF(AND(OFFSET($A$1,ROW()-1,COLUMN()-11)<>\"\",OR(OFFSET($A$1,ROW()-1,COLUMN()-9)=1,OFFSET($A$1,ROW()-1,COLUMN()-9)=2)),OFFSET($A$1,ROW()-1,COLUMN()-3),OFFSET($A$1,ROW()-1,COLUMN()-3)+1000)","v":1050},null,{"$f":"IF('手順２・３・４社員タイプ#05'!$B$22=\"\",\"\", '手順２・３・４社員タイプ#05'!$B$22)","v":""},null,{"$f":"'手順２・３・４社員タイプ#05'!$C$22","v":0},null,null,null,null,null,50,null,{"$f":"IF(AND(OFFSET($A$1,ROW()-1,COLUMN()-11)<>\"\",OR(OFFSET($A$1,ROW()-1,COLUMN()-9)=1,OFFSET($A$1,ROW()-1,COLUMN()-9)=2)),OFFSET($A$1,ROW()-1,COLUMN()-3),OFFSET($A$1,ROW()-1,COLUMN()-3)+1000)","v":1050},null,{"$f":"IF('手順２・３・４社員タイプ#06'!$B$22=\"\",\"\", '手順２・３・４社員タイプ#06'!$B$22)","v":""},null,{"$f":"'手順２・３・４社員タイプ#06'!$C$22","v":0},null,null,null,null,null,50,null,{"$f":"IF(AND(OFFSET($A$1,ROW()-1,COLUMN()-11)<>\"\",OR(OFFSET($A$1,ROW()-1,COLUMN()-9)=1,OFFSET($A$1,ROW()-1,COLUMN()-9)=2)),OFFSET($A$1,ROW()-1,COLUMN()-3),OFFSET($A$1,ROW()-1,COLUMN()-3)+1000)","v":1050},null,{"$f":"IF('手順２・３・４社員タイプ#07'!$B$22=\"\",\"\", '手順２・３・４社員タイプ#07'!$B$22)","v":""},null,{"$f":"'手順２・３・４社員タイプ#07'!$C$22","v":0},null,null,null,null,null,50,null,{"$f":"IF(AND(OFFSET($A$1,ROW()-1,COLUMN()-11)<>\"\",OR(OFFSET($A$1,ROW()-1,COLUMN()-9)=1,OFFSET($A$1,ROW()-1,COLUMN()-9)=2)),OFFSET($A$1,ROW()-1,COLUMN()-3),OFFSET($A$1,ROW()-1,COLUMN()-3)+1000)","v":1050},null,{"$f":"IF('手順２・３・４社員タイプ#08'!$B$22=\"\",\"\", '手順２・３・４社員タイプ#08'!$B$22)","v":""},null,{"$f":"'手順２・３・４社員タイプ#08'!$C$22","v":0},null,null,null,null,null,50,null,{"$f":"IF(AND(OFFSET($A$1,ROW()-1,COLUMN()-11)<>\"\",OR(OFFSET($A$1,ROW()-1,COLUMN()-9)=1,OFFSET($A$1,ROW()-1,COLUMN()-9)=2)),OFFSET($A$1,ROW()-1,COLUMN()-3),OFFSET($A$1,ROW()-1,COLUMN()-3)+1000)","v":1050},null,{"$f":"IF('手順２・３・４社員タイプ#09'!$B$22=\"\",\"\", '手順２・３・４社員タイプ#09'!$B$22)","v":""},null,{"$f":"'手順２・３・４社員タイプ#09'!$C$22","v":0},null,null,null,null,null,50,null,{"$f":"IF(AND(OFFSET($A$1,ROW()-1,COLUMN()-11)<>\"\",OR(OFFSET($A$1,ROW()-1,COLUMN()-9)=1,OFFSET($A$1,ROW()-1,COLUMN()-9)=2)),OFFSET($A$1,ROW()-1,COLUMN()-3),OFFSET($A$1,ROW()-1,COLUMN()-3)+1000)","v":1050},null,{"$f":"IF('手順２・３・４社員タイプ#10'!$B$22=\"\",\"\", '手順２・３・４社員タイプ#10'!$B$22)","v":""},null,{"$f":"'手順２・３・４社員タイプ#10'!$C$22","v":0},null,null,null,null,null,50,null,{"$f":"IF(AND(OFFSET($A$1,ROW()-1,COLUMN()-11)<>\"\",OR(OFFSET($A$1,ROW()-1,COLUMN()-9)=1,OFFSET($A$1,ROW()-1,COLUMN()-9)=2)),OFFSET($A$1,ROW()-1,COLUMN()-3),OFFSET($A$1,ROW()-1,COLUMN()-3)+1000)","v":1050}]
[null,null,null,null,null,null,null,null,null,null,null,null,null,null,null,null,null,null,null,null,"待遇の違いの有無",null,"支給の目的",null,null,null,null,null,51,null,{"$f":"OFFSET($A$1,ROW()-2,COLUMN()-1)+1","v":1051},null,"待遇の違いの有無",null,"支給の目的",null,null,null,null,null,51,null,{"$f":"OFFSET($A$1,ROW()-2,COLUMN()-1)+1","v":1051},null,"待遇の違いの有無",null,"支給の目的",null,null,null,null,null,51,null,{"$f":"OFFSET($A$1,ROW()-2,COLUMN()-1)+1","v":1051},null,"待遇の違いの有無",null,"支給の目的",null,null,null,null,null,51,null,{"$f":"OFFSET($A$1,ROW()-2,COLUMN()-1)+1","v":1051},null,"待遇の違いの有無",null,"支給の目的",null,null,null,null,null,51,null,{"$f":"OFFSET($A$1,ROW()-2,COLUMN()-1)+1","v":1051},null,"待遇の違いの有無",null,"支給の目的",null,null,null,null,null,51,null,{"$f":"OFFSET($A$1,ROW()-2,COLUMN()-1)+1","v":1051},null,"待遇の違いの有無",null,"支給の目的",null,null,null,null,null,51,null,{"$f":"OFFSET($A$1,ROW()-2,COLUMN()-1)+1","v":1051},null,"待遇の違いの有無",null,"支給の目的",null,null,null,null,null,51,null,{"$f":"OFFSET($A$1,ROW()-2,COLUMN()-1)+1","v":1051},null,"待遇の違いの有無",null,"支給の目的",null,null,null,null,null,51,null,{"$f":"OFFSET($A$1,ROW()-2,COLUMN()-1)+1","v":1051},null,"待遇の違いの有無",null,"支給の目的",null,null,null,null,null,51,null,{"$f":"OFFSET($A$1,ROW()-2,COLUMN()-1)+1","v":1051}]
[null,null,null,null,null,null,null,null,null,null,null,null,null,null,null,null,null,null,null,null,{"$f":"OFFSET($C$6,OFFSET($A$1,ROW()-3,COLUMN()+1),0)","v":" "},null,{"$f":"'手順２・３・４社員タイプ#01'!$D$22&\"\"","v":""},null,null,null,null,null,52,null,1052,null,{"$f":"OFFSET($C$6,OFFSET($A$1,ROW()-3,COLUMN()+1),0)","v":" "},null,{"$f":"'手順２・３・４社員タイプ#02'!$D$22&\"\"","v":""},null,null,null,null,null,52,null,1052,null,{"$f":"OFFSET($C$6,OFFSET($A$1,ROW()-3,COLUMN()+1),0)","v":" "},null,{"$f":"'手順２・３・４社員タイプ#03'!$D$22&\"\"","v":""},null,null,null,null,null,52,null,1052,null,{"$f":"OFFSET($C$6,OFFSET($A$1,ROW()-3,COLUMN()+1),0)","v":" "},null,{"$f":"'手順２・３・４社員タイプ#04'!$D$22&\"\"","v":""},null,null,null,null,null,52,null,1052,null,{"$f":"OFFSET($C$6,OFFSET($A$1,ROW()-3,COLUMN()+1),0)","v":" "},null,{"$f":"'手順２・３・４社員タイプ#05'!$D$22&\"\"","v":""},null,null,null,null,null,52,null,1052,null,{"$f":"OFFSET($C$6,OFFSET($A$1,ROW()-3,COLUMN()+1),0)","v":" "},null,{"$f":"'手順２・３・４社員タイプ#06'!$D$22&\"\"","v":""},null,null,null,null,null,52,null,1052,null,{"$f":"OFFSET($C$6,OFFSET($A$1,ROW()-3,COLUMN()+1),0)","v":" "},null,{"$f":"'手順２・３・４社員タイプ#07'!$D$22&\"\"","v":""},null,null,null,null,null,52,null,1052,null,{"$f":"OFFSET($C$6,OFFSET($A$1,ROW()-3,COLUMN()+1),0)","v":" "},null,{"$f":"'手順２・３・４社員タイプ#08'!$D$22&\"\"","v":""},null,null,null,null,null,52,null,1052,null,{"$f":"OFFSET($C$6,OFFSET($A$1,ROW()-3,COLUMN()+1),0)","v":" "},null,{"$f":"'手順２・３・４社員タイプ#09'!$D$22&\"\"","v":""},null,null,null,null,null,52,null,1052,null,{"$f":"OFFSET($C$6,OFFSET($A$1,ROW()-3,COLUMN()+1),0)","v":" "},null,{"$f":"'手順２・３・４社員タイプ#10'!$D$22&\"\"","v":""},null,null,null,null,null,52,null,1052]
[null,null,null,null,null,null,null,null,null,null,null,null,null,null,null,null,null,null,null,null,"正社員",null,"短時間労働者・有期雇用労働者",null,null,null,null,null,53,null,1053,null,"正社員",null,"短時間労働者・有期雇用労働者",null,null,null,null,null,53,null,1053,null,"正社員",null,"短時間労働者・有期雇用労働者",null,null,null,null,null,53,null,1053,null,"正社員",null,"短時間労働者・有期雇用労働者",null,null,null,null,null,53,null,1053,null,"正社員",null,"短時間労働者・有期雇用労働者",null,null,null,null,null,53,null,1053,null,"正社員",null,"短時間労働者・有期雇用労働者",null,null,null,null,null,53,null,1053,null,"正社員",null,"短時間労働者・有期雇用労働者",null,null,null,null,null,53,null,1053,null,"正社員",null,"短時間労働者・有期雇用労働者",null,null,null,null,null,53,null,1053,null,"正社員",null,"短時間労働者・有期雇用労働者",null,null,null,null,null,53,null,1053,null,"正社員",null,"短時間労働者・有期雇用労働者",null,null,null,null,null,53,null,1053]
[null,null,null,null,null,null,null,null,null,null,null,null,null,null,null,null,null,null,null,null,{"$f":"IF(OFFSET($A$1,ROW()-5,COLUMN()+1)<>2,\"\",'手順２・３・４社員タイプ#01'!$E$22&\"\")","v":""},null,{"$f":"IF(OFFSET($A$1,ROW()-5,COLUMN()-1)<>2,\"\",'手順２・３・４社員タイプ#01'!$F$22&\"\")","v":""},null,{"$f":"IF(OFFSET($A$1,ROW()-5,COLUMN()-3)<>2,1,0)","v":1},null,{"$f":"OFFSET($A$1,ROW()-1,COLUMN()-3)","v":1},null,54,null,1054,null,{"$f":"IF(OFFSET($A$1,ROW()-5,COLUMN()+1)<>2,\"\",'手順２・３・４社員タイプ#02'!$E$22&\"\")","v":""},null,{"$f":"IF(OFFSET($A$1,ROW()-5,COLUMN()-1)<>2,\"\",'手順２・３・４社員タイプ#02'!$F$22&\"\")","v":""},null,{"$f":"IF(OFFSET($A$1,ROW()-5,COLUMN()-3)<>2,1,0)","v":1},null,{"$f":"OFFSET($A$1,ROW()-1,COLUMN()-3)","v":1},null,54,null,1054,null,{"$f":"IF(OFFSET($A$1,ROW()-5,COLUMN()+1)<>2,\"\",'手順２・３・４社員タイプ#03'!$E$22&\"\")","v":""},null,{"$f":"IF(OFFSET($A$1,ROW()-5,COLUMN()-1)<>2,\"\",'手順２・３・４社員タイプ#03'!$F$22&\"\")","v":""},null,{"$f":"IF(OFFSET($A$1,ROW()-5,COLUMN()-3)<>2,1,0)","v":1},null,{"$f":"OFFSET($A$1,ROW()-1,COLUMN()-3)","v":1},null,54,null,1054,null,{"$f":"IF(OFFSET($A$1,ROW()-5,COLUMN()+1)<>2,\"\",'手順２・３・４社員タイプ#04'!$E$22&\"\")","v":""},null,{"$f":"IF(OFFSET($A$1,ROW()-5,COLUMN()-1)<>2,\"\",'手順２・３・４社員タイプ#04'!$F$22&\"\")","v":""},null,{"$f":"IF(OFFSET($A$1,ROW()-5,COLUMN()-3)<>2,1,0)","v":1},null,{"$f":"OFFSET($A$1,ROW()-1,COLUMN()-3)","v":1},null,54,null,1054,null,{"$f":"IF(OFFSET($A$1,ROW()-5,COLUMN()+1)<>2,\"\",'手順２・３・４社員タイプ#05'!$E$22&\"\")","v":""},null,{"$f":"IF(OFFSET($A$1,ROW()-5,COLUMN()-1)<>2,\"\",'手順２・３・４社員タイプ#05'!$F$22&\"\")","v":""},null,{"$f":"IF(OFFSET($A$1,ROW()-5,COLUMN()-3)<>2,1,0)","v":1},null,{"$f":"OFFSET($A$1,ROW()-1,COLUMN()-3)","v":1},null,54,null,1054,null,{"$f":"IF(OFFSET($A$1,ROW()-5,COLUMN()+1)<>2,\"\",'手順２・３・４社員タイプ#06'!$E$22&\"\")","v":""},null,{"$f":"IF(OFFSET($A$1,ROW()-5,COLUMN()-1)<>2,\"\",'手順２・３・４社員タイプ#06'!$F$22&\"\")","v":""},null,{"$f":"IF(OFFSET($A$1,ROW()-5,COLUMN()-3)<>2,1,0)","v":1},null,{"$f":"OFFSET($A$1,ROW()-1,COLUMN()-3)","v":1},null,54,null,1054,null,{"$f":"IF(OFFSET($A$1,ROW()-5,COLUMN()+1)<>2,\"\",'手順２・３・４社員タイプ#07'!$E$22&\"\")","v":""},null,{"$f":"IF(OFFSET($A$1,ROW()-5,COLUMN()-1)<>2,\"\",'手順２・３・４社員タイプ#07'!$F$22&\"\")","v":""},null,{"$f":"IF(OFFSET($A$1,ROW()-5,COLUMN()-3)<>2,1,0)","v":1},null,{"$f":"OFFSET($A$1,ROW()-1,COLUMN()-3)","v":1},null,54,null,1054,null,{"$f":"IF(OFFSET($A$1,ROW()-5,COLUMN()+1)<>2,\"\",'手順２・３・４社員タイプ#08'!$E$22&\"\")","v":""},null,{"$f":"IF(OFFSET($A$1,ROW()-5,COLUMN()-1)<>2,\"\",'手順２・３・４社員タイプ#08'!$F$22&\"\")","v":""},null,{"$f":"IF(OFFSET($A$1,ROW()-5,COLUMN()-3)<>2,1,0)","v":1},null,{"$f":"OFFSET($A$1,ROW()-1,COLUMN()-3)","v":1},null,54,null,1054,null,{"$f":"IF(OFFSET($A$1,ROW()-5,COLUMN()+1)<>2,\"\",'手順２・３・４社員タイプ#09'!$E$22&\"\")","v":""},null,{"$f":"IF(OFFSET($A$1,ROW()-5,COLUMN()-1)<>2,\"\",'手順２・３・４社員タイプ#09'!$F$22&\"\")","v":""},null,{"$f":"IF(OFFSET($A$1,ROW()-5,COLUMN()-3)<>2,1,0)","v":1},null,{"$f":"OFFSET($A$1,ROW()-1,COLUMN()-3)","v":1},null,54,null,1054,null,{"$f":"IF(OFFSET($A$1,ROW()-5,COLUMN()+1)<>2,\"\",'手順２・３・４社員タイプ#10'!$E$22&\"\")","v":""},null,{"$f":"IF(OFFSET($A$1,ROW()-5,COLUMN()-1)<>2,\"\",'手順２・３・４社員タイプ#10'!$F$22&\"\")","v":""},null,{"$f":"IF(OFFSET($A$1,ROW()-5,COLUMN()-3)<>2,1,0)","v":1},null,{"$f":"OFFSET($A$1,ROW()-1,COLUMN()-3)","v":1},null,54,null,1054]
[null,null,null,null,null,null,null,null,null,null,null,null,null,null,null,null,null,null,null,null,"違いを設けている理由",null,"対応方針",null,null,null,null,null,55,null,1055,null,"違いを設けている理由",null,"対応方針",null,null,null,null,null,55,null,1055,null,"違いを設けている理由",null,"対応方針",null,null,null,null,null,55,null,1055,null,"違いを設けている理由",null,"対応方針",null,null,null,null,null,55,null,1055,null,"違いを設けている理由",null,"対応方針",null,null,null,null,null,55,null,1055,null,"違いを設けている理由",null,"対応方針",null,null,null,null,null,55,null,1055,null,"違いを設けている理由",null,"対応方針",null,null,null,null,null,55,null,1055,null,"違いを設けている理由",null,"対応方針",null,null,null,null,null,55,null,1055,null,"違いを設けている理由",null,"対応方針",null,null,null,null,null,55,null,1055,null,"違いを設けている理由",null,"対応方針",null,null,null,null,null,55,null,1055]
[null,null,null,null,null,null,null,null,null,null,null,null,null,null,null,null,null,null,null,null,{"$f":"IF(OFFSET($A$1,ROW()-7,COLUMN()+1)<>2,\"\",'手順２・３・４社員タイプ#01'!$G$22&\"\")","v":""},null,{"$f":"IF(OFFSET($A$1,ROW()-7,COLUMN()-1)<>2,\"\",'手順２・３・４社員タイプ#01'!$H$22&\"\")","v":""},null,{"$f":"OFFSET($A$1,ROW()-3,COLUMN()-1)","v":1},null,{"$f":"OFFSET($A$1,ROW()-3,COLUMN()-3)","v":1},null,56,null,1056,null,{"$f":"IF(OFFSET($A$1,ROW()-7,COLUMN()+1)<>2,\"\",'手順２・３・４社員タイプ#02'!$G$22&\"\")","v":""},null,{"$f":"IF(OFFSET($A$1,ROW()-7,COLUMN()-1)<>2,\"\",'手順２・３・４社員タイプ#02'!$H$22&\"\")","v":""},null,{"$f":"OFFSET($A$1,ROW()-3,COLUMN()-1)","v":1},null,{"$f":"OFFSET($A$1,ROW()-3,COLUMN()-3)","v":1},null,56,null,1056,null,{"$f":"IF(OFFSET($A$1,ROW()-7,COLUMN()+1)<>2,\"\",'手順２・３・４社員タイプ#03'!$G$22&\"\")","v":""},null,{"$f":"IF(OFFSET($A$1,ROW()-7,COLUMN()-1)<>2,\"\",'手順２・３・４社員タイプ#03'!$H$22&\"\")","v":""},null,{"$f":"OFFSET($A$1,ROW()-3,COLUMN()-1)","v":1},null,{"$f":"OFFSET($A$1,ROW()-3,COLUMN()-3)","v":1},null,56,null,1056,null,{"$f":"IF(OFFSET($A$1,ROW()-7,COLUMN()+1)<>2,\"\",'手順２・３・４社員タイプ#04'!$G$22&\"\")","v":""},null,{"$f":"IF(OFFSET($A$1,ROW()-7,COLUMN()-1)<>2,\"\",'手順２・３・４社員タイプ#04'!$H$22&\"\")","v":""},null,{"$f":"OFFSET($A$1,ROW()-3,COLUMN()-1)","v":1},null,{"$f":"OFFSET($A$1,ROW()-3,COLUMN()-3)","v":1},null,56,null,1056,null,{"$f":"IF(OFFSET($A$1,ROW()-7,COLUMN()+1)<>2,\"\",'手順２・３・４社員タイプ#05'!$G$22&\"\")","v":""},null,{"$f":"IF(OFFSET($A$1,ROW()-7,COLUMN()-1)<>2,\"\",'手順２・３・４社員タイプ#05'!$H$22&\"\")","v":""},null,{"$f":"OFFSET($A$1,ROW()-3,COLUMN()-1)","v":1},null,{"$f":"OFFSET($A$1,ROW()-3,COLUMN()-3)","v":1},null,56,null,1056,null,{"$f":"IF(OFFSET($A$1,ROW()-7,COLUMN()+1)<>2,\"\",'手順２・３・４社員タイプ#06'!$G$22&\"\")","v":""},null,{"$f":"IF(OFFSET($A$1,ROW()-7,COLUMN()-1)<>2,\"\",'手順２・３・４社員タイプ#06'!$H$22&\"\")","v":""},null,{"$f":"OFFSET($A$1,ROW()-3,COLUMN()-1)","v":1},null,{"$f":"OFFSET($A$1,ROW()-3,COLUMN()-3)","v":1},null,56,null,1056,null,{"$f":"IF(OFFSET($A$1,ROW()-7,COLUMN()+1)<>2,\"\",'手順２・３・４社員タイプ#07'!$G$22&\"\")","v":""},null,{"$f":"IF(OFFSET($A$1,ROW()-7,COLUMN()-1)<>2,\"\",'手順２・３・４社員タイプ#07'!$H$22&\"\")","v":""},null,{"$f":"OFFSET($A$1,ROW()-3,COLUMN()-1)","v":1},null,{"$f":"OFFSET($A$1,ROW()-3,COLUMN()-3)","v":1},null,56,null,1056,null,{"$f":"IF(OFFSET($A$1,ROW()-7,COLUMN()+1)<>2,\"\",'手順２・３・４社員タイプ#08'!$G$22&\"\")","v":""},null,{"$f":"IF(OFFSET($A$1,ROW()-7,COLUMN()-1)<>2,\"\",'手順２・３・４社員タイプ#08'!$H$22&\"\")","v":""},null,{"$f":"OFFSET($A$1,ROW()-3,COLUMN()-1)","v":1},null,{"$f":"OFFSET($A$1,ROW()-3,COLUMN()-3)","v":1},null,56,null,1056,null,{"$f":"IF(OFFSET($A$1,ROW()-7,COLUMN()+1)<>2,\"\",'手順２・３・４社員タイプ#09'!$G$22&\"\")","v":""},null,{"$f":"IF(OFFSET($A$1,ROW()-7,COLUMN()-1)<>2,\"\",'手順２・３・４社員タイプ#09'!$H$22&\"\")","v":""},null,{"$f":"OFFSET($A$1,ROW()-3,COLUMN()-1)","v":1},null,{"$f":"OFFSET($A$1,ROW()-3,COLUMN()-3)","v":1},null,56,null,1056,null,{"$f":"IF(OFFSET($A$1,ROW()-7,COLUMN()+1)<>2,\"\",'手順２・３・４社員タイプ#10'!$G$22&\"\")","v":""},null,{"$f":"IF(OFFSET($A$1,ROW()-7,COLUMN()-1)<>2,\"\",'手順２・３・４社員タイプ#10'!$H$22&\"\")","v":""},null,{"$f":"OFFSET($A$1,ROW()-3,COLUMN()-1)","v":1},null,{"$f":"OFFSET($A$1,ROW()-3,COLUMN()-3)","v":1},null,56,null,1056]
[null,null,null,null,null,null,null,null,null,null,null,null,null,null,null,null,null,null,null,null,{"$f":"IF('手順２・３・４社員タイプ#01'!$B$23=\"\",\"\", '手順２・３・４社員タイプ#01'!$B$23)","v":""},null,{"$f":"'手順２・３・４社員タイプ#01'!$C$23","v":0},null,null,null,null,null,57,null,{"$f":"IF(AND(OFFSET($A$1,ROW()-1,COLUMN()-11)<>\"\",OR(OFFSET($A$1,ROW()-1,COLUMN()-9)=1,OFFSET($A$1,ROW()-1,COLUMN()-9)=2)),OFFSET($A$1,ROW()-1,COLUMN()-3),OFFSET($A$1,ROW()-1,COLUMN()-3)+1000)","v":1057},null,{"$f":"IF('手順２・３・４社員タイプ#02'!$B$23=\"\",\"\", '手順２・３・４社員タイプ#02'!$B$23)","v":""},null,{"$f":"'手順２・３・４社員タイプ#02'!$C$23","v":0},null,null,null,null,null,57,null,{"$f":"IF(AND(OFFSET($A$1,ROW()-1,COLUMN()-11)<>\"\",OR(OFFSET($A$1,ROW()-1,COLUMN()-9)=1,OFFSET($A$1,ROW()-1,COLUMN()-9)=2)),OFFSET($A$1,ROW()-1,COLUMN()-3),OFFSET($A$1,ROW()-1,COLUMN()-3)+1000)","v":1057},null,{"$f":"IF('手順２・３・４社員タイプ#03'!$B$23=\"\",\"\", '手順２・３・４社員タイプ#03'!$B$23)","v":""},null,{"$f":"'手順２・３・４社員タイプ#03'!$C$23","v":0},null,null,null,null,null,57,null,{"$f":"IF(AND(OFFSET($A$1,ROW()-1,COLUMN()-11)<>\"\",OR(OFFSET($A$1,ROW()-1,COLUMN()-9)=1,OFFSET($A$1,ROW()-1,COLUMN()-9)=2)),OFFSET($A$1,ROW()-1,COLUMN()-3),OFFSET($A$1,ROW()-1,COLUMN()-3)+1000)","v":1057},null,{"$f":"IF('手順２・３・４社員タイプ#04'!$B$23=\"\",\"\", '手順２・３・４社員タイプ#04'!$B$23)","v":""},null,{"$f":"'手順２・３・４社員タイプ#04'!$C$23","v":0},null,null,null,null,null,57,null,{"$f":"IF(AND(OFFSET($A$1,ROW()-1,COLUMN()-11)<>\"\",OR(OFFSET($A$1,ROW()-1,COLUMN()-9)=1,OFFSET($A$1,ROW()-1,COLUMN()-9)=2)),OFFSET($A$1,ROW()-1,COLUMN()-3),OFFSET($A$1,ROW()-1,COLUMN()-3)+1000)","v":1057},null,{"$f":"IF('手順２・３・４社員タイプ#05'!$B$23=\"\",\"\", '手順２・３・４社員タイプ#05'!$B$23)","v":""},null,{"$f":"'手順２・３・４社員タイプ#05'!$C$23","v":0},null,null,null,null,null,57,null,{"$f":"IF(AND(OFFSET($A$1,ROW()-1,COLUMN()-11)<>\"\",OR(OFFSET($A$1,ROW()-1,COLUMN()-9)=1,OFFSET($A$1,ROW()-1,COLUMN()-9)=2)),OFFSET($A$1,ROW()-1,COLUMN()-3),OFFSET($A$1,ROW()-1,COLUMN()-3)+1000)","v":1057},null,{"$f":"IF('手順２・３・４社員タイプ#06'!$B$23=\"\",\"\", '手順２・３・４社員タイプ#06'!$B$23)","v":""},null,{"$f":"'手順２・３・４社員タイプ#06'!$C$23","v":0},null,null,null,null,null,57,null,{"$f":"IF(AND(OFFSET($A$1,ROW()-1,COLUMN()-11)<>\"\",OR(OFFSET($A$1,ROW()-1,COLUMN()-9)=1,OFFSET($A$1,ROW()-1,COLUMN()-9)=2)),OFFSET($A$1,ROW()-1,COLUMN()-3),OFFSET($A$1,ROW()-1,COLUMN()-3)+1000)","v":1057},null,{"$f":"IF('手順２・３・４社員タイプ#07'!$B$23=\"\",\"\", '手順２・３・４社員タイプ#07'!$B$23)","v":""},null,{"$f":"'手順２・３・４社員タイプ#07'!$C$23","v":0},null,null,null,null,null,57,null,{"$f":"IF(AND(OFFSET($A$1,ROW()-1,COLUMN()-11)<>\"\",OR(OFFSET($A$1,ROW()-1,COLUMN()-9)=1,OFFSET($A$1,ROW()-1,COLUMN()-9)=2)),OFFSET($A$1,ROW()-1,COLUMN()-3),OFFSET($A$1,ROW()-1,COLUMN()-3)+1000)","v":1057},null,{"$f":"IF('手順２・３・４社員タイプ#08'!$B$23=\"\",\"\", '手順２・３・４社員タイプ#08'!$B$23)","v":""},null,{"$f":"'手順２・３・４社員タイプ#08'!$C$23","v":0},null,null,null,null,null,57,null,{"$f":"IF(AND(OFFSET($A$1,ROW()-1,COLUMN()-11)<>\"\",OR(OFFSET($A$1,ROW()-1,COLUMN()-9)=1,OFFSET($A$1,ROW()-1,COLUMN()-9)=2)),OFFSET($A$1,ROW()-1,COLUMN()-3),OFFSET($A$1,ROW()-1,COLUMN()-3)+1000)","v":1057},null,{"$f":"IF('手順２・３・４社員タイプ#09'!$B$23=\"\",\"\", '手順２・３・４社員タイプ#09'!$B$23)","v":""},null,{"$f":"'手順２・３・４社員タイプ#09'!$C$23","v":0},null,null,null,null,null,57,null,{"$f":"IF(AND(OFFSET($A$1,ROW()-1,COLUMN()-11)<>\"\",OR(OFFSET($A$1,ROW()-1,COLUMN()-9)=1,OFFSET($A$1,ROW()-1,COLUMN()-9)=2)),OFFSET($A$1,ROW()-1,COLUMN()-3),OFFSET($A$1,ROW()-1,COLUMN()-3)+1000)","v":1057},null,{"$f":"IF('手順２・３・４社員タイプ#10'!$B$23=\"\",\"\", '手順２・３・４社員タイプ#10'!$B$23)","v":""},null,{"$f":"'手順２・３・４社員タイプ#10'!$C$23","v":0},null,null,null,null,null,57,null,{"$f":"IF(AND(OFFSET($A$1,ROW()-1,COLUMN()-11)<>\"\",OR(OFFSET($A$1,ROW()-1,COLUMN()-9)=1,OFFSET($A$1,ROW()-1,COLUMN()-9)=2)),OFFSET($A$1,ROW()-1,COLUMN()-3),OFFSET($A$1,ROW()-1,COLUMN()-3)+1000)","v":1057}]
[null,null,null,null,null,null,null,null,null,null,null,null,null,null,null,null,null,null,null,null,"待遇の違いの有無",null,"支給の目的",null,null,null,null,null,58,null,{"$f":"OFFSET($A$1,ROW()-2,COLUMN()-1)+1","v":1058},null,"待遇の違いの有無",null,"支給の目的",null,null,null,null,null,58,null,{"$f":"OFFSET($A$1,ROW()-2,COLUMN()-1)+1","v":1058},null,"待遇の違いの有無",null,"支給の目的",null,null,null,null,null,58,null,{"$f":"OFFSET($A$1,ROW()-2,COLUMN()-1)+1","v":1058},null,"待遇の違いの有無",null,"支給の目的",null,null,null,null,null,58,null,{"$f":"OFFSET($A$1,ROW()-2,COLUMN()-1)+1","v":1058},null,"待遇の違いの有無",null,"支給の目的",null,null,null,null,null,58,null,{"$f":"OFFSET($A$1,ROW()-2,COLUMN()-1)+1","v":1058},null,"待遇の違いの有無",null,"支給の目的",null,null,null,null,null,58,null,{"$f":"OFFSET($A$1,ROW()-2,COLUMN()-1)+1","v":1058},null,"待遇の違いの有無",null,"支給の目的",null,null,null,null,null,58,null,{"$f":"OFFSET($A$1,ROW()-2,COLUMN()-1)+1","v":1058},null,"待遇の違いの有無",null,"支給の目的",null,null,null,null,null,58,null,{"$f":"OFFSET($A$1,ROW()-2,COLUMN()-1)+1","v":1058},null,"待遇の違いの有無",null,"支給の目的",null,null,null,null,null,58,null,{"$f":"OFFSET($A$1,ROW()-2,COLUMN()-1)+1","v":1058},null,"待遇の違いの有無",null,"支給の目的",null,null,null,null,null,58,null,{"$f":"OFFSET($A$1,ROW()-2,COLUMN()-1)+1","v":1058}]
[null,null,null,null,null,null,null,null,null,null,null,null,null,null,null,null,null,null,null,null,{"$f":"OFFSET($C$6,OFFSET($A$1,ROW()-3,COLUMN()+1),0)","v":" "},null,{"$f":"'手順２・３・４社員タイプ#01'!$D$23&\"\"","v":""},null,null,null,null,null,59,null,1059,null,{"$f":"OFFSET($C$6,OFFSET($A$1,ROW()-3,COLUMN()+1),0)","v":" "},null,{"$f":"'手順２・３・４社員タイプ#02'!$D$23&\"\"","v":""},null,null,null,null,null,59,null,1059,null,{"$f":"OFFSET($C$6,OFFSET($A$1,ROW()-3,COLUMN()+1),0)","v":" "},null,{"$f":"'手順２・３・４社員タイプ#03'!$D$23&\"\"","v":""},null,null,null,null,null,59,null,1059,null,{"$f":"OFFSET($C$6,OFFSET($A$1,ROW()-3,COLUMN()+1),0)","v":" "},null,{"$f":"'手順２・３・４社員タイプ#04'!$D$23&\"\"","v":""},null,null,null,null,null,59,null,1059,null,{"$f":"OFFSET($C$6,OFFSET($A$1,ROW()-3,COLUMN()+1),0)","v":" "},null,{"$f":"'手順２・３・４社員タイプ#05'!$D$23&\"\"","v":""},null,null,null,null,null,59,null,1059,null,{"$f":"OFFSET($C$6,OFFSET($A$1,ROW()-3,COLUMN()+1),0)","v":" "},null,{"$f":"'手順２・３・４社員タイプ#06'!$D$23&\"\"","v":""},null,null,null,null,null,59,null,1059,null,{"$f":"OFFSET($C$6,OFFSET($A$1,ROW()-3,COLUMN()+1),0)","v":" "},null,{"$f":"'手順２・３・４社員タイプ#07'!$D$23&\"\"","v":""},null,null,null,null,null,59,null,1059,null,{"$f":"OFFSET($C$6,OFFSET($A$1,ROW()-3,COLUMN()+1),0)","v":" "},null,{"$f":"'手順２・３・４社員タイプ#08'!$D$23&\"\"","v":""},null,null,null,null,null,59,null,1059,null,{"$f":"OFFSET($C$6,OFFSET($A$1,ROW()-3,COLUMN()+1),0)","v":" "},null,{"$f":"'手順２・３・４社員タイプ#09'!$D$23&\"\"","v":""},null,null,null,null,null,59,null,1059,null,{"$f":"OFFSET($C$6,OFFSET($A$1,ROW()-3,COLUMN()+1),0)","v":" "},null,{"$f":"'手順２・３・４社員タイプ#10'!$D$23&\"\"","v":""},null,null,null,null,null,59,null,1059]
[null,null,null,null,null,null,null,null,null,null,null,null,null,null,null,null,null,null,null,null,"正社員",null,"短時間労働者・有期雇用労働者",null,null,null,null,null,60,null,1060,null,"正社員",null,"短時間労働者・有期雇用労働者",null,null,null,null,null,60,null,1060,null,"正社員",null,"短時間労働者・有期雇用労働者",null,null,null,null,null,60,null,1060,null,"正社員",null,"短時間労働者・有期雇用労働者",null,null,null,null,null,60,null,1060,null,"正社員",null,"短時間労働者・有期雇用労働者",null,null,null,null,null,60,null,1060,null,"正社員",null,"短時間労働者・有期雇用労働者",null,null,null,null,null,60,null,1060,null,"正社員",null,"短時間労働者・有期雇用労働者",null,null,null,null,null,60,null,1060,null,"正社員",null,"短時間労働者・有期雇用労働者",null,null,null,null,null,60,null,1060,null,"正社員",null,"短時間労働者・有期雇用労働者",null,null,null,null,null,60,null,1060,null,"正社員",null,"短時間労働者・有期雇用労働者",null,null,null,null,null,60,null,1060]
[null,null,null,null,null,null,null,null,null,null,null,null,null,null,null,null,null,null,null,null,{"$f":"IF(OFFSET($A$1,ROW()-5,COLUMN()+1)<>2,\"\",'手順２・３・４社員タイプ#01'!$E$23&\"\")","v":""},null,{"$f":"IF(OFFSET($A$1,ROW()-5,COLUMN()-1)<>2,\"\",'手順２・３・４社員タイプ#01'!$F$23&\"\")","v":""},null,{"$f":"IF(OFFSET($A$1,ROW()-5,COLUMN()-3)<>2,1,0)","v":1},null,{"$f":"OFFSET($A$1,ROW()-1,COLUMN()-3)","v":1},null,61,null,1061,null,{"$f":"IF(OFFSET($A$1,ROW()-5,COLUMN()+1)<>2,\"\",'手順２・３・４社員タイプ#02'!$E$23&\"\")","v":""},null,{"$f":"IF(OFFSET($A$1,ROW()-5,COLUMN()-1)<>2,\"\",'手順２・３・４社員タイプ#02'!$F$23&\"\")","v":""},null,{"$f":"IF(OFFSET($A$1,ROW()-5,COLUMN()-3)<>2,1,0)","v":1},null,{"$f":"OFFSET($A$1,ROW()-1,COLUMN()-3)","v":1},null,61,null,1061,null,{"$f":"IF(OFFSET($A$1,ROW()-5,COLUMN()+1)<>2,\"\",'手順２・３・４社員タイプ#03'!$E$23&\"\")","v":""},null,{"$f":"IF(OFFSET($A$1,ROW()-5,COLUMN()-1)<>2,\"\",'手順２・３・４社員タイプ#03'!$F$23&\"\")","v":""},null,{"$f":"IF(OFFSET($A$1,ROW()-5,COLUMN()-3)<>2,1,0)","v":1},null,{"$f":"OFFSET($A$1,ROW()-1,COLUMN()-3)","v":1},null,61,null,1061,null,{"$f":"IF(OFFSET($A$1,ROW()-5,COLUMN()+1)<>2,\"\",'手順２・３・４社員タイプ#04'!$E$23&\"\")","v":""},null,{"$f":"IF(OFFSET($A$1,ROW()-5,COLUMN()-1)<>2,\"\",'手順２・３・４社員タイプ#04'!$F$23&\"\")","v":""},null,{"$f":"IF(OFFSET($A$1,ROW()-5,COLUMN()-3)<>2,1,0)","v":1},null,{"$f":"OFFSET($A$1,ROW()-1,COLUMN()-3)","v":1},null,61,null,1061,null,{"$f":"IF(OFFSET($A$1,ROW()-5,COLUMN()+1)<>2,\"\",'手順２・３・４社員タイプ#05'!$E$23&\"\")","v":""},null,{"$f":"IF(OFFSET($A$1,ROW()-5,COLUMN()-1)<>2,\"\",'手順２・３・４社員タイプ#05'!$F$23&\"\")","v":""},null,{"$f":"IF(OFFSET($A$1,ROW()-5,COLUMN()-3)<>2,1,0)","v":1},null,{"$f":"OFFSET($A$1,ROW()-1,COLUMN()-3)","v":1},null,61,null,1061,null,{"$f":"IF(OFFSET($A$1,ROW()-5,COLUMN()+1)<>2,\"\",'手順２・３・４社員タイプ#06'!$E$23&\"\")","v":""},null,{"$f":"IF(OFFSET($A$1,ROW()-5,COLUMN()-1)<>2,\"\",'手順２・３・４社員タイプ#06'!$F$23&\"\")","v":""},null,{"$f":"IF(OFFSET($A$1,ROW()-5,COLUMN()-3)<>2,1,0)","v":1},null,{"$f":"OFFSET($A$1,ROW()-1,COLUMN()-3)","v":1},null,61,null,1061,null,{"$f":"IF(OFFSET($A$1,ROW()-5,COLUMN()+1)<>2,\"\",'手順２・３・４社員タイプ#07'!$E$23&\"\")","v":""},null,{"$f":"IF(OFFSET($A$1,ROW()-5,COLUMN()-1)<>2,\"\",'手順２・３・４社員タイプ#07'!$F$23&\"\")","v":""},null,{"$f":"IF(OFFSET($A$1,ROW()-5,COLUMN()-3)<>2,1,0)","v":1},null,{"$f":"OFFSET($A$1,ROW()-1,COLUMN()-3)","v":1},null,61,null,1061,null,{"$f":"IF(OFFSET($A$1,ROW()-5,COLUMN()+1)<>2,\"\",'手順２・３・４社員タイプ#08'!$E$23&\"\")","v":""},null,{"$f":"IF(OFFSET($A$1,ROW()-5,COLUMN()-1)<>2,\"\",'手順２・３・４社員タイプ#08'!$F$23&\"\")","v":""},null,{"$f":"IF(OFFSET($A$1,ROW()-5,COLUMN()-3)<>2,1,0)","v":1},null,{"$f":"OFFSET($A$1,ROW()-1,COLUMN()-3)","v":1},null,61,null,1061,null,{"$f":"IF(OFFSET($A$1,ROW()-5,COLUMN()+1)<>2,\"\",'手順２・３・４社員タイプ#09'!$E$23&\"\")","v":""},null,{"$f":"IF(OFFSET($A$1,ROW()-5,COLUMN()-1)<>2,\"\",'手順２・３・４社員タイプ#09'!$F$23&\"\")","v":""},null,{"$f":"IF(OFFSET($A$1,ROW()-5,COLUMN()-3)<>2,1,0)","v":1},null,{"$f":"OFFSET($A$1,ROW()-1,COLUMN()-3)","v":1},null,61,null,1061,null,{"$f":"IF(OFFSET($A$1,ROW()-5,COLUMN()+1)<>2,\"\",'手順２・３・４社員タイプ#10'!$E$23&\"\")","v":""},null,{"$f":"IF(OFFSET($A$1,ROW()-5,COLUMN()-1)<>2,\"\",'手順２・３・４社員タイプ#10'!$F$23&\"\")","v":""},null,{"$f":"IF(OFFSET($A$1,ROW()-5,COLUMN()-3)<>2,1,0)","v":1},null,{"$f":"OFFSET($A$1,ROW()-1,COLUMN()-3)","v":1},null,61,null,1061]
[null,null,null,null,null,null,null,null,null,null,null,null,null,null,null,null,null,null,null,null,"違いを設けている理由",null,"対応方針",null,null,null,null,null,62,null,1062,null,"違いを設けている理由",null,"対応方針",null,null,null,null,null,62,null,1062,null,"違いを設けている理由",null,"対応方針",null,null,null,null,null,62,null,1062,null,"違いを設けている理由",null,"対応方針",null,null,null,null,null,62,null,1062,null,"違いを設けている理由",null,"対応方針",null,null,null,null,null,62,null,1062,null,"違いを設けている理由",null,"対応方針",null,null,null,null,null,62,null,1062,null,"違いを設けている理由",null,"対応方針",null,null,null,null,null,62,null,1062,null,"違いを設けている理由",null,"対応方針",null,null,null,null,null,62,null,1062,null,"違いを設けている理由",null,"対応方針",null,null,null,null,null,62,null,1062,null,"違いを設けている理由",null,"対応方針",null,null,null,null,null,62,null,1062]
[null,null,null,null,null,null,null,null,null,null,null,null,null,null,null,null,null,null,null,null,{"$f":"IF(OFFSET($A$1,ROW()-7,COLUMN()+1)<>2,\"\",'手順２・３・４社員タイプ#01'!$G$23&\"\")","v":""},null,{"$f":"IF(OFFSET($A$1,ROW()-7,COLUMN()-1)<>2,\"\",'手順２・３・４社員タイプ#01'!$H$23&\"\")","v":""},null,{"$f":"OFFSET($A$1,ROW()-3,COLUMN()-1)","v":1},null,{"$f":"OFFSET($A$1,ROW()-3,COLUMN()-3)","v":1},null,63,null,1063,null,{"$f":"IF(OFFSET($A$1,ROW()-7,COLUMN()+1)<>2,\"\",'手順２・３・４社員タイプ#02'!$G$23&\"\")","v":""},null,{"$f":"IF(OFFSET($A$1,ROW()-7,COLUMN()-1)<>2,\"\",'手順２・３・４社員タイプ#02'!$H$23&\"\")","v":""},null,{"$f":"OFFSET($A$1,ROW()-3,COLUMN()-1)","v":1},null,{"$f":"OFFSET($A$1,ROW()-3,COLUMN()-3)","v":1},null,63,null,1063,null,{"$f":"IF(OFFSET($A$1,ROW()-7,COLUMN()+1)<>2,\"\",'手順２・３・４社員タイプ#03'!$G$23&\"\")","v":""},null,{"$f":"IF(OFFSET($A$1,ROW()-7,COLUMN()-1)<>2,\"\",'手順２・３・４社員タイプ#03'!$H$23&\"\")","v":""},null,{"$f":"OFFSET($A$1,ROW()-3,COLUMN()-1)","v":1},null,{"$f":"OFFSET($A$1,ROW()-3,COLUMN()-3)","v":1},null,63,null,1063,null,{"$f":"IF(OFFSET($A$1,ROW()-7,COLUMN()+1)<>2,\"\",'手順２・３・４社員タイプ#04'!$G$23&\"\")","v":""},null,{"$f":"IF(OFFSET($A$1,ROW()-7,COLUMN()-1)<>2,\"\",'手順２・３・４社員タイプ#04'!$H$23&\"\")","v":""},null,{"$f":"OFFSET($A$1,ROW()-3,COLUMN()-1)","v":1},null,{"$f":"OFFSET($A$1,ROW()-3,COLUMN()-3)","v":1},null,63,null,1063,null,{"$f":"IF(OFFSET($A$1,ROW()-7,COLUMN()+1)<>2,\"\",'手順２・３・４社員タイプ#05'!$G$23&\"\")","v":""},null,{"$f":"IF(OFFSET($A$1,ROW()-7,COLUMN()-1)<>2,\"\",'手順２・３・４社員タイプ#05'!$H$23&\"\")","v":""},null,{"$f":"OFFSET($A$1,ROW()-3,COLUMN()-1)","v":1},null,{"$f":"OFFSET($A$1,ROW()-3,COLUMN()-3)","v":1},null,63,null,1063,null,{"$f":"IF(OFFSET($A$1,ROW()-7,COLUMN()+1)<>2,\"\",'手順２・３・４社員タイプ#06'!$G$23&\"\")","v":""},null,{"$f":"IF(OFFSET($A$1,ROW()-7,COLUMN()-1)<>2,\"\",'手順２・３・４社員タイプ#06'!$H$23&\"\")","v":""},null,{"$f":"OFFSET($A$1,ROW()-3,COLUMN()-1)","v":1},null,{"$f":"OFFSET($A$1,ROW()-3,COLUMN()-3)","v":1},null,63,null,1063,null,{"$f":"IF(OFFSET($A$1,ROW()-7,COLUMN()+1)<>2,\"\",'手順２・３・４社員タイプ#07'!$G$23&\"\")","v":""},null,{"$f":"IF(OFFSET($A$1,ROW()-7,COLUMN()-1)<>2,\"\",'手順２・３・４社員タイプ#07'!$H$23&\"\")","v":""},null,{"$f":"OFFSET($A$1,ROW()-3,COLUMN()-1)","v":1},null,{"$f":"OFFSET($A$1,ROW()-3,COLUMN()-3)","v":1},null,63,null,1063,null,{"$f":"IF(OFFSET($A$1,ROW()-7,COLUMN()+1)<>2,\"\",'手順２・３・４社員タイプ#08'!$G$23&\"\")","v":""},null,{"$f":"IF(OFFSET($A$1,ROW()-7,COLUMN()-1)<>2,\"\",'手順２・３・４社員タイプ#08'!$H$23&\"\")","v":""},null,{"$f":"OFFSET($A$1,ROW()-3,COLUMN()-1)","v":1},null,{"$f":"OFFSET($A$1,ROW()-3,COLUMN()-3)","v":1},null,63,null,1063,null,{"$f":"IF(OFFSET($A$1,ROW()-7,COLUMN()+1)<>2,\"\",'手順２・３・４社員タイプ#09'!$G$23&\"\")","v":""},null,{"$f":"IF(OFFSET($A$1,ROW()-7,COLUMN()-1)<>2,\"\",'手順２・３・４社員タイプ#09'!$H$23&\"\")","v":""},null,{"$f":"OFFSET($A$1,ROW()-3,COLUMN()-1)","v":1},null,{"$f":"OFFSET($A$1,ROW()-3,COLUMN()-3)","v":1},null,63,null,1063,null,{"$f":"IF(OFFSET($A$1,ROW()-7,COLUMN()+1)<>2,\"\",'手順２・３・４社員タイプ#10'!$G$23&\"\")","v":""},null,{"$f":"IF(OFFSET($A$1,ROW()-7,COLUMN()-1)<>2,\"\",'手順２・３・４社員タイプ#10'!$H$23&\"\")","v":""},null,{"$f":"OFFSET($A$1,ROW()-3,COLUMN()-1)","v":1},null,{"$f":"OFFSET($A$1,ROW()-3,COLUMN()-3)","v":1},null,63,null,1063]
[null,null,null,null,null,null,null,null,null,null,null,null,null,null,null,null,null,null,null,null,{"$f":"IF('手順２・３・４社員タイプ#01'!$B$24=\"\",\"\", '手順２・３・４社員タイプ#01'!$B$24)","v":""},null,{"$f":"'手順２・３・４社員タイプ#01'!$C$24","v":0},null,null,null,null,null,64,null,{"$f":"IF(AND(OFFSET($A$1,ROW()-1,COLUMN()-11)<>\"\",OR(OFFSET($A$1,ROW()-1,COLUMN()-9)=1,OFFSET($A$1,ROW()-1,COLUMN()-9)=2)),OFFSET($A$1,ROW()-1,COLUMN()-3),OFFSET($A$1,ROW()-1,COLUMN()-3)+1000)","v":1064},null,{"$f":"IF('手順２・３・４社員タイプ#02'!$B$24=\"\",\"\", '手順２・３・４社員タイプ#02'!$B$24)","v":""},null,{"$f":"'手順２・３・４社員タイプ#02'!$C$24","v":0},null,null,null,null,null,64,null,{"$f":"IF(AND(OFFSET($A$1,ROW()-1,COLUMN()-11)<>\"\",OR(OFFSET($A$1,ROW()-1,COLUMN()-9)=1,OFFSET($A$1,ROW()-1,COLUMN()-9)=2)),OFFSET($A$1,ROW()-1,COLUMN()-3),OFFSET($A$1,ROW()-1,COLUMN()-3)+1000)","v":1064},null,{"$f":"IF('手順２・３・４社員タイプ#03'!$B$24=\"\",\"\", '手順２・３・４社員タイプ#03'!$B$24)","v":""},null,{"$f":"'手順２・３・４社員タイプ#03'!$C$24","v":0},null,null,null,null,null,64,null,{"$f":"IF(AND(OFFSET($A$1,ROW()-1,COLUMN()-11)<>\"\",OR(OFFSET($A$1,ROW()-1,COLUMN()-9)=1,OFFSET($A$1,ROW()-1,COLUMN()-9)=2)),OFFSET($A$1,ROW()-1,COLUMN()-3),OFFSET($A$1,ROW()-1,COLUMN()-3)+1000)","v":1064},null,{"$f":"IF('手順２・３・４社員タイプ#04'!$B$24=\"\",\"\", '手順２・３・４社員タイプ#04'!$B$24)","v":""},null,{"$f":"'手順２・３・４社員タイプ#04'!$C$24","v":0},null,null,null,null,null,64,null,{"$f":"IF(AND(OFFSET($A$1,ROW()-1,COLUMN()-11)<>\"\",OR(OFFSET($A$1,ROW()-1,COLUMN()-9)=1,OFFSET($A$1,ROW()-1,COLUMN()-9)=2)),OFFSET($A$1,ROW()-1,COLUMN()-3),OFFSET($A$1,ROW()-1,COLUMN()-3)+1000)","v":1064},null,{"$f":"IF('手順２・３・４社員タイプ#05'!$B$24=\"\",\"\", '手順２・３・４社員タイプ#05'!$B$24)","v":""},null,{"$f":"'手順２・３・４社員タイプ#05'!$C$24","v":0},null,null,null,null,null,64,null,{"$f":"IF(AND(OFFSET($A$1,ROW()-1,COLUMN()-11)<>\"\",OR(OFFSET($A$1,ROW()-1,COLUMN()-9)=1,OFFSET($A$1,ROW()-1,COLUMN()-9)=2)),OFFSET($A$1,ROW()-1,COLUMN()-3),OFFSET($A$1,ROW()-1,COLUMN()-3)+1000)","v":1064},null,{"$f":"IF('手順２・３・４社員タイプ#06'!$B$24=\"\",\"\", '手順２・３・４社員タイプ#06'!$B$24)","v":""},null,{"$f":"'手順２・３・４社員タイプ#06'!$C$24","v":0},null,null,null,null,null,64,null,{"$f":"IF(AND(OFFSET($A$1,ROW()-1,COLUMN()-11)<>\"\",OR(OFFSET($A$1,ROW()-1,COLUMN()-9)=1,OFFSET($A$1,ROW()-1,COLUMN()-9)=2)),OFFSET($A$1,ROW()-1,COLUMN()-3),OFFSET($A$1,ROW()-1,COLUMN()-3)+1000)","v":1064},null,{"$f":"IF('手順２・３・４社員タイプ#07'!$B$24=\"\",\"\", '手順２・３・４社員タイプ#07'!$B$24)","v":""},null,{"$f":"'手順２・３・４社員タイプ#07'!$C$24","v":0},null,null,null,null,null,64,null,{"$f":"IF(AND(OFFSET($A$1,ROW()-1,COLUMN()-11)<>\"\",OR(OFFSET($A$1,ROW()-1,COLUMN()-9)=1,OFFSET($A$1,ROW()-1,COLUMN()-9)=2)),OFFSET($A$1,ROW()-1,COLUMN()-3),OFFSET($A$1,ROW()-1,COLUMN()-3)+1000)","v":1064},null,{"$f":"IF('手順２・３・４社員タイプ#08'!$B$24=\"\",\"\", '手順２・３・４社員タイプ#08'!$B$24)","v":""},null,{"$f":"'手順２・３・４社員タイプ#08'!$C$24","v":0},null,null,null,null,null,64,null,{"$f":"IF(AND(OFFSET($A$1,ROW()-1,COLUMN()-11)<>\"\",OR(OFFSET($A$1,ROW()-1,COLUMN()-9)=1,OFFSET($A$1,ROW()-1,COLUMN()-9)=2)),OFFSET($A$1,ROW()-1,COLUMN()-3),OFFSET($A$1,ROW()-1,COLUMN()-3)+1000)","v":1064},null,{"$f":"IF('手順２・３・４社員タイプ#09'!$B$24=\"\",\"\", '手順２・３・４社員タイプ#09'!$B$24)","v":""},null,{"$f":"'手順２・３・４社員タイプ#09'!$C$24","v":0},null,null,null,null,null,64,null,{"$f":"IF(AND(OFFSET($A$1,ROW()-1,COLUMN()-11)<>\"\",OR(OFFSET($A$1,ROW()-1,COLUMN()-9)=1,OFFSET($A$1,ROW()-1,COLUMN()-9)=2)),OFFSET($A$1,ROW()-1,COLUMN()-3),OFFSET($A$1,ROW()-1,COLUMN()-3)+1000)","v":1064},null,{"$f":"IF('手順２・３・４社員タイプ#10'!$B$24=\"\",\"\", '手順２・３・４社員タイプ#10'!$B$24)","v":""},null,{"$f":"'手順２・３・４社員タイプ#10'!$C$24","v":0},null,null,null,null,null,64,null,{"$f":"IF(AND(OFFSET($A$1,ROW()-1,COLUMN()-11)<>\"\",OR(OFFSET($A$1,ROW()-1,COLUMN()-9)=1,OFFSET($A$1,ROW()-1,COLUMN()-9)=2)),OFFSET($A$1,ROW()-1,COLUMN()-3),OFFSET($A$1,ROW()-1,COLUMN()-3)+1000)","v":1064}]
[null,null,null,null,null,null,null,null,null,null,null,null,null,null,null,null,null,null,null,null,"待遇の違いの有無",null,"支給の目的",null,null,null,null,null,65,null,{"$f":"OFFSET($A$1,ROW()-2,COLUMN()-1)+1","v":1065},null,"待遇の違いの有無",null,"支給の目的",null,null,null,null,null,65,null,{"$f":"OFFSET($A$1,ROW()-2,COLUMN()-1)+1","v":1065},null,"待遇の違いの有無",null,"支給の目的",null,null,null,null,null,65,null,{"$f":"OFFSET($A$1,ROW()-2,COLUMN()-1)+1","v":1065},null,"待遇の違いの有無",null,"支給の目的",null,null,null,null,null,65,null,{"$f":"OFFSET($A$1,ROW()-2,COLUMN()-1)+1","v":1065},null,"待遇の違いの有無",null,"支給の目的",null,null,null,null,null,65,null,{"$f":"OFFSET($A$1,ROW()-2,COLUMN()-1)+1","v":1065},null,"待遇の違いの有無",null,"支給の目的",null,null,null,null,null,65,null,{"$f":"OFFSET($A$1,ROW()-2,COLUMN()-1)+1","v":1065},null,"待遇の違いの有無",null,"支給の目的",null,null,null,null,null,65,null,{"$f":"OFFSET($A$1,ROW()-2,COLUMN()-1)+1","v":1065},null,"待遇の違いの有無",null,"支給の目的",null,null,null,null,null,65,null,{"$f":"OFFSET($A$1,ROW()-2,COLUMN()-1)+1","v":1065},null,"待遇の違いの有無",null,"支給の目的",null,null,null,null,null,65,null,{"$f":"OFFSET($A$1,ROW()-2,COLUMN()-1)+1","v":1065},null,"待遇の違いの有無",null,"支給の目的",null,null,null,null,null,65,null,{"$f":"OFFSET($A$1,ROW()-2,COLUMN()-1)+1","v":1065}]
[null,null,null,null,null,null,null,null,null,null,null,null,null,null,null,null,null,null,null,null,{"$f":"OFFSET($C$6,OFFSET($A$1,ROW()-3,COLUMN()+1),0)","v":" "},null,{"$f":"'手順２・３・４社員タイプ#01'!$D$24&\"\"","v":""},null,null,null,null,null,66,null,1066,null,{"$f":"OFFSET($C$6,OFFSET($A$1,ROW()-3,COLUMN()+1),0)","v":" "},null,{"$f":"'手順２・３・４社員タイプ#02'!$D$24&\"\"","v":""},null,null,null,null,null,66,null,1066,null,{"$f":"OFFSET($C$6,OFFSET($A$1,ROW()-3,COLUMN()+1),0)","v":" "},null,{"$f":"'手順２・３・４社員タイプ#03'!$D$24&\"\"","v":""},null,null,null,null,null,66,null,1066,null,{"$f":"OFFSET($C$6,OFFSET($A$1,ROW()-3,COLUMN()+1),0)","v":" "},null,{"$f":"'手順２・３・４社員タイプ#04'!$D$24&\"\"","v":""},null,null,null,null,null,66,null,1066,null,{"$f":"OFFSET($C$6,OFFSET($A$1,ROW()-3,COLUMN()+1),0)","v":" "},null,{"$f":"'手順２・３・４社員タイプ#05'!$D$24&\"\"","v":""},null,null,null,null,null,66,null,1066,null,{"$f":"OFFSET($C$6,OFFSET($A$1,ROW()-3,COLUMN()+1),0)","v":" "},null,{"$f":"'手順２・３・４社員タイプ#06'!$D$24&\"\"","v":""},null,null,null,null,null,66,null,1066,null,{"$f":"OFFSET($C$6,OFFSET($A$1,ROW()-3,COLUMN()+1),0)","v":" "},null,{"$f":"'手順２・３・４社員タイプ#07'!$D$24&\"\"","v":""},null,null,null,null,null,66,null,1066,null,{"$f":"OFFSET($C$6,OFFSET($A$1,ROW()-3,COLUMN()+1),0)","v":" "},null,{"$f":"'手順２・３・４社員タイプ#08'!$D$24&\"\"","v":""},null,null,null,null,null,66,null,1066,null,{"$f":"OFFSET($C$6,OFFSET($A$1,ROW()-3,COLUMN()+1),0)","v":" "},null,{"$f":"'手順２・３・４社員タイプ#09'!$D$24&\"\"","v":""},null,null,null,null,null,66,null,1066,null,{"$f":"OFFSET($C$6,OFFSET($A$1,ROW()-3,COLUMN()+1),0)","v":" "},null,{"$f":"'手順２・３・４社員タイプ#10'!$D$24&\"\"","v":""},null,null,null,null,null,66,null,1066]
[null,null,null,null,null,null,null,null,null,null,null,null,null,null,null,null,null,null,null,null,"正社員",null,"短時間労働者・有期雇用労働者",null,null,null,null,null,67,null,1067,null,"正社員",null,"短時間労働者・有期雇用労働者",null,null,null,null,null,67,null,1067,null,"正社員",null,"短時間労働者・有期雇用労働者",null,null,null,null,null,67,null,1067,null,"正社員",null,"短時間労働者・有期雇用労働者",null,null,null,null,null,67,null,1067,null,"正社員",null,"短時間労働者・有期雇用労働者",null,null,null,null,null,67,null,1067,null,"正社員",null,"短時間労働者・有期雇用労働者",null,null,null,null,null,67,null,1067,null,"正社員",null,"短時間労働者・有期雇用労働者",null,null,null,null,null,67,null,1067,null,"正社員",null,"短時間労働者・有期雇用労働者",null,null,null,null,null,67,null,1067,null,"正社員",null,"短時間労働者・有期雇用労働者",null,null,null,null,null,67,null,1067,null,"正社員",null,"短時間労働者・有期雇用労働者",null,null,null,null,null,67,null,1067]
[null,null,null,null,null,null,null,null,null,null,null,null,null,null,null,null,null,null,null,null,{"$f":"IF(OFFSET($A$1,ROW()-5,COLUMN()+1)<>2,\"\",'手順２・３・４社員タイプ#01'!$E$24&\"\")","v":""},null,{"$f":"IF(OFFSET($A$1,ROW()-5,COLUMN()-1)<>2,\"\",'手順２・３・４社員タイプ#01'!$F$24&\"\")","v":""},null,{"$f":"IF(OFFSET($A$1,ROW()-5,COLUMN()-3)<>2,1,0)","v":1},null,{"$f":"OFFSET($A$1,ROW()-1,COLUMN()-3)","v":1},null,68,null,1068,null,{"$f":"IF(OFFSET($A$1,ROW()-5,COLUMN()+1)<>2,\"\",'手順２・３・４社員タイプ#02'!$E$24&\"\")","v":""},null,{"$f":"IF(OFFSET($A$1,ROW()-5,COLUMN()-1)<>2,\"\",'手順２・３・４社員タイプ#02'!$F$24&\"\")","v":""},null,{"$f":"IF(OFFSET($A$1,ROW()-5,COLUMN()-3)<>2,1,0)","v":1},null,{"$f":"OFFSET($A$1,ROW()-1,COLUMN()-3)","v":1},null,68,null,1068,null,{"$f":"IF(OFFSET($A$1,ROW()-5,COLUMN()+1)<>2,\"\",'手順２・３・４社員タイプ#03'!$E$24&\"\")","v":""},null,{"$f":"IF(OFFSET($A$1,ROW()-5,COLUMN()-1)<>2,\"\",'手順２・３・４社員タイプ#03'!$F$24&\"\")","v":""},null,{"$f":"IF(OFFSET($A$1,ROW()-5,COLUMN()-3)<>2,1,0)","v":1},null,{"$f":"OFFSET($A$1,ROW()-1,COLUMN()-3)","v":1},null,68,null,1068,null,{"$f":"IF(OFFSET($A$1,ROW()-5,COLUMN()+1)<>2,\"\",'手順２・３・４社員タイプ#04'!$E$24&\"\")","v":""},null,{"$f":"IF(OFFSET($A$1,ROW()-5,COLUMN()-1)<>2,\"\",'手順２・３・４社員タイプ#04'!$F$24&\"\")","v":""},null,{"$f":"IF(OFFSET($A$1,ROW()-5,COLUMN()-3)<>2,1,0)","v":1},null,{"$f":"OFFSET($A$1,ROW()-1,COLUMN()-3)","v":1},null,68,null,1068,null,{"$f":"IF(OFFSET($A$1,ROW()-5,COLUMN()+1)<>2,\"\",'手順２・３・４社員タイプ#05'!$E$24&\"\")","v":""},null,{"$f":"IF(OFFSET($A$1,ROW()-5,COLUMN()-1)<>2,\"\",'手順２・３・４社員タイプ#05'!$F$24&\"\")","v":""},null,{"$f":"IF(OFFSET($A$1,ROW()-5,COLUMN()-3)<>2,1,0)","v":1},null,{"$f":"OFFSET($A$1,ROW()-1,COLUMN()-3)","v":1},null,68,null,1068,null,{"$f":"IF(OFFSET($A$1,ROW()-5,COLUMN()+1)<>2,\"\",'手順２・３・４社員タイプ#06'!$E$24&\"\")","v":""},null,{"$f":"IF(OFFSET($A$1,ROW()-5,COLUMN()-1)<>2,\"\",'手順２・３・４社員タイプ#06'!$F$24&\"\")","v":""},null,{"$f":"IF(OFFSET($A$1,ROW()-5,COLUMN()-3)<>2,1,0)","v":1},null,{"$f":"OFFSET($A$1,ROW()-1,COLUMN()-3)","v":1},null,68,null,1068,null,{"$f":"IF(OFFSET($A$1,ROW()-5,COLUMN()+1)<>2,\"\",'手順２・３・４社員タイプ#07'!$E$24&\"\")","v":""},null,{"$f":"IF(OFFSET($A$1,ROW()-5,COLUMN()-1)<>2,\"\",'手順２・３・４社員タイプ#07'!$F$24&\"\")","v":""},null,{"$f":"IF(OFFSET($A$1,ROW()-5,COLUMN()-3)<>2,1,0)","v":1},null,{"$f":"OFFSET($A$1,ROW()-1,COLUMN()-3)","v":1},null,68,null,1068,null,{"$f":"IF(OFFSET($A$1,ROW()-5,COLUMN()+1)<>2,\"\",'手順２・３・４社員タイプ#08'!$E$24&\"\")","v":""},null,{"$f":"IF(OFFSET($A$1,ROW()-5,COLUMN()-1)<>2,\"\",'手順２・３・４社員タイプ#08'!$F$24&\"\")","v":""},null,{"$f":"IF(OFFSET($A$1,ROW()-5,COLUMN()-3)<>2,1,0)","v":1},null,{"$f":"OFFSET($A$1,ROW()-1,COLUMN()-3)","v":1},null,68,null,1068,null,{"$f":"IF(OFFSET($A$1,ROW()-5,COLUMN()+1)<>2,\"\",'手順２・３・４社員タイプ#09'!$E$24&\"\")","v":""},null,{"$f":"IF(OFFSET($A$1,ROW()-5,COLUMN()-1)<>2,\"\",'手順２・３・４社員タイプ#09'!$F$24&\"\")","v":""},null,{"$f":"IF(OFFSET($A$1,ROW()-5,COLUMN()-3)<>2,1,0)","v":1},null,{"$f":"OFFSET($A$1,ROW()-1,COLUMN()-3)","v":1},null,68,null,1068,null,{"$f":"IF(OFFSET($A$1,ROW()-5,COLUMN()+1)<>2,\"\",'手順２・３・４社員タイプ#10'!$E$24&\"\")","v":""},null,{"$f":"IF(OFFSET($A$1,ROW()-5,COLUMN()-1)<>2,\"\",'手順２・３・４社員タイプ#10'!$F$24&\"\")","v":""},null,{"$f":"IF(OFFSET($A$1,ROW()-5,COLUMN()-3)<>2,1,0)","v":1},null,{"$f":"OFFSET($A$1,ROW()-1,COLUMN()-3)","v":1},null,68,null,1068]
[null,null,null,null,null,null,null,null,null,null,null,null,null,null,null,null,null,null,null,null,"違いを設けている理由",null,"対応方針",null,null,null,null,null,69,null,1069,null,"違いを設けている理由",null,"対応方針",null,null,null,null,null,69,null,1069,null,"違いを設けている理由",null,"対応方針",null,null,null,null,null,69,null,1069,null,"違いを設けている理由",null,"対応方針",null,null,null,null,null,69,null,1069,null,"違いを設けている理由",null,"対応方針",null,null,null,null,null,69,null,1069,null,"違いを設けている理由",null,"対応方針",null,null,null,null,null,69,null,1069,null,"違いを設けている理由",null,"対応方針",null,null,null,null,null,69,null,1069,null,"違いを設けている理由",null,"対応方針",null,null,null,null,null,69,null,1069,null,"違いを設けている理由",null,"対応方針",null,null,null,null,null,69,null,1069,null,"違いを設けている理由",null,"対応方針",null,null,null,null,null,69,null,1069]
[null,null,null,null,null,null,null,null,null,null,null,null,null,null,null,null,null,null,null,null,{"$f":"IF(OFFSET($A$1,ROW()-7,COLUMN()+1)<>2,\"\",'手順２・３・４社員タイプ#01'!$G$24&\"\")","v":""},null,{"$f":"IF(OFFSET($A$1,ROW()-7,COLUMN()-1)<>2,\"\",'手順２・３・４社員タイプ#01'!$H$24&\"\")","v":""},null,{"$f":"OFFSET($A$1,ROW()-3,COLUMN()-1)","v":1},null,{"$f":"OFFSET($A$1,ROW()-3,COLUMN()-3)","v":1},null,70,null,1070,null,{"$f":"IF(OFFSET($A$1,ROW()-7,COLUMN()+1)<>2,\"\",'手順２・３・４社員タイプ#02'!$G$24&\"\")","v":""},null,{"$f":"IF(OFFSET($A$1,ROW()-7,COLUMN()-1)<>2,\"\",'手順２・３・４社員タイプ#02'!$H$24&\"\")","v":""},null,{"$f":"OFFSET($A$1,ROW()-3,COLUMN()-1)","v":1},null,{"$f":"OFFSET($A$1,ROW()-3,COLUMN()-3)","v":1},null,70,null,1070,null,{"$f":"IF(OFFSET($A$1,ROW()-7,COLUMN()+1)<>2,\"\",'手順２・３・４社員タイプ#03'!$G$24&\"\")","v":""},null,{"$f":"IF(OFFSET($A$1,ROW()-7,COLUMN()-1)<>2,\"\",'手順２・３・４社員タイプ#03'!$H$24&\"\")","v":""},null,{"$f":"OFFSET($A$1,ROW()-3,COLUMN()-1)","v":1},null,{"$f":"OFFSET($A$1,ROW()-3,COLUMN()-3)","v":1},null,70,null,1070,null,{"$f":"IF(OFFSET($A$1,ROW()-7,COLUMN()+1)<>2,\"\",'手順２・３・４社員タイプ#04'!$G$24&\"\")","v":""},null,{"$f":"IF(OFFSET($A$1,ROW()-7,COLUMN()-1)<>2,\"\",'手順２・３・４社員タイプ#04'!$H$24&\"\")","v":""},null,{"$f":"OFFSET($A$1,ROW()-3,COLUMN()-1)","v":1},null,{"$f":"OFFSET($A$1,ROW()-3,COLUMN()-3)","v":1},null,70,null,1070,null,{"$f":"IF(OFFSET($A$1,ROW()-7,COLUMN()+1)<>2,\"\",'手順２・３・４社員タイプ#05'!$G$24&\"\")","v":""},null,{"$f":"IF(OFFSET($A$1,ROW()-7,COLUMN()-1)<>2,\"\",'手順２・３・４社員タイプ#05'!$H$24&\"\")","v":""},null,{"$f":"OFFSET($A$1,ROW()-3,COLUMN()-1)","v":1},null,{"$f":"OFFSET($A$1,ROW()-3,COLUMN()-3)","v":1},null,70,null,1070,null,{"$f":"IF(OFFSET($A$1,ROW()-7,COLUMN()+1)<>2,\"\",'手順２・３・４社員タイプ#06'!$G$24&\"\")","v":""},null,{"$f":"IF(OFFSET($A$1,ROW()-7,COLUMN()-1)<>2,\"\",'手順２・３・４社員タイプ#06'!$H$24&\"\")","v":""},null,{"$f":"OFFSET($A$1,ROW()-3,COLUMN()-1)","v":1},null,{"$f":"OFFSET($A$1,ROW()-3,COLUMN()-3)","v":1},null,70,null,1070,null,{"$f":"IF(OFFSET($A$1,ROW()-7,COLUMN()+1)<>2,\"\",'手順２・３・４社員タイプ#07'!$G$24&\"\")","v":""},null,{"$f":"IF(OFFSET($A$1,ROW()-7,COLUMN()-1)<>2,\"\",'手順２・３・４社員タイプ#07'!$H$24&\"\")","v":""},null,{"$f":"OFFSET($A$1,ROW()-3,COLUMN()-1)","v":1},null,{"$f":"OFFSET($A$1,ROW()-3,COLUMN()-3)","v":1},null,70,null,1070,null,{"$f":"IF(OFFSET($A$1,ROW()-7,COLUMN()+1)<>2,\"\",'手順２・３・４社員タイプ#08'!$G$24&\"\")","v":""},null,{"$f":"IF(OFFSET($A$1,ROW()-7,COLUMN()-1)<>2,\"\",'手順２・３・４社員タイプ#08'!$H$24&\"\")","v":""},null,{"$f":"OFFSET($A$1,ROW()-3,COLUMN()-1)","v":1},null,{"$f":"OFFSET($A$1,ROW()-3,COLUMN()-3)","v":1},null,70,null,1070,null,{"$f":"IF(OFFSET($A$1,ROW()-7,COLUMN()+1)<>2,\"\",'手順２・３・４社員タイプ#09'!$G$24&\"\")","v":""},null,{"$f":"IF(OFFSET($A$1,ROW()-7,COLUMN()-1)<>2,\"\",'手順２・３・４社員タイプ#09'!$H$24&\"\")","v":""},null,{"$f":"OFFSET($A$1,ROW()-3,COLUMN()-1)","v":1},null,{"$f":"OFFSET($A$1,ROW()-3,COLUMN()-3)","v":1},null,70,null,1070,null,{"$f":"IF(OFFSET($A$1,ROW()-7,COLUMN()+1)<>2,\"\",'手順２・３・４社員タイプ#10'!$G$24&\"\")","v":""},null,{"$f":"IF(OFFSET($A$1,ROW()-7,COLUMN()-1)<>2,\"\",'手順２・３・４社員タイプ#10'!$H$24&\"\")","v":""},null,{"$f":"OFFSET($A$1,ROW()-3,COLUMN()-1)","v":1},null,{"$f":"OFFSET($A$1,ROW()-3,COLUMN()-3)","v":1},null,70,null,1070]
[null,null,null,null,null,null,null,null,null,null,null,null,null,null,null,null,null,null,null,null,{"$f":"IF('手順２・３・４社員タイプ#01'!$B$25=\"\",\"\", '手順２・３・４社員タイプ#01'!$B$25)","v":""},null,{"$f":"'手順２・３・４社員タイプ#01'!$C$25","v":0},null,null,null,null,null,71,null,{"$f":"IF(AND(OFFSET($A$1,ROW()-1,COLUMN()-11)<>\"\",OR(OFFSET($A$1,ROW()-1,COLUMN()-9)=1,OFFSET($A$1,ROW()-1,COLUMN()-9)=2)),OFFSET($A$1,ROW()-1,COLUMN()-3),OFFSET($A$1,ROW()-1,COLUMN()-3)+1000)","v":1071},null,{"$f":"IF('手順２・３・４社員タイプ#02'!$B$25=\"\",\"\", '手順２・３・４社員タイプ#02'!$B$25)","v":""},null,{"$f":"'手順２・３・４社員タイプ#02'!$C$25","v":0},null,null,null,null,null,71,null,{"$f":"IF(AND(OFFSET($A$1,ROW()-1,COLUMN()-11)<>\"\",OR(OFFSET($A$1,ROW()-1,COLUMN()-9)=1,OFFSET($A$1,ROW()-1,COLUMN()-9)=2)),OFFSET($A$1,ROW()-1,COLUMN()-3),OFFSET($A$1,ROW()-1,COLUMN()-3)+1000)","v":1071},null,{"$f":"IF('手順２・３・４社員タイプ#03'!$B$25=\"\",\"\", '手順２・３・４社員タイプ#03'!$B$25)","v":""},null,{"$f":"'手順２・３・４社員タイプ#03'!$C$25","v":0},null,null,null,null,null,71,null,{"$f":"IF(AND(OFFSET($A$1,ROW()-1,COLUMN()-11)<>\"\",OR(OFFSET($A$1,ROW()-1,COLUMN()-9)=1,OFFSET($A$1,ROW()-1,COLUMN()-9)=2)),OFFSET($A$1,ROW()-1,COLUMN()-3),OFFSET($A$1,ROW()-1,COLUMN()-3)+1000)","v":1071},null,{"$f":"IF('手順２・３・４社員タイプ#04'!$B$25=\"\",\"\", '手順２・３・４社員タイプ#04'!$B$25)","v":""},null,{"$f":"'手順２・３・４社員タイプ#04'!$C$25","v":0},null,null,null,null,null,71,null,{"$f":"IF(AND(OFFSET($A$1,ROW()-1,COLUMN()-11)<>\"\",OR(OFFSET($A$1,ROW()-1,COLUMN()-9)=1,OFFSET($A$1,ROW()-1,COLUMN()-9)=2)),OFFSET($A$1,ROW()-1,COLUMN()-3),OFFSET($A$1,ROW()-1,COLUMN()-3)+1000)","v":1071},null,{"$f":"IF('手順２・３・４社員タイプ#05'!$B$25=\"\",\"\", '手順２・３・４社員タイプ#05'!$B$25)","v":""},null,{"$f":"'手順２・３・４社員タイプ#05'!$C$25","v":0},null,null,null,null,null,71,null,{"$f":"IF(AND(OFFSET($A$1,ROW()-1,COLUMN()-11)<>\"\",OR(OFFSET($A$1,ROW()-1,COLUMN()-9)=1,OFFSET($A$1,ROW()-1,COLUMN()-9)=2)),OFFSET($A$1,ROW()-1,COLUMN()-3),OFFSET($A$1,ROW()-1,COLUMN()-3)+1000)","v":1071},null,{"$f":"IF('手順２・３・４社員タイプ#06'!$B$25=\"\",\"\", '手順２・３・４社員タイプ#06'!$B$25)","v":""},null,{"$f":"'手順２・３・４社員タイプ#06'!$C$25","v":0},null,null,null,null,null,71,null,{"$f":"IF(AND(OFFSET($A$1,ROW()-1,COLUMN()-11)<>\"\",OR(OFFSET($A$1,ROW()-1,COLUMN()-9)=1,OFFSET($A$1,ROW()-1,COLUMN()-9)=2)),OFFSET($A$1,ROW()-1,COLUMN()-3),OFFSET($A$1,ROW()-1,COLUMN()-3)+1000)","v":1071},null,{"$f":"IF('手順２・３・４社員タイプ#07'!$B$25=\"\",\"\", '手順２・３・４社員タイプ#07'!$B$25)","v":""},null,{"$f":"'手順２・３・４社員タイプ#07'!$C$25","v":0},null,null,null,null,null,71,null,{"$f":"IF(AND(OFFSET($A$1,ROW()-1,COLUMN()-11)<>\"\",OR(OFFSET($A$1,ROW()-1,COLUMN()-9)=1,OFFSET($A$1,ROW()-1,COLUMN()-9)=2)),OFFSET($A$1,ROW()-1,COLUMN()-3),OFFSET($A$1,ROW()-1,COLUMN()-3)+1000)","v":1071},null,{"$f":"IF('手順２・３・４社員タイプ#08'!$B$25=\"\",\"\", '手順２・３・４社員タイプ#08'!$B$25)","v":""},null,{"$f":"'手順２・３・４社員タイプ#08'!$C$25","v":0},null,null,null,null,null,71,null,{"$f":"IF(AND(OFFSET($A$1,ROW()-1,COLUMN()-11)<>\"\",OR(OFFSET($A$1,ROW()-1,COLUMN()-9)=1,OFFSET($A$1,ROW()-1,COLUMN()-9)=2)),OFFSET($A$1,ROW()-1,COLUMN()-3),OFFSET($A$1,ROW()-1,COLUMN()-3)+1000)","v":1071},null,{"$f":"IF('手順２・３・４社員タイプ#09'!$B$25=\"\",\"\", '手順２・３・４社員タイプ#09'!$B$25)","v":""},null,{"$f":"'手順２・３・４社員タイプ#09'!$C$25","v":0},null,null,null,null,null,71,null,{"$f":"IF(AND(OFFSET($A$1,ROW()-1,COLUMN()-11)<>\"\",OR(OFFSET($A$1,ROW()-1,COLUMN()-9)=1,OFFSET($A$1,ROW()-1,COLUMN()-9)=2)),OFFSET($A$1,ROW()-1,COLUMN()-3),OFFSET($A$1,ROW()-1,COLUMN()-3)+1000)","v":1071},null,{"$f":"IF('手順２・３・４社員タイプ#10'!$B$25=\"\",\"\", '手順２・３・４社員タイプ#10'!$B$25)","v":""},null,{"$f":"'手順２・３・４社員タイプ#10'!$C$25","v":0},null,null,null,null,null,71,null,{"$f":"IF(AND(OFFSET($A$1,ROW()-1,COLUMN()-11)<>\"\",OR(OFFSET($A$1,ROW()-1,COLUMN()-9)=1,OFFSET($A$1,ROW()-1,COLUMN()-9)=2)),OFFSET($A$1,ROW()-1,COLUMN()-3),OFFSET($A$1,ROW()-1,COLUMN()-3)+1000)","v":1071}]
[null,null,null,null,null,null,null,null,null,null,null,null,null,null,null,null,null,null,null,null,"待遇の違いの有無",null,"支給の目的",null,null,null,null,null,72,null,{"$f":"OFFSET($A$1,ROW()-2,COLUMN()-1)+1","v":1072},null,"待遇の違いの有無",null,"支給の目的",null,null,null,null,null,72,null,{"$f":"OFFSET($A$1,ROW()-2,COLUMN()-1)+1","v":1072},null,"待遇の違いの有無",null,"支給の目的",null,null,null,null,null,72,null,{"$f":"OFFSET($A$1,ROW()-2,COLUMN()-1)+1","v":1072},null,"待遇の違いの有無",null,"支給の目的",null,null,null,null,null,72,null,{"$f":"OFFSET($A$1,ROW()-2,COLUMN()-1)+1","v":1072},null,"待遇の違いの有無",null,"支給の目的",null,null,null,null,null,72,null,{"$f":"OFFSET($A$1,ROW()-2,COLUMN()-1)+1","v":1072},null,"待遇の違いの有無",null,"支給の目的",null,null,null,null,null,72,null,{"$f":"OFFSET($A$1,ROW()-2,COLUMN()-1)+1","v":1072},null,"待遇の違いの有無",null,"支給の目的",null,null,null,null,null,72,null,{"$f":"OFFSET($A$1,ROW()-2,COLUMN()-1)+1","v":1072},null,"待遇の違いの有無",null,"支給の目的",null,null,null,null,null,72,null,{"$f":"OFFSET($A$1,ROW()-2,COLUMN()-1)+1","v":1072},null,"待遇の違いの有無",null,"支給の目的",null,null,null,null,null,72,null,{"$f":"OFFSET($A$1,ROW()-2,COLUMN()-1)+1","v":1072},null,"待遇の違いの有無",null,"支給の目的",null,null,null,null,null,72,null,{"$f":"OFFSET($A$1,ROW()-2,COLUMN()-1)+1","v":1072}]
[null,null,null,null,null,null,null,null,null,null,null,null,null,null,null,null,null,null,null,null,{"$f":"OFFSET($C$6,OFFSET($A$1,ROW()-3,COLUMN()+1),0)","v":" "},null,{"$f":"'手順２・３・４社員タイプ#01'!$D$25&\"\"","v":""},null,null,null,null,null,73,null,1073,null,{"$f":"OFFSET($C$6,OFFSET($A$1,ROW()-3,COLUMN()+1),0)","v":" "},null,{"$f":"'手順２・３・４社員タイプ#02'!$D$25&\"\"","v":""},null,null,null,null,null,73,null,1073,null,{"$f":"OFFSET($C$6,OFFSET($A$1,ROW()-3,COLUMN()+1),0)","v":" "},null,{"$f":"'手順２・３・４社員タイプ#03'!$D$25&\"\"","v":""},null,null,null,null,null,73,null,1073,null,{"$f":"OFFSET($C$6,OFFSET($A$1,ROW()-3,COLUMN()+1),0)","v":" "},null,{"$f":"'手順２・３・４社員タイプ#04'!$D$25&\"\"","v":""},null,null,null,null,null,73,null,1073,null,{"$f":"OFFSET($C$6,OFFSET($A$1,ROW()-3,COLUMN()+1),0)","v":" "},null,{"$f":"'手順２・３・４社員タイプ#05'!$D$25&\"\"","v":""},null,null,null,null,null,73,null,1073,null,{"$f":"OFFSET($C$6,OFFSET($A$1,ROW()-3,COLUMN()+1),0)","v":" "},null,{"$f":"'手順２・３・４社員タイプ#06'!$D$25&\"\"","v":""},null,null,null,null,null,73,null,1073,null,{"$f":"OFFSET($C$6,OFFSET($A$1,ROW()-3,COLUMN()+1),0)","v":" "},null,{"$f":"'手順２・３・４社員タイプ#07'!$D$25&\"\"","v":""},null,null,null,null,null,73,null,1073,null,{"$f":"OFFSET($C$6,OFFSET($A$1,ROW()-3,COLUMN()+1),0)","v":" "},null,{"$f":"'手順２・３・４社員タイプ#08'!$D$25&\"\"","v":""},null,null,null,null,null,73,null,1073,null,{"$f":"OFFSET($C$6,OFFSET($A$1,ROW()-3,COLUMN()+1),0)","v":" "},null,{"$f":"'手順２・３・４社員タイプ#09'!$D$25&\"\"","v":""},null,null,null,null,null,73,null,1073,null,{"$f":"OFFSET($C$6,OFFSET($A$1,ROW()-3,COLUMN()+1),0)","v":" "},null,{"$f":"'手順２・３・４社員タイプ#10'!$D$25&\"\"","v":""},null,null,null,null,null,73,null,1073]
[null,null,null,null,null,null,null,null,null,null,null,null,null,null,null,null,null,null,null,null,"正社員",null,"短時間労働者・有期雇用労働者",null,null,null,null,null,74,null,1074,null,"正社員",null,"短時間労働者・有期雇用労働者",null,null,null,null,null,74,null,1074,null,"正社員",null,"短時間労働者・有期雇用労働者",null,null,null,null,null,74,null,1074,null,"正社員",null,"短時間労働者・有期雇用労働者",null,null,null,null,null,74,null,1074,null,"正社員",null,"短時間労働者・有期雇用労働者",null,null,null,null,null,74,null,1074,null,"正社員",null,"短時間労働者・有期雇用労働者",null,null,null,null,null,74,null,1074,null,"正社員",null,"短時間労働者・有期雇用労働者",null,null,null,null,null,74,null,1074,null,"正社員",null,"短時間労働者・有期雇用労働者",null,null,null,null,null,74,null,1074,null,"正社員",null,"短時間労働者・有期雇用労働者",null,null,null,null,null,74,null,1074,null,"正社員",null,"短時間労働者・有期雇用労働者",null,null,null,null,null,74,null,1074]
[null,null,null,null,null,null,null,null,null,null,null,null,null,null,null,null,null,null,null,null,{"$f":"IF(OFFSET($A$1,ROW()-5,COLUMN()+1)<>2,\"\",'手順２・３・４社員タイプ#01'!$E$25&\"\")","v":""},null,{"$f":"IF(OFFSET($A$1,ROW()-5,COLUMN()-1)<>2,\"\",'手順２・３・４社員タイプ#01'!$F$25&\"\")","v":""},null,{"$f":"IF(OFFSET($A$1,ROW()-5,COLUMN()-3)<>2,1,0)","v":1},null,{"$f":"OFFSET($A$1,ROW()-1,COLUMN()-3)","v":1},null,75,null,1075,null,{"$f":"IF(OFFSET($A$1,ROW()-5,COLUMN()+1)<>2,\"\",'手順２・３・４社員タイプ#02'!$E$25&\"\")","v":""},null,{"$f":"IF(OFFSET($A$1,ROW()-5,COLUMN()-1)<>2,\"\",'手順２・３・４社員タイプ#02'!$F$25&\"\")","v":""},null,{"$f":"IF(OFFSET($A$1,ROW()-5,COLUMN()-3)<>2,1,0)","v":1},null,{"$f":"OFFSET($A$1,ROW()-1,COLUMN()-3)","v":1},null,75,null,1075,null,{"$f":"IF(OFFSET($A$1,ROW()-5,COLUMN()+1)<>2,\"\",'手順２・３・４社員タイプ#03'!$E$25&\"\")","v":""},null,{"$f":"IF(OFFSET($A$1,ROW()-5,COLUMN()-1)<>2,\"\",'手順２・３・４社員タイプ#03'!$F$25&\"\")","v":""},null,{"$f":"IF(OFFSET($A$1,ROW()-5,COLUMN()-3)<>2,1,0)","v":1},null,{"$f":"OFFSET($A$1,ROW()-1,COLUMN()-3)","v":1},null,75,null,1075,null,{"$f":"IF(OFFSET($A$1,ROW()-5,COLUMN()+1)<>2,\"\",'手順２・３・４社員タイプ#04'!$E$25&\"\")","v":""},null,{"$f":"IF(OFFSET($A$1,ROW()-5,COLUMN()-1)<>2,\"\",'手順２・３・４社員タイプ#04'!$F$25&\"\")","v":""},null,{"$f":"IF(OFFSET($A$1,ROW()-5,COLUMN()-3)<>2,1,0)","v":1},null,{"$f":"OFFSET($A$1,ROW()-1,COLUMN()-3)","v":1},null,75,null,1075,null,{"$f":"IF(OFFSET($A$1,ROW()-5,COLUMN()+1)<>2,\"\",'手順２・３・４社員タイプ#05'!$E$25&\"\")","v":""},null,{"$f":"IF(OFFSET($A$1,ROW()-5,COLUMN()-1)<>2,\"\",'手順２・３・４社員タイプ#05'!$F$25&\"\")","v":""},null,{"$f":"IF(OFFSET($A$1,ROW()-5,COLUMN()-3)<>2,1,0)","v":1},null,{"$f":"OFFSET($A$1,ROW()-1,COLUMN()-3)","v":1},null,75,null,1075,null,{"$f":"IF(OFFSET($A$1,ROW()-5,COLUMN()+1)<>2,\"\",'手順２・３・４社員タイプ#06'!$E$25&\"\")","v":""},null,{"$f":"IF(OFFSET($A$1,ROW()-5,COLUMN()-1)<>2,\"\",'手順２・３・４社員タイプ#06'!$F$25&\"\")","v":""},null,{"$f":"IF(OFFSET($A$1,ROW()-5,COLUMN()-3)<>2,1,0)","v":1},null,{"$f":"OFFSET($A$1,ROW()-1,COLUMN()-3)","v":1},null,75,null,1075,null,{"$f":"IF(OFFSET($A$1,ROW()-5,COLUMN()+1)<>2,\"\",'手順２・３・４社員タイプ#07'!$E$25&\"\")","v":""},null,{"$f":"IF(OFFSET($A$1,ROW()-5,COLUMN()-1)<>2,\"\",'手順２・３・４社員タイプ#07'!$F$25&\"\")","v":""},null,{"$f":"IF(OFFSET($A$1,ROW()-5,COLUMN()-3)<>2,1,0)","v":1},null,{"$f":"OFFSET($A$1,ROW()-1,COLUMN()-3)","v":1},null,75,null,1075,null,{"$f":"IF(OFFSET($A$1,ROW()-5,COLUMN()+1)<>2,\"\",'手順２・３・４社員タイプ#08'!$E$25&\"\")","v":""},null,{"$f":"IF(OFFSET($A$1,ROW()-5,COLUMN()-1)<>2,\"\",'手順２・３・４社員タイプ#08'!$F$25&\"\")","v":""},null,{"$f":"IF(OFFSET($A$1,ROW()-5,COLUMN()-3)<>2,1,0)","v":1},null,{"$f":"OFFSET($A$1,ROW()-1,COLUMN()-3)","v":1},null,75,null,1075,null,{"$f":"IF(OFFSET($A$1,ROW()-5,COLUMN()+1)<>2,\"\",'手順２・３・４社員タイプ#09'!$E$25&\"\")","v":""},null,{"$f":"IF(OFFSET($A$1,ROW()-5,COLUMN()-1)<>2,\"\",'手順２・３・４社員タイプ#09'!$F$25&\"\")","v":""},null,{"$f":"IF(OFFSET($A$1,ROW()-5,COLUMN()-3)<>2,1,0)","v":1},null,{"$f":"OFFSET($A$1,ROW()-1,COLUMN()-3)","v":1},null,75,null,1075,null,{"$f":"IF(OFFSET($A$1,ROW()-5,COLUMN()+1)<>2,\"\",'手順２・３・４社員タイプ#10'!$E$25&\"\")","v":""},null,{"$f":"IF(OFFSET($A$1,ROW()-5,COLUMN()-1)<>2,\"\",'手順２・３・４社員タイプ#10'!$F$25&\"\")","v":""},null,{"$f":"IF(OFFSET($A$1,ROW()-5,COLUMN()-3)<>2,1,0)","v":1},null,{"$f":"OFFSET($A$1,ROW()-1,COLUMN()-3)","v":1},null,75,null,1075]
[null,null,null,null,null,null,null,null,null,null,null,null,null,null,null,null,null,null,null,null,"違いを設けている理由",null,"対応方針",null,null,null,null,null,76,null,1076,null,"違いを設けている理由",null,"対応方針",null,null,null,null,null,76,null,1076,null,"違いを設けている理由",null,"対応方針",null,null,null,null,null,76,null,1076,null,"違いを設けている理由",null,"対応方針",null,null,null,null,null,76,null,1076,null,"違いを設けている理由",null,"対応方針",null,null,null,null,null,76,null,1076,null,"違いを設けている理由",null,"対応方針",null,null,null,null,null,76,null,1076,null,"違いを設けている理由",null,"対応方針",null,null,null,null,null,76,null,1076,null,"違いを設けている理由",null,"対応方針",null,null,null,null,null,76,null,1076,null,"違いを設けている理由",null,"対応方針",null,null,null,null,null,76,null,1076,null,"違いを設けている理由",null,"対応方針",null,null,null,null,null,76,null,1076]
[null,null,null,null,null,null,null,null,null,null,null,null,null,null,null,null,null,null,null,null,{"$f":"IF(OFFSET($A$1,ROW()-7,COLUMN()+1)<>2,\"\",'手順２・３・４社員タイプ#01'!$G$25&\"\")","v":""},null,{"$f":"IF(OFFSET($A$1,ROW()-7,COLUMN()-1)<>2,\"\",'手順２・３・４社員タイプ#01'!$H$25&\"\")","v":""},null,{"$f":"OFFSET($A$1,ROW()-3,COLUMN()-1)","v":1},null,{"$f":"OFFSET($A$1,ROW()-3,COLUMN()-3)","v":1},null,77,null,1077,null,{"$f":"IF(OFFSET($A$1,ROW()-7,COLUMN()+1)<>2,\"\",'手順２・３・４社員タイプ#02'!$G$25&\"\")","v":""},null,{"$f":"IF(OFFSET($A$1,ROW()-7,COLUMN()-1)<>2,\"\",'手順２・３・４社員タイプ#02'!$H$25&\"\")","v":""},null,{"$f":"OFFSET($A$1,ROW()-3,COLUMN()-1)","v":1},null,{"$f":"OFFSET($A$1,ROW()-3,COLUMN()-3)","v":1},null,77,null,1077,null,{"$f":"IF(OFFSET($A$1,ROW()-7,COLUMN()+1)<>2,\"\",'手順２・３・４社員タイプ#03'!$G$25&\"\")","v":""},null,{"$f":"IF(OFFSET($A$1,ROW()-7,COLUMN()-1)<>2,\"\",'手順２・３・４社員タイプ#03'!$H$25&\"\")","v":""},null,{"$f":"OFFSET($A$1,ROW()-3,COLUMN()-1)","v":1},null,{"$f":"OFFSET($A$1,ROW()-3,COLUMN()-3)","v":1},null,77,null,1077,null,{"$f":"IF(OFFSET($A$1,ROW()-7,COLUMN()+1)<>2,\"\",'手順２・３・４社員タイプ#04'!$G$25&\"\")","v":""},null,{"$f":"IF(OFFSET($A$1,ROW()-7,COLUMN()-1)<>2,\"\",'手順２・３・４社員タイプ#04'!$H$25&\"\")","v":""},null,{"$f":"OFFSET($A$1,ROW()-3,COLUMN()-1)","v":1},null,{"$f":"OFFSET($A$1,ROW()-3,COLUMN()-3)","v":1},null,77,null,1077,null,{"$f":"IF(OFFSET($A$1,ROW()-7,COLUMN()+1)<>2,\"\",'手順２・３・４社員タイプ#05'!$G$25&\"\")","v":""},null,{"$f":"IF(OFFSET($A$1,ROW()-7,COLUMN()-1)<>2,\"\",'手順２・３・４社員タイプ#05'!$H$25&\"\")","v":""},null,{"$f":"OFFSET($A$1,ROW()-3,COLUMN()-1)","v":1},null,{"$f":"OFFSET($A$1,ROW()-3,COLUMN()-3)","v":1},null,77,null,1077,null,{"$f":"IF(OFFSET($A$1,ROW()-7,COLUMN()+1)<>2,\"\",'手順２・３・４社員タイプ#06'!$G$25&\"\")","v":""},null,{"$f":"IF(OFFSET($A$1,ROW()-7,COLUMN()-1)<>2,\"\",'手順２・３・４社員タイプ#06'!$H$25&\"\")","v":""},null,{"$f":"OFFSET($A$1,ROW()-3,COLUMN()-1)","v":1},null,{"$f":"OFFSET($A$1,ROW()-3,COLUMN()-3)","v":1},null,77,null,1077,null,{"$f":"IF(OFFSET($A$1,ROW()-7,COLUMN()+1)<>2,\"\",'手順２・３・４社員タイプ#07'!$G$25&\"\")","v":""},null,{"$f":"IF(OFFSET($A$1,ROW()-7,COLUMN()-1)<>2,\"\",'手順２・３・４社員タイプ#07'!$H$25&\"\")","v":""},null,{"$f":"OFFSET($A$1,ROW()-3,COLUMN()-1)","v":1},null,{"$f":"OFFSET($A$1,ROW()-3,COLUMN()-3)","v":1},null,77,null,1077,null,{"$f":"IF(OFFSET($A$1,ROW()-7,COLUMN()+1)<>2,\"\",'手順２・３・４社員タイプ#08'!$G$25&\"\")","v":""},null,{"$f":"IF(OFFSET($A$1,ROW()-7,COLUMN()-1)<>2,\"\",'手順２・３・４社員タイプ#08'!$H$25&\"\")","v":""},null,{"$f":"OFFSET($A$1,ROW()-3,COLUMN()-1)","v":1},null,{"$f":"OFFSET($A$1,ROW()-3,COLUMN()-3)","v":1},null,77,null,1077,null,{"$f":"IF(OFFSET($A$1,ROW()-7,COLUMN()+1)<>2,\"\",'手順２・３・４社員タイプ#09'!$G$25&\"\")","v":""},null,{"$f":"IF(OFFSET($A$1,ROW()-7,COLUMN()-1)<>2,\"\",'手順２・３・４社員タイプ#09'!$H$25&\"\")","v":""},null,{"$f":"OFFSET($A$1,ROW()-3,COLUMN()-1)","v":1},null,{"$f":"OFFSET($A$1,ROW()-3,COLUMN()-3)","v":1},null,77,null,1077,null,{"$f":"IF(OFFSET($A$1,ROW()-7,COLUMN()+1)<>2,\"\",'手順２・３・４社員タイプ#10'!$G$25&\"\")","v":""},null,{"$f":"IF(OFFSET($A$1,ROW()-7,COLUMN()-1)<>2,\"\",'手順２・３・４社員タイプ#10'!$H$25&\"\")","v":""},null,{"$f":"OFFSET($A$1,ROW()-3,COLUMN()-1)","v":1},null,{"$f":"OFFSET($A$1,ROW()-3,COLUMN()-3)","v":1},null,77,null,1077]
[null,null,null,null,null,null,null,null,null,null,null,null,null,null,null,null,null,null,null,null,{"$f":"IF('手順２・３・４社員タイプ#01'!$B$26=\"\",\"\", '手順２・３・４社員タイプ#01'!$B$26)","v":""},null,{"$f":"'手順２・３・４社員タイプ#01'!$C$26","v":0},null,null,null,null,null,78,null,{"$f":"IF(AND(OFFSET($A$1,ROW()-1,COLUMN()-11)<>\"\",OR(OFFSET($A$1,ROW()-1,COLUMN()-9)=1,OFFSET($A$1,ROW()-1,COLUMN()-9)=2)),OFFSET($A$1,ROW()-1,COLUMN()-3),OFFSET($A$1,ROW()-1,COLUMN()-3)+1000)","v":1078},null,{"$f":"IF('手順２・３・４社員タイプ#02'!$B$26=\"\",\"\", '手順２・３・４社員タイプ#02'!$B$26)","v":""},null,{"$f":"'手順２・３・４社員タイプ#02'!$C$26","v":0},null,null,null,null,null,78,null,{"$f":"IF(AND(OFFSET($A$1,ROW()-1,COLUMN()-11)<>\"\",OR(OFFSET($A$1,ROW()-1,COLUMN()-9)=1,OFFSET($A$1,ROW()-1,COLUMN()-9)=2)),OFFSET($A$1,ROW()-1,COLUMN()-3),OFFSET($A$1,ROW()-1,COLUMN()-3)+1000)","v":1078},null,{"$f":"IF('手順２・３・４社員タイプ#03'!$B$26=\"\",\"\", '手順２・３・４社員タイプ#03'!$B$26)","v":""},null,{"$f":"'手順２・３・４社員タイプ#03'!$C$26","v":0},null,null,null,null,null,78,null,{"$f":"IF(AND(OFFSET($A$1,ROW()-1,COLUMN()-11)<>\"\",OR(OFFSET($A$1,ROW()-1,COLUMN()-9)=1,OFFSET($A$1,ROW()-1,COLUMN()-9)=2)),OFFSET($A$1,ROW()-1,COLUMN()-3),OFFSET($A$1,ROW()-1,COLUMN()-3)+1000)","v":1078},null,{"$f":"IF('手順２・３・４社員タイプ#04'!$B$26=\"\",\"\", '手順２・３・４社員タイプ#04'!$B$26)","v":""},null,{"$f":"'手順２・３・４社員タイプ#04'!$C$26","v":0},null,null,null,null,null,78,null,{"$f":"IF(AND(OFFSET($A$1,ROW()-1,COLUMN()-11)<>\"\",OR(OFFSET($A$1,ROW()-1,COLUMN()-9)=1,OFFSET($A$1,ROW()-1,COLUMN()-9)=2)),OFFSET($A$1,ROW()-1,COLUMN()-3),OFFSET($A$1,ROW()-1,COLUMN()-3)+1000)","v":1078},null,{"$f":"IF('手順２・３・４社員タイプ#05'!$B$26=\"\",\"\", '手順２・３・４社員タイプ#05'!$B$26)","v":""},null,{"$f":"'手順２・３・４社員タイプ#05'!$C$26","v":0},null,null,null,null,null,78,null,{"$f":"IF(AND(OFFSET($A$1,ROW()-1,COLUMN()-11)<>\"\",OR(OFFSET($A$1,ROW()-1,COLUMN()-9)=1,OFFSET($A$1,ROW()-1,COLUMN()-9)=2)),OFFSET($A$1,ROW()-1,COLUMN()-3),OFFSET($A$1,ROW()-1,COLUMN()-3)+1000)","v":1078},null,{"$f":"IF('手順２・３・４社員タイプ#06'!$B$26=\"\",\"\", '手順２・３・４社員タイプ#06'!$B$26)","v":""},null,{"$f":"'手順２・３・４社員タイプ#06'!$C$26","v":0},null,null,null,null,null,78,null,{"$f":"IF(AND(OFFSET($A$1,ROW()-1,COLUMN()-11)<>\"\",OR(OFFSET($A$1,ROW()-1,COLUMN()-9)=1,OFFSET($A$1,ROW()-1,COLUMN()-9)=2)),OFFSET($A$1,ROW()-1,COLUMN()-3),OFFSET($A$1,ROW()-1,COLUMN()-3)+1000)","v":1078},null,{"$f":"IF('手順２・３・４社員タイプ#07'!$B$26=\"\",\"\", '手順２・３・４社員タイプ#07'!$B$26)","v":""},null,{"$f":"'手順２・３・４社員タイプ#07'!$C$26","v":0},null,null,null,null,null,78,null,{"$f":"IF(AND(OFFSET($A$1,ROW()-1,COLUMN()-11)<>\"\",OR(OFFSET($A$1,ROW()-1,COLUMN()-9)=1,OFFSET($A$1,ROW()-1,COLUMN()-9)=2)),OFFSET($A$1,ROW()-1,COLUMN()-3),OFFSET($A$1,ROW()-1,COLUMN()-3)+1000)","v":1078},null,{"$f":"IF('手順２・３・４社員タイプ#08'!$B$26=\"\",\"\", '手順２・３・４社員タイプ#08'!$B$26)","v":""},null,{"$f":"'手順２・３・４社員タイプ#08'!$C$26","v":0},null,null,null,null,null,78,null,{"$f":"IF(AND(OFFSET($A$1,ROW()-1,COLUMN()-11)<>\"\",OR(OFFSET($A$1,ROW()-1,COLUMN()-9)=1,OFFSET($A$1,ROW()-1,COLUMN()-9)=2)),OFFSET($A$1,ROW()-1,COLUMN()-3),OFFSET($A$1,ROW()-1,COLUMN()-3)+1000)","v":1078},null,{"$f":"IF('手順２・３・４社員タイプ#09'!$B$26=\"\",\"\", '手順２・３・４社員タイプ#09'!$B$26)","v":""},null,{"$f":"'手順２・３・４社員タイプ#09'!$C$26","v":0},null,null,null,null,null,78,null,{"$f":"IF(AND(OFFSET($A$1,ROW()-1,COLUMN()-11)<>\"\",OR(OFFSET($A$1,ROW()-1,COLUMN()-9)=1,OFFSET($A$1,ROW()-1,COLUMN()-9)=2)),OFFSET($A$1,ROW()-1,COLUMN()-3),OFFSET($A$1,ROW()-1,COLUMN()-3)+1000)","v":1078},null,{"$f":"IF('手順２・３・４社員タイプ#10'!$B$26=\"\",\"\", '手順２・３・４社員タイプ#10'!$B$26)","v":""},null,{"$f":"'手順２・３・４社員タイプ#10'!$C$26","v":0},null,null,null,null,null,78,null,{"$f":"IF(AND(OFFSET($A$1,ROW()-1,COLUMN()-11)<>\"\",OR(OFFSET($A$1,ROW()-1,COLUMN()-9)=1,OFFSET($A$1,ROW()-1,COLUMN()-9)=2)),OFFSET($A$1,ROW()-1,COLUMN()-3),OFFSET($A$1,ROW()-1,COLUMN()-3)+1000)","v":1078}]
[null,null,null,null,null,null,null,null,null,null,null,null,null,null,null,null,null,null,null,null,"待遇の違いの有無",null,"支給の目的",null,null,null,null,null,79,null,{"$f":"OFFSET($A$1,ROW()-2,COLUMN()-1)+1","v":1079},null,"待遇の違いの有無",null,"支給の目的",null,null,null,null,null,79,null,{"$f":"OFFSET($A$1,ROW()-2,COLUMN()-1)+1","v":1079},null,"待遇の違いの有無",null,"支給の目的",null,null,null,null,null,79,null,{"$f":"OFFSET($A$1,ROW()-2,COLUMN()-1)+1","v":1079},null,"待遇の違いの有無",null,"支給の目的",null,null,null,null,null,79,null,{"$f":"OFFSET($A$1,ROW()-2,COLUMN()-1)+1","v":1079},null,"待遇の違いの有無",null,"支給の目的",null,null,null,null,null,79,null,{"$f":"OFFSET($A$1,ROW()-2,COLUMN()-1)+1","v":1079},null,"待遇の違いの有無",null,"支給の目的",null,null,null,null,null,79,null,{"$f":"OFFSET($A$1,ROW()-2,COLUMN()-1)+1","v":1079},null,"待遇の違いの有無",null,"支給の目的",null,null,null,null,null,79,null,{"$f":"OFFSET($A$1,ROW()-2,COLUMN()-1)+1","v":1079},null,"待遇の違いの有無",null,"支給の目的",null,null,null,null,null,79,null,{"$f":"OFFSET($A$1,ROW()-2,COLUMN()-1)+1","v":1079},null,"待遇の違いの有無",null,"支給の目的",null,null,null,null,null,79,null,{"$f":"OFFSET($A$1,ROW()-2,COLUMN()-1)+1","v":1079},null,"待遇の違いの有無",null,"支給の目的",null,null,null,null,null,79,null,{"$f":"OFFSET($A$1,ROW()-2,COLUMN()-1)+1","v":1079}]
[null,null,null,null,null,null,null,null,null,null,null,null,null,null,null,null,null,null,null,null,{"$f":"OFFSET($C$6,OFFSET($A$1,ROW()-3,COLUMN()+1),0)","v":" "},null,{"$f":"'手順２・３・４社員タイプ#01'!$D$26&\"\"","v":""},null,null,null,null,null,80,null,1080,null,{"$f":"OFFSET($C$6,OFFSET($A$1,ROW()-3,COLUMN()+1),0)","v":" "},null,{"$f":"'手順２・３・４社員タイプ#02'!$D$26&\"\"","v":""},null,null,null,null,null,80,null,1080,null,{"$f":"OFFSET($C$6,OFFSET($A$1,ROW()-3,COLUMN()+1),0)","v":" "},null,{"$f":"'手順２・３・４社員タイプ#03'!$D$26&\"\"","v":""},null,null,null,null,null,80,null,1080,null,{"$f":"OFFSET($C$6,OFFSET($A$1,ROW()-3,COLUMN()+1),0)","v":" "},null,{"$f":"'手順２・３・４社員タイプ#04'!$D$26&\"\"","v":""},null,null,null,null,null,80,null,1080,null,{"$f":"OFFSET($C$6,OFFSET($A$1,ROW()-3,COLUMN()+1),0)","v":" "},null,{"$f":"'手順２・３・４社員タイプ#05'!$D$26&\"\"","v":""},null,null,null,null,null,80,null,1080,null,{"$f":"OFFSET($C$6,OFFSET($A$1,ROW()-3,COLUMN()+1),0)","v":" "},null,{"$f":"'手順２・３・４社員タイプ#06'!$D$26&\"\"","v":""},null,null,null,null,null,80,null,1080,null,{"$f":"OFFSET($C$6,OFFSET($A$1,ROW()-3,COLUMN()+1),0)","v":" "},null,{"$f":"'手順２・３・４社員タイプ#07'!$D$26&\"\"","v":""},null,null,null,null,null,80,null,1080,null,{"$f":"OFFSET($C$6,OFFSET($A$1,ROW()-3,COLUMN()+1),0)","v":" "},null,{"$f":"'手順２・３・４社員タイプ#08'!$D$26&\"\"","v":""},null,null,null,null,null,80,null,1080,null,{"$f":"OFFSET($C$6,OFFSET($A$1,ROW()-3,COLUMN()+1),0)","v":" "},null,{"$f":"'手順２・３・４社員タイプ#09'!$D$26&\"\"","v":""},null,null,null,null,null,80,null,1080,null,{"$f":"OFFSET($C$6,OFFSET($A$1,ROW()-3,COLUMN()+1),0)","v":" "},null,{"$f":"'手順２・３・４社員タイプ#10'!$D$26&\"\"","v":""},null,null,null,null,null,80,null,1080]
[null,null,null,null,null,null,null,null,null,null,null,null,null,null,null,null,null,null,null,null,"正社員",null,"短時間労働者・有期雇用労働者",null,null,null,null,null,81,null,1081,null,"正社員",null,"短時間労働者・有期雇用労働者",null,null,null,null,null,81,null,1081,null,"正社員",null,"短時間労働者・有期雇用労働者",null,null,null,null,null,81,null,1081,null,"正社員",null,"短時間労働者・有期雇用労働者",null,null,null,null,null,81,null,1081,null,"正社員",null,"短時間労働者・有期雇用労働者",null,null,null,null,null,81,null,1081,null,"正社員",null,"短時間労働者・有期雇用労働者",null,null,null,null,null,81,null,1081,null,"正社員",null,"短時間労働者・有期雇用労働者",null,null,null,null,null,81,null,1081,null,"正社員",null,"短時間労働者・有期雇用労働者",null,null,null,null,null,81,null,1081,null,"正社員",null,"短時間労働者・有期雇用労働者",null,null,null,null,null,81,null,1081,null,"正社員",null,"短時間労働者・有期雇用労働者",null,null,null,null,null,81,null,1081]
[null,null,null,null,null,null,null,null,null,null,null,null,null,null,null,null,null,null,null,null,{"$f":"IF(OFFSET($A$1,ROW()-5,COLUMN()+1)<>2,\"\",'手順２・３・４社員タイプ#01'!$E$26&\"\")","v":""},null,{"$f":"IF(OFFSET($A$1,ROW()-5,COLUMN()-1)<>2,\"\",'手順２・３・４社員タイプ#01'!$F$26&\"\")","v":""},null,{"$f":"IF(OFFSET($A$1,ROW()-5,COLUMN()-3)<>2,1,0)","v":1},null,{"$f":"OFFSET($A$1,ROW()-1,COLUMN()-3)","v":1},null,82,null,1082,null,{"$f":"IF(OFFSET($A$1,ROW()-5,COLUMN()+1)<>2,\"\",'手順２・３・４社員タイプ#02'!$E$26&\"\")","v":""},null,{"$f":"IF(OFFSET($A$1,ROW()-5,COLUMN()-1)<>2,\"\",'手順２・３・４社員タイプ#02'!$F$26&\"\")","v":""},null,{"$f":"IF(OFFSET($A$1,ROW()-5,COLUMN()-3)<>2,1,0)","v":1},null,{"$f":"OFFSET($A$1,ROW()-1,COLUMN()-3)","v":1},null,82,null,1082,null,{"$f":"IF(OFFSET($A$1,ROW()-5,COLUMN()+1)<>2,\"\",'手順２・３・４社員タイプ#03'!$E$26&\"\")","v":""},null,{"$f":"IF(OFFSET($A$1,ROW()-5,COLUMN()-1)<>2,\"\",'手順２・３・４社員タイプ#03'!$F$26&\"\")","v":""},null,{"$f":"IF(OFFSET($A$1,ROW()-5,COLUMN()-3)<>2,1,0)","v":1},null,{"$f":"OFFSET($A$1,ROW()-1,COLUMN()-3)","v":1},null,82,null,1082,null,{"$f":"IF(OFFSET($A$1,ROW()-5,COLUMN()+1)<>2,\"\",'手順２・３・４社員タイプ#04'!$E$26&\"\")","v":""},null,{"$f":"IF(OFFSET($A$1,ROW()-5,COLUMN()-1)<>2,\"\",'手順２・３・４社員タイプ#04'!$F$26&\"\")","v":""},null,{"$f":"IF(OFFSET($A$1,ROW()-5,COLUMN()-3)<>2,1,0)","v":1},null,{"$f":"OFFSET($A$1,ROW()-1,COLUMN()-3)","v":1},null,82,null,1082,null,{"$f":"IF(OFFSET($A$1,ROW()-5,COLUMN()+1)<>2,\"\",'手順２・３・４社員タイプ#05'!$E$26&\"\")","v":""},null,{"$f":"IF(OFFSET($A$1,ROW()-5,COLUMN()-1)<>2,\"\",'手順２・３・４社員タイプ#05'!$F$26&\"\")","v":""},null,{"$f":"IF(OFFSET($A$1,ROW()-5,COLUMN()-3)<>2,1,0)","v":1},null,{"$f":"OFFSET($A$1,ROW()-1,COLUMN()-3)","v":1},null,82,null,1082,null,{"$f":"IF(OFFSET($A$1,ROW()-5,COLUMN()+1)<>2,\"\",'手順２・３・４社員タイプ#06'!$E$26&\"\")","v":""},null,{"$f":"IF(OFFSET($A$1,ROW()-5,COLUMN()-1)<>2,\"\",'手順２・３・４社員タイプ#06'!$F$26&\"\")","v":""},null,{"$f":"IF(OFFSET($A$1,ROW()-5,COLUMN()-3)<>2,1,0)","v":1},null,{"$f":"OFFSET($A$1,ROW()-1,COLUMN()-3)","v":1},null,82,null,1082,null,{"$f":"IF(OFFSET($A$1,ROW()-5,COLUMN()+1)<>2,\"\",'手順２・３・４社員タイプ#07'!$E$26&\"\")","v":""},null,{"$f":"IF(OFFSET($A$1,ROW()-5,COLUMN()-1)<>2,\"\",'手順２・３・４社員タイプ#07'!$F$26&\"\")","v":""},null,{"$f":"IF(OFFSET($A$1,ROW()-5,COLUMN()-3)<>2,1,0)","v":1},null,{"$f":"OFFSET($A$1,ROW()-1,COLUMN()-3)","v":1},null,82,null,1082,null,{"$f":"IF(OFFSET($A$1,ROW()-5,COLUMN()+1)<>2,\"\",'手順２・３・４社員タイプ#08'!$E$26&\"\")","v":""},null,{"$f":"IF(OFFSET($A$1,ROW()-5,COLUMN()-1)<>2,\"\",'手順２・３・４社員タイプ#08'!$F$26&\"\")","v":""},null,{"$f":"IF(OFFSET($A$1,ROW()-5,COLUMN()-3)<>2,1,0)","v":1},null,{"$f":"OFFSET($A$1,ROW()-1,COLUMN()-3)","v":1},null,82,null,1082,null,{"$f":"IF(OFFSET($A$1,ROW()-5,COLUMN()+1)<>2,\"\",'手順２・３・４社員タイプ#09'!$E$26&\"\")","v":""},null,{"$f":"IF(OFFSET($A$1,ROW()-5,COLUMN()-1)<>2,\"\",'手順２・３・４社員タイプ#09'!$F$26&\"\")","v":""},null,{"$f":"IF(OFFSET($A$1,ROW()-5,COLUMN()-3)<>2,1,0)","v":1},null,{"$f":"OFFSET($A$1,ROW()-1,COLUMN()-3)","v":1},null,82,null,1082,null,{"$f":"IF(OFFSET($A$1,ROW()-5,COLUMN()+1)<>2,\"\",'手順２・３・４社員タイプ#10'!$E$26&\"\")","v":""},null,{"$f":"IF(OFFSET($A$1,ROW()-5,COLUMN()-1)<>2,\"\",'手順２・３・４社員タイプ#10'!$F$26&\"\")","v":""},null,{"$f":"IF(OFFSET($A$1,ROW()-5,COLUMN()-3)<>2,1,0)","v":1},null,{"$f":"OFFSET($A$1,ROW()-1,COLUMN()-3)","v":1},null,82,null,1082]
[null,null,null,null,null,null,null,null,null,null,null,null,null,null,null,null,null,null,null,null,"違いを設けている理由",null,"対応方針",null,null,null,null,null,83,null,1083,null,"違いを設けている理由",null,"対応方針",null,null,null,null,null,83,null,1083,null,"違いを設けている理由",null,"対応方針",null,null,null,null,null,83,null,1083,null,"違いを設けている理由",null,"対応方針",null,null,null,null,null,83,null,1083,null,"違いを設けている理由",null,"対応方針",null,null,null,null,null,83,null,1083,null,"違いを設けている理由",null,"対応方針",null,null,null,null,null,83,null,1083,null,"違いを設けている理由",null,"対応方針",null,null,null,null,null,83,null,1083,null,"違いを設けている理由",null,"対応方針",null,null,null,null,null,83,null,1083,null,"違いを設けている理由",null,"対応方針",null,null,null,null,null,83,null,1083,null,"違いを設けている理由",null,"対応方針",null,null,null,null,null,83,null,1083]
[null,null,null,null,null,null,null,null,null,null,null,null,null,null,null,null,null,null,null,null,{"$f":"IF(OFFSET($A$1,ROW()-7,COLUMN()+1)<>2,\"\",'手順２・３・４社員タイプ#01'!$G$26&\"\")","v":""},null,{"$f":"IF(OFFSET($A$1,ROW()-7,COLUMN()-1)<>2,\"\",'手順２・３・４社員タイプ#01'!$H$26&\"\")","v":""},null,{"$f":"OFFSET($A$1,ROW()-3,COLUMN()-1)","v":1},null,{"$f":"OFFSET($A$1,ROW()-3,COLUMN()-3)","v":1},null,84,null,1084,null,{"$f":"IF(OFFSET($A$1,ROW()-7,COLUMN()+1)<>2,\"\",'手順２・３・４社員タイプ#02'!$G$26&\"\")","v":""},null,{"$f":"IF(OFFSET($A$1,ROW()-7,COLUMN()-1)<>2,\"\",'手順２・３・４社員タイプ#02'!$H$26&\"\")","v":""},null,{"$f":"OFFSET($A$1,ROW()-3,COLUMN()-1)","v":1},null,{"$f":"OFFSET($A$1,ROW()-3,COLUMN()-3)","v":1},null,84,null,1084,null,{"$f":"IF(OFFSET($A$1,ROW()-7,COLUMN()+1)<>2,\"\",'手順２・３・４社員タイプ#03'!$G$26&\"\")","v":""},null,{"$f":"IF(OFFSET($A$1,ROW()-7,COLUMN()-1)<>2,\"\",'手順２・３・４社員タイプ#03'!$H$26&\"\")","v":""},null,{"$f":"OFFSET($A$1,ROW()-3,COLUMN()-1)","v":1},null,{"$f":"OFFSET($A$1,ROW()-3,COLUMN()-3)","v":1},null,84,null,1084,null,{"$f":"IF(OFFSET($A$1,ROW()-7,COLUMN()+1)<>2,\"\",'手順２・３・４社員タイプ#04'!$G$26&\"\")","v":""},null,{"$f":"IF(OFFSET($A$1,ROW()-7,COLUMN()-1)<>2,\"\",'手順２・３・４社員タイプ#04'!$H$26&\"\")","v":""},null,{"$f":"OFFSET($A$1,ROW()-3,COLUMN()-1)","v":1},null,{"$f":"OFFSET($A$1,ROW()-3,COLUMN()-3)","v":1},null,84,null,1084,null,{"$f":"IF(OFFSET($A$1,ROW()-7,COLUMN()+1)<>2,\"\",'手順２・３・４社員タイプ#05'!$G$26&\"\")","v":""},null,{"$f":"IF(OFFSET($A$1,ROW()-7,COLUMN()-1)<>2,\"\",'手順２・３・４社員タイプ#05'!$H$26&\"\")","v":""},null,{"$f":"OFFSET($A$1,ROW()-3,COLUMN()-1)","v":1},null,{"$f":"OFFSET($A$1,ROW()-3,COLUMN()-3)","v":1},null,84,null,1084,null,{"$f":"IF(OFFSET($A$1,ROW()-7,COLUMN()+1)<>2,\"\",'手順２・３・４社員タイプ#06'!$G$26&\"\")","v":""},null,{"$f":"IF(OFFSET($A$1,ROW()-7,COLUMN()-1)<>2,\"\",'手順２・３・４社員タイプ#06'!$H$26&\"\")","v":""},null,{"$f":"OFFSET($A$1,ROW()-3,COLUMN()-1)","v":1},null,{"$f":"OFFSET($A$1,ROW()-3,COLUMN()-3)","v":1},null,84,null,1084,null,{"$f":"IF(OFFSET($A$1,ROW()-7,COLUMN()+1)<>2,\"\",'手順２・３・４社員タイプ#07'!$G$26&\"\")","v":""},null,{"$f":"IF(OFFSET($A$1,ROW()-7,COLUMN()-1)<>2,\"\",'手順２・３・４社員タイプ#07'!$H$26&\"\")","v":""},null,{"$f":"OFFSET($A$1,ROW()-3,COLUMN()-1)","v":1},null,{"$f":"OFFSET($A$1,ROW()-3,COLUMN()-3)","v":1},null,84,null,1084,null,{"$f":"IF(OFFSET($A$1,ROW()-7,COLUMN()+1)<>2,\"\",'手順２・３・４社員タイプ#08'!$G$26&\"\")","v":""},null,{"$f":"IF(OFFSET($A$1,ROW()-7,COLUMN()-1)<>2,\"\",'手順２・３・４社員タイプ#08'!$H$26&\"\")","v":""},null,{"$f":"OFFSET($A$1,ROW()-3,COLUMN()-1)","v":1},null,{"$f":"OFFSET($A$1,ROW()-3,COLUMN()-3)","v":1},null,84,null,1084,null,{"$f":"IF(OFFSET($A$1,ROW()-7,COLUMN()+1)<>2,\"\",'手順２・３・４社員タイプ#09'!$G$26&\"\")","v":""},null,{"$f":"IF(OFFSET($A$1,ROW()-7,COLUMN()-1)<>2,\"\",'手順２・３・４社員タイプ#09'!$H$26&\"\")","v":""},null,{"$f":"OFFSET($A$1,ROW()-3,COLUMN()-1)","v":1},null,{"$f":"OFFSET($A$1,ROW()-3,COLUMN()-3)","v":1},null,84,null,1084,null,{"$f":"IF(OFFSET($A$1,ROW()-7,COLUMN()+1)<>2,\"\",'手順２・３・４社員タイプ#10'!$G$26&\"\")","v":""},null,{"$f":"IF(OFFSET($A$1,ROW()-7,COLUMN()-1)<>2,\"\",'手順２・３・４社員タイプ#10'!$H$26&\"\")","v":""},null,{"$f":"OFFSET($A$1,ROW()-3,COLUMN()-1)","v":1},null,{"$f":"OFFSET($A$1,ROW()-3,COLUMN()-3)","v":1},null,84,null,1084]
[null,null,null,null,null,null,null,null,null,null,null,null,null,null,null,null,null,null,null,null,{"$f":"IF('手順２・３・４社員タイプ#01'!$B$27=\"\",\"\", '手順２・３・４社員タイプ#01'!$B$27)","v":""},null,{"$f":"'手順２・３・４社員タイプ#01'!$C$27","v":0},null,null,null,null,null,85,null,{"$f":"IF(AND(OFFSET($A$1,ROW()-1,COLUMN()-11)<>\"\",OR(OFFSET($A$1,ROW()-1,COLUMN()-9)=1,OFFSET($A$1,ROW()-1,COLUMN()-9)=2)),OFFSET($A$1,ROW()-1,COLUMN()-3),OFFSET($A$1,ROW()-1,COLUMN()-3)+1000)","v":1085},null,{"$f":"IF('手順２・３・４社員タイプ#02'!$B$27=\"\",\"\", '手順２・３・４社員タイプ#02'!$B$27)","v":""},null,{"$f":"'手順２・３・４社員タイプ#02'!$C$27","v":0},null,null,null,null,null,85,null,{"$f":"IF(AND(OFFSET($A$1,ROW()-1,COLUMN()-11)<>\"\",OR(OFFSET($A$1,ROW()-1,COLUMN()-9)=1,OFFSET($A$1,ROW()-1,COLUMN()-9)=2)),OFFSET($A$1,ROW()-1,COLUMN()-3),OFFSET($A$1,ROW()-1,COLUMN()-3)+1000)","v":1085},null,{"$f":"IF('手順２・３・４社員タイプ#03'!$B$27=\"\",\"\", '手順２・３・４社員タイプ#03'!$B$27)","v":""},null,{"$f":"'手順２・３・４社員タイプ#03'!$C$27","v":0},null,null,null,null,null,85,null,{"$f":"IF(AND(OFFSET($A$1,ROW()-1,COLUMN()-11)<>\"\",OR(OFFSET($A$1,ROW()-1,COLUMN()-9)=1,OFFSET($A$1,ROW()-1,COLUMN()-9)=2)),OFFSET($A$1,ROW()-1,COLUMN()-3),OFFSET($A$1,ROW()-1,COLUMN()-3)+1000)","v":1085},null,{"$f":"IF('手順２・３・４社員タイプ#04'!$B$27=\"\",\"\", '手順２・３・４社員タイプ#04'!$B$27)","v":""},null,{"$f":"'手順２・３・４社員タイプ#04'!$C$27","v":0},null,null,null,null,null,85,null,{"$f":"IF(AND(OFFSET($A$1,ROW()-1,COLUMN()-11)<>\"\",OR(OFFSET($A$1,ROW()-1,COLUMN()-9)=1,OFFSET($A$1,ROW()-1,COLUMN()-9)=2)),OFFSET($A$1,ROW()-1,COLUMN()-3),OFFSET($A$1,ROW()-1,COLUMN()-3)+1000)","v":1085},null,{"$f":"IF('手順２・３・４社員タイプ#05'!$B$27=\"\",\"\", '手順２・３・４社員タイプ#05'!$B$27)","v":""},null,{"$f":"'手順２・３・４社員タイプ#05'!$C$27","v":0},null,null,null,null,null,85,null,{"$f":"IF(AND(OFFSET($A$1,ROW()-1,COLUMN()-11)<>\"\",OR(OFFSET($A$1,ROW()-1,COLUMN()-9)=1,OFFSET($A$1,ROW()-1,COLUMN()-9)=2)),OFFSET($A$1,ROW()-1,COLUMN()-3),OFFSET($A$1,ROW()-1,COLUMN()-3)+1000)","v":1085},null,{"$f":"IF('手順２・３・４社員タイプ#06'!$B$27=\"\",\"\", '手順２・３・４社員タイプ#06'!$B$27)","v":""},null,{"$f":"'手順２・３・４社員タイプ#06'!$C$27","v":0},null,null,null,null,null,85,null,{"$f":"IF(AND(OFFSET($A$1,ROW()-1,COLUMN()-11)<>\"\",OR(OFFSET($A$1,ROW()-1,COLUMN()-9)=1,OFFSET($A$1,ROW()-1,COLUMN()-9)=2)),OFFSET($A$1,ROW()-1,COLUMN()-3),OFFSET($A$1,ROW()-1,COLUMN()-3)+1000)","v":1085},null,{"$f":"IF('手順２・３・４社員タイプ#07'!$B$27=\"\",\"\", '手順２・３・４社員タイプ#07'!$B$27)","v":""},null,{"$f":"'手順２・３・４社員タイプ#07'!$C$27","v":0},null,null,null,null,null,85,null,{"$f":"IF(AND(OFFSET($A$1,ROW()-1,COLUMN()-11)<>\"\",OR(OFFSET($A$1,ROW()-1,COLUMN()-9)=1,OFFSET($A$1,ROW()-1,COLUMN()-9)=2)),OFFSET($A$1,ROW()-1,COLUMN()-3),OFFSET($A$1,ROW()-1,COLUMN()-3)+1000)","v":1085},null,{"$f":"IF('手順２・３・４社員タイプ#08'!$B$27=\"\",\"\", '手順２・３・４社員タイプ#08'!$B$27)","v":""},null,{"$f":"'手順２・３・４社員タイプ#08'!$C$27","v":0},null,null,null,null,null,85,null,{"$f":"IF(AND(OFFSET($A$1,ROW()-1,COLUMN()-11)<>\"\",OR(OFFSET($A$1,ROW()-1,COLUMN()-9)=1,OFFSET($A$1,ROW()-1,COLUMN()-9)=2)),OFFSET($A$1,ROW()-1,COLUMN()-3),OFFSET($A$1,ROW()-1,COLUMN()-3)+1000)","v":1085},null,{"$f":"IF('手順２・３・４社員タイプ#09'!$B$27=\"\",\"\", '手順２・３・４社員タイプ#09'!$B$27)","v":""},null,{"$f":"'手順２・３・４社員タイプ#09'!$C$27","v":0},null,null,null,null,null,85,null,{"$f":"IF(AND(OFFSET($A$1,ROW()-1,COLUMN()-11)<>\"\",OR(OFFSET($A$1,ROW()-1,COLUMN()-9)=1,OFFSET($A$1,ROW()-1,COLUMN()-9)=2)),OFFSET($A$1,ROW()-1,COLUMN()-3),OFFSET($A$1,ROW()-1,COLUMN()-3)+1000)","v":1085},null,{"$f":"IF('手順２・３・４社員タイプ#10'!$B$27=\"\",\"\", '手順２・３・４社員タイプ#10'!$B$27)","v":""},null,{"$f":"'手順２・３・４社員タイプ#10'!$C$27","v":0},null,null,null,null,null,85,null,{"$f":"IF(AND(OFFSET($A$1,ROW()-1,COLUMN()-11)<>\"\",OR(OFFSET($A$1,ROW()-1,COLUMN()-9)=1,OFFSET($A$1,ROW()-1,COLUMN()-9)=2)),OFFSET($A$1,ROW()-1,COLUMN()-3),OFFSET($A$1,ROW()-1,COLUMN()-3)+1000)","v":1085}]
[null,null,null,null,null,null,null,null,null,null,null,null,null,null,null,null,null,null,null,null,"待遇の違いの有無",null,"支給の目的",null,null,null,null,null,86,null,{"$f":"OFFSET($A$1,ROW()-2,COLUMN()-1)+1","v":1086},null,"待遇の違いの有無",null,"支給の目的",null,null,null,null,null,86,null,{"$f":"OFFSET($A$1,ROW()-2,COLUMN()-1)+1","v":1086},null,"待遇の違いの有無",null,"支給の目的",null,null,null,null,null,86,null,{"$f":"OFFSET($A$1,ROW()-2,COLUMN()-1)+1","v":1086},null,"待遇の違いの有無",null,"支給の目的",null,null,null,null,null,86,null,{"$f":"OFFSET($A$1,ROW()-2,COLUMN()-1)+1","v":1086},null,"待遇の違いの有無",null,"支給の目的",null,null,null,null,null,86,null,{"$f":"OFFSET($A$1,ROW()-2,COLUMN()-1)+1","v":1086},null,"待遇の違いの有無",null,"支給の目的",null,null,null,null,null,86,null,{"$f":"OFFSET($A$1,ROW()-2,COLUMN()-1)+1","v":1086},null,"待遇の違いの有無",null,"支給の目的",null,null,null,null,null,86,null,{"$f":"OFFSET($A$1,ROW()-2,COLUMN()-1)+1","v":1086},null,"待遇の違いの有無",null,"支給の目的",null,null,null,null,null,86,null,{"$f":"OFFSET($A$1,ROW()-2,COLUMN()-1)+1","v":1086},null,"待遇の違いの有無",null,"支給の目的",null,null,null,null,null,86,null,{"$f":"OFFSET($A$1,ROW()-2,COLUMN()-1)+1","v":1086},null,"待遇の違いの有無",null,"支給の目的",null,null,null,null,null,86,null,{"$f":"OFFSET($A$1,ROW()-2,COLUMN()-1)+1","v":1086}]
[null,null,null,null,null,null,null,null,null,null,null,null,null,null,null,null,null,null,null,null,{"$f":"OFFSET($C$6,OFFSET($A$1,ROW()-3,COLUMN()+1),0)","v":" "},null,{"$f":"'手順２・３・４社員タイプ#01'!$D$27&\"\"","v":""},null,null,null,null,null,87,null,1087,null,{"$f":"OFFSET($C$6,OFFSET($A$1,ROW()-3,COLUMN()+1),0)","v":" "},null,{"$f":"'手順２・３・４社員タイプ#02'!$D$27&\"\"","v":""},null,null,null,null,null,87,null,1087,null,{"$f":"OFFSET($C$6,OFFSET($A$1,ROW()-3,COLUMN()+1),0)","v":" "},null,{"$f":"'手順２・３・４社員タイプ#03'!$D$27&\"\"","v":""},null,null,null,null,null,87,null,1087,null,{"$f":"OFFSET($C$6,OFFSET($A$1,ROW()-3,COLUMN()+1),0)","v":" "},null,{"$f":"'手順２・３・４社員タイプ#04'!$D$27&\"\"","v":""},null,null,null,null,null,87,null,1087,null,{"$f":"OFFSET($C$6,OFFSET($A$1,ROW()-3,COLUMN()+1),0)","v":" "},null,{"$f":"'手順２・３・４社員タイプ#05'!$D$27&\"\"","v":""},null,null,null,null,null,87,null,1087,null,{"$f":"OFFSET($C$6,OFFSET($A$1,ROW()-3,COLUMN()+1),0)","v":" "},null,{"$f":"'手順２・３・４社員タイプ#06'!$D$27&\"\"","v":""},null,null,null,null,null,87,null,1087,null,{"$f":"OFFSET($C$6,OFFSET($A$1,ROW()-3,COLUMN()+1),0)","v":" "},null,{"$f":"'手順２・３・４社員タイプ#07'!$D$27&\"\"","v":""},null,null,null,null,null,87,null,1087,null,{"$f":"OFFSET($C$6,OFFSET($A$1,ROW()-3,COLUMN()+1),0)","v":" "},null,{"$f":"'手順２・３・４社員タイプ#08'!$D$27&\"\"","v":""},null,null,null,null,null,87,null,1087,null,{"$f":"OFFSET($C$6,OFFSET($A$1,ROW()-3,COLUMN()+1),0)","v":" "},null,{"$f":"'手順２・３・４社員タイプ#09'!$D$27&\"\"","v":""},null,null,null,null,null,87,null,1087,null,{"$f":"OFFSET($C$6,OFFSET($A$1,ROW()-3,COLUMN()+1),0)","v":" "},null,{"$f":"'手順２・３・４社員タイプ#10'!$D$27&\"\"","v":""},null,null,null,null,null,87,null,1087]
[null,null,null,null,null,null,null,null,null,null,null,null,null,null,null,null,null,null,null,null,"正社員",null,"短時間労働者・有期雇用労働者",null,null,null,null,null,88,null,1088,null,"正社員",null,"短時間労働者・有期雇用労働者",null,null,null,null,null,88,null,1088,null,"正社員",null,"短時間労働者・有期雇用労働者",null,null,null,null,null,88,null,1088,null,"正社員",null,"短時間労働者・有期雇用労働者",null,null,null,null,null,88,null,1088,null,"正社員",null,"短時間労働者・有期雇用労働者",null,null,null,null,null,88,null,1088,null,"正社員",null,"短時間労働者・有期雇用労働者",null,null,null,null,null,88,null,1088,null,"正社員",null,"短時間労働者・有期雇用労働者",null,null,null,null,null,88,null,1088,null,"正社員",null,"短時間労働者・有期雇用労働者",null,null,null,null,null,88,null,1088,null,"正社員",null,"短時間労働者・有期雇用労働者",null,null,null,null,null,88,null,1088,null,"正社員",null,"短時間労働者・有期雇用労働者",null,null,null,null,null,88,null,1088]
[null,null,null,null,null,null,null,null,null,null,null,null,null,null,null,null,null,null,null,null,{"$f":"IF(OFFSET($A$1,ROW()-5,COLUMN()+1)<>2,\"\",'手順２・３・４社員タイプ#01'!$E$27&\"\")","v":""},null,{"$f":"IF(OFFSET($A$1,ROW()-5,COLUMN()-1)<>2,\"\",'手順２・３・４社員タイプ#01'!$F$27&\"\")","v":""},null,{"$f":"IF(OFFSET($A$1,ROW()-5,COLUMN()-3)<>2,1,0)","v":1},null,{"$f":"OFFSET($A$1,ROW()-1,COLUMN()-3)","v":1},null,89,null,1089,null,{"$f":"IF(OFFSET($A$1,ROW()-5,COLUMN()+1)<>2,\"\",'手順２・３・４社員タイプ#02'!$E$27&\"\")","v":""},null,{"$f":"IF(OFFSET($A$1,ROW()-5,COLUMN()-1)<>2,\"\",'手順２・３・４社員タイプ#02'!$F$27&\"\")","v":""},null,{"$f":"IF(OFFSET($A$1,ROW()-5,COLUMN()-3)<>2,1,0)","v":1},null,{"$f":"OFFSET($A$1,ROW()-1,COLUMN()-3)","v":1},null,89,null,1089,null,{"$f":"IF(OFFSET($A$1,ROW()-5,COLUMN()+1)<>2,\"\",'手順２・３・４社員タイプ#03'!$E$27&\"\")","v":""},null,{"$f":"IF(OFFSET($A$1,ROW()-5,COLUMN()-1)<>2,\"\",'手順２・３・４社員タイプ#03'!$F$27&\"\")","v":""},null,{"$f":"IF(OFFSET($A$1,ROW()-5,COLUMN()-3)<>2,1,0)","v":1},null,{"$f":"OFFSET($A$1,ROW()-1,COLUMN()-3)","v":1},null,89,null,1089,null,{"$f":"IF(OFFSET($A$1,ROW()-5,COLUMN()+1)<>2,\"\",'手順２・３・４社員タイプ#04'!$E$27&\"\")","v":""},null,{"$f":"IF(OFFSET($A$1,ROW()-5,COLUMN()-1)<>2,\"\",'手順２・３・４社員タイプ#04'!$F$27&\"\")","v":""},null,{"$f":"IF(OFFSET($A$1,ROW()-5,COLUMN()-3)<>2,1,0)","v":1},null,{"$f":"OFFSET($A$1,ROW()-1,COLUMN()-3)","v":1},null,89,null,1089,null,{"$f":"IF(OFFSET($A$1,ROW()-5,COLUMN()+1)<>2,\"\",'手順２・３・４社員タイプ#05'!$E$27&\"\")","v":""},null,{"$f":"IF(OFFSET($A$1,ROW()-5,COLUMN()-1)<>2,\"\",'手順２・３・４社員タイプ#05'!$F$27&\"\")","v":""},null,{"$f":"IF(OFFSET($A$1,ROW()-5,COLUMN()-3)<>2,1,0)","v":1},null,{"$f":"OFFSET($A$1,ROW()-1,COLUMN()-3)","v":1},null,89,null,1089,null,{"$f":"IF(OFFSET($A$1,ROW()-5,COLUMN()+1)<>2,\"\",'手順２・３・４社員タイプ#06'!$E$27&\"\")","v":""},null,{"$f":"IF(OFFSET($A$1,ROW()-5,COLUMN()-1)<>2,\"\",'手順２・３・４社員タイプ#06'!$F$27&\"\")","v":""},null,{"$f":"IF(OFFSET($A$1,ROW()-5,COLUMN()-3)<>2,1,0)","v":1},null,{"$f":"OFFSET($A$1,ROW()-1,COLUMN()-3)","v":1},null,89,null,1089,null,{"$f":"IF(OFFSET($A$1,ROW()-5,COLUMN()+1)<>2,\"\",'手順２・３・４社員タイプ#07'!$E$27&\"\")","v":""},null,{"$f":"IF(OFFSET($A$1,ROW()-5,COLUMN()-1)<>2,\"\",'手順２・３・４社員タイプ#07'!$F$27&\"\")","v":""},null,{"$f":"IF(OFFSET($A$1,ROW()-5,COLUMN()-3)<>2,1,0)","v":1},null,{"$f":"OFFSET($A$1,ROW()-1,COLUMN()-3)","v":1},null,89,null,1089,null,{"$f":"IF(OFFSET($A$1,ROW()-5,COLUMN()+1)<>2,\"\",'手順２・３・４社員タイプ#08'!$E$27&\"\")","v":""},null,{"$f":"IF(OFFSET($A$1,ROW()-5,COLUMN()-1)<>2,\"\",'手順２・３・４社員タイプ#08'!$F$27&\"\")","v":""},null,{"$f":"IF(OFFSET($A$1,ROW()-5,COLUMN()-3)<>2,1,0)","v":1},null,{"$f":"OFFSET($A$1,ROW()-1,COLUMN()-3)","v":1},null,89,null,1089,null,{"$f":"IF(OFFSET($A$1,ROW()-5,COLUMN()+1)<>2,\"\",'手順２・３・４社員タイプ#09'!$E$27&\"\")","v":""},null,{"$f":"IF(OFFSET($A$1,ROW()-5,COLUMN()-1)<>2,\"\",'手順２・３・４社員タイプ#09'!$F$27&\"\")","v":""},null,{"$f":"IF(OFFSET($A$1,ROW()-5,COLUMN()-3)<>2,1,0)","v":1},null,{"$f":"OFFSET($A$1,ROW()-1,COLUMN()-3)","v":1},null,89,null,1089,null,{"$f":"IF(OFFSET($A$1,ROW()-5,COLUMN()+1)<>2,\"\",'手順２・３・４社員タイプ#10'!$E$27&\"\")","v":""},null,{"$f":"IF(OFFSET($A$1,ROW()-5,COLUMN()-1)<>2,\"\",'手順２・３・４社員タイプ#10'!$F$27&\"\")","v":""},null,{"$f":"IF(OFFSET($A$1,ROW()-5,COLUMN()-3)<>2,1,0)","v":1},null,{"$f":"OFFSET($A$1,ROW()-1,COLUMN()-3)","v":1},null,89,null,1089]
[null,null,null,null,null,null,null,null,null,null,null,null,null,null,null,null,null,null,null,null,"違いを設けている理由",null,"対応方針",null,null,null,null,null,90,null,1090,null,"違いを設けている理由",null,"対応方針",null,null,null,null,null,90,null,1090,null,"違いを設けている理由",null,"対応方針",null,null,null,null,null,90,null,1090,null,"違いを設けている理由",null,"対応方針",null,null,null,null,null,90,null,1090,null,"違いを設けている理由",null,"対応方針",null,null,null,null,null,90,null,1090,null,"違いを設けている理由",null,"対応方針",null,null,null,null,null,90,null,1090,null,"違いを設けている理由",null,"対応方針",null,null,null,null,null,90,null,1090,null,"違いを設けている理由",null,"対応方針",null,null,null,null,null,90,null,1090,null,"違いを設けている理由",null,"対応方針",null,null,null,null,null,90,null,1090,null,"違いを設けている理由",null,"対応方針",null,null,null,null,null,90,null,1090]
[null,null,null,null,null,null,null,null,null,null,null,null,null,null,null,null,null,null,null,null,{"$f":"IF(OFFSET($A$1,ROW()-7,COLUMN()+1)<>2,\"\",'手順２・３・４社員タイプ#01'!$G$27&\"\")","v":""},null,{"$f":"IF(OFFSET($A$1,ROW()-7,COLUMN()-1)<>2,\"\",'手順２・３・４社員タイプ#01'!$H$27&\"\")","v":""},null,{"$f":"OFFSET($A$1,ROW()-3,COLUMN()-1)","v":1},null,{"$f":"OFFSET($A$1,ROW()-3,COLUMN()-3)","v":1},null,91,null,1091,null,{"$f":"IF(OFFSET($A$1,ROW()-7,COLUMN()+1)<>2,\"\",'手順２・３・４社員タイプ#02'!$G$27&\"\")","v":""},null,{"$f":"IF(OFFSET($A$1,ROW()-7,COLUMN()-1)<>2,\"\",'手順２・３・４社員タイプ#02'!$H$27&\"\")","v":""},null,{"$f":"OFFSET($A$1,ROW()-3,COLUMN()-1)","v":1},null,{"$f":"OFFSET($A$1,ROW()-3,COLUMN()-3)","v":1},null,91,null,1091,null,{"$f":"IF(OFFSET($A$1,ROW()-7,COLUMN()+1)<>2,\"\",'手順２・３・４社員タイプ#03'!$G$27&\"\")","v":""},null,{"$f":"IF(OFFSET($A$1,ROW()-7,COLUMN()-1)<>2,\"\",'手順２・３・４社員タイプ#03'!$H$27&\"\")","v":""},null,{"$f":"OFFSET($A$1,ROW()-3,COLUMN()-1)","v":1},null,{"$f":"OFFSET($A$1,ROW()-3,COLUMN()-3)","v":1},null,91,null,1091,null,{"$f":"IF(OFFSET($A$1,ROW()-7,COLUMN()+1)<>2,\"\",'手順２・３・４社員タイプ#04'!$G$27&\"\")","v":""},null,{"$f":"IF(OFFSET($A$1,ROW()-7,COLUMN()-1)<>2,\"\",'手順２・３・４社員タイプ#04'!$H$27&\"\")","v":""},null,{"$f":"OFFSET($A$1,ROW()-3,COLUMN()-1)","v":1},null,{"$f":"OFFSET($A$1,ROW()-3,COLUMN()-3)","v":1},null,91,null,1091,null,{"$f":"IF(OFFSET($A$1,ROW()-7,COLUMN()+1)<>2,\"\",'手順２・３・４社員タイプ#05'!$G$27&\"\")","v":""},null,{"$f":"IF(OFFSET($A$1,ROW()-7,COLUMN()-1)<>2,\"\",'手順２・３・４社員タイプ#05'!$H$27&\"\")","v":""},null,{"$f":"OFFSET($A$1,ROW()-3,COLUMN()-1)","v":1},null,{"$f":"OFFSET($A$1,ROW()-3,COLUMN()-3)","v":1},null,91,null,1091,null,{"$f":"IF(OFFSET($A$1,ROW()-7,COLUMN()+1)<>2,\"\",'手順２・３・４社員タイプ#06'!$G$27&\"\")","v":""},null,{"$f":"IF(OFFSET($A$1,ROW()-7,COLUMN()-1)<>2,\"\",'手順２・３・４社員タイプ#06'!$H$27&\"\")","v":""},null,{"$f":"OFFSET($A$1,ROW()-3,COLUMN()-1)","v":1},null,{"$f":"OFFSET($A$1,ROW()-3,COLUMN()-3)","v":1},null,91,null,1091,null,{"$f":"IF(OFFSET($A$1,ROW()-7,COLUMN()+1)<>2,\"\",'手順２・３・４社員タイプ#07'!$G$27&\"\")","v":""},null,{"$f":"IF(OFFSET($A$1,ROW()-7,COLUMN()-1)<>2,\"\",'手順２・３・４社員タイプ#07'!$H$27&\"\")","v":""},null,{"$f":"OFFSET($A$1,ROW()-3,COLUMN()-1)","v":1},null,{"$f":"OFFSET($A$1,ROW()-3,COLUMN()-3)","v":1},null,91,null,1091,null,{"$f":"IF(OFFSET($A$1,ROW()-7,COLUMN()+1)<>2,\"\",'手順２・３・４社員タイプ#08'!$G$27&\"\")","v":""},null,{"$f":"IF(OFFSET($A$1,ROW()-7,COLUMN()-1)<>2,\"\",'手順２・３・４社員タイプ#08'!$H$27&\"\")","v":""},null,{"$f":"OFFSET($A$1,ROW()-3,COLUMN()-1)","v":1},null,{"$f":"OFFSET($A$1,ROW()-3,COLUMN()-3)","v":1},null,91,null,1091,null,{"$f":"IF(OFFSET($A$1,ROW()-7,COLUMN()+1)<>2,\"\",'手順２・３・４社員タイプ#09'!$G$27&\"\")","v":""},null,{"$f":"IF(OFFSET($A$1,ROW()-7,COLUMN()-1)<>2,\"\",'手順２・３・４社員タイプ#09'!$H$27&\"\")","v":""},null,{"$f":"OFFSET($A$1,ROW()-3,COLUMN()-1)","v":1},null,{"$f":"OFFSET($A$1,ROW()-3,COLUMN()-3)","v":1},null,91,null,1091,null,{"$f":"IF(OFFSET($A$1,ROW()-7,COLUMN()+1)<>2,\"\",'手順２・３・４社員タイプ#10'!$G$27&\"\")","v":""},null,{"$f":"IF(OFFSET($A$1,ROW()-7,COLUMN()-1)<>2,\"\",'手順２・３・４社員タイプ#10'!$H$27&\"\")","v":""},null,{"$f":"OFFSET($A$1,ROW()-3,COLUMN()-1)","v":1},null,{"$f":"OFFSET($A$1,ROW()-3,COLUMN()-3)","v":1},null,91,null,1091]
[null,null,null,null,null,null,null,null,null,null,null,null,null,null,null,null,null,null,null,null,{"$f":"IF('手順２・３・４社員タイプ#01'!$B$28=\"\",\"\", '手順２・３・４社員タイプ#01'!$B$28)","v":""},null,{"$f":"'手順２・３・４社員タイプ#01'!$C$28","v":0},null,null,null,null,null,92,null,{"$f":"IF(AND(OFFSET($A$1,ROW()-1,COLUMN()-11)<>\"\",OR(OFFSET($A$1,ROW()-1,COLUMN()-9)=1,OFFSET($A$1,ROW()-1,COLUMN()-9)=2)),OFFSET($A$1,ROW()-1,COLUMN()-3),OFFSET($A$1,ROW()-1,COLUMN()-3)+1000)","v":1092},null,{"$f":"IF('手順２・３・４社員タイプ#02'!$B$28=\"\",\"\", '手順２・３・４社員タイプ#02'!$B$28)","v":""},null,{"$f":"'手順２・３・４社員タイプ#02'!$C$28","v":0},null,null,null,null,null,92,null,{"$f":"IF(AND(OFFSET($A$1,ROW()-1,COLUMN()-11)<>\"\",OR(OFFSET($A$1,ROW()-1,COLUMN()-9)=1,OFFSET($A$1,ROW()-1,COLUMN()-9)=2)),OFFSET($A$1,ROW()-1,COLUMN()-3),OFFSET($A$1,ROW()-1,COLUMN()-3)+1000)","v":1092},null,{"$f":"IF('手順２・３・４社員タイプ#03'!$B$28=\"\",\"\", '手順２・３・４社員タイプ#03'!$B$28)","v":""},null,{"$f":"'手順２・３・４社員タイプ#03'!$C$28","v":0},null,null,null,null,null,92,null,{"$f":"IF(AND(OFFSET($A$1,ROW()-1,COLUMN()-11)<>\"\",OR(OFFSET($A$1,ROW()-1,COLUMN()-9)=1,OFFSET($A$1,ROW()-1,COLUMN()-9)=2)),OFFSET($A$1,ROW()-1,COLUMN()-3),OFFSET($A$1,ROW()-1,COLUMN()-3)+1000)","v":1092},null,{"$f":"IF('手順２・３・４社員タイプ#04'!$B$28=\"\",\"\", '手順２・３・４社員タイプ#04'!$B$28)","v":""},null,{"$f":"'手順２・３・４社員タイプ#04'!$C$28","v":0},null,null,null,null,null,92,null,{"$f":"IF(AND(OFFSET($A$1,ROW()-1,COLUMN()-11)<>\"\",OR(OFFSET($A$1,ROW()-1,COLUMN()-9)=1,OFFSET($A$1,ROW()-1,COLUMN()-9)=2)),OFFSET($A$1,ROW()-1,COLUMN()-3),OFFSET($A$1,ROW()-1,COLUMN()-3)+1000)","v":1092},null,{"$f":"IF('手順２・３・４社員タイプ#05'!$B$28=\"\",\"\", '手順２・３・４社員タイプ#05'!$B$28)","v":""},null,{"$f":"'手順２・３・４社員タイプ#05'!$C$28","v":0},null,null,null,null,null,92,null,{"$f":"IF(AND(OFFSET($A$1,ROW()-1,COLUMN()-11)<>\"\",OR(OFFSET($A$1,ROW()-1,COLUMN()-9)=1,OFFSET($A$1,ROW()-1,COLUMN()-9)=2)),OFFSET($A$1,ROW()-1,COLUMN()-3),OFFSET($A$1,ROW()-1,COLUMN()-3)+1000)","v":1092},null,{"$f":"IF('手順２・３・４社員タイプ#06'!$B$28=\"\",\"\", '手順２・３・４社員タイプ#06'!$B$28)","v":""},null,{"$f":"'手順２・３・４社員タイプ#06'!$C$28","v":0},null,null,null,null,null,92,null,{"$f":"IF(AND(OFFSET($A$1,ROW()-1,COLUMN()-11)<>\"\",OR(OFFSET($A$1,ROW()-1,COLUMN()-9)=1,OFFSET($A$1,ROW()-1,COLUMN()-9)=2)),OFFSET($A$1,ROW()-1,COLUMN()-3),OFFSET($A$1,ROW()-1,COLUMN()-3)+1000)","v":1092},null,{"$f":"IF('手順２・３・４社員タイプ#07'!$B$28=\"\",\"\", '手順２・３・４社員タイプ#07'!$B$28)","v":""},null,{"$f":"'手順２・３・４社員タイプ#07'!$C$28","v":0},null,null,null,null,null,92,null,{"$f":"IF(AND(OFFSET($A$1,ROW()-1,COLUMN()-11)<>\"\",OR(OFFSET($A$1,ROW()-1,COLUMN()-9)=1,OFFSET($A$1,ROW()-1,COLUMN()-9)=2)),OFFSET($A$1,ROW()-1,COLUMN()-3),OFFSET($A$1,ROW()-1,COLUMN()-3)+1000)","v":1092},null,{"$f":"IF('手順２・３・４社員タイプ#08'!$B$28=\"\",\"\", '手順２・３・４社員タイプ#08'!$B$28)","v":""},null,{"$f":"'手順２・３・４社員タイプ#08'!$C$28","v":0},null,null,null,null,null,92,null,{"$f":"IF(AND(OFFSET($A$1,ROW()-1,COLUMN()-11)<>\"\",OR(OFFSET($A$1,ROW()-1,COLUMN()-9)=1,OFFSET($A$1,ROW()-1,COLUMN()-9)=2)),OFFSET($A$1,ROW()-1,COLUMN()-3),OFFSET($A$1,ROW()-1,COLUMN()-3)+1000)","v":1092},null,{"$f":"IF('手順２・３・４社員タイプ#09'!$B$28=\"\",\"\", '手順２・３・４社員タイプ#09'!$B$28)","v":""},null,{"$f":"'手順２・３・４社員タイプ#09'!$C$28","v":0},null,null,null,null,null,92,null,{"$f":"IF(AND(OFFSET($A$1,ROW()-1,COLUMN()-11)<>\"\",OR(OFFSET($A$1,ROW()-1,COLUMN()-9)=1,OFFSET($A$1,ROW()-1,COLUMN()-9)=2)),OFFSET($A$1,ROW()-1,COLUMN()-3),OFFSET($A$1,ROW()-1,COLUMN()-3)+1000)","v":1092},null,{"$f":"IF('手順２・３・４社員タイプ#10'!$B$28=\"\",\"\", '手順２・３・４社員タイプ#10'!$B$28)","v":""},null,{"$f":"'手順２・３・４社員タイプ#10'!$C$28","v":0},null,null,null,null,null,92,null,{"$f":"IF(AND(OFFSET($A$1,ROW()-1,COLUMN()-11)<>\"\",OR(OFFSET($A$1,ROW()-1,COLUMN()-9)=1,OFFSET($A$1,ROW()-1,COLUMN()-9)=2)),OFFSET($A$1,ROW()-1,COLUMN()-3),OFFSET($A$1,ROW()-1,COLUMN()-3)+1000)","v":1092}]
[null,null,null,null,null,null,null,null,null,null,null,null,null,null,null,null,null,null,null,null,"待遇の違いの有無",null,"支給の目的",null,null,null,null,null,93,null,{"$f":"OFFSET($A$1,ROW()-2,COLUMN()-1)+1","v":1093},null,"待遇の違いの有無",null,"支給の目的",null,null,null,null,null,93,null,{"$f":"OFFSET($A$1,ROW()-2,COLUMN()-1)+1","v":1093},null,"待遇の違いの有無",null,"支給の目的",null,null,null,null,null,93,null,{"$f":"OFFSET($A$1,ROW()-2,COLUMN()-1)+1","v":1093},null,"待遇の違いの有無",null,"支給の目的",null,null,null,null,null,93,null,{"$f":"OFFSET($A$1,ROW()-2,COLUMN()-1)+1","v":1093},null,"待遇の違いの有無",null,"支給の目的",null,null,null,null,null,93,null,{"$f":"OFFSET($A$1,ROW()-2,COLUMN()-1)+1","v":1093},null,"待遇の違いの有無",null,"支給の目的",null,null,null,null,null,93,null,{"$f":"OFFSET($A$1,ROW()-2,COLUMN()-1)+1","v":1093},null,"待遇の違いの有無",null,"支給の目的",null,null,null,null,null,93,null,{"$f":"OFFSET($A$1,ROW()-2,COLUMN()-1)+1","v":1093},null,"待遇の違いの有無",null,"支給の目的",null,null,null,null,null,93,null,{"$f":"OFFSET($A$1,ROW()-2,COLUMN()-1)+1","v":1093},null,"待遇の違いの有無",null,"支給の目的",null,null,null,null,null,93,null,{"$f":"OFFSET($A$1,ROW()-2,COLUMN()-1)+1","v":1093},null,"待遇の違いの有無",null,"支給の目的",null,null,null,null,null,93,null,{"$f":"OFFSET($A$1,ROW()-2,COLUMN()-1)+1","v":1093}]
[null,null,null,null,null,null,null,null,null,null,null,null,null,null,null,null,null,null,null,null,{"$f":"OFFSET($C$6,OFFSET($A$1,ROW()-3,COLUMN()+1),0)","v":" "},null,{"$f":"'手順２・３・４社員タイプ#01'!$D$28&\"\"","v":""},null,null,null,null,null,94,null,1094,null,{"$f":"OFFSET($C$6,OFFSET($A$1,ROW()-3,COLUMN()+1),0)","v":" "},null,{"$f":"'手順２・３・４社員タイプ#02'!$D$28&\"\"","v":""},null,null,null,null,null,94,null,1094,null,{"$f":"OFFSET($C$6,OFFSET($A$1,ROW()-3,COLUMN()+1),0)","v":" "},null,{"$f":"'手順２・３・４社員タイプ#03'!$D$28&\"\"","v":""},null,null,null,null,null,94,null,1094,null,{"$f":"OFFSET($C$6,OFFSET($A$1,ROW()-3,COLUMN()+1),0)","v":" "},null,{"$f":"'手順２・３・４社員タイプ#04'!$D$28&\"\"","v":""},null,null,null,null,null,94,null,1094,null,{"$f":"OFFSET($C$6,OFFSET($A$1,ROW()-3,COLUMN()+1),0)","v":" "},null,{"$f":"'手順２・３・４社員タイプ#05'!$D$28&\"\"","v":""},null,null,null,null,null,94,null,1094,null,{"$f":"OFFSET($C$6,OFFSET($A$1,ROW()-3,COLUMN()+1),0)","v":" "},null,{"$f":"'手順２・３・４社員タイプ#06'!$D$28&\"\"","v":""},null,null,null,null,null,94,null,1094,null,{"$f":"OFFSET($C$6,OFFSET($A$1,ROW()-3,COLUMN()+1),0)","v":" "},null,{"$f":"'手順２・３・４社員タイプ#07'!$D$28&\"\"","v":""},null,null,null,null,null,94,null,1094,null,{"$f":"OFFSET($C$6,OFFSET($A$1,ROW()-3,COLUMN()+1),0)","v":" "},null,{"$f":"'手順２・３・４社員タイプ#08'!$D$28&\"\"","v":""},null,null,null,null,null,94,null,1094,null,{"$f":"OFFSET($C$6,OFFSET($A$1,ROW()-3,COLUMN()+1),0)","v":" "},null,{"$f":"'手順２・３・４社員タイプ#09'!$D$28&\"\"","v":""},null,null,null,null,null,94,null,1094,null,{"$f":"OFFSET($C$6,OFFSET($A$1,ROW()-3,COLUMN()+1),0)","v":" "},null,{"$f":"'手順２・３・４社員タイプ#10'!$D$28&\"\"","v":""},null,null,null,null,null,94,null,1094]
[null,null,null,null,null,null,null,null,null,null,null,null,null,null,null,null,null,null,null,null,"正社員",null,"短時間労働者・有期雇用労働者",null,null,null,null,null,95,null,1095,null,"正社員",null,"短時間労働者・有期雇用労働者",null,null,null,null,null,95,null,1095,null,"正社員",null,"短時間労働者・有期雇用労働者",null,null,null,null,null,95,null,1095,null,"正社員",null,"短時間労働者・有期雇用労働者",null,null,null,null,null,95,null,1095,null,"正社員",null,"短時間労働者・有期雇用労働者",null,null,null,null,null,95,null,1095,null,"正社員",null,"短時間労働者・有期雇用労働者",null,null,null,null,null,95,null,1095,null,"正社員",null,"短時間労働者・有期雇用労働者",null,null,null,null,null,95,null,1095,null,"正社員",null,"短時間労働者・有期雇用労働者",null,null,null,null,null,95,null,1095,null,"正社員",null,"短時間労働者・有期雇用労働者",null,null,null,null,null,95,null,1095,null,"正社員",null,"短時間労働者・有期雇用労働者",null,null,null,null,null,95,null,1095]
[null,null,null,null,null,null,null,null,null,null,null,null,null,null,null,null,null,null,null,null,{"$f":"IF(OFFSET($A$1,ROW()-5,COLUMN()+1)<>2,\"\",'手順２・３・４社員タイプ#01'!$E$28&\"\")","v":""},null,{"$f":"IF(OFFSET($A$1,ROW()-5,COLUMN()-1)<>2,\"\",'手順２・３・４社員タイプ#01'!$F$28&\"\")","v":""},null,{"$f":"IF(OFFSET($A$1,ROW()-5,COLUMN()-3)<>2,1,0)","v":1},null,{"$f":"OFFSET($A$1,ROW()-1,COLUMN()-3)","v":1},null,96,null,1096,null,{"$f":"IF(OFFSET($A$1,ROW()-5,COLUMN()+1)<>2,\"\",'手順２・３・４社員タイプ#02'!$E$28&\"\")","v":""},null,{"$f":"IF(OFFSET($A$1,ROW()-5,COLUMN()-1)<>2,\"\",'手順２・３・４社員タイプ#02'!$F$28&\"\")","v":""},null,{"$f":"IF(OFFSET($A$1,ROW()-5,COLUMN()-3)<>2,1,0)","v":1},null,{"$f":"OFFSET($A$1,ROW()-1,COLUMN()-3)","v":1},null,96,null,1096,null,{"$f":"IF(OFFSET($A$1,ROW()-5,COLUMN()+1)<>2,\"\",'手順２・３・４社員タイプ#03'!$E$28&\"\")","v":""},null,{"$f":"IF(OFFSET($A$1,ROW()-5,COLUMN()-1)<>2,\"\",'手順２・３・４社員タイプ#03'!$F$28&\"\")","v":""},null,{"$f":"IF(OFFSET($A$1,ROW()-5,COLUMN()-3)<>2,1,0)","v":1},null,{"$f":"OFFSET($A$1,ROW()-1,COLUMN()-3)","v":1},null,96,null,1096,null,{"$f":"IF(OFFSET($A$1,ROW()-5,COLUMN()+1)<>2,\"\",'手順２・３・４社員タイプ#04'!$E$28&\"\")","v":""},null,{"$f":"IF(OFFSET($A$1,ROW()-5,COLUMN()-1)<>2,\"\",'手順２・３・４社員タイプ#04'!$F$28&\"\")","v":""},null,{"$f":"IF(OFFSET($A$1,ROW()-5,COLUMN()-3)<>2,1,0)","v":1},null,{"$f":"OFFSET($A$1,ROW()-1,COLUMN()-3)","v":1},null,96,null,1096,null,{"$f":"IF(OFFSET($A$1,ROW()-5,COLUMN()+1)<>2,\"\",'手順２・３・４社員タイプ#05'!$E$28&\"\")","v":""},null,{"$f":"IF(OFFSET($A$1,ROW()-5,COLUMN()-1)<>2,\"\",'手順２・３・４社員タイプ#05'!$F$28&\"\")","v":""},null,{"$f":"IF(OFFSET($A$1,ROW()-5,COLUMN()-3)<>2,1,0)","v":1},null,{"$f":"OFFSET($A$1,ROW()-1,COLUMN()-3)","v":1},null,96,null,1096,null,{"$f":"IF(OFFSET($A$1,ROW()-5,COLUMN()+1)<>2,\"\",'手順２・３・４社員タイプ#06'!$E$28&\"\")","v":""},null,{"$f":"IF(OFFSET($A$1,ROW()-5,COLUMN()-1)<>2,\"\",'手順２・３・４社員タイプ#06'!$F$28&\"\")","v":""},null,{"$f":"IF(OFFSET($A$1,ROW()-5,COLUMN()-3)<>2,1,0)","v":1},null,{"$f":"OFFSET($A$1,ROW()-1,COLUMN()-3)","v":1},null,96,null,1096,null,{"$f":"IF(OFFSET($A$1,ROW()-5,COLUMN()+1)<>2,\"\",'手順２・３・４社員タイプ#07'!$E$28&\"\")","v":""},null,{"$f":"IF(OFFSET($A$1,ROW()-5,COLUMN()-1)<>2,\"\",'手順２・３・４社員タイプ#07'!$F$28&\"\")","v":""},null,{"$f":"IF(OFFSET($A$1,ROW()-5,COLUMN()-3)<>2,1,0)","v":1},null,{"$f":"OFFSET($A$1,ROW()-1,COLUMN()-3)","v":1},null,96,null,1096,null,{"$f":"IF(OFFSET($A$1,ROW()-5,COLUMN()+1)<>2,\"\",'手順２・３・４社員タイプ#08'!$E$28&\"\")","v":""},null,{"$f":"IF(OFFSET($A$1,ROW()-5,COLUMN()-1)<>2,\"\",'手順２・３・４社員タイプ#08'!$F$28&\"\")","v":""},null,{"$f":"IF(OFFSET($A$1,ROW()-5,COLUMN()-3)<>2,1,0)","v":1},null,{"$f":"OFFSET($A$1,ROW()-1,COLUMN()-3)","v":1},null,96,null,1096,null,{"$f":"IF(OFFSET($A$1,ROW()-5,COLUMN()+1)<>2,\"\",'手順２・３・４社員タイプ#09'!$E$28&\"\")","v":""},null,{"$f":"IF(OFFSET($A$1,ROW()-5,COLUMN()-1)<>2,\"\",'手順２・３・４社員タイプ#09'!$F$28&\"\")","v":""},null,{"$f":"IF(OFFSET($A$1,ROW()-5,COLUMN()-3)<>2,1,0)","v":1},null,{"$f":"OFFSET($A$1,ROW()-1,COLUMN()-3)","v":1},null,96,null,1096,null,{"$f":"IF(OFFSET($A$1,ROW()-5,COLUMN()+1)<>2,\"\",'手順２・３・４社員タイプ#10'!$E$28&\"\")","v":""},null,{"$f":"IF(OFFSET($A$1,ROW()-5,COLUMN()-1)<>2,\"\",'手順２・３・４社員タイプ#10'!$F$28&\"\")","v":""},null,{"$f":"IF(OFFSET($A$1,ROW()-5,COLUMN()-3)<>2,1,0)","v":1},null,{"$f":"OFFSET($A$1,ROW()-1,COLUMN()-3)","v":1},null,96,null,1096]
[null,null,null,null,null,null,null,null,null,null,null,null,null,null,null,null,null,null,null,null,"違いを設けている理由",null,"対応方針",null,null,null,null,null,97,null,1097,null,"違いを設けている理由",null,"対応方針",null,null,null,null,null,97,null,1097,null,"違いを設けている理由",null,"対応方針",null,null,null,null,null,97,null,1097,null,"違いを設けている理由",null,"対応方針",null,null,null,null,null,97,null,1097,null,"違いを設けている理由",null,"対応方針",null,null,null,null,null,97,null,1097,null,"違いを設けている理由",null,"対応方針",null,null,null,null,null,97,null,1097,null,"違いを設けている理由",null,"対応方針",null,null,null,null,null,97,null,1097,null,"違いを設けている理由",null,"対応方針",null,null,null,null,null,97,null,1097,null,"違いを設けている理由",null,"対応方針",null,null,null,null,null,97,null,1097,null,"違いを設けている理由",null,"対応方針",null,null,null,null,null,97,null,1097]
[null,null,null,null,null,null,null,null,null,null,null,null,null,null,null,null,null,null,null,null,{"$f":"IF(OFFSET($A$1,ROW()-7,COLUMN()+1)<>2,\"\",'手順２・３・４社員タイプ#01'!$G$28&\"\")","v":""},null,{"$f":"IF(OFFSET($A$1,ROW()-7,COLUMN()-1)<>2,\"\",'手順２・３・４社員タイプ#01'!$H$28&\"\")","v":""},null,{"$f":"OFFSET($A$1,ROW()-3,COLUMN()-1)","v":1},null,{"$f":"OFFSET($A$1,ROW()-3,COLUMN()-3)","v":1},null,98,null,1098,null,{"$f":"IF(OFFSET($A$1,ROW()-7,COLUMN()+1)<>2,\"\",'手順２・３・４社員タイプ#02'!$G$28&\"\")","v":""},null,{"$f":"IF(OFFSET($A$1,ROW()-7,COLUMN()-1)<>2,\"\",'手順２・３・４社員タイプ#02'!$H$28&\"\")","v":""},null,{"$f":"OFFSET($A$1,ROW()-3,COLUMN()-1)","v":1},null,{"$f":"OFFSET($A$1,ROW()-3,COLUMN()-3)","v":1},null,98,null,1098,null,{"$f":"IF(OFFSET($A$1,ROW()-7,COLUMN()+1)<>2,\"\",'手順２・３・４社員タイプ#03'!$G$28&\"\")","v":""},null,{"$f":"IF(OFFSET($A$1,ROW()-7,COLUMN()-1)<>2,\"\",'手順２・３・４社員タイプ#03'!$H$28&\"\")","v":""},null,{"$f":"OFFSET($A$1,ROW()-3,COLUMN()-1)","v":1},null,{"$f":"OFFSET($A$1,ROW()-3,COLUMN()-3)","v":1},null,98,null,1098,null,{"$f":"IF(OFFSET($A$1,ROW()-7,COLUMN()+1)<>2,\"\",'手順２・３・４社員タイプ#04'!$G$28&\"\")","v":""},null,{"$f":"IF(OFFSET($A$1,ROW()-7,COLUMN()-1)<>2,\"\",'手順２・３・４社員タイプ#04'!$H$28&\"\")","v":""},null,{"$f":"OFFSET($A$1,ROW()-3,COLUMN()-1)","v":1},null,{"$f":"OFFSET($A$1,ROW()-3,COLUMN()-3)","v":1},null,98,null,1098,null,{"$f":"IF(OFFSET($A$1,ROW()-7,COLUMN()+1)<>2,\"\",'手順２・３・４社員タイプ#05'!$G$28&\"\")","v":""},null,{"$f":"IF(OFFSET($A$1,ROW()-7,COLUMN()-1)<>2,\"\",'手順２・３・４社員タイプ#05'!$H$28&\"\")","v":""},null,{"$f":"OFFSET($A$1,ROW()-3,COLUMN()-1)","v":1},null,{"$f":"OFFSET($A$1,ROW()-3,COLUMN()-3)","v":1},null,98,null,1098,null,{"$f":"IF(OFFSET($A$1,ROW()-7,COLUMN()+1)<>2,\"\",'手順２・３・４社員タイプ#06'!$G$28&\"\")","v":""},null,{"$f":"IF(OFFSET($A$1,ROW()-7,COLUMN()-1)<>2,\"\",'手順２・３・４社員タイプ#06'!$H$28&\"\")","v":""},null,{"$f":"OFFSET($A$1,ROW()-3,COLUMN()-1)","v":1},null,{"$f":"OFFSET($A$1,ROW()-3,COLUMN()-3)","v":1},null,98,null,1098,null,{"$f":"IF(OFFSET($A$1,ROW()-7,COLUMN()+1)<>2,\"\",'手順２・３・４社員タイプ#07'!$G$28&\"\")","v":""},null,{"$f":"IF(OFFSET($A$1,ROW()-7,COLUMN()-1)<>2,\"\",'手順２・３・４社員タイプ#07'!$H$28&\"\")","v":""},null,{"$f":"OFFSET($A$1,ROW()-3,COLUMN()-1)","v":1},null,{"$f":"OFFSET($A$1,ROW()-3,COLUMN()-3)","v":1},null,98,null,1098,null,{"$f":"IF(OFFSET($A$1,ROW()-7,COLUMN()+1)<>2,\"\",'手順２・３・４社員タイプ#08'!$G$28&\"\")","v":""},null,{"$f":"IF(OFFSET($A$1,ROW()-7,COLUMN()-1)<>2,\"\",'手順２・３・４社員タイプ#08'!$H$28&\"\")","v":""},null,{"$f":"OFFSET($A$1,ROW()-3,COLUMN()-1)","v":1},null,{"$f":"OFFSET($A$1,ROW()-3,COLUMN()-3)","v":1},null,98,null,1098,null,{"$f":"IF(OFFSET($A$1,ROW()-7,COLUMN()+1)<>2,\"\",'手順２・３・４社員タイプ#09'!$G$28&\"\")","v":""},null,{"$f":"IF(OFFSET($A$1,ROW()-7,COLUMN()-1)<>2,\"\",'手順２・３・４社員タイプ#09'!$H$28&\"\")","v":""},null,{"$f":"OFFSET($A$1,ROW()-3,COLUMN()-1)","v":1},null,{"$f":"OFFSET($A$1,ROW()-3,COLUMN()-3)","v":1},null,98,null,1098,null,{"$f":"IF(OFFSET($A$1,ROW()-7,COLUMN()+1)<>2,\"\",'手順２・３・４社員タイプ#10'!$G$28&\"\")","v":""},null,{"$f":"IF(OFFSET($A$1,ROW()-7,COLUMN()-1)<>2,\"\",'手順２・３・４社員タイプ#10'!$H$28&\"\")","v":""},null,{"$f":"OFFSET($A$1,ROW()-3,COLUMN()-1)","v":1},null,{"$f":"OFFSET($A$1,ROW()-3,COLUMN()-3)","v":1},null,98,null,1098]
[null,null,null,null,null,null,null,null,null,null,null,null,null,null,null,null,null,null,null,null,{"$f":"IF('手順２・３・４社員タイプ#01'!$B$29=\"\",\"\", '手順２・３・４社員タイプ#01'!$B$29)","v":""},null,{"$f":"'手順２・３・４社員タイプ#01'!$C$29","v":0},null,null,null,null,null,99,null,{"$f":"IF(AND(OFFSET($A$1,ROW()-1,COLUMN()-11)<>\"\",OR(OFFSET($A$1,ROW()-1,COLUMN()-9)=1,OFFSET($A$1,ROW()-1,COLUMN()-9)=2)),OFFSET($A$1,ROW()-1,COLUMN()-3),OFFSET($A$1,ROW()-1,COLUMN()-3)+1000)","v":1099},null,{"$f":"IF('手順２・３・４社員タイプ#02'!$B$29=\"\",\"\", '手順２・３・４社員タイプ#02'!$B$29)","v":""},null,{"$f":"'手順２・３・４社員タイプ#02'!$C$29","v":0},null,null,null,null,null,99,null,{"$f":"IF(AND(OFFSET($A$1,ROW()-1,COLUMN()-11)<>\"\",OR(OFFSET($A$1,ROW()-1,COLUMN()-9)=1,OFFSET($A$1,ROW()-1,COLUMN()-9)=2)),OFFSET($A$1,ROW()-1,COLUMN()-3),OFFSET($A$1,ROW()-1,COLUMN()-3)+1000)","v":1099},null,{"$f":"IF('手順２・３・４社員タイプ#03'!$B$29=\"\",\"\", '手順２・３・４社員タイプ#03'!$B$29)","v":""},null,{"$f":"'手順２・３・４社員タイプ#03'!$C$29","v":0},null,null,null,null,null,99,null,{"$f":"IF(AND(OFFSET($A$1,ROW()-1,COLUMN()-11)<>\"\",OR(OFFSET($A$1,ROW()-1,COLUMN()-9)=1,OFFSET($A$1,ROW()-1,COLUMN()-9)=2)),OFFSET($A$1,ROW()-1,COLUMN()-3),OFFSET($A$1,ROW()-1,COLUMN()-3)+1000)","v":1099},null,{"$f":"IF('手順２・３・４社員タイプ#04'!$B$29=\"\",\"\", '手順２・３・４社員タイプ#04'!$B$29)","v":""},null,{"$f":"'手順２・３・４社員タイプ#04'!$C$29","v":0},null,null,null,null,null,99,null,{"$f":"IF(AND(OFFSET($A$1,ROW()-1,COLUMN()-11)<>\"\",OR(OFFSET($A$1,ROW()-1,COLUMN()-9)=1,OFFSET($A$1,ROW()-1,COLUMN()-9)=2)),OFFSET($A$1,ROW()-1,COLUMN()-3),OFFSET($A$1,ROW()-1,COLUMN()-3)+1000)","v":1099},null,{"$f":"IF('手順２・３・４社員タイプ#05'!$B$29=\"\",\"\", '手順２・３・４社員タイプ#05'!$B$29)","v":""},null,{"$f":"'手順２・３・４社員タイプ#05'!$C$29","v":0},null,null,null,null,null,99,null,{"$f":"IF(AND(OFFSET($A$1,ROW()-1,COLUMN()-11)<>\"\",OR(OFFSET($A$1,ROW()-1,COLUMN()-9)=1,OFFSET($A$1,ROW()-1,COLUMN()-9)=2)),OFFSET($A$1,ROW()-1,COLUMN()-3),OFFSET($A$1,ROW()-1,COLUMN()-3)+1000)","v":1099},null,{"$f":"IF('手順２・３・４社員タイプ#06'!$B$29=\"\",\"\", '手順２・３・４社員タイプ#06'!$B$29)","v":""},null,{"$f":"'手順２・３・４社員タイプ#06'!$C$29","v":0},null,null,null,null,null,99,null,{"$f":"IF(AND(OFFSET($A$1,ROW()-1,COLUMN()-11)<>\"\",OR(OFFSET($A$1,ROW()-1,COLUMN()-9)=1,OFFSET($A$1,ROW()-1,COLUMN()-9)=2)),OFFSET($A$1,ROW()-1,COLUMN()-3),OFFSET($A$1,ROW()-1,COLUMN()-3)+1000)","v":1099},null,{"$f":"IF('手順２・３・４社員タイプ#07'!$B$29=\"\",\"\", '手順２・３・４社員タイプ#07'!$B$29)","v":""},null,{"$f":"'手順２・３・４社員タイプ#07'!$C$29","v":0},null,null,null,null,null,99,null,{"$f":"IF(AND(OFFSET($A$1,ROW()-1,COLUMN()-11)<>\"\",OR(OFFSET($A$1,ROW()-1,COLUMN()-9)=1,OFFSET($A$1,ROW()-1,COLUMN()-9)=2)),OFFSET($A$1,ROW()-1,COLUMN()-3),OFFSET($A$1,ROW()-1,COLUMN()-3)+1000)","v":1099},null,{"$f":"IF('手順２・３・４社員タイプ#08'!$B$29=\"\",\"\", '手順２・３・４社員タイプ#08'!$B$29)","v":""},null,{"$f":"'手順２・３・４社員タイプ#08'!$C$29","v":0},null,null,null,null,null,99,null,{"$f":"IF(AND(OFFSET($A$1,ROW()-1,COLUMN()-11)<>\"\",OR(OFFSET($A$1,ROW()-1,COLUMN()-9)=1,OFFSET($A$1,ROW()-1,COLUMN()-9)=2)),OFFSET($A$1,ROW()-1,COLUMN()-3),OFFSET($A$1,ROW()-1,COLUMN()-3)+1000)","v":1099},null,{"$f":"IF('手順２・３・４社員タイプ#09'!$B$29=\"\",\"\", '手順２・３・４社員タイプ#09'!$B$29)","v":""},null,{"$f":"'手順２・３・４社員タイプ#09'!$C$29","v":0},null,null,null,null,null,99,null,{"$f":"IF(AND(OFFSET($A$1,ROW()-1,COLUMN()-11)<>\"\",OR(OFFSET($A$1,ROW()-1,COLUMN()-9)=1,OFFSET($A$1,ROW()-1,COLUMN()-9)=2)),OFFSET($A$1,ROW()-1,COLUMN()-3),OFFSET($A$1,ROW()-1,COLUMN()-3)+1000)","v":1099},null,{"$f":"IF('手順２・３・４社員タイプ#10'!$B$29=\"\",\"\", '手順２・３・４社員タイプ#10'!$B$29)","v":""},null,{"$f":"'手順２・３・４社員タイプ#10'!$C$29","v":0},null,null,null,null,null,99,null,{"$f":"IF(AND(OFFSET($A$1,ROW()-1,COLUMN()-11)<>\"\",OR(OFFSET($A$1,ROW()-1,COLUMN()-9)=1,OFFSET($A$1,ROW()-1,COLUMN()-9)=2)),OFFSET($A$1,ROW()-1,COLUMN()-3),OFFSET($A$1,ROW()-1,COLUMN()-3)+1000)","v":1099}]
[null,null,null,null,null,null,null,null,null,null,null,null,null,null,null,null,null,null,null,null,"待遇の違いの有無",null,"支給の目的",null,null,null,null,null,100,null,{"$f":"OFFSET($A$1,ROW()-2,COLUMN()-1)+1","v":1100},null,"待遇の違いの有無",null,"支給の目的",null,null,null,null,null,100,null,{"$f":"OFFSET($A$1,ROW()-2,COLUMN()-1)+1","v":1100},null,"待遇の違いの有無",null,"支給の目的",null,null,null,null,null,100,null,{"$f":"OFFSET($A$1,ROW()-2,COLUMN()-1)+1","v":1100},null,"待遇の違いの有無",null,"支給の目的",null,null,null,null,null,100,null,{"$f":"OFFSET($A$1,ROW()-2,COLUMN()-1)+1","v":1100},null,"待遇の違いの有無",null,"支給の目的",null,null,null,null,null,100,null,{"$f":"OFFSET($A$1,ROW()-2,COLUMN()-1)+1","v":1100},null,"待遇の違いの有無",null,"支給の目的",null,null,null,null,null,100,null,{"$f":"OFFSET($A$1,ROW()-2,COLUMN()-1)+1","v":1100},null,"待遇の違いの有無",null,"支給の目的",null,null,null,null,null,100,null,{"$f":"OFFSET($A$1,ROW()-2,COLUMN()-1)+1","v":1100},null,"待遇の違いの有無",null,"支給の目的",null,null,null,null,null,100,null,{"$f":"OFFSET($A$1,ROW()-2,COLUMN()-1)+1","v":1100},null,"待遇の違いの有無",null,"支給の目的",null,null,null,null,null,100,null,{"$f":"OFFSET($A$1,ROW()-2,COLUMN()-1)+1","v":1100},null,"待遇の違いの有無",null,"支給の目的",null,null,null,null,null,100,null,{"$f":"OFFSET($A$1,ROW()-2,COLUMN()-1)+1","v":1100}]
[null,null,null,null,null,null,null,null,null,null,null,null,null,null,null,null,null,null,null,null,{"$f":"OFFSET($C$6,OFFSET($A$1,ROW()-3,COLUMN()+1),0)","v":" "},null,{"$f":"'手順２・３・４社員タイプ#01'!$D$29&\"\"","v":""},null,null,null,null,null,101,null,1101,null,{"$f":"OFFSET($C$6,OFFSET($A$1,ROW()-3,COLUMN()+1),0)","v":" "},null,{"$f":"'手順２・３・４社員タイプ#02'!$D$29&\"\"","v":""},null,null,null,null,null,101,null,1101,null,{"$f":"OFFSET($C$6,OFFSET($A$1,ROW()-3,COLUMN()+1),0)","v":" "},null,{"$f":"'手順２・３・４社員タイプ#03'!$D$29&\"\"","v":""},null,null,null,null,null,101,null,1101,null,{"$f":"OFFSET($C$6,OFFSET($A$1,ROW()-3,COLUMN()+1),0)","v":" "},null,{"$f":"'手順２・３・４社員タイプ#04'!$D$29&\"\"","v":""},null,null,null,null,null,101,null,1101,null,{"$f":"OFFSET($C$6,OFFSET($A$1,ROW()-3,COLUMN()+1),0)","v":" "},null,{"$f":"'手順２・３・４社員タイプ#05'!$D$29&\"\"","v":""},null,null,null,null,null,101,null,1101,null,{"$f":"OFFSET($C$6,OFFSET($A$1,ROW()-3,COLUMN()+1),0)","v":" "},null,{"$f":"'手順２・３・４社員タイプ#06'!$D$29&\"\"","v":""},null,null,null,null,null,101,null,1101,null,{"$f":"OFFSET($C$6,OFFSET($A$1,ROW()-3,COLUMN()+1),0)","v":" "},null,{"$f":"'手順２・３・４社員タイプ#07'!$D$29&\"\"","v":""},null,null,null,null,null,101,null,1101,null,{"$f":"OFFSET($C$6,OFFSET($A$1,ROW()-3,COLUMN()+1),0)","v":" "},null,{"$f":"'手順２・３・４社員タイプ#08'!$D$29&\"\"","v":""},null,null,null,null,null,101,null,1101,null,{"$f":"OFFSET($C$6,OFFSET($A$1,ROW()-3,COLUMN()+1),0)","v":" "},null,{"$f":"'手順２・３・４社員タイプ#09'!$D$29&\"\"","v":""},null,null,null,null,null,101,null,1101,null,{"$f":"OFFSET($C$6,OFFSET($A$1,ROW()-3,COLUMN()+1),0)","v":" "},null,{"$f":"'手順２・３・４社員タイプ#10'!$D$29&\"\"","v":""},null,null,null,null,null,101,null,1101]
[null,null,null,null,null,null,null,null,null,null,null,null,null,null,null,null,null,null,null,null,"正社員",null,"短時間労働者・有期雇用労働者",null,null,null,null,null,102,null,1102,null,"正社員",null,"短時間労働者・有期雇用労働者",null,null,null,null,null,102,null,1102,null,"正社員",null,"短時間労働者・有期雇用労働者",null,null,null,null,null,102,null,1102,null,"正社員",null,"短時間労働者・有期雇用労働者",null,null,null,null,null,102,null,1102,null,"正社員",null,"短時間労働者・有期雇用労働者",null,null,null,null,null,102,null,1102,null,"正社員",null,"短時間労働者・有期雇用労働者",null,null,null,null,null,102,null,1102,null,"正社員",null,"短時間労働者・有期雇用労働者",null,null,null,null,null,102,null,1102,null,"正社員",null,"短時間労働者・有期雇用労働者",null,null,null,null,null,102,null,1102,null,"正社員",null,"短時間労働者・有期雇用労働者",null,null,null,null,null,102,null,1102,null,"正社員",null,"短時間労働者・有期雇用労働者",null,null,null,null,null,102,null,1102]
[null,null,null,null,null,null,null,null,null,null,null,null,null,null,null,null,null,null,null,null,{"$f":"IF(OFFSET($A$1,ROW()-5,COLUMN()+1)<>2,\"\",'手順２・３・４社員タイプ#01'!$E$29&\"\")","v":""},null,{"$f":"IF(OFFSET($A$1,ROW()-5,COLUMN()-1)<>2,\"\",'手順２・３・４社員タイプ#01'!$F$29&\"\")","v":""},null,{"$f":"IF(OFFSET($A$1,ROW()-5,COLUMN()-3)<>2,1,0)","v":1},null,{"$f":"OFFSET($A$1,ROW()-1,COLUMN()-3)","v":1},null,103,null,1103,null,{"$f":"IF(OFFSET($A$1,ROW()-5,COLUMN()+1)<>2,\"\",'手順２・３・４社員タイプ#02'!$E$29&\"\")","v":""},null,{"$f":"IF(OFFSET($A$1,ROW()-5,COLUMN()-1)<>2,\"\",'手順２・３・４社員タイプ#02'!$F$29&\"\")","v":""},null,{"$f":"IF(OFFSET($A$1,ROW()-5,COLUMN()-3)<>2,1,0)","v":1},null,{"$f":"OFFSET($A$1,ROW()-1,COLUMN()-3)","v":1},null,103,null,1103,null,{"$f":"IF(OFFSET($A$1,ROW()-5,COLUMN()+1)<>2,\"\",'手順２・３・４社員タイプ#03'!$E$29&\"\")","v":""},null,{"$f":"IF(OFFSET($A$1,ROW()-5,COLUMN()-1)<>2,\"\",'手順２・３・４社員タイプ#03'!$F$29&\"\")","v":""},null,{"$f":"IF(OFFSET($A$1,ROW()-5,COLUMN()-3)<>2,1,0)","v":1},null,{"$f":"OFFSET($A$1,ROW()-1,COLUMN()-3)","v":1},null,103,null,1103,null,{"$f":"IF(OFFSET($A$1,ROW()-5,COLUMN()+1)<>2,\"\",'手順２・３・４社員タイプ#04'!$E$29&\"\")","v":""},null,{"$f":"IF(OFFSET($A$1,ROW()-5,COLUMN()-1)<>2,\"\",'手順２・３・４社員タイプ#04'!$F$29&\"\")","v":""},null,{"$f":"IF(OFFSET($A$1,ROW()-5,COLUMN()-3)<>2,1,0)","v":1},null,{"$f":"OFFSET($A$1,ROW()-1,COLUMN()-3)","v":1},null,103,null,1103,null,{"$f":"IF(OFFSET($A$1,ROW()-5,COLUMN()+1)<>2,\"\",'手順２・３・４社員タイプ#05'!$E$29&\"\")","v":""},null,{"$f":"IF(OFFSET($A$1,ROW()-5,COLUMN()-1)<>2,\"\",'手順２・３・４社員タイプ#05'!$F$29&\"\")","v":""},null,{"$f":"IF(OFFSET($A$1,ROW()-5,COLUMN()-3)<>2,1,0)","v":1},null,{"$f":"OFFSET($A$1,ROW()-1,COLUMN()-3)","v":1},null,103,null,1103,null,{"$f":"IF(OFFSET($A$1,ROW()-5,COLUMN()+1)<>2,\"\",'手順２・３・４社員タイプ#06'!$E$29&\"\")","v":""},null,{"$f":"IF(OFFSET($A$1,ROW()-5,COLUMN()-1)<>2,\"\",'手順２・３・４社員タイプ#06'!$F$29&\"\")","v":""},null,{"$f":"IF(OFFSET($A$1,ROW()-5,COLUMN()-3)<>2,1,0)","v":1},null,{"$f":"OFFSET($A$1,ROW()-1,COLUMN()-3)","v":1},null,103,null,1103,null,{"$f":"IF(OFFSET($A$1,ROW()-5,COLUMN()+1)<>2,\"\",'手順２・３・４社員タイプ#07'!$E$29&\"\")","v":""},null,{"$f":"IF(OFFSET($A$1,ROW()-5,COLUMN()-1)<>2,\"\",'手順２・３・４社員タイプ#07'!$F$29&\"\")","v":""},null,{"$f":"IF(OFFSET($A$1,ROW()-5,COLUMN()-3)<>2,1,0)","v":1},null,{"$f":"OFFSET($A$1,ROW()-1,COLUMN()-3)","v":1},null,103,null,1103,null,{"$f":"IF(OFFSET($A$1,ROW()-5,COLUMN()+1)<>2,\"\",'手順２・３・４社員タイプ#08'!$E$29&\"\")","v":""},null,{"$f":"IF(OFFSET($A$1,ROW()-5,COLUMN()-1)<>2,\"\",'手順２・３・４社員タイプ#08'!$F$29&\"\")","v":""},null,{"$f":"IF(OFFSET($A$1,ROW()-5,COLUMN()-3)<>2,1,0)","v":1},null,{"$f":"OFFSET($A$1,ROW()-1,COLUMN()-3)","v":1},null,103,null,1103,null,{"$f":"IF(OFFSET($A$1,ROW()-5,COLUMN()+1)<>2,\"\",'手順２・３・４社員タイプ#09'!$E$29&\"\")","v":""},null,{"$f":"IF(OFFSET($A$1,ROW()-5,COLUMN()-1)<>2,\"\",'手順２・３・４社員タイプ#09'!$F$29&\"\")","v":""},null,{"$f":"IF(OFFSET($A$1,ROW()-5,COLUMN()-3)<>2,1,0)","v":1},null,{"$f":"OFFSET($A$1,ROW()-1,COLUMN()-3)","v":1},null,103,null,1103,null,{"$f":"IF(OFFSET($A$1,ROW()-5,COLUMN()+1)<>2,\"\",'手順２・３・４社員タイプ#10'!$E$29&\"\")","v":""},null,{"$f":"IF(OFFSET($A$1,ROW()-5,COLUMN()-1)<>2,\"\",'手順２・３・４社員タイプ#10'!$F$29&\"\")","v":""},null,{"$f":"IF(OFFSET($A$1,ROW()-5,COLUMN()-3)<>2,1,0)","v":1},null,{"$f":"OFFSET($A$1,ROW()-1,COLUMN()-3)","v":1},null,103,null,1103]
[null,null,null,null,null,null,null,null,null,null,null,null,null,null,null,null,null,null,null,null,"違いを設けている理由",null,"対応方針",null,null,null,null,null,104,null,1104,null,"違いを設けている理由",null,"対応方針",null,null,null,null,null,104,null,1104,null,"違いを設けている理由",null,"対応方針",null,null,null,null,null,104,null,1104,null,"違いを設けている理由",null,"対応方針",null,null,null,null,null,104,null,1104,null,"違いを設けている理由",null,"対応方針",null,null,null,null,null,104,null,1104,null,"違いを設けている理由",null,"対応方針",null,null,null,null,null,104,null,1104,null,"違いを設けている理由",null,"対応方針",null,null,null,null,null,104,null,1104,null,"違いを設けている理由",null,"対応方針",null,null,null,null,null,104,null,1104,null,"違いを設けている理由",null,"対応方針",null,null,null,null,null,104,null,1104,null,"違いを設けている理由",null,"対応方針",null,null,null,null,null,104,null,1104]
[null,null,null,null,null,null,null,null,null,null,null,null,null,null,null,null,null,null,null,null,{"$f":"IF(OFFSET($A$1,ROW()-7,COLUMN()+1)<>2,\"\",'手順２・３・４社員タイプ#01'!$G$29&\"\")","v":""},null,{"$f":"IF(OFFSET($A$1,ROW()-7,COLUMN()-1)<>2,\"\",'手順２・３・４社員タイプ#01'!$H$29&\"\")","v":""},null,{"$f":"OFFSET($A$1,ROW()-3,COLUMN()-1)","v":1},null,{"$f":"OFFSET($A$1,ROW()-3,COLUMN()-3)","v":1},null,105,null,1105,null,{"$f":"IF(OFFSET($A$1,ROW()-7,COLUMN()+1)<>2,\"\",'手順２・３・４社員タイプ#02'!$G$29&\"\")","v":""},null,{"$f":"IF(OFFSET($A$1,ROW()-7,COLUMN()-1)<>2,\"\",'手順２・３・４社員タイプ#02'!$H$29&\"\")","v":""},null,{"$f":"OFFSET($A$1,ROW()-3,COLUMN()-1)","v":1},null,{"$f":"OFFSET($A$1,ROW()-3,COLUMN()-3)","v":1},null,105,null,1105,null,{"$f":"IF(OFFSET($A$1,ROW()-7,COLUMN()+1)<>2,\"\",'手順２・３・４社員タイプ#03'!$G$29&\"\")","v":""},null,{"$f":"IF(OFFSET($A$1,ROW()-7,COLUMN()-1)<>2,\"\",'手順２・３・４社員タイプ#03'!$H$29&\"\")","v":""},null,{"$f":"OFFSET($A$1,ROW()-3,COLUMN()-1)","v":1},null,{"$f":"OFFSET($A$1,ROW()-3,COLUMN()-3)","v":1},null,105,null,1105,null,{"$f":"IF(OFFSET($A$1,ROW()-7,COLUMN()+1)<>2,\"\",'手順２・３・４社員タイプ#04'!$G$29&\"\")","v":""},null,{"$f":"IF(OFFSET($A$1,ROW()-7,COLUMN()-1)<>2,\"\",'手順２・３・４社員タイプ#04'!$H$29&\"\")","v":""},null,{"$f":"OFFSET($A$1,ROW()-3,COLUMN()-1)","v":1},null,{"$f":"OFFSET($A$1,ROW()-3,COLUMN()-3)","v":1},null,105,null,1105,null,{"$f":"IF(OFFSET($A$1,ROW()-7,COLUMN()+1)<>2,\"\",'手順２・３・４社員タイプ#05'!$G$29&\"\")","v":""},null,{"$f":"IF(OFFSET($A$1,ROW()-7,COLUMN()-1)<>2,\"\",'手順２・３・４社員タイプ#05'!$H$29&\"\")","v":""},null,{"$f":"OFFSET($A$1,ROW()-3,COLUMN()-1)","v":1},null,{"$f":"OFFSET($A$1,ROW()-3,COLUMN()-3)","v":1},null,105,null,1105,null,{"$f":"IF(OFFSET($A$1,ROW()-7,COLUMN()+1)<>2,\"\",'手順２・３・４社員タイプ#06'!$G$29&\"\")","v":""},null,{"$f":"IF(OFFSET($A$1,ROW()-7,COLUMN()-1)<>2,\"\",'手順２・３・４社員タイプ#06'!$H$29&\"\")","v":""},null,{"$f":"OFFSET($A$1,ROW()-3,COLUMN()-1)","v":1},null,{"$f":"OFFSET($A$1,ROW()-3,COLUMN()-3)","v":1},null,105,null,1105,null,{"$f":"IF(OFFSET($A$1,ROW()-7,COLUMN()+1)<>2,\"\",'手順２・３・４社員タイプ#07'!$G$29&\"\")","v":""},null,{"$f":"IF(OFFSET($A$1,ROW()-7,COLUMN()-1)<>2,\"\",'手順２・３・４社員タイプ#07'!$H$29&\"\")","v":""},null,{"$f":"OFFSET($A$1,ROW()-3,COLUMN()-1)","v":1},null,{"$f":"OFFSET($A$1,ROW()-3,COLUMN()-3)","v":1},null,105,null,1105,null,{"$f":"IF(OFFSET($A$1,ROW()-7,COLUMN()+1)<>2,\"\",'手順２・３・４社員タイプ#08'!$G$29&\"\")","v":""},null,{"$f":"IF(OFFSET($A$1,ROW()-7,COLUMN()-1)<>2,\"\",'手順２・３・４社員タイプ#08'!$H$29&\"\")","v":""},null,{"$f":"OFFSET($A$1,ROW()-3,COLUMN()-1)","v":1},null,{"$f":"OFFSET($A$1,ROW()-3,COLUMN()-3)","v":1},null,105,null,1105,null,{"$f":"IF(OFFSET($A$1,ROW()-7,COLUMN()+1)<>2,\"\",'手順２・３・４社員タイプ#09'!$G$29&\"\")","v":""},null,{"$f":"IF(OFFSET($A$1,ROW()-7,COLUMN()-1)<>2,\"\",'手順２・３・４社員タイプ#09'!$H$29&\"\")","v":""},null,{"$f":"OFFSET($A$1,ROW()-3,COLUMN()-1)","v":1},null,{"$f":"OFFSET($A$1,ROW()-3,COLUMN()-3)","v":1},null,105,null,1105,null,{"$f":"IF(OFFSET($A$1,ROW()-7,COLUMN()+1)<>2,\"\",'手順２・３・４社員タイプ#10'!$G$29&\"\")","v":""},null,{"$f":"IF(OFFSET($A$1,ROW()-7,COLUMN()-1)<>2,\"\",'手順２・３・４社員タイプ#10'!$H$29&\"\")","v":""},null,{"$f":"OFFSET($A$1,ROW()-3,COLUMN()-1)","v":1},null,{"$f":"OFFSET($A$1,ROW()-3,COLUMN()-3)","v":1},null,105,null,1105]
[null,null,null,null,null,null,null,null,null,null,null,null,null,null,null,null,null,null,null,null,{"$f":"IF('手順２・３・４社員タイプ#01'!$B$30=\"\",\"\", '手順２・３・４社員タイプ#01'!$B$30)","v":""},null,{"$f":"'手順２・３・４社員タイプ#01'!$C$30","v":0},null,null,null,null,null,106,null,{"$f":"IF(AND(OFFSET($A$1,ROW()-1,COLUMN()-11)<>\"\",OR(OFFSET($A$1,ROW()-1,COLUMN()-9)=1,OFFSET($A$1,ROW()-1,COLUMN()-9)=2)),OFFSET($A$1,ROW()-1,COLUMN()-3),OFFSET($A$1,ROW()-1,COLUMN()-3)+1000)","v":1106},null,{"$f":"IF('手順２・３・４社員タイプ#02'!$B$30=\"\",\"\", '手順２・３・４社員タイプ#02'!$B$30)","v":""},null,{"$f":"'手順２・３・４社員タイプ#02'!$C$30","v":0},null,null,null,null,null,106,null,{"$f":"IF(AND(OFFSET($A$1,ROW()-1,COLUMN()-11)<>\"\",OR(OFFSET($A$1,ROW()-1,COLUMN()-9)=1,OFFSET($A$1,ROW()-1,COLUMN()-9)=2)),OFFSET($A$1,ROW()-1,COLUMN()-3),OFFSET($A$1,ROW()-1,COLUMN()-3)+1000)","v":1106},null,{"$f":"IF('手順２・３・４社員タイプ#03'!$B$30=\"\",\"\", '手順２・３・４社員タイプ#03'!$B$30)","v":""},null,{"$f":"'手順２・３・４社員タイプ#03'!$C$30","v":0},null,null,null,null,null,106,null,{"$f":"IF(AND(OFFSET($A$1,ROW()-1,COLUMN()-11)<>\"\",OR(OFFSET($A$1,ROW()-1,COLUMN()-9)=1,OFFSET($A$1,ROW()-1,COLUMN()-9)=2)),OFFSET($A$1,ROW()-1,COLUMN()-3),OFFSET($A$1,ROW()-1,COLUMN()-3)+1000)","v":1106},null,{"$f":"IF('手順２・３・４社員タイプ#04'!$B$30=\"\",\"\", '手順２・３・４社員タイプ#04'!$B$30)","v":""},null,{"$f":"'手順２・３・４社員タイプ#04'!$C$30","v":0},null,null,null,null,null,106,null,{"$f":"IF(AND(OFFSET($A$1,ROW()-1,COLUMN()-11)<>\"\",OR(OFFSET($A$1,ROW()-1,COLUMN()-9)=1,OFFSET($A$1,ROW()-1,COLUMN()-9)=2)),OFFSET($A$1,ROW()-1,COLUMN()-3),OFFSET($A$1,ROW()-1,COLUMN()-3)+1000)","v":1106},null,{"$f":"IF('手順２・３・４社員タイプ#05'!$B$30=\"\",\"\", '手順２・３・４社員タイプ#05'!$B$30)","v":""},null,{"$f":"'手順２・３・４社員タイプ#05'!$C$30","v":0},null,null,null,null,null,106,null,{"$f":"IF(AND(OFFSET($A$1,ROW()-1,COLUMN()-11)<>\"\",OR(OFFSET($A$1,ROW()-1,COLUMN()-9)=1,OFFSET($A$1,ROW()-1,COLUMN()-9)=2)),OFFSET($A$1,ROW()-1,COLUMN()-3),OFFSET($A$1,ROW()-1,COLUMN()-3)+1000)","v":1106},null,{"$f":"IF('手順２・３・４社員タイプ#06'!$B$30=\"\",\"\", '手順２・３・４社員タイプ#06'!$B$30)","v":""},null,{"$f":"'手順２・３・４社員タイプ#06'!$C$30","v":0},null,null,null,null,null,106,null,{"$f":"IF(AND(OFFSET($A$1,ROW()-1,COLUMN()-11)<>\"\",OR(OFFSET($A$1,ROW()-1,COLUMN()-9)=1,OFFSET($A$1,ROW()-1,COLUMN()-9)=2)),OFFSET($A$1,ROW()-1,COLUMN()-3),OFFSET($A$1,ROW()-1,COLUMN()-3)+1000)","v":1106},null,{"$f":"IF('手順２・３・４社員タイプ#07'!$B$30=\"\",\"\", '手順２・３・４社員タイプ#07'!$B$30)","v":""},null,{"$f":"'手順２・３・４社員タイプ#07'!$C$30","v":0},null,null,null,null,null,106,null,{"$f":"IF(AND(OFFSET($A$1,ROW()-1,COLUMN()-11)<>\"\",OR(OFFSET($A$1,ROW()-1,COLUMN()-9)=1,OFFSET($A$1,ROW()-1,COLUMN()-9)=2)),OFFSET($A$1,ROW()-1,COLUMN()-3),OFFSET($A$1,ROW()-1,COLUMN()-3)+1000)","v":1106},null,{"$f":"IF('手順２・３・４社員タイプ#08'!$B$30=\"\",\"\", '手順２・３・４社員タイプ#08'!$B$30)","v":""},null,{"$f":"'手順２・３・４社員タイプ#08'!$C$30","v":0},null,null,null,null,null,106,null,{"$f":"IF(AND(OFFSET($A$1,ROW()-1,COLUMN()-11)<>\"\",OR(OFFSET($A$1,ROW()-1,COLUMN()-9)=1,OFFSET($A$1,ROW()-1,COLUMN()-9)=2)),OFFSET($A$1,ROW()-1,COLUMN()-3),OFFSET($A$1,ROW()-1,COLUMN()-3)+1000)","v":1106},null,{"$f":"IF('手順２・３・４社員タイプ#09'!$B$30=\"\",\"\", '手順２・３・４社員タイプ#09'!$B$30)","v":""},null,{"$f":"'手順２・３・４社員タイプ#09'!$C$30","v":0},null,null,null,null,null,106,null,{"$f":"IF(AND(OFFSET($A$1,ROW()-1,COLUMN()-11)<>\"\",OR(OFFSET($A$1,ROW()-1,COLUMN()-9)=1,OFFSET($A$1,ROW()-1,COLUMN()-9)=2)),OFFSET($A$1,ROW()-1,COLUMN()-3),OFFSET($A$1,ROW()-1,COLUMN()-3)+1000)","v":1106},null,{"$f":"IF('手順２・３・４社員タイプ#10'!$B$30=\"\",\"\", '手順２・３・４社員タイプ#10'!$B$30)","v":""},null,{"$f":"'手順２・３・４社員タイプ#10'!$C$30","v":0},null,null,null,null,null,106,null,{"$f":"IF(AND(OFFSET($A$1,ROW()-1,COLUMN()-11)<>\"\",OR(OFFSET($A$1,ROW()-1,COLUMN()-9)=1,OFFSET($A$1,ROW()-1,COLUMN()-9)=2)),OFFSET($A$1,ROW()-1,COLUMN()-3),OFFSET($A$1,ROW()-1,COLUMN()-3)+1000)","v":1106}]
[null,null,null,null,null,null,null,null,null,null,null,null,null,null,null,null,null,null,null,null,"待遇の違いの有無",null,"支給の目的",null,null,null,null,null,107,null,{"$f":"OFFSET($A$1,ROW()-2,COLUMN()-1)+1","v":1107},null,"待遇の違いの有無",null,"支給の目的",null,null,null,null,null,107,null,{"$f":"OFFSET($A$1,ROW()-2,COLUMN()-1)+1","v":1107},null,"待遇の違いの有無",null,"支給の目的",null,null,null,null,null,107,null,{"$f":"OFFSET($A$1,ROW()-2,COLUMN()-1)+1","v":1107},null,"待遇の違いの有無",null,"支給の目的",null,null,null,null,null,107,null,{"$f":"OFFSET($A$1,ROW()-2,COLUMN()-1)+1","v":1107},null,"待遇の違いの有無",null,"支給の目的",null,null,null,null,null,107,null,{"$f":"OFFSET($A$1,ROW()-2,COLUMN()-1)+1","v":1107},null,"待遇の違いの有無",null,"支給の目的",null,null,null,null,null,107,null,{"$f":"OFFSET($A$1,ROW()-2,COLUMN()-1)+1","v":1107},null,"待遇の違いの有無",null,"支給の目的",null,null,null,null,null,107,null,{"$f":"OFFSET($A$1,ROW()-2,COLUMN()-1)+1","v":1107},null,"待遇の違いの有無",null,"支給の目的",null,null,null,null,null,107,null,{"$f":"OFFSET($A$1,ROW()-2,COLUMN()-1)+1","v":1107},null,"待遇の違いの有無",null,"支給の目的",null,null,null,null,null,107,null,{"$f":"OFFSET($A$1,ROW()-2,COLUMN()-1)+1","v":1107},null,"待遇の違いの有無",null,"支給の目的",null,null,null,null,null,107,null,{"$f":"OFFSET($A$1,ROW()-2,COLUMN()-1)+1","v":1107}]
[null,null,null,null,null,null,null,null,null,null,null,null,null,null,null,null,null,null,null,null,{"$f":"OFFSET($C$6,OFFSET($A$1,ROW()-3,COLUMN()+1),0)","v":" "},null,{"$f":"'手順２・３・４社員タイプ#01'!$D$30&\"\"","v":""},null,null,null,null,null,108,null,1108,null,{"$f":"OFFSET($C$6,OFFSET($A$1,ROW()-3,COLUMN()+1),0)","v":" "},null,{"$f":"'手順２・３・４社員タイプ#02'!$D$30&\"\"","v":""},null,null,null,null,null,108,null,1108,null,{"$f":"OFFSET($C$6,OFFSET($A$1,ROW()-3,COLUMN()+1),0)","v":" "},null,{"$f":"'手順２・３・４社員タイプ#03'!$D$30&\"\"","v":""},null,null,null,null,null,108,null,1108,null,{"$f":"OFFSET($C$6,OFFSET($A$1,ROW()-3,COLUMN()+1),0)","v":" "},null,{"$f":"'手順２・３・４社員タイプ#04'!$D$30&\"\"","v":""},null,null,null,null,null,108,null,1108,null,{"$f":"OFFSET($C$6,OFFSET($A$1,ROW()-3,COLUMN()+1),0)","v":" "},null,{"$f":"'手順２・３・４社員タイプ#05'!$D$30&\"\"","v":""},null,null,null,null,null,108,null,1108,null,{"$f":"OFFSET($C$6,OFFSET($A$1,ROW()-3,COLUMN()+1),0)","v":" "},null,{"$f":"'手順２・３・４社員タイプ#06'!$D$30&\"\"","v":""},null,null,null,null,null,108,null,1108,null,{"$f":"OFFSET($C$6,OFFSET($A$1,ROW()-3,COLUMN()+1),0)","v":" "},null,{"$f":"'手順２・３・４社員タイプ#07'!$D$30&\"\"","v":""},null,null,null,null,null,108,null,1108,null,{"$f":"OFFSET($C$6,OFFSET($A$1,ROW()-3,COLUMN()+1),0)","v":" "},null,{"$f":"'手順２・３・４社員タイプ#08'!$D$30&\"\"","v":""},null,null,null,null,null,108,null,1108,null,{"$f":"OFFSET($C$6,OFFSET($A$1,ROW()-3,COLUMN()+1),0)","v":" "},null,{"$f":"'手順２・３・４社員タイプ#09'!$D$30&\"\"","v":""},null,null,null,null,null,108,null,1108,null,{"$f":"OFFSET($C$6,OFFSET($A$1,ROW()-3,COLUMN()+1),0)","v":" "},null,{"$f":"'手順２・３・４社員タイプ#10'!$D$30&\"\"","v":""},null,null,null,null,null,108,null,1108]
[null,null,null,null,null,null,null,null,null,null,null,null,null,null,null,null,null,null,null,null,"正社員",null,"短時間労働者・有期雇用労働者",null,null,null,null,null,109,null,1109,null,"正社員",null,"短時間労働者・有期雇用労働者",null,null,null,null,null,109,null,1109,null,"正社員",null,"短時間労働者・有期雇用労働者",null,null,null,null,null,109,null,1109,null,"正社員",null,"短時間労働者・有期雇用労働者",null,null,null,null,null,109,null,1109,null,"正社員",null,"短時間労働者・有期雇用労働者",null,null,null,null,null,109,null,1109,null,"正社員",null,"短時間労働者・有期雇用労働者",null,null,null,null,null,109,null,1109,null,"正社員",null,"短時間労働者・有期雇用労働者",null,null,null,null,null,109,null,1109,null,"正社員",null,"短時間労働者・有期雇用労働者",null,null,null,null,null,109,null,1109,null,"正社員",null,"短時間労働者・有期雇用労働者",null,null,null,null,null,109,null,1109,null,"正社員",null,"短時間労働者・有期雇用労働者",null,null,null,null,null,109,null,1109]
[null,null,null,null,null,null,null,null,null,null,null,null,null,null,null,null,null,null,null,null,{"$f":"IF(OFFSET($A$1,ROW()-5,COLUMN()+1)<>2,\"\",'手順２・３・４社員タイプ#01'!$E$30&\"\")","v":""},null,{"$f":"IF(OFFSET($A$1,ROW()-5,COLUMN()-1)<>2,\"\",'手順２・３・４社員タイプ#01'!$F$30&\"\")","v":""},null,{"$f":"IF(OFFSET($A$1,ROW()-5,COLUMN()-3)<>2,1,0)","v":1},null,{"$f":"OFFSET($A$1,ROW()-1,COLUMN()-3)","v":1},null,110,null,1110,null,{"$f":"IF(OFFSET($A$1,ROW()-5,COLUMN()+1)<>2,\"\",'手順２・３・４社員タイプ#02'!$E$30&\"\")","v":""},null,{"$f":"IF(OFFSET($A$1,ROW()-5,COLUMN()-1)<>2,\"\",'手順２・３・４社員タイプ#02'!$F$30&\"\")","v":""},null,{"$f":"IF(OFFSET($A$1,ROW()-5,COLUMN()-3)<>2,1,0)","v":1},null,{"$f":"OFFSET($A$1,ROW()-1,COLUMN()-3)","v":1},null,110,null,1110,null,{"$f":"IF(OFFSET($A$1,ROW()-5,COLUMN()+1)<>2,\"\",'手順２・３・４社員タイプ#03'!$E$30&\"\")","v":""},null,{"$f":"IF(OFFSET($A$1,ROW()-5,COLUMN()-1)<>2,\"\",'手順２・３・４社員タイプ#03'!$F$30&\"\")","v":""},null,{"$f":"IF(OFFSET($A$1,ROW()-5,COLUMN()-3)<>2,1,0)","v":1},null,{"$f":"OFFSET($A$1,ROW()-1,COLUMN()-3)","v":1},null,110,null,1110,null,{"$f":"IF(OFFSET($A$1,ROW()-5,COLUMN()+1)<>2,\"\",'手順２・３・４社員タイプ#04'!$E$30&\"\")","v":""},null,{"$f":"IF(OFFSET($A$1,ROW()-5,COLUMN()-1)<>2,\"\",'手順２・３・４社員タイプ#04'!$F$30&\"\")","v":""},null,{"$f":"IF(OFFSET($A$1,ROW()-5,COLUMN()-3)<>2,1,0)","v":1},null,{"$f":"OFFSET($A$1,ROW()-1,COLUMN()-3)","v":1},null,110,null,1110,null,{"$f":"IF(OFFSET($A$1,ROW()-5,COLUMN()+1)<>2,\"\",'手順２・３・４社員タイプ#05'!$E$30&\"\")","v":""},null,{"$f":"IF(OFFSET($A$1,ROW()-5,COLUMN()-1)<>2,\"\",'手順２・３・４社員タイプ#05'!$F$30&\"\")","v":""},null,{"$f":"IF(OFFSET($A$1,ROW()-5,COLUMN()-3)<>2,1,0)","v":1},null,{"$f":"OFFSET($A$1,ROW()-1,COLUMN()-3)","v":1},null,110,null,1110,null,{"$f":"IF(OFFSET($A$1,ROW()-5,COLUMN()+1)<>2,\"\",'手順２・３・４社員タイプ#06'!$E$30&\"\")","v":""},null,{"$f":"IF(OFFSET($A$1,ROW()-5,COLUMN()-1)<>2,\"\",'手順２・３・４社員タイプ#06'!$F$30&\"\")","v":""},null,{"$f":"IF(OFFSET($A$1,ROW()-5,COLUMN()-3)<>2,1,0)","v":1},null,{"$f":"OFFSET($A$1,ROW()-1,COLUMN()-3)","v":1},null,110,null,1110,null,{"$f":"IF(OFFSET($A$1,ROW()-5,COLUMN()+1)<>2,\"\",'手順２・３・４社員タイプ#07'!$E$30&\"\")","v":""},null,{"$f":"IF(OFFSET($A$1,ROW()-5,COLUMN()-1)<>2,\"\",'手順２・３・４社員タイプ#07'!$F$30&\"\")","v":""},null,{"$f":"IF(OFFSET($A$1,ROW()-5,COLUMN()-3)<>2,1,0)","v":1},null,{"$f":"OFFSET($A$1,ROW()-1,COLUMN()-3)","v":1},null,110,null,1110,null,{"$f":"IF(OFFSET($A$1,ROW()-5,COLUMN()+1)<>2,\"\",'手順２・３・４社員タイプ#08'!$E$30&\"\")","v":""},null,{"$f":"IF(OFFSET($A$1,ROW()-5,COLUMN()-1)<>2,\"\",'手順２・３・４社員タイプ#08'!$F$30&\"\")","v":""},null,{"$f":"IF(OFFSET($A$1,ROW()-5,COLUMN()-3)<>2,1,0)","v":1},null,{"$f":"OFFSET($A$1,ROW()-1,COLUMN()-3)","v":1},null,110,null,1110,null,{"$f":"IF(OFFSET($A$1,ROW()-5,COLUMN()+1)<>2,\"\",'手順２・３・４社員タイプ#09'!$E$30&\"\")","v":""},null,{"$f":"IF(OFFSET($A$1,ROW()-5,COLUMN()-1)<>2,\"\",'手順２・３・４社員タイプ#09'!$F$30&\"\")","v":""},null,{"$f":"IF(OFFSET($A$1,ROW()-5,COLUMN()-3)<>2,1,0)","v":1},null,{"$f":"OFFSET($A$1,ROW()-1,COLUMN()-3)","v":1},null,110,null,1110,null,{"$f":"IF(OFFSET($A$1,ROW()-5,COLUMN()+1)<>2,\"\",'手順２・３・４社員タイプ#10'!$E$30&\"\")","v":""},null,{"$f":"IF(OFFSET($A$1,ROW()-5,COLUMN()-1)<>2,\"\",'手順２・３・４社員タイプ#10'!$F$30&\"\")","v":""},null,{"$f":"IF(OFFSET($A$1,ROW()-5,COLUMN()-3)<>2,1,0)","v":1},null,{"$f":"OFFSET($A$1,ROW()-1,COLUMN()-3)","v":1},null,110,null,1110]
[null,null,null,null,null,null,null,null,null,null,null,null,null,null,null,null,null,null,null,null,"違いを設けている理由",null,"対応方針",null,null,null,null,null,111,null,1111,null,"違いを設けている理由",null,"対応方針",null,null,null,null,null,111,null,1111,null,"違いを設けている理由",null,"対応方針",null,null,null,null,null,111,null,1111,null,"違いを設けている理由",null,"対応方針",null,null,null,null,null,111,null,1111,null,"違いを設けている理由",null,"対応方針",null,null,null,null,null,111,null,1111,null,"違いを設けている理由",null,"対応方針",null,null,null,null,null,111,null,1111,null,"違いを設けている理由",null,"対応方針",null,null,null,null,null,111,null,1111,null,"違いを設けている理由",null,"対応方針",null,null,null,null,null,111,null,1111,null,"違いを設けている理由",null,"対応方針",null,null,null,null,null,111,null,1111,null,"違いを設けている理由",null,"対応方針",null,null,null,null,null,111,null,1111]
[null,null,null,null,null,null,null,null,null,null,null,null,null,null,null,null,null,null,null,null,{"$f":"IF(OFFSET($A$1,ROW()-7,COLUMN()+1)<>2,\"\",'手順２・３・４社員タイプ#01'!$G$30&\"\")","v":""},null,{"$f":"IF(OFFSET($A$1,ROW()-7,COLUMN()-1)<>2,\"\",'手順２・３・４社員タイプ#01'!$H$30&\"\")","v":""},null,{"$f":"OFFSET($A$1,ROW()-3,COLUMN()-1)","v":1},null,{"$f":"OFFSET($A$1,ROW()-3,COLUMN()-3)","v":1},null,112,null,1112,null,{"$f":"IF(OFFSET($A$1,ROW()-7,COLUMN()+1)<>2,\"\",'手順２・３・４社員タイプ#02'!$G$30&\"\")","v":""},null,{"$f":"IF(OFFSET($A$1,ROW()-7,COLUMN()-1)<>2,\"\",'手順２・３・４社員タイプ#02'!$H$30&\"\")","v":""},null,{"$f":"OFFSET($A$1,ROW()-3,COLUMN()-1)","v":1},null,{"$f":"OFFSET($A$1,ROW()-3,COLUMN()-3)","v":1},null,112,null,1112,null,{"$f":"IF(OFFSET($A$1,ROW()-7,COLUMN()+1)<>2,\"\",'手順２・３・４社員タイプ#03'!$G$30&\"\")","v":""},null,{"$f":"IF(OFFSET($A$1,ROW()-7,COLUMN()-1)<>2,\"\",'手順２・３・４社員タイプ#03'!$H$30&\"\")","v":""},null,{"$f":"OFFSET($A$1,ROW()-3,COLUMN()-1)","v":1},null,{"$f":"OFFSET($A$1,ROW()-3,COLUMN()-3)","v":1},null,112,null,1112,null,{"$f":"IF(OFFSET($A$1,ROW()-7,COLUMN()+1)<>2,\"\",'手順２・３・４社員タイプ#04'!$G$30&\"\")","v":""},null,{"$f":"IF(OFFSET($A$1,ROW()-7,COLUMN()-1)<>2,\"\",'手順２・３・４社員タイプ#04'!$H$30&\"\")","v":""},null,{"$f":"OFFSET($A$1,ROW()-3,COLUMN()-1)","v":1},null,{"$f":"OFFSET($A$1,ROW()-3,COLUMN()-3)","v":1},null,112,null,1112,null,{"$f":"IF(OFFSET($A$1,ROW()-7,COLUMN()+1)<>2,\"\",'手順２・３・４社員タイプ#05'!$G$30&\"\")","v":""},null,{"$f":"IF(OFFSET($A$1,ROW()-7,COLUMN()-1)<>2,\"\",'手順２・３・４社員タイプ#05'!$H$30&\"\")","v":""},null,{"$f":"OFFSET($A$1,ROW()-3,COLUMN()-1)","v":1},null,{"$f":"OFFSET($A$1,ROW()-3,COLUMN()-3)","v":1},null,112,null,1112,null,{"$f":"IF(OFFSET($A$1,ROW()-7,COLUMN()+1)<>2,\"\",'手順２・３・４社員タイプ#06'!$G$30&\"\")","v":""},null,{"$f":"IF(OFFSET($A$1,ROW()-7,COLUMN()-1)<>2,\"\",'手順２・３・４社員タイプ#06'!$H$30&\"\")","v":""},null,{"$f":"OFFSET($A$1,ROW()-3,COLUMN()-1)","v":1},null,{"$f":"OFFSET($A$1,ROW()-3,COLUMN()-3)","v":1},null,112,null,1112,null,{"$f":"IF(OFFSET($A$1,ROW()-7,COLUMN()+1)<>2,\"\",'手順２・３・４社員タイプ#07'!$G$30&\"\")","v":""},null,{"$f":"IF(OFFSET($A$1,ROW()-7,COLUMN()-1)<>2,\"\",'手順２・３・４社員タイプ#07'!$H$30&\"\")","v":""},null,{"$f":"OFFSET($A$1,ROW()-3,COLUMN()-1)","v":1},null,{"$f":"OFFSET($A$1,ROW()-3,COLUMN()-3)","v":1},null,112,null,1112,null,{"$f":"IF(OFFSET($A$1,ROW()-7,COLUMN()+1)<>2,\"\",'手順２・３・４社員タイプ#08'!$G$30&\"\")","v":""},null,{"$f":"IF(OFFSET($A$1,ROW()-7,COLUMN()-1)<>2,\"\",'手順２・３・４社員タイプ#08'!$H$30&\"\")","v":""},null,{"$f":"OFFSET($A$1,ROW()-3,COLUMN()-1)","v":1},null,{"$f":"OFFSET($A$1,ROW()-3,COLUMN()-3)","v":1},null,112,null,1112,null,{"$f":"IF(OFFSET($A$1,ROW()-7,COLUMN()+1)<>2,\"\",'手順２・３・４社員タイプ#09'!$G$30&\"\")","v":""},null,{"$f":"IF(OFFSET($A$1,ROW()-7,COLUMN()-1)<>2,\"\",'手順２・３・４社員タイプ#09'!$H$30&\"\")","v":""},null,{"$f":"OFFSET($A$1,ROW()-3,COLUMN()-1)","v":1},null,{"$f":"OFFSET($A$1,ROW()-3,COLUMN()-3)","v":1},null,112,null,1112,null,{"$f":"IF(OFFSET($A$1,ROW()-7,COLUMN()+1)<>2,\"\",'手順２・３・４社員タイプ#10'!$G$30&\"\")","v":""},null,{"$f":"IF(OFFSET($A$1,ROW()-7,COLUMN()-1)<>2,\"\",'手順２・３・４社員タイプ#10'!$H$30&\"\")","v":""},null,{"$f":"OFFSET($A$1,ROW()-3,COLUMN()-1)","v":1},null,{"$f":"OFFSET($A$1,ROW()-3,COLUMN()-3)","v":1},null,112,null,1112]
[null,null,null,null,null,null,null,null,null,null,null,null,null,null,null,null,null,null,null,null,{"$f":"IF('手順２・３・４社員タイプ#01'!$B$31=\"\",\"\", '手順２・３・４社員タイプ#01'!$B$31)","v":""},null,{"$f":"'手順２・３・４社員タイプ#01'!$C$31","v":0},null,null,null,null,null,113,null,{"$f":"IF(AND(OFFSET($A$1,ROW()-1,COLUMN()-11)<>\"\",OR(OFFSET($A$1,ROW()-1,COLUMN()-9)=1,OFFSET($A$1,ROW()-1,COLUMN()-9)=2)),OFFSET($A$1,ROW()-1,COLUMN()-3),OFFSET($A$1,ROW()-1,COLUMN()-3)+1000)","v":1113},null,{"$f":"IF('手順２・３・４社員タイプ#02'!$B$31=\"\",\"\", '手順２・３・４社員タイプ#02'!$B$31)","v":""},null,{"$f":"'手順２・３・４社員タイプ#02'!$C$31","v":0},null,null,null,null,null,113,null,{"$f":"IF(AND(OFFSET($A$1,ROW()-1,COLUMN()-11)<>\"\",OR(OFFSET($A$1,ROW()-1,COLUMN()-9)=1,OFFSET($A$1,ROW()-1,COLUMN()-9)=2)),OFFSET($A$1,ROW()-1,COLUMN()-3),OFFSET($A$1,ROW()-1,COLUMN()-3)+1000)","v":1113},null,{"$f":"IF('手順２・３・４社員タイプ#03'!$B$31=\"\",\"\", '手順２・３・４社員タイプ#03'!$B$31)","v":""},null,{"$f":"'手順２・３・４社員タイプ#03'!$C$31","v":0},null,null,null,null,null,113,null,{"$f":"IF(AND(OFFSET($A$1,ROW()-1,COLUMN()-11)<>\"\",OR(OFFSET($A$1,ROW()-1,COLUMN()-9)=1,OFFSET($A$1,ROW()-1,COLUMN()-9)=2)),OFFSET($A$1,ROW()-1,COLUMN()-3),OFFSET($A$1,ROW()-1,COLUMN()-3)+1000)","v":1113},null,{"$f":"IF('手順２・３・４社員タイプ#04'!$B$31=\"\",\"\", '手順２・３・４社員タイプ#04'!$B$31)","v":""},null,{"$f":"'手順２・３・４社員タイプ#04'!$C$31","v":0},null,null,null,null,null,113,null,{"$f":"IF(AND(OFFSET($A$1,ROW()-1,COLUMN()-11)<>\"\",OR(OFFSET($A$1,ROW()-1,COLUMN()-9)=1,OFFSET($A$1,ROW()-1,COLUMN()-9)=2)),OFFSET($A$1,ROW()-1,COLUMN()-3),OFFSET($A$1,ROW()-1,COLUMN()-3)+1000)","v":1113},null,{"$f":"IF('手順２・３・４社員タイプ#05'!$B$31=\"\",\"\", '手順２・３・４社員タイプ#05'!$B$31)","v":""},null,{"$f":"'手順２・３・４社員タイプ#05'!$C$31","v":0},null,null,null,null,null,113,null,{"$f":"IF(AND(OFFSET($A$1,ROW()-1,COLUMN()-11)<>\"\",OR(OFFSET($A$1,ROW()-1,COLUMN()-9)=1,OFFSET($A$1,ROW()-1,COLUMN()-9)=2)),OFFSET($A$1,ROW()-1,COLUMN()-3),OFFSET($A$1,ROW()-1,COLUMN()-3)+1000)","v":1113},null,{"$f":"IF('手順２・３・４社員タイプ#06'!$B$31=\"\",\"\", '手順２・３・４社員タイプ#06'!$B$31)","v":""},null,{"$f":"'手順２・３・４社員タイプ#06'!$C$31","v":0},null,null,null,null,null,113,null,{"$f":"IF(AND(OFFSET($A$1,ROW()-1,COLUMN()-11)<>\"\",OR(OFFSET($A$1,ROW()-1,COLUMN()-9)=1,OFFSET($A$1,ROW()-1,COLUMN()-9)=2)),OFFSET($A$1,ROW()-1,COLUMN()-3),OFFSET($A$1,ROW()-1,COLUMN()-3)+1000)","v":1113},null,{"$f":"IF('手順２・３・４社員タイプ#07'!$B$31=\"\",\"\", '手順２・３・４社員タイプ#07'!$B$31)","v":""},null,{"$f":"'手順２・３・４社員タイプ#07'!$C$31","v":0},null,null,null,null,null,113,null,{"$f":"IF(AND(OFFSET($A$1,ROW()-1,COLUMN()-11)<>\"\",OR(OFFSET($A$1,ROW()-1,COLUMN()-9)=1,OFFSET($A$1,ROW()-1,COLUMN()-9)=2)),OFFSET($A$1,ROW()-1,COLUMN()-3),OFFSET($A$1,ROW()-1,COLUMN()-3)+1000)","v":1113},null,{"$f":"IF('手順２・３・４社員タイプ#08'!$B$31=\"\",\"\", '手順２・３・４社員タイプ#08'!$B$31)","v":""},null,{"$f":"'手順２・３・４社員タイプ#08'!$C$31","v":0},null,null,null,null,null,113,null,{"$f":"IF(AND(OFFSET($A$1,ROW()-1,COLUMN()-11)<>\"\",OR(OFFSET($A$1,ROW()-1,COLUMN()-9)=1,OFFSET($A$1,ROW()-1,COLUMN()-9)=2)),OFFSET($A$1,ROW()-1,COLUMN()-3),OFFSET($A$1,ROW()-1,COLUMN()-3)+1000)","v":1113},null,{"$f":"IF('手順２・３・４社員タイプ#09'!$B$31=\"\",\"\", '手順２・３・４社員タイプ#09'!$B$31)","v":""},null,{"$f":"'手順２・３・４社員タイプ#09'!$C$31","v":0},null,null,null,null,null,113,null,{"$f":"IF(AND(OFFSET($A$1,ROW()-1,COLUMN()-11)<>\"\",OR(OFFSET($A$1,ROW()-1,COLUMN()-9)=1,OFFSET($A$1,ROW()-1,COLUMN()-9)=2)),OFFSET($A$1,ROW()-1,COLUMN()-3),OFFSET($A$1,ROW()-1,COLUMN()-3)+1000)","v":1113},null,{"$f":"IF('手順２・３・４社員タイプ#10'!$B$31=\"\",\"\", '手順２・３・４社員タイプ#10'!$B$31)","v":""},null,{"$f":"'手順２・３・４社員タイプ#10'!$C$31","v":0},null,null,null,null,null,113,null,{"$f":"IF(AND(OFFSET($A$1,ROW()-1,COLUMN()-11)<>\"\",OR(OFFSET($A$1,ROW()-1,COLUMN()-9)=1,OFFSET($A$1,ROW()-1,COLUMN()-9)=2)),OFFSET($A$1,ROW()-1,COLUMN()-3),OFFSET($A$1,ROW()-1,COLUMN()-3)+1000)","v":1113}]
[null,null,null,null,null,null,null,null,null,null,null,null,null,null,null,null,null,null,null,null,"待遇の違いの有無",null,"支給の目的",null,null,null,null,null,114,null,{"$f":"OFFSET($A$1,ROW()-2,COLUMN()-1)+1","v":1114},null,"待遇の違いの有無",null,"支給の目的",null,null,null,null,null,114,null,{"$f":"OFFSET($A$1,ROW()-2,COLUMN()-1)+1","v":1114},null,"待遇の違いの有無",null,"支給の目的",null,null,null,null,null,114,null,{"$f":"OFFSET($A$1,ROW()-2,COLUMN()-1)+1","v":1114},null,"待遇の違いの有無",null,"支給の目的",null,null,null,null,null,114,null,{"$f":"OFFSET($A$1,ROW()-2,COLUMN()-1)+1","v":1114},null,"待遇の違いの有無",null,"支給の目的",null,null,null,null,null,114,null,{"$f":"OFFSET($A$1,ROW()-2,COLUMN()-1)+1","v":1114},null,"待遇の違いの有無",null,"支給の目的",null,null,null,null,null,114,null,{"$f":"OFFSET($A$1,ROW()-2,COLUMN()-1)+1","v":1114},null,"待遇の違いの有無",null,"支給の目的",null,null,null,null,null,114,null,{"$f":"OFFSET($A$1,ROW()-2,COLUMN()-1)+1","v":1114},null,"待遇の違いの有無",null,"支給の目的",null,null,null,null,null,114,null,{"$f":"OFFSET($A$1,ROW()-2,COLUMN()-1)+1","v":1114},null,"待遇の違いの有無",null,"支給の目的",null,null,null,null,null,114,null,{"$f":"OFFSET($A$1,ROW()-2,COLUMN()-1)+1","v":1114},null,"待遇の違いの有無",null,"支給の目的",null,null,null,null,null,114,null,{"$f":"OFFSET($A$1,ROW()-2,COLUMN()-1)+1","v":1114}]
[null,null,null,null,null,null,null,null,null,null,null,null,null,null,null,null,null,null,null,null,{"$f":"OFFSET($C$6,OFFSET($A$1,ROW()-3,COLUMN()+1),0)","v":" "},null,{"$f":"'手順２・３・４社員タイプ#01'!$D$31&\"\"","v":""},null,null,null,null,null,115,null,1115,null,{"$f":"OFFSET($C$6,OFFSET($A$1,ROW()-3,COLUMN()+1),0)","v":" "},null,{"$f":"'手順２・３・４社員タイプ#02'!$D$31&\"\"","v":""},null,null,null,null,null,115,null,1115,null,{"$f":"OFFSET($C$6,OFFSET($A$1,ROW()-3,COLUMN()+1),0)","v":" "},null,{"$f":"'手順２・３・４社員タイプ#03'!$D$31&\"\"","v":""},null,null,null,null,null,115,null,1115,null,{"$f":"OFFSET($C$6,OFFSET($A$1,ROW()-3,COLUMN()+1),0)","v":" "},null,{"$f":"'手順２・３・４社員タイプ#04'!$D$31&\"\"","v":""},null,null,null,null,null,115,null,1115,null,{"$f":"OFFSET($C$6,OFFSET($A$1,ROW()-3,COLUMN()+1),0)","v":" "},null,{"$f":"'手順２・３・４社員タイプ#05'!$D$31&\"\"","v":""},null,null,null,null,null,115,null,1115,null,{"$f":"OFFSET($C$6,OFFSET($A$1,ROW()-3,COLUMN()+1),0)","v":" "},null,{"$f":"'手順２・３・４社員タイプ#06'!$D$31&\"\"","v":""},null,null,null,null,null,115,null,1115,null,{"$f":"OFFSET($C$6,OFFSET($A$1,ROW()-3,COLUMN()+1),0)","v":" "},null,{"$f":"'手順２・３・４社員タイプ#07'!$D$31&\"\"","v":""},null,null,null,null,null,115,null,1115,null,{"$f":"OFFSET($C$6,OFFSET($A$1,ROW()-3,COLUMN()+1),0)","v":" "},null,{"$f":"'手順２・３・４社員タイプ#08'!$D$31&\"\"","v":""},null,null,null,null,null,115,null,1115,null,{"$f":"OFFSET($C$6,OFFSET($A$1,ROW()-3,COLUMN()+1),0)","v":" "},null,{"$f":"'手順２・３・４社員タイプ#09'!$D$31&\"\"","v":""},null,null,null,null,null,115,null,1115,null,{"$f":"OFFSET($C$6,OFFSET($A$1,ROW()-3,COLUMN()+1),0)","v":" "},null,{"$f":"'手順２・３・４社員タイプ#10'!$D$31&\"\"","v":""},null,null,null,null,null,115,null,1115]
[null,null,null,null,null,null,null,null,null,null,null,null,null,null,null,null,null,null,null,null,"正社員",null,"短時間労働者・有期雇用労働者",null,null,null,null,null,116,null,1116,null,"正社員",null,"短時間労働者・有期雇用労働者",null,null,null,null,null,116,null,1116,null,"正社員",null,"短時間労働者・有期雇用労働者",null,null,null,null,null,116,null,1116,null,"正社員",null,"短時間労働者・有期雇用労働者",null,null,null,null,null,116,null,1116,null,"正社員",null,"短時間労働者・有期雇用労働者",null,null,null,null,null,116,null,1116,null,"正社員",null,"短時間労働者・有期雇用労働者",null,null,null,null,null,116,null,1116,null,"正社員",null,"短時間労働者・有期雇用労働者",null,null,null,null,null,116,null,1116,null,"正社員",null,"短時間労働者・有期雇用労働者",null,null,null,null,null,116,null,1116,null,"正社員",null,"短時間労働者・有期雇用労働者",null,null,null,null,null,116,null,1116,null,"正社員",null,"短時間労働者・有期雇用労働者",null,null,null,null,null,116,null,1116]
[null,null,null,null,null,null,null,null,null,null,null,null,null,null,null,null,null,null,null,null,{"$f":"IF(OFFSET($A$1,ROW()-5,COLUMN()+1)<>2,\"\",'手順２・３・４社員タイプ#01'!$E$31&\"\")","v":""},null,{"$f":"IF(OFFSET($A$1,ROW()-5,COLUMN()-1)<>2,\"\",'手順２・３・４社員タイプ#01'!$F$31&\"\")","v":""},null,{"$f":"IF(OFFSET($A$1,ROW()-5,COLUMN()-3)<>2,1,0)","v":1},null,{"$f":"OFFSET($A$1,ROW()-1,COLUMN()-3)","v":1},null,117,null,1117,null,{"$f":"IF(OFFSET($A$1,ROW()-5,COLUMN()+1)<>2,\"\",'手順２・３・４社員タイプ#02'!$E$31&\"\")","v":""},null,{"$f":"IF(OFFSET($A$1,ROW()-5,COLUMN()-1)<>2,\"\",'手順２・３・４社員タイプ#02'!$F$31&\"\")","v":""},null,{"$f":"IF(OFFSET($A$1,ROW()-5,COLUMN()-3)<>2,1,0)","v":1},null,{"$f":"OFFSET($A$1,ROW()-1,COLUMN()-3)","v":1},null,117,null,1117,null,{"$f":"IF(OFFSET($A$1,ROW()-5,COLUMN()+1)<>2,\"\",'手順２・３・４社員タイプ#03'!$E$31&\"\")","v":""},null,{"$f":"IF(OFFSET($A$1,ROW()-5,COLUMN()-1)<>2,\"\",'手順２・３・４社員タイプ#03'!$F$31&\"\")","v":""},null,{"$f":"IF(OFFSET($A$1,ROW()-5,COLUMN()-3)<>2,1,0)","v":1},null,{"$f":"OFFSET($A$1,ROW()-1,COLUMN()-3)","v":1},null,117,null,1117,null,{"$f":"IF(OFFSET($A$1,ROW()-5,COLUMN()+1)<>2,\"\",'手順２・３・４社員タイプ#04'!$E$31&\"\")","v":""},null,{"$f":"IF(OFFSET($A$1,ROW()-5,COLUMN()-1)<>2,\"\",'手順２・３・４社員タイプ#04'!$F$31&\"\")","v":""},null,{"$f":"IF(OFFSET($A$1,ROW()-5,COLUMN()-3)<>2,1,0)","v":1},null,{"$f":"OFFSET($A$1,ROW()-1,COLUMN()-3)","v":1},null,117,null,1117,null,{"$f":"IF(OFFSET($A$1,ROW()-5,COLUMN()+1)<>2,\"\",'手順２・３・４社員タイプ#05'!$E$31&\"\")","v":""},null,{"$f":"IF(OFFSET($A$1,ROW()-5,COLUMN()-1)<>2,\"\",'手順２・３・４社員タイプ#05'!$F$31&\"\")","v":""},null,{"$f":"IF(OFFSET($A$1,ROW()-5,COLUMN()-3)<>2,1,0)","v":1},null,{"$f":"OFFSET($A$1,ROW()-1,COLUMN()-3)","v":1},null,117,null,1117,null,{"$f":"IF(OFFSET($A$1,ROW()-5,COLUMN()+1)<>2,\"\",'手順２・３・４社員タイプ#06'!$E$31&\"\")","v":""},null,{"$f":"IF(OFFSET($A$1,ROW()-5,COLUMN()-1)<>2,\"\",'手順２・３・４社員タイプ#06'!$F$31&\"\")","v":""},null,{"$f":"IF(OFFSET($A$1,ROW()-5,COLUMN()-3)<>2,1,0)","v":1},null,{"$f":"OFFSET($A$1,ROW()-1,COLUMN()-3)","v":1},null,117,null,1117,null,{"$f":"IF(OFFSET($A$1,ROW()-5,COLUMN()+1)<>2,\"\",'手順２・３・４社員タイプ#07'!$E$31&\"\")","v":""},null,{"$f":"IF(OFFSET($A$1,ROW()-5,COLUMN()-1)<>2,\"\",'手順２・３・４社員タイプ#07'!$F$31&\"\")","v":""},null,{"$f":"IF(OFFSET($A$1,ROW()-5,COLUMN()-3)<>2,1,0)","v":1},null,{"$f":"OFFSET($A$1,ROW()-1,COLUMN()-3)","v":1},null,117,null,1117,null,{"$f":"IF(OFFSET($A$1,ROW()-5,COLUMN()+1)<>2,\"\",'手順２・３・４社員タイプ#08'!$E$31&\"\")","v":""},null,{"$f":"IF(OFFSET($A$1,ROW()-5,COLUMN()-1)<>2,\"\",'手順２・３・４社員タイプ#08'!$F$31&\"\")","v":""},null,{"$f":"IF(OFFSET($A$1,ROW()-5,COLUMN()-3)<>2,1,0)","v":1},null,{"$f":"OFFSET($A$1,ROW()-1,COLUMN()-3)","v":1},null,117,null,1117,null,{"$f":"IF(OFFSET($A$1,ROW()-5,COLUMN()+1)<>2,\"\",'手順２・３・４社員タイプ#09'!$E$31&\"\")","v":""},null,{"$f":"IF(OFFSET($A$1,ROW()-5,COLUMN()-1)<>2,\"\",'手順２・３・４社員タイプ#09'!$F$31&\"\")","v":""},null,{"$f":"IF(OFFSET($A$1,ROW()-5,COLUMN()-3)<>2,1,0)","v":1},null,{"$f":"OFFSET($A$1,ROW()-1,COLUMN()-3)","v":1},null,117,null,1117,null,{"$f":"IF(OFFSET($A$1,ROW()-5,COLUMN()+1)<>2,\"\",'手順２・３・４社員タイプ#10'!$E$31&\"\")","v":""},null,{"$f":"IF(OFFSET($A$1,ROW()-5,COLUMN()-1)<>2,\"\",'手順２・３・４社員タイプ#10'!$F$31&\"\")","v":""},null,{"$f":"IF(OFFSET($A$1,ROW()-5,COLUMN()-3)<>2,1,0)","v":1},null,{"$f":"OFFSET($A$1,ROW()-1,COLUMN()-3)","v":1},null,117,null,1117]
[null,null,null,null,null,null,null,null,null,null,null,null,null,null,null,null,null,null,null,null,"違いを設けている理由",null,"対応方針",null,null,null,null,null,118,null,1118,null,"違いを設けている理由",null,"対応方針",null,null,null,null,null,118,null,1118,null,"違いを設けている理由",null,"対応方針",null,null,null,null,null,118,null,1118,null,"違いを設けている理由",null,"対応方針",null,null,null,null,null,118,null,1118,null,"違いを設けている理由",null,"対応方針",null,null,null,null,null,118,null,1118,null,"違いを設けている理由",null,"対応方針",null,null,null,null,null,118,null,1118,null,"違いを設けている理由",null,"対応方針",null,null,null,null,null,118,null,1118,null,"違いを設けている理由",null,"対応方針",null,null,null,null,null,118,null,1118,null,"違いを設けている理由",null,"対応方針",null,null,null,null,null,118,null,1118,null,"違いを設けている理由",null,"対応方針",null,null,null,null,null,118,null,1118]
[null,null,null,null,null,null,null,null,null,null,null,null,null,null,null,null,null,null,null,null,{"$f":"IF(OFFSET($A$1,ROW()-7,COLUMN()+1)<>2,\"\",'手順２・３・４社員タイプ#01'!$G$31&\"\")","v":""},null,{"$f":"IF(OFFSET($A$1,ROW()-7,COLUMN()-1)<>2,\"\",'手順２・３・４社員タイプ#01'!$H$31&\"\")","v":""},null,{"$f":"OFFSET($A$1,ROW()-3,COLUMN()-1)","v":1},null,{"$f":"OFFSET($A$1,ROW()-3,COLUMN()-3)","v":1},null,119,null,1119,null,{"$f":"IF(OFFSET($A$1,ROW()-7,COLUMN()+1)<>2,\"\",'手順２・３・４社員タイプ#02'!$G$31&\"\")","v":""},null,{"$f":"IF(OFFSET($A$1,ROW()-7,COLUMN()-1)<>2,\"\",'手順２・３・４社員タイプ#02'!$H$31&\"\")","v":""},null,{"$f":"OFFSET($A$1,ROW()-3,COLUMN()-1)","v":1},null,{"$f":"OFFSET($A$1,ROW()-3,COLUMN()-3)","v":1},null,119,null,1119,null,{"$f":"IF(OFFSET($A$1,ROW()-7,COLUMN()+1)<>2,\"\",'手順２・３・４社員タイプ#03'!$G$31&\"\")","v":""},null,{"$f":"IF(OFFSET($A$1,ROW()-7,COLUMN()-1)<>2,\"\",'手順２・３・４社員タイプ#03'!$H$31&\"\")","v":""},null,{"$f":"OFFSET($A$1,ROW()-3,COLUMN()-1)","v":1},null,{"$f":"OFFSET($A$1,ROW()-3,COLUMN()-3)","v":1},null,119,null,1119,null,{"$f":"IF(OFFSET($A$1,ROW()-7,COLUMN()+1)<>2,\"\",'手順２・３・４社員タイプ#04'!$G$31&\"\")","v":""},null,{"$f":"IF(OFFSET($A$1,ROW()-7,COLUMN()-1)<>2,\"\",'手順２・３・４社員タイプ#04'!$H$31&\"\")","v":""},null,{"$f":"OFFSET($A$1,ROW()-3,COLUMN()-1)","v":1},null,{"$f":"OFFSET($A$1,ROW()-3,COLUMN()-3)","v":1},null,119,null,1119,null,{"$f":"IF(OFFSET($A$1,ROW()-7,COLUMN()+1)<>2,\"\",'手順２・３・４社員タイプ#05'!$G$31&\"\")","v":""},null,{"$f":"IF(OFFSET($A$1,ROW()-7,COLUMN()-1)<>2,\"\",'手順２・３・４社員タイプ#05'!$H$31&\"\")","v":""},null,{"$f":"OFFSET($A$1,ROW()-3,COLUMN()-1)","v":1},null,{"$f":"OFFSET($A$1,ROW()-3,COLUMN()-3)","v":1},null,119,null,1119,null,{"$f":"IF(OFFSET($A$1,ROW()-7,COLUMN()+1)<>2,\"\",'手順２・３・４社員タイプ#06'!$G$31&\"\")","v":""},null,{"$f":"IF(OFFSET($A$1,ROW()-7,COLUMN()-1)<>2,\"\",'手順２・３・４社員タイプ#06'!$H$31&\"\")","v":""},null,{"$f":"OFFSET($A$1,ROW()-3,COLUMN()-1)","v":1},null,{"$f":"OFFSET($A$1,ROW()-3,COLUMN()-3)","v":1},null,119,null,1119,null,{"$f":"IF(OFFSET($A$1,ROW()-7,COLUMN()+1)<>2,\"\",'手順２・３・４社員タイプ#07'!$G$31&\"\")","v":""},null,{"$f":"IF(OFFSET($A$1,ROW()-7,COLUMN()-1)<>2,\"\",'手順２・３・４社員タイプ#07'!$H$31&\"\")","v":""},null,{"$f":"OFFSET($A$1,ROW()-3,COLUMN()-1)","v":1},null,{"$f":"OFFSET($A$1,ROW()-3,COLUMN()-3)","v":1},null,119,null,1119,null,{"$f":"IF(OFFSET($A$1,ROW()-7,COLUMN()+1)<>2,\"\",'手順２・３・４社員タイプ#08'!$G$31&\"\")","v":""},null,{"$f":"IF(OFFSET($A$1,ROW()-7,COLUMN()-1)<>2,\"\",'手順２・３・４社員タイプ#08'!$H$31&\"\")","v":""},null,{"$f":"OFFSET($A$1,ROW()-3,COLUMN()-1)","v":1},null,{"$f":"OFFSET($A$1,ROW()-3,COLUMN()-3)","v":1},null,119,null,1119,null,{"$f":"IF(OFFSET($A$1,ROW()-7,COLUMN()+1)<>2,\"\",'手順２・３・４社員タイプ#09'!$G$31&\"\")","v":""},null,{"$f":"IF(OFFSET($A$1,ROW()-7,COLUMN()-1)<>2,\"\",'手順２・３・４社員タイプ#09'!$H$31&\"\")","v":""},null,{"$f":"OFFSET($A$1,ROW()-3,COLUMN()-1)","v":1},null,{"$f":"OFFSET($A$1,ROW()-3,COLUMN()-3)","v":1},null,119,null,1119,null,{"$f":"IF(OFFSET($A$1,ROW()-7,COLUMN()+1)<>2,\"\",'手順２・３・４社員タイプ#10'!$G$31&\"\")","v":""},null,{"$f":"IF(OFFSET($A$1,ROW()-7,COLUMN()-1)<>2,\"\",'手順２・３・４社員タイプ#10'!$H$31&\"\")","v":""},null,{"$f":"OFFSET($A$1,ROW()-3,COLUMN()-1)","v":1},null,{"$f":"OFFSET($A$1,ROW()-3,COLUMN()-3)","v":1},null,119,null,1119]
[null,null,null,null,null,null,null,null,null,null,null,null,null,null,null,null,null,null,null,null,{"$f":"IF('手順２・３・４社員タイプ#01'!$B$32=\"\",\"\", '手順２・３・４社員タイプ#01'!$B$32)","v":""},null,{"$f":"'手順２・３・４社員タイプ#01'!$C$32","v":0},null,null,null,null,null,120,null,{"$f":"IF(AND(OFFSET($A$1,ROW()-1,COLUMN()-11)<>\"\",OR(OFFSET($A$1,ROW()-1,COLUMN()-9)=1,OFFSET($A$1,ROW()-1,COLUMN()-9)=2)),OFFSET($A$1,ROW()-1,COLUMN()-3),OFFSET($A$1,ROW()-1,COLUMN()-3)+1000)","v":1120},null,{"$f":"IF('手順２・３・４社員タイプ#02'!$B$32=\"\",\"\", '手順２・３・４社員タイプ#02'!$B$32)","v":""},null,{"$f":"'手順２・３・４社員タイプ#02'!$C$32","v":0},null,null,null,null,null,120,null,{"$f":"IF(AND(OFFSET($A$1,ROW()-1,COLUMN()-11)<>\"\",OR(OFFSET($A$1,ROW()-1,COLUMN()-9)=1,OFFSET($A$1,ROW()-1,COLUMN()-9)=2)),OFFSET($A$1,ROW()-1,COLUMN()-3),OFFSET($A$1,ROW()-1,COLUMN()-3)+1000)","v":1120},null,{"$f":"IF('手順２・３・４社員タイプ#03'!$B$32=\"\",\"\", '手順２・３・４社員タイプ#03'!$B$32)","v":""},null,{"$f":"'手順２・３・４社員タイプ#03'!$C$32","v":0},null,null,null,null,null,120,null,{"$f":"IF(AND(OFFSET($A$1,ROW()-1,COLUMN()-11)<>\"\",OR(OFFSET($A$1,ROW()-1,COLUMN()-9)=1,OFFSET($A$1,ROW()-1,COLUMN()-9)=2)),OFFSET($A$1,ROW()-1,COLUMN()-3),OFFSET($A$1,ROW()-1,COLUMN()-3)+1000)","v":1120},null,{"$f":"IF('手順２・３・４社員タイプ#04'!$B$32=\"\",\"\", '手順２・３・４社員タイプ#04'!$B$32)","v":""},null,{"$f":"'手順２・３・４社員タイプ#04'!$C$32","v":0},null,null,null,null,null,120,null,{"$f":"IF(AND(OFFSET($A$1,ROW()-1,COLUMN()-11)<>\"\",OR(OFFSET($A$1,ROW()-1,COLUMN()-9)=1,OFFSET($A$1,ROW()-1,COLUMN()-9)=2)),OFFSET($A$1,ROW()-1,COLUMN()-3),OFFSET($A$1,ROW()-1,COLUMN()-3)+1000)","v":1120},null,{"$f":"IF('手順２・３・４社員タイプ#05'!$B$32=\"\",\"\", '手順２・３・４社員タイプ#05'!$B$32)","v":""},null,{"$f":"'手順２・３・４社員タイプ#05'!$C$32","v":0},null,null,null,null,null,120,null,{"$f":"IF(AND(OFFSET($A$1,ROW()-1,COLUMN()-11)<>\"\",OR(OFFSET($A$1,ROW()-1,COLUMN()-9)=1,OFFSET($A$1,ROW()-1,COLUMN()-9)=2)),OFFSET($A$1,ROW()-1,COLUMN()-3),OFFSET($A$1,ROW()-1,COLUMN()-3)+1000)","v":1120},null,{"$f":"IF('手順２・３・４社員タイプ#06'!$B$32=\"\",\"\", '手順２・３・４社員タイプ#06'!$B$32)","v":""},null,{"$f":"'手順２・３・４社員タイプ#06'!$C$32","v":0},null,null,null,null,null,120,null,{"$f":"IF(AND(OFFSET($A$1,ROW()-1,COLUMN()-11)<>\"\",OR(OFFSET($A$1,ROW()-1,COLUMN()-9)=1,OFFSET($A$1,ROW()-1,COLUMN()-9)=2)),OFFSET($A$1,ROW()-1,COLUMN()-3),OFFSET($A$1,ROW()-1,COLUMN()-3)+1000)","v":1120},null,{"$f":"IF('手順２・３・４社員タイプ#07'!$B$32=\"\",\"\", '手順２・３・４社員タイプ#07'!$B$32)","v":""},null,{"$f":"'手順２・３・４社員タイプ#07'!$C$32","v":0},null,null,null,null,null,120,null,{"$f":"IF(AND(OFFSET($A$1,ROW()-1,COLUMN()-11)<>\"\",OR(OFFSET($A$1,ROW()-1,COLUMN()-9)=1,OFFSET($A$1,ROW()-1,COLUMN()-9)=2)),OFFSET($A$1,ROW()-1,COLUMN()-3),OFFSET($A$1,ROW()-1,COLUMN()-3)+1000)","v":1120},null,{"$f":"IF('手順２・３・４社員タイプ#08'!$B$32=\"\",\"\", '手順２・３・４社員タイプ#08'!$B$32)","v":""},null,{"$f":"'手順２・３・４社員タイプ#08'!$C$32","v":0},null,null,null,null,null,120,null,{"$f":"IF(AND(OFFSET($A$1,ROW()-1,COLUMN()-11)<>\"\",OR(OFFSET($A$1,ROW()-1,COLUMN()-9)=1,OFFSET($A$1,ROW()-1,COLUMN()-9)=2)),OFFSET($A$1,ROW()-1,COLUMN()-3),OFFSET($A$1,ROW()-1,COLUMN()-3)+1000)","v":1120},null,{"$f":"IF('手順２・３・４社員タイプ#09'!$B$32=\"\",\"\", '手順２・３・４社員タイプ#09'!$B$32)","v":""},null,{"$f":"'手順２・３・４社員タイプ#09'!$C$32","v":0},null,null,null,null,null,120,null,{"$f":"IF(AND(OFFSET($A$1,ROW()-1,COLUMN()-11)<>\"\",OR(OFFSET($A$1,ROW()-1,COLUMN()-9)=1,OFFSET($A$1,ROW()-1,COLUMN()-9)=2)),OFFSET($A$1,ROW()-1,COLUMN()-3),OFFSET($A$1,ROW()-1,COLUMN()-3)+1000)","v":1120},null,{"$f":"IF('手順２・３・４社員タイプ#10'!$B$32=\"\",\"\", '手順２・３・４社員タイプ#10'!$B$32)","v":""},null,{"$f":"'手順２・３・４社員タイプ#10'!$C$32","v":0},null,null,null,null,null,120,null,{"$f":"IF(AND(OFFSET($A$1,ROW()-1,COLUMN()-11)<>\"\",OR(OFFSET($A$1,ROW()-1,COLUMN()-9)=1,OFFSET($A$1,ROW()-1,COLUMN()-9)=2)),OFFSET($A$1,ROW()-1,COLUMN()-3),OFFSET($A$1,ROW()-1,COLUMN()-3)+1000)","v":1120}]
[null,null,null,null,null,null,null,null,null,null,null,null,null,null,null,null,null,null,null,null,"待遇の違いの有無",null,"支給の目的",null,null,null,null,null,121,null,{"$f":"OFFSET($A$1,ROW()-2,COLUMN()-1)+1","v":1121},null,"待遇の違いの有無",null,"支給の目的",null,null,null,null,null,121,null,{"$f":"OFFSET($A$1,ROW()-2,COLUMN()-1)+1","v":1121},null,"待遇の違いの有無",null,"支給の目的",null,null,null,null,null,121,null,{"$f":"OFFSET($A$1,ROW()-2,COLUMN()-1)+1","v":1121},null,"待遇の違いの有無",null,"支給の目的",null,null,null,null,null,121,null,{"$f":"OFFSET($A$1,ROW()-2,COLUMN()-1)+1","v":1121},null,"待遇の違いの有無",null,"支給の目的",null,null,null,null,null,121,null,{"$f":"OFFSET($A$1,ROW()-2,COLUMN()-1)+1","v":1121},null,"待遇の違いの有無",null,"支給の目的",null,null,null,null,null,121,null,{"$f":"OFFSET($A$1,ROW()-2,COLUMN()-1)+1","v":1121},null,"待遇の違いの有無",null,"支給の目的",null,null,null,null,null,121,null,{"$f":"OFFSET($A$1,ROW()-2,COLUMN()-1)+1","v":1121},null,"待遇の違いの有無",null,"支給の目的",null,null,null,null,null,121,null,{"$f":"OFFSET($A$1,ROW()-2,COLUMN()-1)+1","v":1121},null,"待遇の違いの有無",null,"支給の目的",null,null,null,null,null,121,null,{"$f":"OFFSET($A$1,ROW()-2,COLUMN()-1)+1","v":1121},null,"待遇の違いの有無",null,"支給の目的",null,null,null,null,null,121,null,{"$f":"OFFSET($A$1,ROW()-2,COLUMN()-1)+1","v":1121}]
[null,null,null,null,null,null,null,null,null,null,null,null,null,null,null,null,null,null,null,null,{"$f":"OFFSET($C$6,OFFSET($A$1,ROW()-3,COLUMN()+1),0)","v":" "},null,{"$f":"'手順２・３・４社員タイプ#01'!$D$32&\"\"","v":""},null,null,null,null,null,122,null,1122,null,{"$f":"OFFSET($C$6,OFFSET($A$1,ROW()-3,COLUMN()+1),0)","v":" "},null,{"$f":"'手順２・３・４社員タイプ#02'!$D$32&\"\"","v":""},null,null,null,null,null,122,null,1122,null,{"$f":"OFFSET($C$6,OFFSET($A$1,ROW()-3,COLUMN()+1),0)","v":" "},null,{"$f":"'手順２・３・４社員タイプ#03'!$D$32&\"\"","v":""},null,null,null,null,null,122,null,1122,null,{"$f":"OFFSET($C$6,OFFSET($A$1,ROW()-3,COLUMN()+1),0)","v":" "},null,{"$f":"'手順２・３・４社員タイプ#04'!$D$32&\"\"","v":""},null,null,null,null,null,122,null,1122,null,{"$f":"OFFSET($C$6,OFFSET($A$1,ROW()-3,COLUMN()+1),0)","v":" "},null,{"$f":"'手順２・３・４社員タイプ#05'!$D$32&\"\"","v":""},null,null,null,null,null,122,null,1122,null,{"$f":"OFFSET($C$6,OFFSET($A$1,ROW()-3,COLUMN()+1),0)","v":" "},null,{"$f":"'手順２・３・４社員タイプ#06'!$D$32&\"\"","v":""},null,null,null,null,null,122,null,1122,null,{"$f":"OFFSET($C$6,OFFSET($A$1,ROW()-3,COLUMN()+1),0)","v":" "},null,{"$f":"'手順２・３・４社員タイプ#07'!$D$32&\"\"","v":""},null,null,null,null,null,122,null,1122,null,{"$f":"OFFSET($C$6,OFFSET($A$1,ROW()-3,COLUMN()+1),0)","v":" "},null,{"$f":"'手順２・３・４社員タイプ#08'!$D$32&\"\"","v":""},null,null,null,null,null,122,null,1122,null,{"$f":"OFFSET($C$6,OFFSET($A$1,ROW()-3,COLUMN()+1),0)","v":" "},null,{"$f":"'手順２・３・４社員タイプ#09'!$D$32&\"\"","v":""},null,null,null,null,null,122,null,1122,null,{"$f":"OFFSET($C$6,OFFSET($A$1,ROW()-3,COLUMN()+1),0)","v":" "},null,{"$f":"'手順２・３・４社員タイプ#10'!$D$32&\"\"","v":""},null,null,null,null,null,122,null,1122]
[null,null,null,null,null,null,null,null,null,null,null,null,null,null,null,null,null,null,null,null,"正社員",null,"短時間労働者・有期雇用労働者",null,null,null,null,null,123,null,1123,null,"正社員",null,"短時間労働者・有期雇用労働者",null,null,null,null,null,123,null,1123,null,"正社員",null,"短時間労働者・有期雇用労働者",null,null,null,null,null,123,null,1123,null,"正社員",null,"短時間労働者・有期雇用労働者",null,null,null,null,null,123,null,1123,null,"正社員",null,"短時間労働者・有期雇用労働者",null,null,null,null,null,123,null,1123,null,"正社員",null,"短時間労働者・有期雇用労働者",null,null,null,null,null,123,null,1123,null,"正社員",null,"短時間労働者・有期雇用労働者",null,null,null,null,null,123,null,1123,null,"正社員",null,"短時間労働者・有期雇用労働者",null,null,null,null,null,123,null,1123,null,"正社員",null,"短時間労働者・有期雇用労働者",null,null,null,null,null,123,null,1123,null,"正社員",null,"短時間労働者・有期雇用労働者",null,null,null,null,null,123,null,1123]
[null,null,null,null,null,null,null,null,null,null,null,null,null,null,null,null,null,null,null,null,{"$f":"IF(OFFSET($A$1,ROW()-5,COLUMN()+1)<>2,\"\",'手順２・３・４社員タイプ#01'!$E$32&\"\")","v":""},null,{"$f":"IF(OFFSET($A$1,ROW()-5,COLUMN()-1)<>2,\"\",'手順２・３・４社員タイプ#01'!$F$32&\"\")","v":""},null,{"$f":"IF(OFFSET($A$1,ROW()-5,COLUMN()-3)<>2,1,0)","v":1},null,{"$f":"OFFSET($A$1,ROW()-1,COLUMN()-3)","v":1},null,124,null,1124,null,{"$f":"IF(OFFSET($A$1,ROW()-5,COLUMN()+1)<>2,\"\",'手順２・３・４社員タイプ#02'!$E$32&\"\")","v":""},null,{"$f":"IF(OFFSET($A$1,ROW()-5,COLUMN()-1)<>2,\"\",'手順２・３・４社員タイプ#02'!$F$32&\"\")","v":""},null,{"$f":"IF(OFFSET($A$1,ROW()-5,COLUMN()-3)<>2,1,0)","v":1},null,{"$f":"OFFSET($A$1,ROW()-1,COLUMN()-3)","v":1},null,124,null,1124,null,{"$f":"IF(OFFSET($A$1,ROW()-5,COLUMN()+1)<>2,\"\",'手順２・３・４社員タイプ#03'!$E$32&\"\")","v":""},null,{"$f":"IF(OFFSET($A$1,ROW()-5,COLUMN()-1)<>2,\"\",'手順２・３・４社員タイプ#03'!$F$32&\"\")","v":""},null,{"$f":"IF(OFFSET($A$1,ROW()-5,COLUMN()-3)<>2,1,0)","v":1},null,{"$f":"OFFSET($A$1,ROW()-1,COLUMN()-3)","v":1},null,124,null,1124,null,{"$f":"IF(OFFSET($A$1,ROW()-5,COLUMN()+1)<>2,\"\",'手順２・３・４社員タイプ#04'!$E$32&\"\")","v":""},null,{"$f":"IF(OFFSET($A$1,ROW()-5,COLUMN()-1)<>2,\"\",'手順２・３・４社員タイプ#04'!$F$32&\"\")","v":""},null,{"$f":"IF(OFFSET($A$1,ROW()-5,COLUMN()-3)<>2,1,0)","v":1},null,{"$f":"OFFSET($A$1,ROW()-1,COLUMN()-3)","v":1},null,124,null,1124,null,{"$f":"IF(OFFSET($A$1,ROW()-5,COLUMN()+1)<>2,\"\",'手順２・３・４社員タイプ#05'!$E$32&\"\")","v":""},null,{"$f":"IF(OFFSET($A$1,ROW()-5,COLUMN()-1)<>2,\"\",'手順２・３・４社員タイプ#05'!$F$32&\"\")","v":""},null,{"$f":"IF(OFFSET($A$1,ROW()-5,COLUMN()-3)<>2,1,0)","v":1},null,{"$f":"OFFSET($A$1,ROW()-1,COLUMN()-3)","v":1},null,124,null,1124,null,{"$f":"IF(OFFSET($A$1,ROW()-5,COLUMN()+1)<>2,\"\",'手順２・３・４社員タイプ#06'!$E$32&\"\")","v":""},null,{"$f":"IF(OFFSET($A$1,ROW()-5,COLUMN()-1)<>2,\"\",'手順２・３・４社員タイプ#06'!$F$32&\"\")","v":""},null,{"$f":"IF(OFFSET($A$1,ROW()-5,COLUMN()-3)<>2,1,0)","v":1},null,{"$f":"OFFSET($A$1,ROW()-1,COLUMN()-3)","v":1},null,124,null,1124,null,{"$f":"IF(OFFSET($A$1,ROW()-5,COLUMN()+1)<>2,\"\",'手順２・３・４社員タイプ#07'!$E$32&\"\")","v":""},null,{"$f":"IF(OFFSET($A$1,ROW()-5,COLUMN()-1)<>2,\"\",'手順２・３・４社員タイプ#07'!$F$32&\"\")","v":""},null,{"$f":"IF(OFFSET($A$1,ROW()-5,COLUMN()-3)<>2,1,0)","v":1},null,{"$f":"OFFSET($A$1,ROW()-1,COLUMN()-3)","v":1},null,124,null,1124,null,{"$f":"IF(OFFSET($A$1,ROW()-5,COLUMN()+1)<>2,\"\",'手順２・３・４社員タイプ#08'!$E$32&\"\")","v":""},null,{"$f":"IF(OFFSET($A$1,ROW()-5,COLUMN()-1)<>2,\"\",'手順２・３・４社員タイプ#08'!$F$32&\"\")","v":""},null,{"$f":"IF(OFFSET($A$1,ROW()-5,COLUMN()-3)<>2,1,0)","v":1},null,{"$f":"OFFSET($A$1,ROW()-1,COLUMN()-3)","v":1},null,124,null,1124,null,{"$f":"IF(OFFSET($A$1,ROW()-5,COLUMN()+1)<>2,\"\",'手順２・３・４社員タイプ#09'!$E$32&\"\")","v":""},null,{"$f":"IF(OFFSET($A$1,ROW()-5,COLUMN()-1)<>2,\"\",'手順２・３・４社員タイプ#09'!$F$32&\"\")","v":""},null,{"$f":"IF(OFFSET($A$1,ROW()-5,COLUMN()-3)<>2,1,0)","v":1},null,{"$f":"OFFSET($A$1,ROW()-1,COLUMN()-3)","v":1},null,124,null,1124,null,{"$f":"IF(OFFSET($A$1,ROW()-5,COLUMN()+1)<>2,\"\",'手順２・３・４社員タイプ#10'!$E$32&\"\")","v":""},null,{"$f":"IF(OFFSET($A$1,ROW()-5,COLUMN()-1)<>2,\"\",'手順２・３・４社員タイプ#10'!$F$32&\"\")","v":""},null,{"$f":"IF(OFFSET($A$1,ROW()-5,COLUMN()-3)<>2,1,0)","v":1},null,{"$f":"OFFSET($A$1,ROW()-1,COLUMN()-3)","v":1},null,124,null,1124]
[null,null,null,null,null,null,null,null,null,null,null,null,null,null,null,null,null,null,null,null,"違いを設けている理由",null,"対応方針",null,null,null,null,null,125,null,1125,null,"違いを設けている理由",null,"対応方針",null,null,null,null,null,125,null,1125,null,"違いを設けている理由",null,"対応方針",null,null,null,null,null,125,null,1125,null,"違いを設けている理由",null,"対応方針",null,null,null,null,null,125,null,1125,null,"違いを設けている理由",null,"対応方針",null,null,null,null,null,125,null,1125,null,"違いを設けている理由",null,"対応方針",null,null,null,null,null,125,null,1125,null,"違いを設けている理由",null,"対応方針",null,null,null,null,null,125,null,1125,null,"違いを設けている理由",null,"対応方針",null,null,null,null,null,125,null,1125,null,"違いを設けている理由",null,"対応方針",null,null,null,null,null,125,null,1125,null,"違いを設けている理由",null,"対応方針",null,null,null,null,null,125,null,1125]
[null,null,null,null,null,null,null,null,null,null,null,null,null,null,null,null,null,null,null,null,{"$f":"IF(OFFSET($A$1,ROW()-7,COLUMN()+1)<>2,\"\",'手順２・３・４社員タイプ#01'!$G$32&\"\")","v":""},null,{"$f":"IF(OFFSET($A$1,ROW()-7,COLUMN()-1)<>2,\"\",'手順２・３・４社員タイプ#01'!$H$32&\"\")","v":""},null,{"$f":"OFFSET($A$1,ROW()-3,COLUMN()-1)","v":1},null,{"$f":"OFFSET($A$1,ROW()-3,COLUMN()-3)","v":1},null,126,null,1126,null,{"$f":"IF(OFFSET($A$1,ROW()-7,COLUMN()+1)<>2,\"\",'手順２・３・４社員タイプ#02'!$G$32&\"\")","v":""},null,{"$f":"IF(OFFSET($A$1,ROW()-7,COLUMN()-1)<>2,\"\",'手順２・３・４社員タイプ#02'!$H$32&\"\")","v":""},null,{"$f":"OFFSET($A$1,ROW()-3,COLUMN()-1)","v":1},null,{"$f":"OFFSET($A$1,ROW()-3,COLUMN()-3)","v":1},null,126,null,1126,null,{"$f":"IF(OFFSET($A$1,ROW()-7,COLUMN()+1)<>2,\"\",'手順２・３・４社員タイプ#03'!$G$32&\"\")","v":""},null,{"$f":"IF(OFFSET($A$1,ROW()-7,COLUMN()-1)<>2,\"\",'手順２・３・４社員タイプ#03'!$H$32&\"\")","v":""},null,{"$f":"OFFSET($A$1,ROW()-3,COLUMN()-1)","v":1},null,{"$f":"OFFSET($A$1,ROW()-3,COLUMN()-3)","v":1},null,126,null,1126,null,{"$f":"IF(OFFSET($A$1,ROW()-7,COLUMN()+1)<>2,\"\",'手順２・３・４社員タイプ#04'!$G$32&\"\")","v":""},null,{"$f":"IF(OFFSET($A$1,ROW()-7,COLUMN()-1)<>2,\"\",'手順２・３・４社員タイプ#04'!$H$32&\"\")","v":""},null,{"$f":"OFFSET($A$1,ROW()-3,COLUMN()-1)","v":1},null,{"$f":"OFFSET($A$1,ROW()-3,COLUMN()-3)","v":1},null,126,null,1126,null,{"$f":"IF(OFFSET($A$1,ROW()-7,COLUMN()+1)<>2,\"\",'手順２・３・４社員タイプ#05'!$G$32&\"\")","v":""},null,{"$f":"IF(OFFSET($A$1,ROW()-7,COLUMN()-1)<>2,\"\",'手順２・３・４社員タイプ#05'!$H$32&\"\")","v":""},null,{"$f":"OFFSET($A$1,ROW()-3,COLUMN()-1)","v":1},null,{"$f":"OFFSET($A$1,ROW()-3,COLUMN()-3)","v":1},null,126,null,1126,null,{"$f":"IF(OFFSET($A$1,ROW()-7,COLUMN()+1)<>2,\"\",'手順２・３・４社員タイプ#06'!$G$32&\"\")","v":""},null,{"$f":"IF(OFFSET($A$1,ROW()-7,COLUMN()-1)<>2,\"\",'手順２・３・４社員タイプ#06'!$H$32&\"\")","v":""},null,{"$f":"OFFSET($A$1,ROW()-3,COLUMN()-1)","v":1},null,{"$f":"OFFSET($A$1,ROW()-3,COLUMN()-3)","v":1},null,126,null,1126,null,{"$f":"IF(OFFSET($A$1,ROW()-7,COLUMN()+1)<>2,\"\",'手順２・３・４社員タイプ#07'!$G$32&\"\")","v":""},null,{"$f":"IF(OFFSET($A$1,ROW()-7,COLUMN()-1)<>2,\"\",'手順２・３・４社員タイプ#07'!$H$32&\"\")","v":""},null,{"$f":"OFFSET($A$1,ROW()-3,COLUMN()-1)","v":1},null,{"$f":"OFFSET($A$1,ROW()-3,COLUMN()-3)","v":1},null,126,null,1126,null,{"$f":"IF(OFFSET($A$1,ROW()-7,COLUMN()+1)<>2,\"\",'手順２・３・４社員タイプ#08'!$G$32&\"\")","v":""},null,{"$f":"IF(OFFSET($A$1,ROW()-7,COLUMN()-1)<>2,\"\",'手順２・３・４社員タイプ#08'!$H$32&\"\")","v":""},null,{"$f":"OFFSET($A$1,ROW()-3,COLUMN()-1)","v":1},null,{"$f":"OFFSET($A$1,ROW()-3,COLUMN()-3)","v":1},null,126,null,1126,null,{"$f":"IF(OFFSET($A$1,ROW()-7,COLUMN()+1)<>2,\"\",'手順２・３・４社員タイプ#09'!$G$32&\"\")","v":""},null,{"$f":"IF(OFFSET($A$1,ROW()-7,COLUMN()-1)<>2,\"\",'手順２・３・４社員タイプ#09'!$H$32&\"\")","v":""},null,{"$f":"OFFSET($A$1,ROW()-3,COLUMN()-1)","v":1},null,{"$f":"OFFSET($A$1,ROW()-3,COLUMN()-3)","v":1},null,126,null,1126,null,{"$f":"IF(OFFSET($A$1,ROW()-7,COLUMN()+1)<>2,\"\",'手順２・３・４社員タイプ#10'!$G$32&\"\")","v":""},null,{"$f":"IF(OFFSET($A$1,ROW()-7,COLUMN()-1)<>2,\"\",'手順２・３・４社員タイプ#10'!$H$32&\"\")","v":""},null,{"$f":"OFFSET($A$1,ROW()-3,COLUMN()-1)","v":1},null,{"$f":"OFFSET($A$1,ROW()-3,COLUMN()-3)","v":1},null,126,null,1126]
[null,null,null,null,null,null,null,null,null,null,null,null,null,null,null,null,null,null,null,null,{"$f":"IF('手順２・３・４社員タイプ#01'!$B$33=\"\",\"\", '手順２・３・４社員タイプ#01'!$B$33)","v":""},null,{"$f":"'手順２・３・４社員タイプ#01'!$C$33","v":0},null,null,null,null,null,127,null,{"$f":"IF(AND(OFFSET($A$1,ROW()-1,COLUMN()-11)<>\"\",OR(OFFSET($A$1,ROW()-1,COLUMN()-9)=1,OFFSET($A$1,ROW()-1,COLUMN()-9)=2)),OFFSET($A$1,ROW()-1,COLUMN()-3),OFFSET($A$1,ROW()-1,COLUMN()-3)+1000)","v":1127},null,{"$f":"IF('手順２・３・４社員タイプ#02'!$B$33=\"\",\"\", '手順２・３・４社員タイプ#02'!$B$33)","v":""},null,{"$f":"'手順２・３・４社員タイプ#02'!$C$33","v":0},null,null,null,null,null,127,null,{"$f":"IF(AND(OFFSET($A$1,ROW()-1,COLUMN()-11)<>\"\",OR(OFFSET($A$1,ROW()-1,COLUMN()-9)=1,OFFSET($A$1,ROW()-1,COLUMN()-9)=2)),OFFSET($A$1,ROW()-1,COLUMN()-3),OFFSET($A$1,ROW()-1,COLUMN()-3)+1000)","v":1127},null,{"$f":"IF('手順２・３・４社員タイプ#03'!$B$33=\"\",\"\", '手順２・３・４社員タイプ#03'!$B$33)","v":""},null,{"$f":"'手順２・３・４社員タイプ#03'!$C$33","v":0},null,null,null,null,null,127,null,{"$f":"IF(AND(OFFSET($A$1,ROW()-1,COLUMN()-11)<>\"\",OR(OFFSET($A$1,ROW()-1,COLUMN()-9)=1,OFFSET($A$1,ROW()-1,COLUMN()-9)=2)),OFFSET($A$1,ROW()-1,COLUMN()-3),OFFSET($A$1,ROW()-1,COLUMN()-3)+1000)","v":1127},null,{"$f":"IF('手順２・３・４社員タイプ#04'!$B$33=\"\",\"\", '手順２・３・４社員タイプ#04'!$B$33)","v":""},null,{"$f":"'手順２・３・４社員タイプ#04'!$C$33","v":0},null,null,null,null,null,127,null,{"$f":"IF(AND(OFFSET($A$1,ROW()-1,COLUMN()-11)<>\"\",OR(OFFSET($A$1,ROW()-1,COLUMN()-9)=1,OFFSET($A$1,ROW()-1,COLUMN()-9)=2)),OFFSET($A$1,ROW()-1,COLUMN()-3),OFFSET($A$1,ROW()-1,COLUMN()-3)+1000)","v":1127},null,{"$f":"IF('手順２・３・４社員タイプ#05'!$B$33=\"\",\"\", '手順２・３・４社員タイプ#05'!$B$33)","v":""},null,{"$f":"'手順２・３・４社員タイプ#05'!$C$33","v":0},null,null,null,null,null,127,null,{"$f":"IF(AND(OFFSET($A$1,ROW()-1,COLUMN()-11)<>\"\",OR(OFFSET($A$1,ROW()-1,COLUMN()-9)=1,OFFSET($A$1,ROW()-1,COLUMN()-9)=2)),OFFSET($A$1,ROW()-1,COLUMN()-3),OFFSET($A$1,ROW()-1,COLUMN()-3)+1000)","v":1127},null,{"$f":"IF('手順２・３・４社員タイプ#06'!$B$33=\"\",\"\", '手順２・３・４社員タイプ#06'!$B$33)","v":""},null,{"$f":"'手順２・３・４社員タイプ#06'!$C$33","v":0},null,null,null,null,null,127,null,{"$f":"IF(AND(OFFSET($A$1,ROW()-1,COLUMN()-11)<>\"\",OR(OFFSET($A$1,ROW()-1,COLUMN()-9)=1,OFFSET($A$1,ROW()-1,COLUMN()-9)=2)),OFFSET($A$1,ROW()-1,COLUMN()-3),OFFSET($A$1,ROW()-1,COLUMN()-3)+1000)","v":1127},null,{"$f":"IF('手順２・３・４社員タイプ#07'!$B$33=\"\",\"\", '手順２・３・４社員タイプ#07'!$B$33)","v":""},null,{"$f":"'手順２・３・４社員タイプ#07'!$C$33","v":0},null,null,null,null,null,127,null,{"$f":"IF(AND(OFFSET($A$1,ROW()-1,COLUMN()-11)<>\"\",OR(OFFSET($A$1,ROW()-1,COLUMN()-9)=1,OFFSET($A$1,ROW()-1,COLUMN()-9)=2)),OFFSET($A$1,ROW()-1,COLUMN()-3),OFFSET($A$1,ROW()-1,COLUMN()-3)+1000)","v":1127},null,{"$f":"IF('手順２・３・４社員タイプ#08'!$B$33=\"\",\"\", '手順２・３・４社員タイプ#08'!$B$33)","v":""},null,{"$f":"'手順２・３・４社員タイプ#08'!$C$33","v":0},null,null,null,null,null,127,null,{"$f":"IF(AND(OFFSET($A$1,ROW()-1,COLUMN()-11)<>\"\",OR(OFFSET($A$1,ROW()-1,COLUMN()-9)=1,OFFSET($A$1,ROW()-1,COLUMN()-9)=2)),OFFSET($A$1,ROW()-1,COLUMN()-3),OFFSET($A$1,ROW()-1,COLUMN()-3)+1000)","v":1127},null,{"$f":"IF('手順２・３・４社員タイプ#09'!$B$33=\"\",\"\", '手順２・３・４社員タイプ#09'!$B$33)","v":""},null,{"$f":"'手順２・３・４社員タイプ#09'!$C$33","v":0},null,null,null,null,null,127,null,{"$f":"IF(AND(OFFSET($A$1,ROW()-1,COLUMN()-11)<>\"\",OR(OFFSET($A$1,ROW()-1,COLUMN()-9)=1,OFFSET($A$1,ROW()-1,COLUMN()-9)=2)),OFFSET($A$1,ROW()-1,COLUMN()-3),OFFSET($A$1,ROW()-1,COLUMN()-3)+1000)","v":1127},null,{"$f":"IF('手順２・３・４社員タイプ#10'!$B$33=\"\",\"\", '手順２・３・４社員タイプ#10'!$B$33)","v":""},null,{"$f":"'手順２・３・４社員タイプ#10'!$C$33","v":0},null,null,null,null,null,127,null,{"$f":"IF(AND(OFFSET($A$1,ROW()-1,COLUMN()-11)<>\"\",OR(OFFSET($A$1,ROW()-1,COLUMN()-9)=1,OFFSET($A$1,ROW()-1,COLUMN()-9)=2)),OFFSET($A$1,ROW()-1,COLUMN()-3),OFFSET($A$1,ROW()-1,COLUMN()-3)+1000)","v":1127}]
[null,null,null,null,null,null,null,null,null,null,null,null,null,null,null,null,null,null,null,null,"待遇の違いの有無",null,"支給の目的",null,null,null,null,null,128,null,{"$f":"OFFSET($A$1,ROW()-2,COLUMN()-1)+1","v":1128},null,"待遇の違いの有無",null,"支給の目的",null,null,null,null,null,128,null,{"$f":"OFFSET($A$1,ROW()-2,COLUMN()-1)+1","v":1128},null,"待遇の違いの有無",null,"支給の目的",null,null,null,null,null,128,null,{"$f":"OFFSET($A$1,ROW()-2,COLUMN()-1)+1","v":1128},null,"待遇の違いの有無",null,"支給の目的",null,null,null,null,null,128,null,{"$f":"OFFSET($A$1,ROW()-2,COLUMN()-1)+1","v":1128},null,"待遇の違いの有無",null,"支給の目的",null,null,null,null,null,128,null,{"$f":"OFFSET($A$1,ROW()-2,COLUMN()-1)+1","v":1128},null,"待遇の違いの有無",null,"支給の目的",null,null,null,null,null,128,null,{"$f":"OFFSET($A$1,ROW()-2,COLUMN()-1)+1","v":1128},null,"待遇の違いの有無",null,"支給の目的",null,null,null,null,null,128,null,{"$f":"OFFSET($A$1,ROW()-2,COLUMN()-1)+1","v":1128},null,"待遇の違いの有無",null,"支給の目的",null,null,null,null,null,128,null,{"$f":"OFFSET($A$1,ROW()-2,COLUMN()-1)+1","v":1128},null,"待遇の違いの有無",null,"支給の目的",null,null,null,null,null,128,null,{"$f":"OFFSET($A$1,ROW()-2,COLUMN()-1)+1","v":1128},null,"待遇の違いの有無",null,"支給の目的",null,null,null,null,null,128,null,{"$f":"OFFSET($A$1,ROW()-2,COLUMN()-1)+1","v":1128}]
[null,null,null,null,null,null,null,null,null,null,null,null,null,null,null,null,null,null,null,null,{"$f":"OFFSET($C$6,OFFSET($A$1,ROW()-3,COLUMN()+1),0)","v":" "},null,{"$f":"'手順２・３・４社員タイプ#01'!$D$33&\"\"","v":""},null,null,null,null,null,129,null,1129,null,{"$f":"OFFSET($C$6,OFFSET($A$1,ROW()-3,COLUMN()+1),0)","v":" "},null,{"$f":"'手順２・３・４社員タイプ#02'!$D$33&\"\"","v":""},null,null,null,null,null,129,null,1129,null,{"$f":"OFFSET($C$6,OFFSET($A$1,ROW()-3,COLUMN()+1),0)","v":" "},null,{"$f":"'手順２・３・４社員タイプ#03'!$D$33&\"\"","v":""},null,null,null,null,null,129,null,1129,null,{"$f":"OFFSET($C$6,OFFSET($A$1,ROW()-3,COLUMN()+1),0)","v":" "},null,{"$f":"'手順２・３・４社員タイプ#04'!$D$33&\"\"","v":""},null,null,null,null,null,129,null,1129,null,{"$f":"OFFSET($C$6,OFFSET($A$1,ROW()-3,COLUMN()+1),0)","v":" "},null,{"$f":"'手順２・３・４社員タイプ#05'!$D$33&\"\"","v":""},null,null,null,null,null,129,null,1129,null,{"$f":"OFFSET($C$6,OFFSET($A$1,ROW()-3,COLUMN()+1),0)","v":" "},null,{"$f":"'手順２・３・４社員タイプ#06'!$D$33&\"\"","v":""},null,null,null,null,null,129,null,1129,null,{"$f":"OFFSET($C$6,OFFSET($A$1,ROW()-3,COLUMN()+1),0)","v":" "},null,{"$f":"'手順２・３・４社員タイプ#07'!$D$33&\"\"","v":""},null,null,null,null,null,129,null,1129,null,{"$f":"OFFSET($C$6,OFFSET($A$1,ROW()-3,COLUMN()+1),0)","v":" "},null,{"$f":"'手順２・３・４社員タイプ#08'!$D$33&\"\"","v":""},null,null,null,null,null,129,null,1129,null,{"$f":"OFFSET($C$6,OFFSET($A$1,ROW()-3,COLUMN()+1),0)","v":" "},null,{"$f":"'手順２・３・４社員タイプ#09'!$D$33&\"\"","v":""},null,null,null,null,null,129,null,1129,null,{"$f":"OFFSET($C$6,OFFSET($A$1,ROW()-3,COLUMN()+1),0)","v":" "},null,{"$f":"'手順２・３・４社員タイプ#10'!$D$33&\"\"","v":""},null,null,null,null,null,129,null,1129]
[null,null,null,null,null,null,null,null,null,null,null,null,null,null,null,null,null,null,null,null,"正社員",null,"短時間労働者・有期雇用労働者",null,null,null,null,null,130,null,1130,null,"正社員",null,"短時間労働者・有期雇用労働者",null,null,null,null,null,130,null,1130,null,"正社員",null,"短時間労働者・有期雇用労働者",null,null,null,null,null,130,null,1130,null,"正社員",null,"短時間労働者・有期雇用労働者",null,null,null,null,null,130,null,1130,null,"正社員",null,"短時間労働者・有期雇用労働者",null,null,null,null,null,130,null,1130,null,"正社員",null,"短時間労働者・有期雇用労働者",null,null,null,null,null,130,null,1130,null,"正社員",null,"短時間労働者・有期雇用労働者",null,null,null,null,null,130,null,1130,null,"正社員",null,"短時間労働者・有期雇用労働者",null,null,null,null,null,130,null,1130,null,"正社員",null,"短時間労働者・有期雇用労働者",null,null,null,null,null,130,null,1130,null,"正社員",null,"短時間労働者・有期雇用労働者",null,null,null,null,null,130,null,1130]
[null,null,null,null,null,null,null,null,null,null,null,null,null,null,null,null,null,null,null,null,{"$f":"IF(OFFSET($A$1,ROW()-5,COLUMN()+1)<>2,\"\",'手順２・３・４社員タイプ#01'!$E$33&\"\")","v":""},null,{"$f":"IF(OFFSET($A$1,ROW()-5,COLUMN()-1)<>2,\"\",'手順２・３・４社員タイプ#01'!$F$33&\"\")","v":""},null,{"$f":"IF(OFFSET($A$1,ROW()-5,COLUMN()-3)<>2,1,0)","v":1},null,{"$f":"OFFSET($A$1,ROW()-1,COLUMN()-3)","v":1},null,131,null,1131,null,{"$f":"IF(OFFSET($A$1,ROW()-5,COLUMN()+1)<>2,\"\",'手順２・３・４社員タイプ#02'!$E$33&\"\")","v":""},null,{"$f":"IF(OFFSET($A$1,ROW()-5,COLUMN()-1)<>2,\"\",'手順２・３・４社員タイプ#02'!$F$33&\"\")","v":""},null,{"$f":"IF(OFFSET($A$1,ROW()-5,COLUMN()-3)<>2,1,0)","v":1},null,{"$f":"OFFSET($A$1,ROW()-1,COLUMN()-3)","v":1},null,131,null,1131,null,{"$f":"IF(OFFSET($A$1,ROW()-5,COLUMN()+1)<>2,\"\",'手順２・３・４社員タイプ#03'!$E$33&\"\")","v":""},null,{"$f":"IF(OFFSET($A$1,ROW()-5,COLUMN()-1)<>2,\"\",'手順２・３・４社員タイプ#03'!$F$33&\"\")","v":""},null,{"$f":"IF(OFFSET($A$1,ROW()-5,COLUMN()-3)<>2,1,0)","v":1},null,{"$f":"OFFSET($A$1,ROW()-1,COLUMN()-3)","v":1},null,131,null,1131,null,{"$f":"IF(OFFSET($A$1,ROW()-5,COLUMN()+1)<>2,\"\",'手順２・３・４社員タイプ#04'!$E$33&\"\")","v":""},null,{"$f":"IF(OFFSET($A$1,ROW()-5,COLUMN()-1)<>2,\"\",'手順２・３・４社員タイプ#04'!$F$33&\"\")","v":""},null,{"$f":"IF(OFFSET($A$1,ROW()-5,COLUMN()-3)<>2,1,0)","v":1},null,{"$f":"OFFSET($A$1,ROW()-1,COLUMN()-3)","v":1},null,131,null,1131,null,{"$f":"IF(OFFSET($A$1,ROW()-5,COLUMN()+1)<>2,\"\",'手順２・３・４社員タイプ#05'!$E$33&\"\")","v":""},null,{"$f":"IF(OFFSET($A$1,ROW()-5,COLUMN()-1)<>2,\"\",'手順２・３・４社員タイプ#05'!$F$33&\"\")","v":""},null,{"$f":"IF(OFFSET($A$1,ROW()-5,COLUMN()-3)<>2,1,0)","v":1},null,{"$f":"OFFSET($A$1,ROW()-1,COLUMN()-3)","v":1},null,131,null,1131,null,{"$f":"IF(OFFSET($A$1,ROW()-5,COLUMN()+1)<>2,\"\",'手順２・３・４社員タイプ#06'!$E$33&\"\")","v":""},null,{"$f":"IF(OFFSET($A$1,ROW()-5,COLUMN()-1)<>2,\"\",'手順２・３・４社員タイプ#06'!$F$33&\"\")","v":""},null,{"$f":"IF(OFFSET($A$1,ROW()-5,COLUMN()-3)<>2,1,0)","v":1},null,{"$f":"OFFSET($A$1,ROW()-1,COLUMN()-3)","v":1},null,131,null,1131,null,{"$f":"IF(OFFSET($A$1,ROW()-5,COLUMN()+1)<>2,\"\",'手順２・３・４社員タイプ#07'!$E$33&\"\")","v":""},null,{"$f":"IF(OFFSET($A$1,ROW()-5,COLUMN()-1)<>2,\"\",'手順２・３・４社員タイプ#07'!$F$33&\"\")","v":""},null,{"$f":"IF(OFFSET($A$1,ROW()-5,COLUMN()-3)<>2,1,0)","v":1},null,{"$f":"OFFSET($A$1,ROW()-1,COLUMN()-3)","v":1},null,131,null,1131,null,{"$f":"IF(OFFSET($A$1,ROW()-5,COLUMN()+1)<>2,\"\",'手順２・３・４社員タイプ#08'!$E$33&\"\")","v":""},null,{"$f":"IF(OFFSET($A$1,ROW()-5,COLUMN()-1)<>2,\"\",'手順２・３・４社員タイプ#08'!$F$33&\"\")","v":""},null,{"$f":"IF(OFFSET($A$1,ROW()-5,COLUMN()-3)<>2,1,0)","v":1},null,{"$f":"OFFSET($A$1,ROW()-1,COLUMN()-3)","v":1},null,131,null,1131,null,{"$f":"IF(OFFSET($A$1,ROW()-5,COLUMN()+1)<>2,\"\",'手順２・３・４社員タイプ#09'!$E$33&\"\")","v":""},null,{"$f":"IF(OFFSET($A$1,ROW()-5,COLUMN()-1)<>2,\"\",'手順２・３・４社員タイプ#09'!$F$33&\"\")","v":""},null,{"$f":"IF(OFFSET($A$1,ROW()-5,COLUMN()-3)<>2,1,0)","v":1},null,{"$f":"OFFSET($A$1,ROW()-1,COLUMN()-3)","v":1},null,131,null,1131,null,{"$f":"IF(OFFSET($A$1,ROW()-5,COLUMN()+1)<>2,\"\",'手順２・３・４社員タイプ#10'!$E$33&\"\")","v":""},null,{"$f":"IF(OFFSET($A$1,ROW()-5,COLUMN()-1)<>2,\"\",'手順２・３・４社員タイプ#10'!$F$33&\"\")","v":""},null,{"$f":"IF(OFFSET($A$1,ROW()-5,COLUMN()-3)<>2,1,0)","v":1},null,{"$f":"OFFSET($A$1,ROW()-1,COLUMN()-3)","v":1},null,131,null,1131]
[null,null,null,null,null,null,null,null,null,null,null,null,null,null,null,null,null,null,null,null,"違いを設けている理由",null,"対応方針",null,null,null,null,null,132,null,1132,null,"違いを設けている理由",null,"対応方針",null,null,null,null,null,132,null,1132,null,"違いを設けている理由",null,"対応方針",null,null,null,null,null,132,null,1132,null,"違いを設けている理由",null,"対応方針",null,null,null,null,null,132,null,1132,null,"違いを設けている理由",null,"対応方針",null,null,null,null,null,132,null,1132,null,"違いを設けている理由",null,"対応方針",null,null,null,null,null,132,null,1132,null,"違いを設けている理由",null,"対応方針",null,null,null,null,null,132,null,1132,null,"違いを設けている理由",null,"対応方針",null,null,null,null,null,132,null,1132,null,"違いを設けている理由",null,"対応方針",null,null,null,null,null,132,null,1132,null,"違いを設けている理由",null,"対応方針",null,null,null,null,null,132,null,1132]
[null,null,null,null,null,null,null,null,null,null,null,null,null,null,null,null,null,null,null,null,{"$f":"IF(OFFSET($A$1,ROW()-7,COLUMN()+1)<>2,\"\",'手順２・３・４社員タイプ#01'!$G$33&\"\")","v":""},null,{"$f":"IF(OFFSET($A$1,ROW()-7,COLUMN()-1)<>2,\"\",'手順２・３・４社員タイプ#01'!$H$33&\"\")","v":""},null,{"$f":"OFFSET($A$1,ROW()-3,COLUMN()-1)","v":1},null,{"$f":"OFFSET($A$1,ROW()-3,COLUMN()-3)","v":1},null,133,null,1133,null,{"$f":"IF(OFFSET($A$1,ROW()-7,COLUMN()+1)<>2,\"\",'手順２・３・４社員タイプ#02'!$G$33&\"\")","v":""},null,{"$f":"IF(OFFSET($A$1,ROW()-7,COLUMN()-1)<>2,\"\",'手順２・３・４社員タイプ#02'!$H$33&\"\")","v":""},null,{"$f":"OFFSET($A$1,ROW()-3,COLUMN()-1)","v":1},null,{"$f":"OFFSET($A$1,ROW()-3,COLUMN()-3)","v":1},null,133,null,1133,null,{"$f":"IF(OFFSET($A$1,ROW()-7,COLUMN()+1)<>2,\"\",'手順２・３・４社員タイプ#03'!$G$33&\"\")","v":""},null,{"$f":"IF(OFFSET($A$1,ROW()-7,COLUMN()-1)<>2,\"\",'手順２・３・４社員タイプ#03'!$H$33&\"\")","v":""},null,{"$f":"OFFSET($A$1,ROW()-3,COLUMN()-1)","v":1},null,{"$f":"OFFSET($A$1,ROW()-3,COLUMN()-3)","v":1},null,133,null,1133,null,{"$f":"IF(OFFSET($A$1,ROW()-7,COLUMN()+1)<>2,\"\",'手順２・３・４社員タイプ#04'!$G$33&\"\")","v":""},null,{"$f":"IF(OFFSET($A$1,ROW()-7,COLUMN()-1)<>2,\"\",'手順２・３・４社員タイプ#04'!$H$33&\"\")","v":""},null,{"$f":"OFFSET($A$1,ROW()-3,COLUMN()-1)","v":1},null,{"$f":"OFFSET($A$1,ROW()-3,COLUMN()-3)","v":1},null,133,null,1133,null,{"$f":"IF(OFFSET($A$1,ROW()-7,COLUMN()+1)<>2,\"\",'手順２・３・４社員タイプ#05'!$G$33&\"\")","v":""},null,{"$f":"IF(OFFSET($A$1,ROW()-7,COLUMN()-1)<>2,\"\",'手順２・３・４社員タイプ#05'!$H$33&\"\")","v":""},null,{"$f":"OFFSET($A$1,ROW()-3,COLUMN()-1)","v":1},null,{"$f":"OFFSET($A$1,ROW()-3,COLUMN()-3)","v":1},null,133,null,1133,null,{"$f":"IF(OFFSET($A$1,ROW()-7,COLUMN()+1)<>2,\"\",'手順２・３・４社員タイプ#06'!$G$33&\"\")","v":""},null,{"$f":"IF(OFFSET($A$1,ROW()-7,COLUMN()-1)<>2,\"\",'手順２・３・４社員タイプ#06'!$H$33&\"\")","v":""},null,{"$f":"OFFSET($A$1,ROW()-3,COLUMN()-1)","v":1},null,{"$f":"OFFSET($A$1,ROW()-3,COLUMN()-3)","v":1},null,133,null,1133,null,{"$f":"IF(OFFSET($A$1,ROW()-7,COLUMN()+1)<>2,\"\",'手順２・３・４社員タイプ#07'!$G$33&\"\")","v":""},null,{"$f":"IF(OFFSET($A$1,ROW()-7,COLUMN()-1)<>2,\"\",'手順２・３・４社員タイプ#07'!$H$33&\"\")","v":""},null,{"$f":"OFFSET($A$1,ROW()-3,COLUMN()-1)","v":1},null,{"$f":"OFFSET($A$1,ROW()-3,COLUMN()-3)","v":1},null,133,null,1133,null,{"$f":"IF(OFFSET($A$1,ROW()-7,COLUMN()+1)<>2,\"\",'手順２・３・４社員タイプ#08'!$G$33&\"\")","v":""},null,{"$f":"IF(OFFSET($A$1,ROW()-7,COLUMN()-1)<>2,\"\",'手順２・３・４社員タイプ#08'!$H$33&\"\")","v":""},null,{"$f":"OFFSET($A$1,ROW()-3,COLUMN()-1)","v":1},null,{"$f":"OFFSET($A$1,ROW()-3,COLUMN()-3)","v":1},null,133,null,1133,null,{"$f":"IF(OFFSET($A$1,ROW()-7,COLUMN()+1)<>2,\"\",'手順２・３・４社員タイプ#09'!$G$33&\"\")","v":""},null,{"$f":"IF(OFFSET($A$1,ROW()-7,COLUMN()-1)<>2,\"\",'手順２・３・４社員タイプ#09'!$H$33&\"\")","v":""},null,{"$f":"OFFSET($A$1,ROW()-3,COLUMN()-1)","v":1},null,{"$f":"OFFSET($A$1,ROW()-3,COLUMN()-3)","v":1},null,133,null,1133,null,{"$f":"IF(OFFSET($A$1,ROW()-7,COLUMN()+1)<>2,\"\",'手順２・３・４社員タイプ#10'!$G$33&\"\")","v":""},null,{"$f":"IF(OFFSET($A$1,ROW()-7,COLUMN()-1)<>2,\"\",'手順２・３・４社員タイプ#10'!$H$33&\"\")","v":""},null,{"$f":"OFFSET($A$1,ROW()-3,COLUMN()-1)","v":1},null,{"$f":"OFFSET($A$1,ROW()-3,COLUMN()-3)","v":1},null,133,null,1133]
[null,null,null,null,null,null,null,null,null,null,null,null,null,null,null,null,null,null,null,null,{"$f":"IF('手順２・３・４社員タイプ#01'!$B$34=\"\",\"\", '手順２・３・４社員タイプ#01'!$B$34)","v":""},null,{"$f":"'手順２・３・４社員タイプ#01'!$C$34","v":0},null,null,null,null,null,134,null,{"$f":"IF(AND(OFFSET($A$1,ROW()-1,COLUMN()-11)<>\"\",OR(OFFSET($A$1,ROW()-1,COLUMN()-9)=1,OFFSET($A$1,ROW()-1,COLUMN()-9)=2)),OFFSET($A$1,ROW()-1,COLUMN()-3),OFFSET($A$1,ROW()-1,COLUMN()-3)+1000)","v":1134},null,{"$f":"IF('手順２・３・４社員タイプ#02'!$B$34=\"\",\"\", '手順２・３・４社員タイプ#02'!$B$34)","v":""},null,{"$f":"'手順２・３・４社員タイプ#02'!$C$34","v":0},null,null,null,null,null,134,null,{"$f":"IF(AND(OFFSET($A$1,ROW()-1,COLUMN()-11)<>\"\",OR(OFFSET($A$1,ROW()-1,COLUMN()-9)=1,OFFSET($A$1,ROW()-1,COLUMN()-9)=2)),OFFSET($A$1,ROW()-1,COLUMN()-3),OFFSET($A$1,ROW()-1,COLUMN()-3)+1000)","v":1134},null,{"$f":"IF('手順２・３・４社員タイプ#03'!$B$34=\"\",\"\", '手順２・３・４社員タイプ#03'!$B$34)","v":""},null,{"$f":"'手順２・３・４社員タイプ#03'!$C$34","v":0},null,null,null,null,null,134,null,{"$f":"IF(AND(OFFSET($A$1,ROW()-1,COLUMN()-11)<>\"\",OR(OFFSET($A$1,ROW()-1,COLUMN()-9)=1,OFFSET($A$1,ROW()-1,COLUMN()-9)=2)),OFFSET($A$1,ROW()-1,COLUMN()-3),OFFSET($A$1,ROW()-1,COLUMN()-3)+1000)","v":1134},null,{"$f":"IF('手順２・３・４社員タイプ#04'!$B$34=\"\",\"\", '手順２・３・４社員タイプ#04'!$B$34)","v":""},null,{"$f":"'手順２・３・４社員タイプ#04'!$C$34","v":0},null,null,null,null,null,134,null,{"$f":"IF(AND(OFFSET($A$1,ROW()-1,COLUMN()-11)<>\"\",OR(OFFSET($A$1,ROW()-1,COLUMN()-9)=1,OFFSET($A$1,ROW()-1,COLUMN()-9)=2)),OFFSET($A$1,ROW()-1,COLUMN()-3),OFFSET($A$1,ROW()-1,COLUMN()-3)+1000)","v":1134},null,{"$f":"IF('手順２・３・４社員タイプ#05'!$B$34=\"\",\"\", '手順２・３・４社員タイプ#05'!$B$34)","v":""},null,{"$f":"'手順２・３・４社員タイプ#05'!$C$34","v":0},null,null,null,null,null,134,null,{"$f":"IF(AND(OFFSET($A$1,ROW()-1,COLUMN()-11)<>\"\",OR(OFFSET($A$1,ROW()-1,COLUMN()-9)=1,OFFSET($A$1,ROW()-1,COLUMN()-9)=2)),OFFSET($A$1,ROW()-1,COLUMN()-3),OFFSET($A$1,ROW()-1,COLUMN()-3)+1000)","v":1134},null,{"$f":"IF('手順２・３・４社員タイプ#06'!$B$34=\"\",\"\", '手順２・３・４社員タイプ#06'!$B$34)","v":""},null,{"$f":"'手順２・３・４社員タイプ#06'!$C$34","v":0},null,null,null,null,null,134,null,{"$f":"IF(AND(OFFSET($A$1,ROW()-1,COLUMN()-11)<>\"\",OR(OFFSET($A$1,ROW()-1,COLUMN()-9)=1,OFFSET($A$1,ROW()-1,COLUMN()-9)=2)),OFFSET($A$1,ROW()-1,COLUMN()-3),OFFSET($A$1,ROW()-1,COLUMN()-3)+1000)","v":1134},null,{"$f":"IF('手順２・３・４社員タイプ#07'!$B$34=\"\",\"\", '手順２・３・４社員タイプ#07'!$B$34)","v":""},null,{"$f":"'手順２・３・４社員タイプ#07'!$C$34","v":0},null,null,null,null,null,134,null,{"$f":"IF(AND(OFFSET($A$1,ROW()-1,COLUMN()-11)<>\"\",OR(OFFSET($A$1,ROW()-1,COLUMN()-9)=1,OFFSET($A$1,ROW()-1,COLUMN()-9)=2)),OFFSET($A$1,ROW()-1,COLUMN()-3),OFFSET($A$1,ROW()-1,COLUMN()-3)+1000)","v":1134},null,{"$f":"IF('手順２・３・４社員タイプ#08'!$B$34=\"\",\"\", '手順２・３・４社員タイプ#08'!$B$34)","v":""},null,{"$f":"'手順２・３・４社員タイプ#08'!$C$34","v":0},null,null,null,null,null,134,null,{"$f":"IF(AND(OFFSET($A$1,ROW()-1,COLUMN()-11)<>\"\",OR(OFFSET($A$1,ROW()-1,COLUMN()-9)=1,OFFSET($A$1,ROW()-1,COLUMN()-9)=2)),OFFSET($A$1,ROW()-1,COLUMN()-3),OFFSET($A$1,ROW()-1,COLUMN()-3)+1000)","v":1134},null,{"$f":"IF('手順２・３・４社員タイプ#09'!$B$34=\"\",\"\", '手順２・３・４社員タイプ#09'!$B$34)","v":""},null,{"$f":"'手順２・３・４社員タイプ#09'!$C$34","v":0},null,null,null,null,null,134,null,{"$f":"IF(AND(OFFSET($A$1,ROW()-1,COLUMN()-11)<>\"\",OR(OFFSET($A$1,ROW()-1,COLUMN()-9)=1,OFFSET($A$1,ROW()-1,COLUMN()-9)=2)),OFFSET($A$1,ROW()-1,COLUMN()-3),OFFSET($A$1,ROW()-1,COLUMN()-3)+1000)","v":1134},null,{"$f":"IF('手順２・３・４社員タイプ#10'!$B$34=\"\",\"\", '手順２・３・４社員タイプ#10'!$B$34)","v":""},null,{"$f":"'手順２・３・４社員タイプ#10'!$C$34","v":0},null,null,null,null,null,134,null,{"$f":"IF(AND(OFFSET($A$1,ROW()-1,COLUMN()-11)<>\"\",OR(OFFSET($A$1,ROW()-1,COLUMN()-9)=1,OFFSET($A$1,ROW()-1,COLUMN()-9)=2)),OFFSET($A$1,ROW()-1,COLUMN()-3),OFFSET($A$1,ROW()-1,COLUMN()-3)+1000)","v":1134}]
[null,null,null,null,null,null,null,null,null,null,null,null,null,null,null,null,null,null,null,null,"待遇の違いの有無",null,"支給の目的",null,null,null,null,null,135,null,{"$f":"OFFSET($A$1,ROW()-2,COLUMN()-1)+1","v":1135},null,"待遇の違いの有無",null,"支給の目的",null,null,null,null,null,135,null,{"$f":"OFFSET($A$1,ROW()-2,COLUMN()-1)+1","v":1135},null,"待遇の違いの有無",null,"支給の目的",null,null,null,null,null,135,null,{"$f":"OFFSET($A$1,ROW()-2,COLUMN()-1)+1","v":1135},null,"待遇の違いの有無",null,"支給の目的",null,null,null,null,null,135,null,{"$f":"OFFSET($A$1,ROW()-2,COLUMN()-1)+1","v":1135},null,"待遇の違いの有無",null,"支給の目的",null,null,null,null,null,135,null,{"$f":"OFFSET($A$1,ROW()-2,COLUMN()-1)+1","v":1135},null,"待遇の違いの有無",null,"支給の目的",null,null,null,null,null,135,null,{"$f":"OFFSET($A$1,ROW()-2,COLUMN()-1)+1","v":1135},null,"待遇の違いの有無",null,"支給の目的",null,null,null,null,null,135,null,{"$f":"OFFSET($A$1,ROW()-2,COLUMN()-1)+1","v":1135},null,"待遇の違いの有無",null,"支給の目的",null,null,null,null,null,135,null,{"$f":"OFFSET($A$1,ROW()-2,COLUMN()-1)+1","v":1135},null,"待遇の違いの有無",null,"支給の目的",null,null,null,null,null,135,null,{"$f":"OFFSET($A$1,ROW()-2,COLUMN()-1)+1","v":1135},null,"待遇の違いの有無",null,"支給の目的",null,null,null,null,null,135,null,{"$f":"OFFSET($A$1,ROW()-2,COLUMN()-1)+1","v":1135}]
[null,null,null,null,null,null,null,null,null,null,null,null,null,null,null,null,null,null,null,null,{"$f":"OFFSET($C$6,OFFSET($A$1,ROW()-3,COLUMN()+1),0)","v":" "},null,{"$f":"'手順２・３・４社員タイプ#01'!$D$34&\"\"","v":""},null,null,null,null,null,136,null,1136,null,{"$f":"OFFSET($C$6,OFFSET($A$1,ROW()-3,COLUMN()+1),0)","v":" "},null,{"$f":"'手順２・３・４社員タイプ#02'!$D$34&\"\"","v":""},null,null,null,null,null,136,null,1136,null,{"$f":"OFFSET($C$6,OFFSET($A$1,ROW()-3,COLUMN()+1),0)","v":" "},null,{"$f":"'手順２・３・４社員タイプ#03'!$D$34&\"\"","v":""},null,null,null,null,null,136,null,1136,null,{"$f":"OFFSET($C$6,OFFSET($A$1,ROW()-3,COLUMN()+1),0)","v":" "},null,{"$f":"'手順２・３・４社員タイプ#04'!$D$34&\"\"","v":""},null,null,null,null,null,136,null,1136,null,{"$f":"OFFSET($C$6,OFFSET($A$1,ROW()-3,COLUMN()+1),0)","v":" "},null,{"$f":"'手順２・３・４社員タイプ#05'!$D$34&\"\"","v":""},null,null,null,null,null,136,null,1136,null,{"$f":"OFFSET($C$6,OFFSET($A$1,ROW()-3,COLUMN()+1),0)","v":" "},null,{"$f":"'手順２・３・４社員タイプ#06'!$D$34&\"\"","v":""},null,null,null,null,null,136,null,1136,null,{"$f":"OFFSET($C$6,OFFSET($A$1,ROW()-3,COLUMN()+1),0)","v":" "},null,{"$f":"'手順２・３・４社員タイプ#07'!$D$34&\"\"","v":""},null,null,null,null,null,136,null,1136,null,{"$f":"OFFSET($C$6,OFFSET($A$1,ROW()-3,COLUMN()+1),0)","v":" "},null,{"$f":"'手順２・３・４社員タイプ#08'!$D$34&\"\"","v":""},null,null,null,null,null,136,null,1136,null,{"$f":"OFFSET($C$6,OFFSET($A$1,ROW()-3,COLUMN()+1),0)","v":" "},null,{"$f":"'手順２・３・４社員タイプ#09'!$D$34&\"\"","v":""},null,null,null,null,null,136,null,1136,null,{"$f":"OFFSET($C$6,OFFSET($A$1,ROW()-3,COLUMN()+1),0)","v":" "},null,{"$f":"'手順２・３・４社員タイプ#10'!$D$34&\"\"","v":""},null,null,null,null,null,136,null,1136]
[null,null,null,null,null,null,null,null,null,null,null,null,null,null,null,null,null,null,null,null,"正社員",null,"短時間労働者・有期雇用労働者",null,null,null,null,null,137,null,1137,null,"正社員",null,"短時間労働者・有期雇用労働者",null,null,null,null,null,137,null,1137,null,"正社員",null,"短時間労働者・有期雇用労働者",null,null,null,null,null,137,null,1137,null,"正社員",null,"短時間労働者・有期雇用労働者",null,null,null,null,null,137,null,1137,null,"正社員",null,"短時間労働者・有期雇用労働者",null,null,null,null,null,137,null,1137,null,"正社員",null,"短時間労働者・有期雇用労働者",null,null,null,null,null,137,null,1137,null,"正社員",null,"短時間労働者・有期雇用労働者",null,null,null,null,null,137,null,1137,null,"正社員",null,"短時間労働者・有期雇用労働者",null,null,null,null,null,137,null,1137,null,"正社員",null,"短時間労働者・有期雇用労働者",null,null,null,null,null,137,null,1137,null,"正社員",null,"短時間労働者・有期雇用労働者",null,null,null,null,null,137,null,1137]
[null,null,null,null,null,null,null,null,null,null,null,null,null,null,null,null,null,null,null,null,{"$f":"IF(OFFSET($A$1,ROW()-5,COLUMN()+1)<>2,\"\",'手順２・３・４社員タイプ#01'!$E$34&\"\")","v":""},null,{"$f":"IF(OFFSET($A$1,ROW()-5,COLUMN()-1)<>2,\"\",'手順２・３・４社員タイプ#01'!$F$34&\"\")","v":""},null,{"$f":"IF(OFFSET($A$1,ROW()-5,COLUMN()-3)<>2,1,0)","v":1},null,{"$f":"OFFSET($A$1,ROW()-1,COLUMN()-3)","v":1},null,138,null,1138,null,{"$f":"IF(OFFSET($A$1,ROW()-5,COLUMN()+1)<>2,\"\",'手順２・３・４社員タイプ#02'!$E$34&\"\")","v":""},null,{"$f":"IF(OFFSET($A$1,ROW()-5,COLUMN()-1)<>2,\"\",'手順２・３・４社員タイプ#02'!$F$34&\"\")","v":""},null,{"$f":"IF(OFFSET($A$1,ROW()-5,COLUMN()-3)<>2,1,0)","v":1},null,{"$f":"OFFSET($A$1,ROW()-1,COLUMN()-3)","v":1},null,138,null,1138,null,{"$f":"IF(OFFSET($A$1,ROW()-5,COLUMN()+1)<>2,\"\",'手順２・３・４社員タイプ#03'!$E$34&\"\")","v":""},null,{"$f":"IF(OFFSET($A$1,ROW()-5,COLUMN()-1)<>2,\"\",'手順２・３・４社員タイプ#03'!$F$34&\"\")","v":""},null,{"$f":"IF(OFFSET($A$1,ROW()-5,COLUMN()-3)<>2,1,0)","v":1},null,{"$f":"OFFSET($A$1,ROW()-1,COLUMN()-3)","v":1},null,138,null,1138,null,{"$f":"IF(OFFSET($A$1,ROW()-5,COLUMN()+1)<>2,\"\",'手順２・３・４社員タイプ#04'!$E$34&\"\")","v":""},null,{"$f":"IF(OFFSET($A$1,ROW()-5,COLUMN()-1)<>2,\"\",'手順２・３・４社員タイプ#04'!$F$34&\"\")","v":""},null,{"$f":"IF(OFFSET($A$1,ROW()-5,COLUMN()-3)<>2,1,0)","v":1},null,{"$f":"OFFSET($A$1,ROW()-1,COLUMN()-3)","v":1},null,138,null,1138,null,{"$f":"IF(OFFSET($A$1,ROW()-5,COLUMN()+1)<>2,\"\",'手順２・３・４社員タイプ#05'!$E$34&\"\")","v":""},null,{"$f":"IF(OFFSET($A$1,ROW()-5,COLUMN()-1)<>2,\"\",'手順２・３・４社員タイプ#05'!$F$34&\"\")","v":""},null,{"$f":"IF(OFFSET($A$1,ROW()-5,COLUMN()-3)<>2,1,0)","v":1},null,{"$f":"OFFSET($A$1,ROW()-1,COLUMN()-3)","v":1},null,138,null,1138,null,{"$f":"IF(OFFSET($A$1,ROW()-5,COLUMN()+1)<>2,\"\",'手順２・３・４社員タイプ#06'!$E$34&\"\")","v":""},null,{"$f":"IF(OFFSET($A$1,ROW()-5,COLUMN()-1)<>2,\"\",'手順２・３・４社員タイプ#06'!$F$34&\"\")","v":""},null,{"$f":"IF(OFFSET($A$1,ROW()-5,COLUMN()-3)<>2,1,0)","v":1},null,{"$f":"OFFSET($A$1,ROW()-1,COLUMN()-3)","v":1},null,138,null,1138,null,{"$f":"IF(OFFSET($A$1,ROW()-5,COLUMN()+1)<>2,\"\",'手順２・３・４社員タイプ#07'!$E$34&\"\")","v":""},null,{"$f":"IF(OFFSET($A$1,ROW()-5,COLUMN()-1)<>2,\"\",'手順２・３・４社員タイプ#07'!$F$34&\"\")","v":""},null,{"$f":"IF(OFFSET($A$1,ROW()-5,COLUMN()-3)<>2,1,0)","v":1},null,{"$f":"OFFSET($A$1,ROW()-1,COLUMN()-3)","v":1},null,138,null,1138,null,{"$f":"IF(OFFSET($A$1,ROW()-5,COLUMN()+1)<>2,\"\",'手順２・３・４社員タイプ#08'!$E$34&\"\")","v":""},null,{"$f":"IF(OFFSET($A$1,ROW()-5,COLUMN()-1)<>2,\"\",'手順２・３・４社員タイプ#08'!$F$34&\"\")","v":""},null,{"$f":"IF(OFFSET($A$1,ROW()-5,COLUMN()-3)<>2,1,0)","v":1},null,{"$f":"OFFSET($A$1,ROW()-1,COLUMN()-3)","v":1},null,138,null,1138,null,{"$f":"IF(OFFSET($A$1,ROW()-5,COLUMN()+1)<>2,\"\",'手順２・３・４社員タイプ#09'!$E$34&\"\")","v":""},null,{"$f":"IF(OFFSET($A$1,ROW()-5,COLUMN()-1)<>2,\"\",'手順２・３・４社員タイプ#09'!$F$34&\"\")","v":""},null,{"$f":"IF(OFFSET($A$1,ROW()-5,COLUMN()-3)<>2,1,0)","v":1},null,{"$f":"OFFSET($A$1,ROW()-1,COLUMN()-3)","v":1},null,138,null,1138,null,{"$f":"IF(OFFSET($A$1,ROW()-5,COLUMN()+1)<>2,\"\",'手順２・３・４社員タイプ#10'!$E$34&\"\")","v":""},null,{"$f":"IF(OFFSET($A$1,ROW()-5,COLUMN()-1)<>2,\"\",'手順２・３・４社員タイプ#10'!$F$34&\"\")","v":""},null,{"$f":"IF(OFFSET($A$1,ROW()-5,COLUMN()-3)<>2,1,0)","v":1},null,{"$f":"OFFSET($A$1,ROW()-1,COLUMN()-3)","v":1},null,138,null,1138]
[null,null,null,null,null,null,null,null,null,null,null,null,null,null,null,null,null,null,null,null,"違いを設けている理由",null,"対応方針",null,null,null,null,null,139,null,1139,null,"違いを設けている理由",null,"対応方針",null,null,null,null,null,139,null,1139,null,"違いを設けている理由",null,"対応方針",null,null,null,null,null,139,null,1139,null,"違いを設けている理由",null,"対応方針",null,null,null,null,null,139,null,1139,null,"違いを設けている理由",null,"対応方針",null,null,null,null,null,139,null,1139,null,"違いを設けている理由",null,"対応方針",null,null,null,null,null,139,null,1139,null,"違いを設けている理由",null,"対応方針",null,null,null,null,null,139,null,1139,null,"違いを設けている理由",null,"対応方針",null,null,null,null,null,139,null,1139,null,"違いを設けている理由",null,"対応方針",null,null,null,null,null,139,null,1139,null,"違いを設けている理由",null,"対応方針",null,null,null,null,null,139,null,1139]
[null,null,null,null,null,null,null,null,null,null,null,null,null,null,null,null,null,null,null,null,{"$f":"IF(OFFSET($A$1,ROW()-7,COLUMN()+1)<>2,\"\",'手順２・３・４社員タイプ#01'!$G$34&\"\")","v":""},null,{"$f":"IF(OFFSET($A$1,ROW()-7,COLUMN()-1)<>2,\"\",'手順２・３・４社員タイプ#01'!$H$34&\"\")","v":""},null,{"$f":"OFFSET($A$1,ROW()-3,COLUMN()-1)","v":1},null,{"$f":"OFFSET($A$1,ROW()-3,COLUMN()-3)","v":1},null,140,null,1140,null,{"$f":"IF(OFFSET($A$1,ROW()-7,COLUMN()+1)<>2,\"\",'手順２・３・４社員タイプ#02'!$G$34&\"\")","v":""},null,{"$f":"IF(OFFSET($A$1,ROW()-7,COLUMN()-1)<>2,\"\",'手順２・３・４社員タイプ#02'!$H$34&\"\")","v":""},null,{"$f":"OFFSET($A$1,ROW()-3,COLUMN()-1)","v":1},null,{"$f":"OFFSET($A$1,ROW()-3,COLUMN()-3)","v":1},null,140,null,1140,null,{"$f":"IF(OFFSET($A$1,ROW()-7,COLUMN()+1)<>2,\"\",'手順２・３・４社員タイプ#03'!$G$34&\"\")","v":""},null,{"$f":"IF(OFFSET($A$1,ROW()-7,COLUMN()-1)<>2,\"\",'手順２・３・４社員タイプ#03'!$H$34&\"\")","v":""},null,{"$f":"OFFSET($A$1,ROW()-3,COLUMN()-1)","v":1},null,{"$f":"OFFSET($A$1,ROW()-3,COLUMN()-3)","v":1},null,140,null,1140,null,{"$f":"IF(OFFSET($A$1,ROW()-7,COLUMN()+1)<>2,\"\",'手順２・３・４社員タイプ#04'!$G$34&\"\")","v":""},null,{"$f":"IF(OFFSET($A$1,ROW()-7,COLUMN()-1)<>2,\"\",'手順２・３・４社員タイプ#04'!$H$34&\"\")","v":""},null,{"$f":"OFFSET($A$1,ROW()-3,COLUMN()-1)","v":1},null,{"$f":"OFFSET($A$1,ROW()-3,COLUMN()-3)","v":1},null,140,null,1140,null,{"$f":"IF(OFFSET($A$1,ROW()-7,COLUMN()+1)<>2,\"\",'手順２・３・４社員タイプ#05'!$G$34&\"\")","v":""},null,{"$f":"IF(OFFSET($A$1,ROW()-7,COLUMN()-1)<>2,\"\",'手順２・３・４社員タイプ#05'!$H$34&\"\")","v":""},null,{"$f":"OFFSET($A$1,ROW()-3,COLUMN()-1)","v":1},null,{"$f":"OFFSET($A$1,ROW()-3,COLUMN()-3)","v":1},null,140,null,1140,null,{"$f":"IF(OFFSET($A$1,ROW()-7,COLUMN()+1)<>2,\"\",'手順２・３・４社員タイプ#06'!$G$34&\"\")","v":""},null,{"$f":"IF(OFFSET($A$1,ROW()-7,COLUMN()-1)<>2,\"\",'手順２・３・４社員タイプ#06'!$H$34&\"\")","v":""},null,{"$f":"OFFSET($A$1,ROW()-3,COLUMN()-1)","v":1},null,{"$f":"OFFSET($A$1,ROW()-3,COLUMN()-3)","v":1},null,140,null,1140,null,{"$f":"IF(OFFSET($A$1,ROW()-7,COLUMN()+1)<>2,\"\",'手順２・３・４社員タイプ#07'!$G$34&\"\")","v":""},null,{"$f":"IF(OFFSET($A$1,ROW()-7,COLUMN()-1)<>2,\"\",'手順２・３・４社員タイプ#07'!$H$34&\"\")","v":""},null,{"$f":"OFFSET($A$1,ROW()-3,COLUMN()-1)","v":1},null,{"$f":"OFFSET($A$1,ROW()-3,COLUMN()-3)","v":1},null,140,null,1140,null,{"$f":"IF(OFFSET($A$1,ROW()-7,COLUMN()+1)<>2,\"\",'手順２・３・４社員タイプ#08'!$G$34&\"\")","v":""},null,{"$f":"IF(OFFSET($A$1,ROW()-7,COLUMN()-1)<>2,\"\",'手順２・３・４社員タイプ#08'!$H$34&\"\")","v":""},null,{"$f":"OFFSET($A$1,ROW()-3,COLUMN()-1)","v":1},null,{"$f":"OFFSET($A$1,ROW()-3,COLUMN()-3)","v":1},null,140,null,1140,null,{"$f":"IF(OFFSET($A$1,ROW()-7,COLUMN()+1)<>2,\"\",'手順２・３・４社員タイプ#09'!$G$34&\"\")","v":""},null,{"$f":"IF(OFFSET($A$1,ROW()-7,COLUMN()-1)<>2,\"\",'手順２・３・４社員タイプ#09'!$H$34&\"\")","v":""},null,{"$f":"OFFSET($A$1,ROW()-3,COLUMN()-1)","v":1},null,{"$f":"OFFSET($A$1,ROW()-3,COLUMN()-3)","v":1},null,140,null,1140,null,{"$f":"IF(OFFSET($A$1,ROW()-7,COLUMN()+1)<>2,\"\",'手順２・３・４社員タイプ#10'!$G$34&\"\")","v":""},null,{"$f":"IF(OFFSET($A$1,ROW()-7,COLUMN()-1)<>2,\"\",'手順２・３・４社員タイプ#10'!$H$34&\"\")","v":""},null,{"$f":"OFFSET($A$1,ROW()-3,COLUMN()-1)","v":1},null,{"$f":"OFFSET($A$1,ROW()-3,COLUMN()-3)","v":1},null,140,null,1140]
[null,null,null,null,null,null,null,null,null,null,null,null,null,null,null,null,null,null,null,null,{"$f":"IF('手順２・３・４社員タイプ#01'!$B$42=\"\",\"\", '手順２・３・４社員タイプ#01'!$B$42)","v":"給食施設（食堂）"},null,{"$f":"'手順２・３・４社員タイプ#01'!$C$42","v":0},null,null,null,null,null,141,null,{"$f":"IF(OFFSET($A$1,ROW()-1,COLUMN()-11)<>\"\",OFFSET($A$1,ROW()-1,COLUMN()-3),OFFSET($A$1,ROW()-1,COLUMN()-3)+1000)","v":141},null,{"$f":"IF('手順２・３・４社員タイプ#02'!$B$42=\"\",\"\", '手順２・３・４社員タイプ#02'!$B$42)","v":"給食施設（食堂）"},null,{"$f":"'手順２・３・４社員タイプ#02'!$C$42","v":0},null,null,null,null,null,141,null,{"$f":"IF(OFFSET($A$1,ROW()-1,COLUMN()-11)<>\"\",OFFSET($A$1,ROW()-1,COLUMN()-3),OFFSET($A$1,ROW()-1,COLUMN()-3)+1000)","v":141},null,{"$f":"IF('手順２・３・４社員タイプ#03'!$B$42=\"\",\"\", '手順２・３・４社員タイプ#03'!$B$42)","v":"給食施設（食堂）"},null,{"$f":"'手順２・３・４社員タイプ#03'!$C$42","v":0},null,null,null,null,null,141,null,{"$f":"IF(OFFSET($A$1,ROW()-1,COLUMN()-11)<>\"\",OFFSET($A$1,ROW()-1,COLUMN()-3),OFFSET($A$1,ROW()-1,COLUMN()-3)+1000)","v":141},null,{"$f":"IF('手順２・３・４社員タイプ#04'!$B$42=\"\",\"\", '手順２・３・４社員タイプ#04'!$B$42)","v":"給食施設（食堂）"},null,{"$f":"'手順２・３・４社員タイプ#04'!$C$42","v":0},null,null,null,null,null,141,null,{"$f":"IF(OFFSET($A$1,ROW()-1,COLUMN()-11)<>\"\",OFFSET($A$1,ROW()-1,COLUMN()-3),OFFSET($A$1,ROW()-1,COLUMN()-3)+1000)","v":141},null,{"$f":"IF('手順２・３・４社員タイプ#05'!$B$42=\"\",\"\", '手順２・３・４社員タイプ#05'!$B$42)","v":"給食施設（食堂）"},null,{"$f":"'手順２・３・４社員タイプ#05'!$C$42","v":0},null,null,null,null,null,141,null,{"$f":"IF(OFFSET($A$1,ROW()-1,COLUMN()-11)<>\"\",OFFSET($A$1,ROW()-1,COLUMN()-3),OFFSET($A$1,ROW()-1,COLUMN()-3)+1000)","v":141},null,{"$f":"IF('手順２・３・４社員タイプ#06'!$B$42=\"\",\"\", '手順２・３・４社員タイプ#06'!$B$42)","v":"給食施設（食堂）"},null,{"$f":"'手順２・３・４社員タイプ#06'!$C$42","v":0},null,null,null,null,null,141,null,{"$f":"IF(OFFSET($A$1,ROW()-1,COLUMN()-11)<>\"\",OFFSET($A$1,ROW()-1,COLUMN()-3),OFFSET($A$1,ROW()-1,COLUMN()-3)+1000)","v":141},null,{"$f":"IF('手順２・３・４社員タイプ#07'!$B$42=\"\",\"\", '手順２・３・４社員タイプ#07'!$B$42)","v":"給食施設（食堂）"},null,{"$f":"'手順２・３・４社員タイプ#07'!$C$42","v":0},null,null,null,null,null,141,null,{"$f":"IF(OFFSET($A$1,ROW()-1,COLUMN()-11)<>\"\",OFFSET($A$1,ROW()-1,COLUMN()-3),OFFSET($A$1,ROW()-1,COLUMN()-3)+1000)","v":141},null,{"$f":"IF('手順２・３・４社員タイプ#08'!$B$42=\"\",\"\", '手順２・３・４社員タイプ#08'!$B$42)","v":"給食施設（食堂）"},null,{"$f":"'手順２・３・４社員タイプ#08'!$C$42","v":0},null,null,null,null,null,141,null,{"$f":"IF(OFFSET($A$1,ROW()-1,COLUMN()-11)<>\"\",OFFSET($A$1,ROW()-1,COLUMN()-3),OFFSET($A$1,ROW()-1,COLUMN()-3)+1000)","v":141},null,{"$f":"IF('手順２・３・４社員タイプ#09'!$B$42=\"\",\"\", '手順２・３・４社員タイプ#09'!$B$42)","v":"給食施設（食堂）"},null,{"$f":"'手順２・３・４社員タイプ#09'!$C$42","v":0},null,null,null,null,null,141,null,{"$f":"IF(OFFSET($A$1,ROW()-1,COLUMN()-11)<>\"\",OFFSET($A$1,ROW()-1,COLUMN()-3),OFFSET($A$1,ROW()-1,COLUMN()-3)+1000)","v":141},null,{"$f":"IF('手順２・３・４社員タイプ#10'!$B$42=\"\",\"\", '手順２・３・４社員タイプ#10'!$B$42)","v":"給食施設（食堂）"},null,{"$f":"'手順２・３・４社員タイプ#10'!$C$42","v":0},null,null,null,null,null,141,null,{"$f":"IF(OFFSET($A$1,ROW()-1,COLUMN()-11)<>\"\",OFFSET($A$1,ROW()-1,COLUMN()-3),OFFSET($A$1,ROW()-1,COLUMN()-3)+1000)","v":141}]
[null,null,null,null,null,null,null,null,null,null,null,null,null,null,null,null,null,null,null,null,"待遇の違いの有無",null,"支給の目的",null,2,null,null,null,142,null,{"$f":"OFFSET($A$1,ROW()-2,COLUMN()-1)+1","v":142},null,"待遇の違いの有無",null,"支給の目的",null,2,null,null,null,142,null,{"$f":"OFFSET($A$1,ROW()-2,COLUMN()-1)+1","v":142},null,"待遇の違いの有無",null,"支給の目的",null,2,null,null,null,142,null,{"$f":"OFFSET($A$1,ROW()-2,COLUMN()-1)+1","v":142},null,"待遇の違いの有無",null,"支給の目的",null,2,null,null,null,142,null,{"$f":"OFFSET($A$1,ROW()-2,COLUMN()-1)+1","v":142},null,"待遇の違いの有無",null,"支給の目的",null,2,null,null,null,142,null,{"$f":"OFFSET($A$1,ROW()-2,COLUMN()-1)+1","v":142},null,"待遇の違いの有無",null,"支給の目的",null,2,null,null,null,142,null,{"$f":"OFFSET($A$1,ROW()-2,COLUMN()-1)+1","v":142},null,"待遇の違いの有無",null,"支給の目的",null,2,null,null,null,142,null,{"$f":"OFFSET($A$1,ROW()-2,COLUMN()-1)+1","v":142},null,"待遇の違いの有無",null,"支給の目的",null,2,null,null,null,142,null,{"$f":"OFFSET($A$1,ROW()-2,COLUMN()-1)+1","v":142},null,"待遇の違いの有無",null,"支給の目的",null,2,null,null,null,142,null,{"$f":"OFFSET($A$1,ROW()-2,COLUMN()-1)+1","v":142},null,"待遇の違いの有無",null,"支給の目的",null,2,null,null,null,142,null,{"$f":"OFFSET($A$1,ROW()-2,COLUMN()-1)+1","v":142}]
[null,null,null,null,null,null,null,null,null,null,null,null,null,null,null,null,null,null,null,null,{"$f":"OFFSET($C$10,OFFSET($A$1,ROW()-3,COLUMN()+1),0)","v":" "},null,null,null,2,null,null,null,143,null,143,null,{"$f":"OFFSET($C$10,OFFSET($A$1,ROW()-3,COLUMN()+1),0)","v":" "},null,null,null,2,null,null,null,143,null,143,null,{"$f":"OFFSET($C$10,OFFSET($A$1,ROW()-3,COLUMN()+1),0)","v":" "},null,null,null,2,null,null,null,143,null,143,null,{"$f":"OFFSET($C$10,OFFSET($A$1,ROW()-3,COLUMN()+1),0)","v":" "},null,null,null,2,null,null,null,143,null,143,null,{"$f":"OFFSET($C$10,OFFSET($A$1,ROW()-3,COLUMN()+1),0)","v":" "},null,null,null,2,null,null,null,143,null,143,null,{"$f":"OFFSET($C$10,OFFSET($A$1,ROW()-3,COLUMN()+1),0)","v":" "},null,null,null,2,null,null,null,143,null,143,null,{"$f":"OFFSET($C$10,OFFSET($A$1,ROW()-3,COLUMN()+1),0)","v":" "},null,null,null,2,null,null,null,143,null,143,null,{"$f":"OFFSET($C$10,OFFSET($A$1,ROW()-3,COLUMN()+1),0)","v":" "},null,null,null,2,null,null,null,143,null,143,null,{"$f":"OFFSET($C$10,OFFSET($A$1,ROW()-3,COLUMN()+1),0)","v":" "},null,null,null,2,null,null,null,143,null,143,null,{"$f":"OFFSET($C$10,OFFSET($A$1,ROW()-3,COLUMN()+1),0)","v":" "},null,null,null,2,null,null,null,143,null,143]
[null,null,null,null,null,null,null,null,null,null,null,null,null,null,null,null,null,null,null,null,"正社員",null,"短時間労働者・有期雇用労働者",null,null,null,null,null,144,null,144,null,"正社員",null,"短時間労働者・有期雇用労働者",null,null,null,null,null,144,null,144,null,"正社員",null,"短時間労働者・有期雇用労働者",null,null,null,null,null,144,null,144,null,"正社員",null,"短時間労働者・有期雇用労働者",null,null,null,null,null,144,null,144,null,"正社員",null,"短時間労働者・有期雇用労働者",null,null,null,null,null,144,null,144,null,"正社員",null,"短時間労働者・有期雇用労働者",null,null,null,null,null,144,null,144,null,"正社員",null,"短時間労働者・有期雇用労働者",null,null,null,null,null,144,null,144,null,"正社員",null,"短時間労働者・有期雇用労働者",null,null,null,null,null,144,null,144,null,"正社員",null,"短時間労働者・有期雇用労働者",null,null,null,null,null,144,null,144,null,"正社員",null,"短時間労働者・有期雇用労働者",null,null,null,null,null,144,null,144]
[null,null,null,null,null,null,null,null,null,null,null,null,null,null,null,null,null,null,null,null,{"$f":"IF(OFFSET($A$1,ROW()-5,COLUMN()+1)<>2,\"\",'手順２・３・４社員タイプ#01'!$E$42&\"\")","v":""},null,{"$f":"IF(OFFSET($A$1,ROW()-5,COLUMN()-1)<>2,\"\",'手順２・３・４社員タイプ#01'!$F$42&\"\")","v":""},null,{"$f":"IF(OFFSET($A$1,ROW()-5,COLUMN()-3)<>2,1,0)","v":1},null,{"$f":"OFFSET($A$1,ROW()-1,COLUMN()-3)","v":1},null,145,null,145,null,{"$f":"IF(OFFSET($A$1,ROW()-5,COLUMN()+1)<>2,\"\",'手順２・３・４社員タイプ#02'!$E$42&\"\")","v":""},null,{"$f":"IF(OFFSET($A$1,ROW()-5,COLUMN()-1)<>2,\"\",'手順２・３・４社員タイプ#02'!$F$42&\"\")","v":""},null,{"$f":"IF(OFFSET($A$1,ROW()-5,COLUMN()-3)<>2,1,0)","v":1},null,{"$f":"OFFSET($A$1,ROW()-1,COLUMN()-3)","v":1},null,145,null,145,null,{"$f":"IF(OFFSET($A$1,ROW()-5,COLUMN()+1)<>2,\"\",'手順２・３・４社員タイプ#03'!$E$42&\"\")","v":""},null,{"$f":"IF(OFFSET($A$1,ROW()-5,COLUMN()-1)<>2,\"\",'手順２・３・４社員タイプ#03'!$F$42&\"\")","v":""},null,{"$f":"IF(OFFSET($A$1,ROW()-5,COLUMN()-3)<>2,1,0)","v":1},null,{"$f":"OFFSET($A$1,ROW()-1,COLUMN()-3)","v":1},null,145,null,145,null,{"$f":"IF(OFFSET($A$1,ROW()-5,COLUMN()+1)<>2,\"\",'手順２・３・４社員タイプ#04'!$E$42&\"\")","v":""},null,{"$f":"IF(OFFSET($A$1,ROW()-5,COLUMN()-1)<>2,\"\",'手順２・３・４社員タイプ#04'!$F$42&\"\")","v":""},null,{"$f":"IF(OFFSET($A$1,ROW()-5,COLUMN()-3)<>2,1,0)","v":1},null,{"$f":"OFFSET($A$1,ROW()-1,COLUMN()-3)","v":1},null,145,null,145,null,{"$f":"IF(OFFSET($A$1,ROW()-5,COLUMN()+1)<>2,\"\",'手順２・３・４社員タイプ#05'!$E$42&\"\")","v":""},null,{"$f":"IF(OFFSET($A$1,ROW()-5,COLUMN()-1)<>2,\"\",'手順２・３・４社員タイプ#05'!$F$42&\"\")","v":""},null,{"$f":"IF(OFFSET($A$1,ROW()-5,COLUMN()-3)<>2,1,0)","v":1},null,{"$f":"OFFSET($A$1,ROW()-1,COLUMN()-3)","v":1},null,145,null,145,null,{"$f":"IF(OFFSET($A$1,ROW()-5,COLUMN()+1)<>2,\"\",'手順２・３・４社員タイプ#06'!$E$42&\"\")","v":""},null,{"$f":"IF(OFFSET($A$1,ROW()-5,COLUMN()-1)<>2,\"\",'手順２・３・４社員タイプ#06'!$F$42&\"\")","v":""},null,{"$f":"IF(OFFSET($A$1,ROW()-5,COLUMN()-3)<>2,1,0)","v":1},null,{"$f":"OFFSET($A$1,ROW()-1,COLUMN()-3)","v":1},null,145,null,145,null,{"$f":"IF(OFFSET($A$1,ROW()-5,COLUMN()+1)<>2,\"\",'手順２・３・４社員タイプ#07'!$E$42&\"\")","v":""},null,{"$f":"IF(OFFSET($A$1,ROW()-5,COLUMN()-1)<>2,\"\",'手順２・３・４社員タイプ#07'!$F$42&\"\")","v":""},null,{"$f":"IF(OFFSET($A$1,ROW()-5,COLUMN()-3)<>2,1,0)","v":1},null,{"$f":"OFFSET($A$1,ROW()-1,COLUMN()-3)","v":1},null,145,null,145,null,{"$f":"IF(OFFSET($A$1,ROW()-5,COLUMN()+1)<>2,\"\",'手順２・３・４社員タイプ#08'!$E$42&\"\")","v":""},null,{"$f":"IF(OFFSET($A$1,ROW()-5,COLUMN()-1)<>2,\"\",'手順２・３・４社員タイプ#08'!$F$42&\"\")","v":""},null,{"$f":"IF(OFFSET($A$1,ROW()-5,COLUMN()-3)<>2,1,0)","v":1},null,{"$f":"OFFSET($A$1,ROW()-1,COLUMN()-3)","v":1},null,145,null,145,null,{"$f":"IF(OFFSET($A$1,ROW()-5,COLUMN()+1)<>2,\"\",'手順２・３・４社員タイプ#09'!$E$42&\"\")","v":""},null,{"$f":"IF(OFFSET($A$1,ROW()-5,COLUMN()-1)<>2,\"\",'手順２・３・４社員タイプ#09'!$F$42&\"\")","v":""},null,{"$f":"IF(OFFSET($A$1,ROW()-5,COLUMN()-3)<>2,1,0)","v":1},null,{"$f":"OFFSET($A$1,ROW()-1,COLUMN()-3)","v":1},null,145,null,145,null,{"$f":"IF(OFFSET($A$1,ROW()-5,COLUMN()+1)<>2,\"\",'手順２・３・４社員タイプ#10'!$E$42&\"\")","v":""},null,{"$f":"IF(OFFSET($A$1,ROW()-5,COLUMN()-1)<>2,\"\",'手順２・３・４社員タイプ#10'!$F$42&\"\")","v":""},null,{"$f":"IF(OFFSET($A$1,ROW()-5,COLUMN()-3)<>2,1,0)","v":1},null,{"$f":"OFFSET($A$1,ROW()-1,COLUMN()-3)","v":1},null,145,null,145]
[null,null,null,null,null,null,null,null,null,null,null,null,null,null,null,null,null,null,null,null,"違いを設けている理由",null,"対応方針",null,null,null,null,null,146,null,146,null,"違いを設けている理由",null,"対応方針",null,null,null,null,null,146,null,146,null,"違いを設けている理由",null,"対応方針",null,null,null,null,null,146,null,146,null,"違いを設けている理由",null,"対応方針",null,null,null,null,null,146,null,146,null,"違いを設けている理由",null,"対応方針",null,null,null,null,null,146,null,146,null,"違いを設けている理由",null,"対応方針",null,null,null,null,null,146,null,146,null,"違いを設けている理由",null,"対応方針",null,null,null,null,null,146,null,146,null,"違いを設けている理由",null,"対応方針",null,null,null,null,null,146,null,146,null,"違いを設けている理由",null,"対応方針",null,null,null,null,null,146,null,146,null,"違いを設けている理由",null,"対応方針",null,null,null,null,null,146,null,146]
[null,null,null,null,null,null,null,null,null,null,null,null,null,null,null,null,null,null,null,null,{"$f":"IF(OFFSET($A$1,ROW()-7,COLUMN()+1)<>2,\"\",'手順２・３・４社員タイプ#01'!$G$42&\"\")","v":""},null,{"$f":"IF(OFFSET($A$1,ROW()-7,COLUMN()-1)<>2,\"\",'手順２・３・４社員タイプ#01'!$H$42&\"\")","v":""},null,{"$f":"OFFSET($A$1,ROW()-3,COLUMN()-1)","v":1},null,{"$f":"OFFSET($A$1,ROW()-3,COLUMN()-3)","v":1},null,147,null,147,null,{"$f":"IF(OFFSET($A$1,ROW()-7,COLUMN()+1)<>2,\"\",'手順２・３・４社員タイプ#02'!$G$42&\"\")","v":""},null,{"$f":"IF(OFFSET($A$1,ROW()-7,COLUMN()-1)<>2,\"\",'手順２・３・４社員タイプ#02'!$H$42&\"\")","v":""},null,{"$f":"OFFSET($A$1,ROW()-3,COLUMN()-1)","v":1},null,{"$f":"OFFSET($A$1,ROW()-3,COLUMN()-3)","v":1},null,147,null,147,null,{"$f":"IF(OFFSET($A$1,ROW()-7,COLUMN()+1)<>2,\"\",'手順２・３・４社員タイプ#03'!$G$42&\"\")","v":""},null,{"$f":"IF(OFFSET($A$1,ROW()-7,COLUMN()-1)<>2,\"\",'手順２・３・４社員タイプ#03'!$H$42&\"\")","v":""},null,{"$f":"OFFSET($A$1,ROW()-3,COLUMN()-1)","v":1},null,{"$f":"OFFSET($A$1,ROW()-3,COLUMN()-3)","v":1},null,147,null,147,null,{"$f":"IF(OFFSET($A$1,ROW()-7,COLUMN()+1)<>2,\"\",'手順２・３・４社員タイプ#04'!$G$42&\"\")","v":""},null,{"$f":"IF(OFFSET($A$1,ROW()-7,COLUMN()-1)<>2,\"\",'手順２・３・４社員タイプ#04'!$H$42&\"\")","v":""},null,{"$f":"OFFSET($A$1,ROW()-3,COLUMN()-1)","v":1},null,{"$f":"OFFSET($A$1,ROW()-3,COLUMN()-3)","v":1},null,147,null,147,null,{"$f":"IF(OFFSET($A$1,ROW()-7,COLUMN()+1)<>2,\"\",'手順２・３・４社員タイプ#05'!$G$42&\"\")","v":""},null,{"$f":"IF(OFFSET($A$1,ROW()-7,COLUMN()-1)<>2,\"\",'手順２・３・４社員タイプ#05'!$H$42&\"\")","v":""},null,{"$f":"OFFSET($A$1,ROW()-3,COLUMN()-1)","v":1},null,{"$f":"OFFSET($A$1,ROW()-3,COLUMN()-3)","v":1},null,147,null,147,null,{"$f":"IF(OFFSET($A$1,ROW()-7,COLUMN()+1)<>2,\"\",'手順２・３・４社員タイプ#06'!$G$42&\"\")","v":""},null,{"$f":"IF(OFFSET($A$1,ROW()-7,COLUMN()-1)<>2,\"\",'手順２・３・４社員タイプ#06'!$H$42&\"\")","v":""},null,{"$f":"OFFSET($A$1,ROW()-3,COLUMN()-1)","v":1},null,{"$f":"OFFSET($A$1,ROW()-3,COLUMN()-3)","v":1},null,147,null,147,null,{"$f":"IF(OFFSET($A$1,ROW()-7,COLUMN()+1)<>2,\"\",'手順２・３・４社員タイプ#07'!$G$42&\"\")","v":""},null,{"$f":"IF(OFFSET($A$1,ROW()-7,COLUMN()-1)<>2,\"\",'手順２・３・４社員タイプ#07'!$H$42&\"\")","v":""},null,{"$f":"OFFSET($A$1,ROW()-3,COLUMN()-1)","v":1},null,{"$f":"OFFSET($A$1,ROW()-3,COLUMN()-3)","v":1},null,147,null,147,null,{"$f":"IF(OFFSET($A$1,ROW()-7,COLUMN()+1)<>2,\"\",'手順２・３・４社員タイプ#08'!$G$42&\"\")","v":""},null,{"$f":"IF(OFFSET($A$1,ROW()-7,COLUMN()-1)<>2,\"\",'手順２・３・４社員タイプ#08'!$H$42&\"\")","v":""},null,{"$f":"OFFSET($A$1,ROW()-3,COLUMN()-1)","v":1},null,{"$f":"OFFSET($A$1,ROW()-3,COLUMN()-3)","v":1},null,147,null,147,null,{"$f":"IF(OFFSET($A$1,ROW()-7,COLUMN()+1)<>2,\"\",'手順２・３・４社員タイプ#09'!$G$42&\"\")","v":""},null,{"$f":"IF(OFFSET($A$1,ROW()-7,COLUMN()-1)<>2,\"\",'手順２・３・４社員タイプ#09'!$H$42&\"\")","v":""},null,{"$f":"OFFSET($A$1,ROW()-3,COLUMN()-1)","v":1},null,{"$f":"OFFSET($A$1,ROW()-3,COLUMN()-3)","v":1},null,147,null,147,null,{"$f":"IF(OFFSET($A$1,ROW()-7,COLUMN()+1)<>2,\"\",'手順２・３・４社員タイプ#10'!$G$42&\"\")","v":""},null,{"$f":"IF(OFFSET($A$1,ROW()-7,COLUMN()-1)<>2,\"\",'手順２・３・４社員タイプ#10'!$H$42&\"\")","v":""},null,{"$f":"OFFSET($A$1,ROW()-3,COLUMN()-1)","v":1},null,{"$f":"OFFSET($A$1,ROW()-3,COLUMN()-3)","v":1},null,147,null,147]
[null,null,null,null,null,null,null,null,null,null,null,null,null,null,null,null,null,null,null,null,{"$f":"IF('手順２・３・４社員タイプ#01'!$B$43=\"\",\"\", '手順２・３・４社員タイプ#01'!$B$43)","v":"休憩室"},null,{"$f":"'手順２・３・４社員タイプ#01'!$C$43","v":0},null,null,null,null,null,148,null,{"$f":"IF(OFFSET($A$1,ROW()-1,COLUMN()-11)<>\"\",OFFSET($A$1,ROW()-1,COLUMN()-3),OFFSET($A$1,ROW()-1,COLUMN()-3)+1000)","v":148},null,{"$f":"IF('手順２・３・４社員タイプ#02'!$B$43=\"\",\"\", '手順２・３・４社員タイプ#02'!$B$43)","v":"休憩室"},null,{"$f":"'手順２・３・４社員タイプ#02'!$C$43","v":0},null,null,null,null,null,148,null,{"$f":"IF(OFFSET($A$1,ROW()-1,COLUMN()-11)<>\"\",OFFSET($A$1,ROW()-1,COLUMN()-3),OFFSET($A$1,ROW()-1,COLUMN()-3)+1000)","v":148},null,{"$f":"IF('手順２・３・４社員タイプ#03'!$B$43=\"\",\"\", '手順２・３・４社員タイプ#03'!$B$43)","v":"休憩室"},null,{"$f":"'手順２・３・４社員タイプ#03'!$C$43","v":0},null,null,null,null,null,148,null,{"$f":"IF(OFFSET($A$1,ROW()-1,COLUMN()-11)<>\"\",OFFSET($A$1,ROW()-1,COLUMN()-3),OFFSET($A$1,ROW()-1,COLUMN()-3)+1000)","v":148},null,{"$f":"IF('手順２・３・４社員タイプ#04'!$B$43=\"\",\"\", '手順２・３・４社員タイプ#04'!$B$43)","v":"休憩室"},null,{"$f":"'手順２・３・４社員タイプ#04'!$C$43","v":0},null,null,null,null,null,148,null,{"$f":"IF(OFFSET($A$1,ROW()-1,COLUMN()-11)<>\"\",OFFSET($A$1,ROW()-1,COLUMN()-3),OFFSET($A$1,ROW()-1,COLUMN()-3)+1000)","v":148},null,{"$f":"IF('手順２・３・４社員タイプ#05'!$B$43=\"\",\"\", '手順２・３・４社員タイプ#05'!$B$43)","v":"休憩室"},null,{"$f":"'手順２・３・４社員タイプ#05'!$C$43","v":0},null,null,null,null,null,148,null,{"$f":"IF(OFFSET($A$1,ROW()-1,COLUMN()-11)<>\"\",OFFSET($A$1,ROW()-1,COLUMN()-3),OFFSET($A$1,ROW()-1,COLUMN()-3)+1000)","v":148},null,{"$f":"IF('手順２・３・４社員タイプ#06'!$B$43=\"\",\"\", '手順２・３・４社員タイプ#06'!$B$43)","v":"休憩室"},null,{"$f":"'手順２・３・４社員タイプ#06'!$C$43","v":0},null,null,null,null,null,148,null,{"$f":"IF(OFFSET($A$1,ROW()-1,COLUMN()-11)<>\"\",OFFSET($A$1,ROW()-1,COLUMN()-3),OFFSET($A$1,ROW()-1,COLUMN()-3)+1000)","v":148},null,{"$f":"IF('手順２・３・４社員タイプ#07'!$B$43=\"\",\"\", '手順２・３・４社員タイプ#07'!$B$43)","v":"休憩室"},null,{"$f":"'手順２・３・４社員タイプ#07'!$C$43","v":0},null,null,null,null,null,148,null,{"$f":"IF(OFFSET($A$1,ROW()-1,COLUMN()-11)<>\"\",OFFSET($A$1,ROW()-1,COLUMN()-3),OFFSET($A$1,ROW()-1,COLUMN()-3)+1000)","v":148},null,{"$f":"IF('手順２・３・４社員タイプ#08'!$B$43=\"\",\"\", '手順２・３・４社員タイプ#08'!$B$43)","v":"休憩室"},null,{"$f":"'手順２・３・４社員タイプ#08'!$C$43","v":0},null,null,null,null,null,148,null,{"$f":"IF(OFFSET($A$1,ROW()-1,COLUMN()-11)<>\"\",OFFSET($A$1,ROW()-1,COLUMN()-3),OFFSET($A$1,ROW()-1,COLUMN()-3)+1000)","v":148},null,{"$f":"IF('手順２・３・４社員タイプ#09'!$B$43=\"\",\"\", '手順２・３・４社員タイプ#09'!$B$43)","v":"休憩室"},null,{"$f":"'手順２・３・４社員タイプ#09'!$C$43","v":0},null,null,null,null,null,148,null,{"$f":"IF(OFFSET($A$1,ROW()-1,COLUMN()-11)<>\"\",OFFSET($A$1,ROW()-1,COLUMN()-3),OFFSET($A$1,ROW()-1,COLUMN()-3)+1000)","v":148},null,{"$f":"IF('手順２・３・４社員タイプ#10'!$B$43=\"\",\"\", '手順２・３・４社員タイプ#10'!$B$43)","v":"休憩室"},null,{"$f":"'手順２・３・４社員タイプ#10'!$C$43","v":0},null,null,null,null,null,148,null,{"$f":"IF(OFFSET($A$1,ROW()-1,COLUMN()-11)<>\"\",OFFSET($A$1,ROW()-1,COLUMN()-3),OFFSET($A$1,ROW()-1,COLUMN()-3)+1000)","v":148}]
[null,null,null,null,null,null,null,null,null,null,null,null,null,null,null,null,null,null,null,null,"待遇の違いの有無",null,"支給の目的",null,2,null,null,null,149,null,{"$f":"OFFSET($A$1,ROW()-2,COLUMN()-1)+1","v":149},null,"待遇の違いの有無",null,"支給の目的",null,2,null,null,null,149,null,{"$f":"OFFSET($A$1,ROW()-2,COLUMN()-1)+1","v":149},null,"待遇の違いの有無",null,"支給の目的",null,2,null,null,null,149,null,{"$f":"OFFSET($A$1,ROW()-2,COLUMN()-1)+1","v":149},null,"待遇の違いの有無",null,"支給の目的",null,2,null,null,null,149,null,{"$f":"OFFSET($A$1,ROW()-2,COLUMN()-1)+1","v":149},null,"待遇の違いの有無",null,"支給の目的",null,2,null,null,null,149,null,{"$f":"OFFSET($A$1,ROW()-2,COLUMN()-1)+1","v":149},null,"待遇の違いの有無",null,"支給の目的",null,2,null,null,null,149,null,{"$f":"OFFSET($A$1,ROW()-2,COLUMN()-1)+1","v":149},null,"待遇の違いの有無",null,"支給の目的",null,2,null,null,null,149,null,{"$f":"OFFSET($A$1,ROW()-2,COLUMN()-1)+1","v":149},null,"待遇の違いの有無",null,"支給の目的",null,2,null,null,null,149,null,{"$f":"OFFSET($A$1,ROW()-2,COLUMN()-1)+1","v":149},null,"待遇の違いの有無",null,"支給の目的",null,2,null,null,null,149,null,{"$f":"OFFSET($A$1,ROW()-2,COLUMN()-1)+1","v":149},null,"待遇の違いの有無",null,"支給の目的",null,2,null,null,null,149,null,{"$f":"OFFSET($A$1,ROW()-2,COLUMN()-1)+1","v":149}]
[null,null,null,null,null,null,null,null,null,null,null,null,null,null,null,null,null,null,null,null,{"$f":"OFFSET($C$10,OFFSET($A$1,ROW()-3,COLUMN()+1),0)","v":" "},null,null,null,2,null,null,null,150,null,150,null,{"$f":"OFFSET($C$10,OFFSET($A$1,ROW()-3,COLUMN()+1),0)","v":" "},null,null,null,2,null,null,null,150,null,150,null,{"$f":"OFFSET($C$10,OFFSET($A$1,ROW()-3,COLUMN()+1),0)","v":" "},null,null,null,2,null,null,null,150,null,150,null,{"$f":"OFFSET($C$10,OFFSET($A$1,ROW()-3,COLUMN()+1),0)","v":" "},null,null,null,2,null,null,null,150,null,150,null,{"$f":"OFFSET($C$10,OFFSET($A$1,ROW()-3,COLUMN()+1),0)","v":" "},null,null,null,2,null,null,null,150,null,150,null,{"$f":"OFFSET($C$10,OFFSET($A$1,ROW()-3,COLUMN()+1),0)","v":" "},null,null,null,2,null,null,null,150,null,150,null,{"$f":"OFFSET($C$10,OFFSET($A$1,ROW()-3,COLUMN()+1),0)","v":" "},null,null,null,2,null,null,null,150,null,150,null,{"$f":"OFFSET($C$10,OFFSET($A$1,ROW()-3,COLUMN()+1),0)","v":" "},null,null,null,2,null,null,null,150,null,150,null,{"$f":"OFFSET($C$10,OFFSET($A$1,ROW()-3,COLUMN()+1),0)","v":" "},null,null,null,2,null,null,null,150,null,150,null,{"$f":"OFFSET($C$10,OFFSET($A$1,ROW()-3,COLUMN()+1),0)","v":" "},null,null,null,2,null,null,null,150,null,150]
[null,null,null,null,null,null,null,null,null,null,null,null,null,null,null,null,null,null,null,null,"正社員",null,"短時間労働者・有期雇用労働者",null,null,null,null,null,151,null,151,null,"正社員",null,"短時間労働者・有期雇用労働者",null,null,null,null,null,151,null,151,null,"正社員",null,"短時間労働者・有期雇用労働者",null,null,null,null,null,151,null,151,null,"正社員",null,"短時間労働者・有期雇用労働者",null,null,null,null,null,151,null,151,null,"正社員",null,"短時間労働者・有期雇用労働者",null,null,null,null,null,151,null,151,null,"正社員",null,"短時間労働者・有期雇用労働者",null,null,null,null,null,151,null,151,null,"正社員",null,"短時間労働者・有期雇用労働者",null,null,null,null,null,151,null,151,null,"正社員",null,"短時間労働者・有期雇用労働者",null,null,null,null,null,151,null,151,null,"正社員",null,"短時間労働者・有期雇用労働者",null,null,null,null,null,151,null,151,null,"正社員",null,"短時間労働者・有期雇用労働者",null,null,null,null,null,151,null,151]
[null,null,null,null,null,null,null,null,null,null,null,null,null,null,null,null,null,null,null,null,{"$f":"IF(OFFSET($A$1,ROW()-5,COLUMN()+1)<>2,\"\",'手順２・３・４社員タイプ#01'!$E$43&\"\")","v":""},null,{"$f":"IF(OFFSET($A$1,ROW()-5,COLUMN()-1)<>2,\"\",'手順２・３・４社員タイプ#01'!$F$43&\"\")","v":""},null,{"$f":"IF(OFFSET($A$1,ROW()-5,COLUMN()-3)<>2,1,0)","v":1},null,{"$f":"OFFSET($A$1,ROW()-1,COLUMN()-3)","v":1},null,152,null,152,null,{"$f":"IF(OFFSET($A$1,ROW()-5,COLUMN()+1)<>2,\"\",'手順２・３・４社員タイプ#02'!$E$43&\"\")","v":""},null,{"$f":"IF(OFFSET($A$1,ROW()-5,COLUMN()-1)<>2,\"\",'手順２・３・４社員タイプ#02'!$F$43&\"\")","v":""},null,{"$f":"IF(OFFSET($A$1,ROW()-5,COLUMN()-3)<>2,1,0)","v":1},null,{"$f":"OFFSET($A$1,ROW()-1,COLUMN()-3)","v":1},null,152,null,152,null,{"$f":"IF(OFFSET($A$1,ROW()-5,COLUMN()+1)<>2,\"\",'手順２・３・４社員タイプ#03'!$E$43&\"\")","v":""},null,{"$f":"IF(OFFSET($A$1,ROW()-5,COLUMN()-1)<>2,\"\",'手順２・３・４社員タイプ#03'!$F$43&\"\")","v":""},null,{"$f":"IF(OFFSET($A$1,ROW()-5,COLUMN()-3)<>2,1,0)","v":1},null,{"$f":"OFFSET($A$1,ROW()-1,COLUMN()-3)","v":1},null,152,null,152,null,{"$f":"IF(OFFSET($A$1,ROW()-5,COLUMN()+1)<>2,\"\",'手順２・３・４社員タイプ#04'!$E$43&\"\")","v":""},null,{"$f":"IF(OFFSET($A$1,ROW()-5,COLUMN()-1)<>2,\"\",'手順２・３・４社員タイプ#04'!$F$43&\"\")","v":""},null,{"$f":"IF(OFFSET($A$1,ROW()-5,COLUMN()-3)<>2,1,0)","v":1},null,{"$f":"OFFSET($A$1,ROW()-1,COLUMN()-3)","v":1},null,152,null,152,null,{"$f":"IF(OFFSET($A$1,ROW()-5,COLUMN()+1)<>2,\"\",'手順２・３・４社員タイプ#05'!$E$43&\"\")","v":""},null,{"$f":"IF(OFFSET($A$1,ROW()-5,COLUMN()-1)<>2,\"\",'手順２・３・４社員タイプ#05'!$F$43&\"\")","v":""},null,{"$f":"IF(OFFSET($A$1,ROW()-5,COLUMN()-3)<>2,1,0)","v":1},null,{"$f":"OFFSET($A$1,ROW()-1,COLUMN()-3)","v":1},null,152,null,152,null,{"$f":"IF(OFFSET($A$1,ROW()-5,COLUMN()+1)<>2,\"\",'手順２・３・４社員タイプ#06'!$E$43&\"\")","v":""},null,{"$f":"IF(OFFSET($A$1,ROW()-5,COLUMN()-1)<>2,\"\",'手順２・３・４社員タイプ#06'!$F$43&\"\")","v":""},null,{"$f":"IF(OFFSET($A$1,ROW()-5,COLUMN()-3)<>2,1,0)","v":1},null,{"$f":"OFFSET($A$1,ROW()-1,COLUMN()-3)","v":1},null,152,null,152,null,{"$f":"IF(OFFSET($A$1,ROW()-5,COLUMN()+1)<>2,\"\",'手順２・３・４社員タイプ#07'!$E$43&\"\")","v":""},null,{"$f":"IF(OFFSET($A$1,ROW()-5,COLUMN()-1)<>2,\"\",'手順２・３・４社員タイプ#07'!$F$43&\"\")","v":""},null,{"$f":"IF(OFFSET($A$1,ROW()-5,COLUMN()-3)<>2,1,0)","v":1},null,{"$f":"OFFSET($A$1,ROW()-1,COLUMN()-3)","v":1},null,152,null,152,null,{"$f":"IF(OFFSET($A$1,ROW()-5,COLUMN()+1)<>2,\"\",'手順２・３・４社員タイプ#08'!$E$43&\"\")","v":""},null,{"$f":"IF(OFFSET($A$1,ROW()-5,COLUMN()-1)<>2,\"\",'手順２・３・４社員タイプ#08'!$F$43&\"\")","v":""},null,{"$f":"IF(OFFSET($A$1,ROW()-5,COLUMN()-3)<>2,1,0)","v":1},null,{"$f":"OFFSET($A$1,ROW()-1,COLUMN()-3)","v":1},null,152,null,152,null,{"$f":"IF(OFFSET($A$1,ROW()-5,COLUMN()+1)<>2,\"\",'手順２・３・４社員タイプ#09'!$E$43&\"\")","v":""},null,{"$f":"IF(OFFSET($A$1,ROW()-5,COLUMN()-1)<>2,\"\",'手順２・３・４社員タイプ#09'!$F$43&\"\")","v":""},null,{"$f":"IF(OFFSET($A$1,ROW()-5,COLUMN()-3)<>2,1,0)","v":1},null,{"$f":"OFFSET($A$1,ROW()-1,COLUMN()-3)","v":1},null,152,null,152,null,{"$f":"IF(OFFSET($A$1,ROW()-5,COLUMN()+1)<>2,\"\",'手順２・３・４社員タイプ#10'!$E$43&\"\")","v":""},null,{"$f":"IF(OFFSET($A$1,ROW()-5,COLUMN()-1)<>2,\"\",'手順２・３・４社員タイプ#10'!$F$43&\"\")","v":""},null,{"$f":"IF(OFFSET($A$1,ROW()-5,COLUMN()-3)<>2,1,0)","v":1},null,{"$f":"OFFSET($A$1,ROW()-1,COLUMN()-3)","v":1},null,152,null,152]
[null,null,null,null,null,null,null,null,null,null,null,null,null,null,null,null,null,null,null,null,"違いを設けている理由",null,"対応方針",null,null,null,null,null,153,null,153,null,"違いを設けている理由",null,"対応方針",null,null,null,null,null,153,null,153,null,"違いを設けている理由",null,"対応方針",null,null,null,null,null,153,null,153,null,"違いを設けている理由",null,"対応方針",null,null,null,null,null,153,null,153,null,"違いを設けている理由",null,"対応方針",null,null,null,null,null,153,null,153,null,"違いを設けている理由",null,"対応方針",null,null,null,null,null,153,null,153,null,"違いを設けている理由",null,"対応方針",null,null,null,null,null,153,null,153,null,"違いを設けている理由",null,"対応方針",null,null,null,null,null,153,null,153,null,"違いを設けている理由",null,"対応方針",null,null,null,null,null,153,null,153,null,"違いを設けている理由",null,"対応方針",null,null,null,null,null,153,null,153]
[null,null,null,null,null,null,null,null,null,null,null,null,null,null,null,null,null,null,null,null,{"$f":"IF(OFFSET($A$1,ROW()-7,COLUMN()+1)<>2,\"\",'手順２・３・４社員タイプ#01'!$G$43&\"\")","v":""},null,{"$f":"IF(OFFSET($A$1,ROW()-7,COLUMN()-1)<>2,\"\",'手順２・３・４社員タイプ#01'!$H$43&\"\")","v":""},null,{"$f":"OFFSET($A$1,ROW()-3,COLUMN()-1)","v":1},null,{"$f":"OFFSET($A$1,ROW()-3,COLUMN()-3)","v":1},null,154,null,154,null,{"$f":"IF(OFFSET($A$1,ROW()-7,COLUMN()+1)<>2,\"\",'手順２・３・４社員タイプ#02'!$G$43&\"\")","v":""},null,{"$f":"IF(OFFSET($A$1,ROW()-7,COLUMN()-1)<>2,\"\",'手順２・３・４社員タイプ#02'!$H$43&\"\")","v":""},null,{"$f":"OFFSET($A$1,ROW()-3,COLUMN()-1)","v":1},null,{"$f":"OFFSET($A$1,ROW()-3,COLUMN()-3)","v":1},null,154,null,154,null,{"$f":"IF(OFFSET($A$1,ROW()-7,COLUMN()+1)<>2,\"\",'手順２・３・４社員タイプ#03'!$G$43&\"\")","v":""},null,{"$f":"IF(OFFSET($A$1,ROW()-7,COLUMN()-1)<>2,\"\",'手順２・３・４社員タイプ#03'!$H$43&\"\")","v":""},null,{"$f":"OFFSET($A$1,ROW()-3,COLUMN()-1)","v":1},null,{"$f":"OFFSET($A$1,ROW()-3,COLUMN()-3)","v":1},null,154,null,154,null,{"$f":"IF(OFFSET($A$1,ROW()-7,COLUMN()+1)<>2,\"\",'手順２・３・４社員タイプ#04'!$G$43&\"\")","v":""},null,{"$f":"IF(OFFSET($A$1,ROW()-7,COLUMN()-1)<>2,\"\",'手順２・３・４社員タイプ#04'!$H$43&\"\")","v":""},null,{"$f":"OFFSET($A$1,ROW()-3,COLUMN()-1)","v":1},null,{"$f":"OFFSET($A$1,ROW()-3,COLUMN()-3)","v":1},null,154,null,154,null,{"$f":"IF(OFFSET($A$1,ROW()-7,COLUMN()+1)<>2,\"\",'手順２・３・４社員タイプ#05'!$G$43&\"\")","v":""},null,{"$f":"IF(OFFSET($A$1,ROW()-7,COLUMN()-1)<>2,\"\",'手順２・３・４社員タイプ#05'!$H$43&\"\")","v":""},null,{"$f":"OFFSET($A$1,ROW()-3,COLUMN()-1)","v":1},null,{"$f":"OFFSET($A$1,ROW()-3,COLUMN()-3)","v":1},null,154,null,154,null,{"$f":"IF(OFFSET($A$1,ROW()-7,COLUMN()+1)<>2,\"\",'手順２・３・４社員タイプ#06'!$G$43&\"\")","v":""},null,{"$f":"IF(OFFSET($A$1,ROW()-7,COLUMN()-1)<>2,\"\",'手順２・３・４社員タイプ#06'!$H$43&\"\")","v":""},null,{"$f":"OFFSET($A$1,ROW()-3,COLUMN()-1)","v":1},null,{"$f":"OFFSET($A$1,ROW()-3,COLUMN()-3)","v":1},null,154,null,154,null,{"$f":"IF(OFFSET($A$1,ROW()-7,COLUMN()+1)<>2,\"\",'手順２・３・４社員タイプ#07'!$G$43&\"\")","v":""},null,{"$f":"IF(OFFSET($A$1,ROW()-7,COLUMN()-1)<>2,\"\",'手順２・３・４社員タイプ#07'!$H$43&\"\")","v":""},null,{"$f":"OFFSET($A$1,ROW()-3,COLUMN()-1)","v":1},null,{"$f":"OFFSET($A$1,ROW()-3,COLUMN()-3)","v":1},null,154,null,154,null,{"$f":"IF(OFFSET($A$1,ROW()-7,COLUMN()+1)<>2,\"\",'手順２・３・４社員タイプ#08'!$G$43&\"\")","v":""},null,{"$f":"IF(OFFSET($A$1,ROW()-7,COLUMN()-1)<>2,\"\",'手順２・３・４社員タイプ#08'!$H$43&\"\")","v":""},null,{"$f":"OFFSET($A$1,ROW()-3,COLUMN()-1)","v":1},null,{"$f":"OFFSET($A$1,ROW()-3,COLUMN()-3)","v":1},null,154,null,154,null,{"$f":"IF(OFFSET($A$1,ROW()-7,COLUMN()+1)<>2,\"\",'手順２・３・４社員タイプ#09'!$G$43&\"\")","v":""},null,{"$f":"IF(OFFSET($A$1,ROW()-7,COLUMN()-1)<>2,\"\",'手順２・３・４社員タイプ#09'!$H$43&\"\")","v":""},null,{"$f":"OFFSET($A$1,ROW()-3,COLUMN()-1)","v":1},null,{"$f":"OFFSET($A$1,ROW()-3,COLUMN()-3)","v":1},null,154,null,154,null,{"$f":"IF(OFFSET($A$1,ROW()-7,COLUMN()+1)<>2,\"\",'手順２・３・４社員タイプ#10'!$G$43&\"\")","v":""},null,{"$f":"IF(OFFSET($A$1,ROW()-7,COLUMN()-1)<>2,\"\",'手順２・３・４社員タイプ#10'!$H$43&\"\")","v":""},null,{"$f":"OFFSET($A$1,ROW()-3,COLUMN()-1)","v":1},null,{"$f":"OFFSET($A$1,ROW()-3,COLUMN()-3)","v":1},null,154,null,154]
[null,null,null,null,null,null,null,null,null,null,null,null,null,null,null,null,null,null,null,null,{"$f":"IF('手順２・３・４社員タイプ#01'!$B$44=\"\",\"\", '手順２・３・４社員タイプ#01'!$B$44)","v":"更衣室"},null,{"$f":"'手順２・３・４社員タイプ#01'!$C$44","v":0},null,null,null,null,null,155,null,{"$f":"IF(OFFSET($A$1,ROW()-1,COLUMN()-11)<>\"\",OFFSET($A$1,ROW()-1,COLUMN()-3),OFFSET($A$1,ROW()-1,COLUMN()-3)+1000)","v":155},null,{"$f":"IF('手順２・３・４社員タイプ#02'!$B$44=\"\",\"\", '手順２・３・４社員タイプ#02'!$B$44)","v":"更衣室"},null,{"$f":"'手順２・３・４社員タイプ#02'!$C$44","v":0},null,null,null,null,null,155,null,{"$f":"IF(OFFSET($A$1,ROW()-1,COLUMN()-11)<>\"\",OFFSET($A$1,ROW()-1,COLUMN()-3),OFFSET($A$1,ROW()-1,COLUMN()-3)+1000)","v":155},null,{"$f":"IF('手順２・３・４社員タイプ#03'!$B$44=\"\",\"\", '手順２・３・４社員タイプ#03'!$B$44)","v":"更衣室"},null,{"$f":"'手順２・３・４社員タイプ#03'!$C$44","v":0},null,null,null,null,null,155,null,{"$f":"IF(OFFSET($A$1,ROW()-1,COLUMN()-11)<>\"\",OFFSET($A$1,ROW()-1,COLUMN()-3),OFFSET($A$1,ROW()-1,COLUMN()-3)+1000)","v":155},null,{"$f":"IF('手順２・３・４社員タイプ#04'!$B$44=\"\",\"\", '手順２・３・４社員タイプ#04'!$B$44)","v":"更衣室"},null,{"$f":"'手順２・３・４社員タイプ#04'!$C$44","v":0},null,null,null,null,null,155,null,{"$f":"IF(OFFSET($A$1,ROW()-1,COLUMN()-11)<>\"\",OFFSET($A$1,ROW()-1,COLUMN()-3),OFFSET($A$1,ROW()-1,COLUMN()-3)+1000)","v":155},null,{"$f":"IF('手順２・３・４社員タイプ#05'!$B$44=\"\",\"\", '手順２・３・４社員タイプ#05'!$B$44)","v":"更衣室"},null,{"$f":"'手順２・３・４社員タイプ#05'!$C$44","v":0},null,null,null,null,null,155,null,{"$f":"IF(OFFSET($A$1,ROW()-1,COLUMN()-11)<>\"\",OFFSET($A$1,ROW()-1,COLUMN()-3),OFFSET($A$1,ROW()-1,COLUMN()-3)+1000)","v":155},null,{"$f":"IF('手順２・３・４社員タイプ#06'!$B$44=\"\",\"\", '手順２・３・４社員タイプ#06'!$B$44)","v":"更衣室"},null,{"$f":"'手順２・３・４社員タイプ#06'!$C$44","v":0},null,null,null,null,null,155,null,{"$f":"IF(OFFSET($A$1,ROW()-1,COLUMN()-11)<>\"\",OFFSET($A$1,ROW()-1,COLUMN()-3),OFFSET($A$1,ROW()-1,COLUMN()-3)+1000)","v":155},null,{"$f":"IF('手順２・３・４社員タイプ#07'!$B$44=\"\",\"\", '手順２・３・４社員タイプ#07'!$B$44)","v":"更衣室"},null,{"$f":"'手順２・３・４社員タイプ#07'!$C$44","v":0},null,null,null,null,null,155,null,{"$f":"IF(OFFSET($A$1,ROW()-1,COLUMN()-11)<>\"\",OFFSET($A$1,ROW()-1,COLUMN()-3),OFFSET($A$1,ROW()-1,COLUMN()-3)+1000)","v":155},null,{"$f":"IF('手順２・３・４社員タイプ#08'!$B$44=\"\",\"\", '手順２・３・４社員タイプ#08'!$B$44)","v":"更衣室"},null,{"$f":"'手順２・３・４社員タイプ#08'!$C$44","v":0},null,null,null,null,null,155,null,{"$f":"IF(OFFSET($A$1,ROW()-1,COLUMN()-11)<>\"\",OFFSET($A$1,ROW()-1,COLUMN()-3),OFFSET($A$1,ROW()-1,COLUMN()-3)+1000)","v":155},null,{"$f":"IF('手順２・３・４社員タイプ#09'!$B$44=\"\",\"\", '手順２・３・４社員タイプ#09'!$B$44)","v":"更衣室"},null,{"$f":"'手順２・３・４社員タイプ#09'!$C$44","v":0},null,null,null,null,null,155,null,{"$f":"IF(OFFSET($A$1,ROW()-1,COLUMN()-11)<>\"\",OFFSET($A$1,ROW()-1,COLUMN()-3),OFFSET($A$1,ROW()-1,COLUMN()-3)+1000)","v":155},null,{"$f":"IF('手順２・３・４社員タイプ#10'!$B$44=\"\",\"\", '手順２・３・４社員タイプ#10'!$B$44)","v":"更衣室"},null,{"$f":"'手順２・３・４社員タイプ#10'!$C$44","v":0},null,null,null,null,null,155,null,{"$f":"IF(OFFSET($A$1,ROW()-1,COLUMN()-11)<>\"\",OFFSET($A$1,ROW()-1,COLUMN()-3),OFFSET($A$1,ROW()-1,COLUMN()-3)+1000)","v":155}]
[null,null,null,null,null,null,null,null,null,null,null,null,null,null,null,null,null,null,null,null,"待遇の違いの有無",null,"支給の目的",null,2,null,null,null,156,null,{"$f":"OFFSET($A$1,ROW()-2,COLUMN()-1)+1","v":156},null,"待遇の違いの有無",null,"支給の目的",null,2,null,null,null,156,null,{"$f":"OFFSET($A$1,ROW()-2,COLUMN()-1)+1","v":156},null,"待遇の違いの有無",null,"支給の目的",null,2,null,null,null,156,null,{"$f":"OFFSET($A$1,ROW()-2,COLUMN()-1)+1","v":156},null,"待遇の違いの有無",null,"支給の目的",null,2,null,null,null,156,null,{"$f":"OFFSET($A$1,ROW()-2,COLUMN()-1)+1","v":156},null,"待遇の違いの有無",null,"支給の目的",null,2,null,null,null,156,null,{"$f":"OFFSET($A$1,ROW()-2,COLUMN()-1)+1","v":156},null,"待遇の違いの有無",null,"支給の目的",null,2,null,null,null,156,null,{"$f":"OFFSET($A$1,ROW()-2,COLUMN()-1)+1","v":156},null,"待遇の違いの有無",null,"支給の目的",null,2,null,null,null,156,null,{"$f":"OFFSET($A$1,ROW()-2,COLUMN()-1)+1","v":156},null,"待遇の違いの有無",null,"支給の目的",null,2,null,null,null,156,null,{"$f":"OFFSET($A$1,ROW()-2,COLUMN()-1)+1","v":156},null,"待遇の違いの有無",null,"支給の目的",null,2,null,null,null,156,null,{"$f":"OFFSET($A$1,ROW()-2,COLUMN()-1)+1","v":156},null,"待遇の違いの有無",null,"支給の目的",null,2,null,null,null,156,null,{"$f":"OFFSET($A$1,ROW()-2,COLUMN()-1)+1","v":156}]
[null,null,null,null,null,null,null,null,null,null,null,null,null,null,null,null,null,null,null,null,{"$f":"OFFSET($C$10,OFFSET($A$1,ROW()-3,COLUMN()+1),0)","v":" "},null,null,null,2,null,null,null,157,null,157,null,{"$f":"OFFSET($C$10,OFFSET($A$1,ROW()-3,COLUMN()+1),0)","v":" "},null,null,null,2,null,null,null,157,null,157,null,{"$f":"OFFSET($C$10,OFFSET($A$1,ROW()-3,COLUMN()+1),0)","v":" "},null,null,null,2,null,null,null,157,null,157,null,{"$f":"OFFSET($C$10,OFFSET($A$1,ROW()-3,COLUMN()+1),0)","v":" "},null,null,null,2,null,null,null,157,null,157,null,{"$f":"OFFSET($C$10,OFFSET($A$1,ROW()-3,COLUMN()+1),0)","v":" "},null,null,null,2,null,null,null,157,null,157,null,{"$f":"OFFSET($C$10,OFFSET($A$1,ROW()-3,COLUMN()+1),0)","v":" "},null,null,null,2,null,null,null,157,null,157,null,{"$f":"OFFSET($C$10,OFFSET($A$1,ROW()-3,COLUMN()+1),0)","v":" "},null,null,null,2,null,null,null,157,null,157,null,{"$f":"OFFSET($C$10,OFFSET($A$1,ROW()-3,COLUMN()+1),0)","v":" "},null,null,null,2,null,null,null,157,null,157,null,{"$f":"OFFSET($C$10,OFFSET($A$1,ROW()-3,COLUMN()+1),0)","v":" "},null,null,null,2,null,null,null,157,null,157,null,{"$f":"OFFSET($C$10,OFFSET($A$1,ROW()-3,COLUMN()+1),0)","v":" "},null,null,null,2,null,null,null,157,null,157]
[null,null,null,null,null,null,null,null,null,null,null,null,null,null,null,null,null,null,null,null,"正社員",null,"短時間労働者・有期雇用労働者",null,null,null,null,null,158,null,158,null,"正社員",null,"短時間労働者・有期雇用労働者",null,null,null,null,null,158,null,158,null,"正社員",null,"短時間労働者・有期雇用労働者",null,null,null,null,null,158,null,158,null,"正社員",null,"短時間労働者・有期雇用労働者",null,null,null,null,null,158,null,158,null,"正社員",null,"短時間労働者・有期雇用労働者",null,null,null,null,null,158,null,158,null,"正社員",null,"短時間労働者・有期雇用労働者",null,null,null,null,null,158,null,158,null,"正社員",null,"短時間労働者・有期雇用労働者",null,null,null,null,null,158,null,158,null,"正社員",null,"短時間労働者・有期雇用労働者",null,null,null,null,null,158,null,158,null,"正社員",null,"短時間労働者・有期雇用労働者",null,null,null,null,null,158,null,158,null,"正社員",null,"短時間労働者・有期雇用労働者",null,null,null,null,null,158,null,158]
[null,null,null,null,null,null,null,null,null,null,null,null,null,null,null,null,null,null,null,null,{"$f":"IF(OFFSET($A$1,ROW()-5,COLUMN()+1)<>2,\"\",'手順２・３・４社員タイプ#01'!$E$44&\"\")","v":""},null,{"$f":"IF(OFFSET($A$1,ROW()-5,COLUMN()-1)<>2,\"\",'手順２・３・４社員タイプ#01'!$F$44&\"\")","v":""},null,{"$f":"IF(OFFSET($A$1,ROW()-5,COLUMN()-3)<>2,1,0)","v":1},null,{"$f":"OFFSET($A$1,ROW()-1,COLUMN()-3)","v":1},null,159,null,159,null,{"$f":"IF(OFFSET($A$1,ROW()-5,COLUMN()+1)<>2,\"\",'手順２・３・４社員タイプ#02'!$E$44&\"\")","v":""},null,{"$f":"IF(OFFSET($A$1,ROW()-5,COLUMN()-1)<>2,\"\",'手順２・３・４社員タイプ#02'!$F$44&\"\")","v":""},null,{"$f":"IF(OFFSET($A$1,ROW()-5,COLUMN()-3)<>2,1,0)","v":1},null,{"$f":"OFFSET($A$1,ROW()-1,COLUMN()-3)","v":1},null,159,null,159,null,{"$f":"IF(OFFSET($A$1,ROW()-5,COLUMN()+1)<>2,\"\",'手順２・３・４社員タイプ#03'!$E$44&\"\")","v":""},null,{"$f":"IF(OFFSET($A$1,ROW()-5,COLUMN()-1)<>2,\"\",'手順２・３・４社員タイプ#03'!$F$44&\"\")","v":""},null,{"$f":"IF(OFFSET($A$1,ROW()-5,COLUMN()-3)<>2,1,0)","v":1},null,{"$f":"OFFSET($A$1,ROW()-1,COLUMN()-3)","v":1},null,159,null,159,null,{"$f":"IF(OFFSET($A$1,ROW()-5,COLUMN()+1)<>2,\"\",'手順２・３・４社員タイプ#04'!$E$44&\"\")","v":""},null,{"$f":"IF(OFFSET($A$1,ROW()-5,COLUMN()-1)<>2,\"\",'手順２・３・４社員タイプ#04'!$F$44&\"\")","v":""},null,{"$f":"IF(OFFSET($A$1,ROW()-5,COLUMN()-3)<>2,1,0)","v":1},null,{"$f":"OFFSET($A$1,ROW()-1,COLUMN()-3)","v":1},null,159,null,159,null,{"$f":"IF(OFFSET($A$1,ROW()-5,COLUMN()+1)<>2,\"\",'手順２・３・４社員タイプ#05'!$E$44&\"\")","v":""},null,{"$f":"IF(OFFSET($A$1,ROW()-5,COLUMN()-1)<>2,\"\",'手順２・３・４社員タイプ#05'!$F$44&\"\")","v":""},null,{"$f":"IF(OFFSET($A$1,ROW()-5,COLUMN()-3)<>2,1,0)","v":1},null,{"$f":"OFFSET($A$1,ROW()-1,COLUMN()-3)","v":1},null,159,null,159,null,{"$f":"IF(OFFSET($A$1,ROW()-5,COLUMN()+1)<>2,\"\",'手順２・３・４社員タイプ#06'!$E$44&\"\")","v":""},null,{"$f":"IF(OFFSET($A$1,ROW()-5,COLUMN()-1)<>2,\"\",'手順２・３・４社員タイプ#06'!$F$44&\"\")","v":""},null,{"$f":"IF(OFFSET($A$1,ROW()-5,COLUMN()-3)<>2,1,0)","v":1},null,{"$f":"OFFSET($A$1,ROW()-1,COLUMN()-3)","v":1},null,159,null,159,null,{"$f":"IF(OFFSET($A$1,ROW()-5,COLUMN()+1)<>2,\"\",'手順２・３・４社員タイプ#07'!$E$44&\"\")","v":""},null,{"$f":"IF(OFFSET($A$1,ROW()-5,COLUMN()-1)<>2,\"\",'手順２・３・４社員タイプ#07'!$F$44&\"\")","v":""},null,{"$f":"IF(OFFSET($A$1,ROW()-5,COLUMN()-3)<>2,1,0)","v":1},null,{"$f":"OFFSET($A$1,ROW()-1,COLUMN()-3)","v":1},null,159,null,159,null,{"$f":"IF(OFFSET($A$1,ROW()-5,COLUMN()+1)<>2,\"\",'手順２・３・４社員タイプ#08'!$E$44&\"\")","v":""},null,{"$f":"IF(OFFSET($A$1,ROW()-5,COLUMN()-1)<>2,\"\",'手順２・３・４社員タイプ#08'!$F$44&\"\")","v":""},null,{"$f":"IF(OFFSET($A$1,ROW()-5,COLUMN()-3)<>2,1,0)","v":1},null,{"$f":"OFFSET($A$1,ROW()-1,COLUMN()-3)","v":1},null,159,null,159,null,{"$f":"IF(OFFSET($A$1,ROW()-5,COLUMN()+1)<>2,\"\",'手順２・３・４社員タイプ#09'!$E$44&\"\")","v":""},null,{"$f":"IF(OFFSET($A$1,ROW()-5,COLUMN()-1)<>2,\"\",'手順２・３・４社員タイプ#09'!$F$44&\"\")","v":""},null,{"$f":"IF(OFFSET($A$1,ROW()-5,COLUMN()-3)<>2,1,0)","v":1},null,{"$f":"OFFSET($A$1,ROW()-1,COLUMN()-3)","v":1},null,159,null,159,null,{"$f":"IF(OFFSET($A$1,ROW()-5,COLUMN()+1)<>2,\"\",'手順２・３・４社員タイプ#10'!$E$44&\"\")","v":""},null,{"$f":"IF(OFFSET($A$1,ROW()-5,COLUMN()-1)<>2,\"\",'手順２・３・４社員タイプ#10'!$F$44&\"\")","v":""},null,{"$f":"IF(OFFSET($A$1,ROW()-5,COLUMN()-3)<>2,1,0)","v":1},null,{"$f":"OFFSET($A$1,ROW()-1,COLUMN()-3)","v":1},null,159,null,159]
[null,null,null,null,null,null,null,null,null,null,null,null,null,null,null,null,null,null,null,null,"違いを設けている理由",null,"対応方針",null,null,null,null,null,160,null,160,null,"違いを設けている理由",null,"対応方針",null,null,null,null,null,160,null,160,null,"違いを設けている理由",null,"対応方針",null,null,null,null,null,160,null,160,null,"違いを設けている理由",null,"対応方針",null,null,null,null,null,160,null,160,null,"違いを設けている理由",null,"対応方針",null,null,null,null,null,160,null,160,null,"違いを設けている理由",null,"対応方針",null,null,null,null,null,160,null,160,null,"違いを設けている理由",null,"対応方針",null,null,null,null,null,160,null,160,null,"違いを設けている理由",null,"対応方針",null,null,null,null,null,160,null,160,null,"違いを設けている理由",null,"対応方針",null,null,null,null,null,160,null,160,null,"違いを設けている理由",null,"対応方針",null,null,null,null,null,160,null,160]
[null,null,null,null,null,null,null,null,null,null,null,null,null,null,null,null,null,null,null,null,{"$f":"IF(OFFSET($A$1,ROW()-7,COLUMN()+1)<>2,\"\",'手順２・３・４社員タイプ#01'!$G$44&\"\")","v":""},null,{"$f":"IF(OFFSET($A$1,ROW()-7,COLUMN()-1)<>2,\"\",'手順２・３・４社員タイプ#01'!$H$44&\"\")","v":""},null,{"$f":"OFFSET($A$1,ROW()-3,COLUMN()-1)","v":1},null,{"$f":"OFFSET($A$1,ROW()-3,COLUMN()-3)","v":1},null,161,null,161,null,{"$f":"IF(OFFSET($A$1,ROW()-7,COLUMN()+1)<>2,\"\",'手順２・３・４社員タイプ#02'!$G$44&\"\")","v":""},null,{"$f":"IF(OFFSET($A$1,ROW()-7,COLUMN()-1)<>2,\"\",'手順２・３・４社員タイプ#02'!$H$44&\"\")","v":""},null,{"$f":"OFFSET($A$1,ROW()-3,COLUMN()-1)","v":1},null,{"$f":"OFFSET($A$1,ROW()-3,COLUMN()-3)","v":1},null,161,null,161,null,{"$f":"IF(OFFSET($A$1,ROW()-7,COLUMN()+1)<>2,\"\",'手順２・３・４社員タイプ#03'!$G$44&\"\")","v":""},null,{"$f":"IF(OFFSET($A$1,ROW()-7,COLUMN()-1)<>2,\"\",'手順２・３・４社員タイプ#03'!$H$44&\"\")","v":""},null,{"$f":"OFFSET($A$1,ROW()-3,COLUMN()-1)","v":1},null,{"$f":"OFFSET($A$1,ROW()-3,COLUMN()-3)","v":1},null,161,null,161,null,{"$f":"IF(OFFSET($A$1,ROW()-7,COLUMN()+1)<>2,\"\",'手順２・３・４社員タイプ#04'!$G$44&\"\")","v":""},null,{"$f":"IF(OFFSET($A$1,ROW()-7,COLUMN()-1)<>2,\"\",'手順２・３・４社員タイプ#04'!$H$44&\"\")","v":""},null,{"$f":"OFFSET($A$1,ROW()-3,COLUMN()-1)","v":1},null,{"$f":"OFFSET($A$1,ROW()-3,COLUMN()-3)","v":1},null,161,null,161,null,{"$f":"IF(OFFSET($A$1,ROW()-7,COLUMN()+1)<>2,\"\",'手順２・３・４社員タイプ#05'!$G$44&\"\")","v":""},null,{"$f":"IF(OFFSET($A$1,ROW()-7,COLUMN()-1)<>2,\"\",'手順２・３・４社員タイプ#05'!$H$44&\"\")","v":""},null,{"$f":"OFFSET($A$1,ROW()-3,COLUMN()-1)","v":1},null,{"$f":"OFFSET($A$1,ROW()-3,COLUMN()-3)","v":1},null,161,null,161,null,{"$f":"IF(OFFSET($A$1,ROW()-7,COLUMN()+1)<>2,\"\",'手順２・３・４社員タイプ#06'!$G$44&\"\")","v":""},null,{"$f":"IF(OFFSET($A$1,ROW()-7,COLUMN()-1)<>2,\"\",'手順２・３・４社員タイプ#06'!$H$44&\"\")","v":""},null,{"$f":"OFFSET($A$1,ROW()-3,COLUMN()-1)","v":1},null,{"$f":"OFFSET($A$1,ROW()-3,COLUMN()-3)","v":1},null,161,null,161,null,{"$f":"IF(OFFSET($A$1,ROW()-7,COLUMN()+1)<>2,\"\",'手順２・３・４社員タイプ#07'!$G$44&\"\")","v":""},null,{"$f":"IF(OFFSET($A$1,ROW()-7,COLUMN()-1)<>2,\"\",'手順２・３・４社員タイプ#07'!$H$44&\"\")","v":""},null,{"$f":"OFFSET($A$1,ROW()-3,COLUMN()-1)","v":1},null,{"$f":"OFFSET($A$1,ROW()-3,COLUMN()-3)","v":1},null,161,null,161,null,{"$f":"IF(OFFSET($A$1,ROW()-7,COLUMN()+1)<>2,\"\",'手順２・３・４社員タイプ#08'!$G$44&\"\")","v":""},null,{"$f":"IF(OFFSET($A$1,ROW()-7,COLUMN()-1)<>2,\"\",'手順２・３・４社員タイプ#08'!$H$44&\"\")","v":""},null,{"$f":"OFFSET($A$1,ROW()-3,COLUMN()-1)","v":1},null,{"$f":"OFFSET($A$1,ROW()-3,COLUMN()-3)","v":1},null,161,null,161,null,{"$f":"IF(OFFSET($A$1,ROW()-7,COLUMN()+1)<>2,\"\",'手順２・３・４社員タイプ#09'!$G$44&\"\")","v":""},null,{"$f":"IF(OFFSET($A$1,ROW()-7,COLUMN()-1)<>2,\"\",'手順２・３・４社員タイプ#09'!$H$44&\"\")","v":""},null,{"$f":"OFFSET($A$1,ROW()-3,COLUMN()-1)","v":1},null,{"$f":"OFFSET($A$1,ROW()-3,COLUMN()-3)","v":1},null,161,null,161,null,{"$f":"IF(OFFSET($A$1,ROW()-7,COLUMN()+1)<>2,\"\",'手順２・３・４社員タイプ#10'!$G$44&\"\")","v":""},null,{"$f":"IF(OFFSET($A$1,ROW()-7,COLUMN()-1)<>2,\"\",'手順２・３・４社員タイプ#10'!$H$44&\"\")","v":""},null,{"$f":"OFFSET($A$1,ROW()-3,COLUMN()-1)","v":1},null,{"$f":"OFFSET($A$1,ROW()-3,COLUMN()-3)","v":1},null,161,null,161]
[null,null,null,null,null,null,null,null,null,null,null,null,null,null,null,null,null,null,null,null,{"$f":"IF('手順２・３・４社員タイプ#01'!$B$45=\"\",\"\", '手順２・３・４社員タイプ#01'!$B$45)","v":""},null,{"$f":"'手順２・３・４社員タイプ#01'!$C$45","v":0},null,null,null,null,null,162,null,{"$f":"IF(AND(OFFSET($A$1,ROW()-1,COLUMN()-11)<>\"\",OR(OFFSET($A$1,ROW()-1,COLUMN()-9)=1,OFFSET($A$1,ROW()-1,COLUMN()-9)=2)),OFFSET($A$1,ROW()-1,COLUMN()-3),OFFSET($A$1,ROW()-1,COLUMN()-3)+1000)","v":1162},null,{"$f":"IF('手順２・３・４社員タイプ#02'!$B$45=\"\",\"\", '手順２・３・４社員タイプ#02'!$B$45)","v":""},null,{"$f":"'手順２・３・４社員タイプ#02'!$C$45","v":0},null,null,null,null,null,162,null,{"$f":"IF(AND(OFFSET($A$1,ROW()-1,COLUMN()-11)<>\"\",OR(OFFSET($A$1,ROW()-1,COLUMN()-9)=1,OFFSET($A$1,ROW()-1,COLUMN()-9)=2)),OFFSET($A$1,ROW()-1,COLUMN()-3),OFFSET($A$1,ROW()-1,COLUMN()-3)+1000)","v":1162},null,{"$f":"IF('手順２・３・４社員タイプ#03'!$B$45=\"\",\"\", '手順２・３・４社員タイプ#03'!$B$45)","v":""},null,{"$f":"'手順２・３・４社員タイプ#03'!$C$45","v":0},null,null,null,null,null,162,null,{"$f":"IF(AND(OFFSET($A$1,ROW()-1,COLUMN()-11)<>\"\",OR(OFFSET($A$1,ROW()-1,COLUMN()-9)=1,OFFSET($A$1,ROW()-1,COLUMN()-9)=2)),OFFSET($A$1,ROW()-1,COLUMN()-3),OFFSET($A$1,ROW()-1,COLUMN()-3)+1000)","v":1162},null,{"$f":"IF('手順２・３・４社員タイプ#04'!$B$45=\"\",\"\", '手順２・３・４社員タイプ#04'!$B$45)","v":""},null,{"$f":"'手順２・３・４社員タイプ#04'!$C$45","v":0},null,null,null,null,null,162,null,{"$f":"IF(AND(OFFSET($A$1,ROW()-1,COLUMN()-11)<>\"\",OR(OFFSET($A$1,ROW()-1,COLUMN()-9)=1,OFFSET($A$1,ROW()-1,COLUMN()-9)=2)),OFFSET($A$1,ROW()-1,COLUMN()-3),OFFSET($A$1,ROW()-1,COLUMN()-3)+1000)","v":1162},null,{"$f":"IF('手順２・３・４社員タイプ#05'!$B$45=\"\",\"\", '手順２・３・４社員タイプ#05'!$B$45)","v":""},null,{"$f":"'手順２・３・４社員タイプ#05'!$C$45","v":0},null,null,null,null,null,162,null,{"$f":"IF(AND(OFFSET($A$1,ROW()-1,COLUMN()-11)<>\"\",OR(OFFSET($A$1,ROW()-1,COLUMN()-9)=1,OFFSET($A$1,ROW()-1,COLUMN()-9)=2)),OFFSET($A$1,ROW()-1,COLUMN()-3),OFFSET($A$1,ROW()-1,COLUMN()-3)+1000)","v":1162},null,{"$f":"IF('手順２・３・４社員タイプ#06'!$B$45=\"\",\"\", '手順２・３・４社員タイプ#06'!$B$45)","v":""},null,{"$f":"'手順２・３・４社員タイプ#06'!$C$45","v":0},null,null,null,null,null,162,null,{"$f":"IF(AND(OFFSET($A$1,ROW()-1,COLUMN()-11)<>\"\",OR(OFFSET($A$1,ROW()-1,COLUMN()-9)=1,OFFSET($A$1,ROW()-1,COLUMN()-9)=2)),OFFSET($A$1,ROW()-1,COLUMN()-3),OFFSET($A$1,ROW()-1,COLUMN()-3)+1000)","v":1162},null,{"$f":"IF('手順２・３・４社員タイプ#07'!$B$45=\"\",\"\", '手順２・３・４社員タイプ#07'!$B$45)","v":""},null,{"$f":"'手順２・３・４社員タイプ#07'!$C$45","v":0},null,null,null,null,null,162,null,{"$f":"IF(AND(OFFSET($A$1,ROW()-1,COLUMN()-11)<>\"\",OR(OFFSET($A$1,ROW()-1,COLUMN()-9)=1,OFFSET($A$1,ROW()-1,COLUMN()-9)=2)),OFFSET($A$1,ROW()-1,COLUMN()-3),OFFSET($A$1,ROW()-1,COLUMN()-3)+1000)","v":1162},null,{"$f":"IF('手順２・３・４社員タイプ#08'!$B$45=\"\",\"\", '手順２・３・４社員タイプ#08'!$B$45)","v":""},null,{"$f":"'手順２・３・４社員タイプ#08'!$C$45","v":0},null,null,null,null,null,162,null,{"$f":"IF(AND(OFFSET($A$1,ROW()-1,COLUMN()-11)<>\"\",OR(OFFSET($A$1,ROW()-1,COLUMN()-9)=1,OFFSET($A$1,ROW()-1,COLUMN()-9)=2)),OFFSET($A$1,ROW()-1,COLUMN()-3),OFFSET($A$1,ROW()-1,COLUMN()-3)+1000)","v":1162},null,{"$f":"IF('手順２・３・４社員タイプ#09'!$B$45=\"\",\"\", '手順２・３・４社員タイプ#09'!$B$45)","v":""},null,{"$f":"'手順２・３・４社員タイプ#09'!$C$45","v":0},null,null,null,null,null,162,null,{"$f":"IF(AND(OFFSET($A$1,ROW()-1,COLUMN()-11)<>\"\",OR(OFFSET($A$1,ROW()-1,COLUMN()-9)=1,OFFSET($A$1,ROW()-1,COLUMN()-9)=2)),OFFSET($A$1,ROW()-1,COLUMN()-3),OFFSET($A$1,ROW()-1,COLUMN()-3)+1000)","v":1162},null,{"$f":"IF('手順２・３・４社員タイプ#10'!$B$45=\"\",\"\", '手順２・３・４社員タイプ#10'!$B$45)","v":""},null,{"$f":"'手順２・３・４社員タイプ#10'!$C$45","v":0},null,null,null,null,null,162,null,{"$f":"IF(AND(OFFSET($A$1,ROW()-1,COLUMN()-11)<>\"\",OR(OFFSET($A$1,ROW()-1,COLUMN()-9)=1,OFFSET($A$1,ROW()-1,COLUMN()-9)=2)),OFFSET($A$1,ROW()-1,COLUMN()-3),OFFSET($A$1,ROW()-1,COLUMN()-3)+1000)","v":1162}]
[null,null,null,null,null,null,null,null,null,null,null,null,null,null,null,null,null,null,null,null,"待遇の違いの有無",null,"支給の目的",null,2,null,null,null,163,null,{"$f":"OFFSET($A$1,ROW()-2,COLUMN()-1)+1","v":1163},null,"待遇の違いの有無",null,"支給の目的",null,2,null,null,null,163,null,{"$f":"OFFSET($A$1,ROW()-2,COLUMN()-1)+1","v":1163},null,"待遇の違いの有無",null,"支給の目的",null,2,null,null,null,163,null,{"$f":"OFFSET($A$1,ROW()-2,COLUMN()-1)+1","v":1163},null,"待遇の違いの有無",null,"支給の目的",null,2,null,null,null,163,null,{"$f":"OFFSET($A$1,ROW()-2,COLUMN()-1)+1","v":1163},null,"待遇の違いの有無",null,"支給の目的",null,2,null,null,null,163,null,{"$f":"OFFSET($A$1,ROW()-2,COLUMN()-1)+1","v":1163},null,"待遇の違いの有無",null,"支給の目的",null,2,null,null,null,163,null,{"$f":"OFFSET($A$1,ROW()-2,COLUMN()-1)+1","v":1163},null,"待遇の違いの有無",null,"支給の目的",null,2,null,null,null,163,null,{"$f":"OFFSET($A$1,ROW()-2,COLUMN()-1)+1","v":1163},null,"待遇の違いの有無",null,"支給の目的",null,2,null,null,null,163,null,{"$f":"OFFSET($A$1,ROW()-2,COLUMN()-1)+1","v":1163},null,"待遇の違いの有無",null,"支給の目的",null,2,null,null,null,163,null,{"$f":"OFFSET($A$1,ROW()-2,COLUMN()-1)+1","v":1163},null,"待遇の違いの有無",null,"支給の目的",null,2,null,null,null,163,null,{"$f":"OFFSET($A$1,ROW()-2,COLUMN()-1)+1","v":1163}]
[null,null,null,null,null,null,null,null,null,null,null,null,null,null,null,null,null,null,null,null,{"$f":"OFFSET($C$14,OFFSET($A$1,ROW()-3,COLUMN()+1),0)","v":" "},null,null,null,2,null,null,null,164,null,1164,null,{"$f":"OFFSET($C$14,OFFSET($A$1,ROW()-3,COLUMN()+1),0)","v":" "},null,null,null,2,null,null,null,164,null,1164,null,{"$f":"OFFSET($C$14,OFFSET($A$1,ROW()-3,COLUMN()+1),0)","v":" "},null,null,null,2,null,null,null,164,null,1164,null,{"$f":"OFFSET($C$14,OFFSET($A$1,ROW()-3,COLUMN()+1),0)","v":" "},null,null,null,2,null,null,null,164,null,1164,null,{"$f":"OFFSET($C$14,OFFSET($A$1,ROW()-3,COLUMN()+1),0)","v":" "},null,null,null,2,null,null,null,164,null,1164,null,{"$f":"OFFSET($C$14,OFFSET($A$1,ROW()-3,COLUMN()+1),0)","v":" "},null,null,null,2,null,null,null,164,null,1164,null,{"$f":"OFFSET($C$14,OFFSET($A$1,ROW()-3,COLUMN()+1),0)","v":" "},null,null,null,2,null,null,null,164,null,1164,null,{"$f":"OFFSET($C$14,OFFSET($A$1,ROW()-3,COLUMN()+1),0)","v":" "},null,null,null,2,null,null,null,164,null,1164,null,{"$f":"OFFSET($C$14,OFFSET($A$1,ROW()-3,COLUMN()+1),0)","v":" "},null,null,null,2,null,null,null,164,null,1164,null,{"$f":"OFFSET($C$14,OFFSET($A$1,ROW()-3,COLUMN()+1),0)","v":" "},null,null,null,2,null,null,null,164,null,1164]
[null,null,null,null,null,null,null,null,null,null,null,null,null,null,null,null,null,null,null,null,"正社員",null,"短時間労働者・有期雇用労働者",null,null,null,null,null,165,null,1165,null,"正社員",null,"短時間労働者・有期雇用労働者",null,null,null,null,null,165,null,1165,null,"正社員",null,"短時間労働者・有期雇用労働者",null,null,null,null,null,165,null,1165,null,"正社員",null,"短時間労働者・有期雇用労働者",null,null,null,null,null,165,null,1165,null,"正社員",null,"短時間労働者・有期雇用労働者",null,null,null,null,null,165,null,1165,null,"正社員",null,"短時間労働者・有期雇用労働者",null,null,null,null,null,165,null,1165,null,"正社員",null,"短時間労働者・有期雇用労働者",null,null,null,null,null,165,null,1165,null,"正社員",null,"短時間労働者・有期雇用労働者",null,null,null,null,null,165,null,1165,null,"正社員",null,"短時間労働者・有期雇用労働者",null,null,null,null,null,165,null,1165,null,"正社員",null,"短時間労働者・有期雇用労働者",null,null,null,null,null,165,null,1165]
[null,null,null,null,null,null,null,null,null,null,null,null,null,null,null,null,null,null,null,null,{"$f":"IF(OFFSET($A$1,ROW()-5,COLUMN()+1)<>2,\"\",'手順２・３・４社員タイプ#01'!$E$45&\"\")","v":""},null,{"$f":"IF(OFFSET($A$1,ROW()-5,COLUMN()-1)<>2,\"\",'手順２・３・４社員タイプ#01'!$F$45&\"\")","v":""},null,{"$f":"IF(OFFSET($A$1,ROW()-5,COLUMN()-3)<>2,1,0)","v":1},null,{"$f":"OFFSET($A$1,ROW()-1,COLUMN()-3)","v":1},null,166,null,1166,null,{"$f":"IF(OFFSET($A$1,ROW()-5,COLUMN()+1)<>2,\"\",'手順２・３・４社員タイプ#02'!$E$45&\"\")","v":""},null,{"$f":"IF(OFFSET($A$1,ROW()-5,COLUMN()-1)<>2,\"\",'手順２・３・４社員タイプ#02'!$F$45&\"\")","v":""},null,{"$f":"IF(OFFSET($A$1,ROW()-5,COLUMN()-3)<>2,1,0)","v":1},null,{"$f":"OFFSET($A$1,ROW()-1,COLUMN()-3)","v":1},null,166,null,1166,null,{"$f":"IF(OFFSET($A$1,ROW()-5,COLUMN()+1)<>2,\"\",'手順２・３・４社員タイプ#03'!$E$45&\"\")","v":""},null,{"$f":"IF(OFFSET($A$1,ROW()-5,COLUMN()-1)<>2,\"\",'手順２・３・４社員タイプ#03'!$F$45&\"\")","v":""},null,{"$f":"IF(OFFSET($A$1,ROW()-5,COLUMN()-3)<>2,1,0)","v":1},null,{"$f":"OFFSET($A$1,ROW()-1,COLUMN()-3)","v":1},null,166,null,1166,null,{"$f":"IF(OFFSET($A$1,ROW()-5,COLUMN()+1)<>2,\"\",'手順２・３・４社員タイプ#04'!$E$45&\"\")","v":""},null,{"$f":"IF(OFFSET($A$1,ROW()-5,COLUMN()-1)<>2,\"\",'手順２・３・４社員タイプ#04'!$F$45&\"\")","v":""},null,{"$f":"IF(OFFSET($A$1,ROW()-5,COLUMN()-3)<>2,1,0)","v":1},null,{"$f":"OFFSET($A$1,ROW()-1,COLUMN()-3)","v":1},null,166,null,1166,null,{"$f":"IF(OFFSET($A$1,ROW()-5,COLUMN()+1)<>2,\"\",'手順２・３・４社員タイプ#05'!$E$45&\"\")","v":""},null,{"$f":"IF(OFFSET($A$1,ROW()-5,COLUMN()-1)<>2,\"\",'手順２・３・４社員タイプ#05'!$F$45&\"\")","v":""},null,{"$f":"IF(OFFSET($A$1,ROW()-5,COLUMN()-3)<>2,1,0)","v":1},null,{"$f":"OFFSET($A$1,ROW()-1,COLUMN()-3)","v":1},null,166,null,1166,null,{"$f":"IF(OFFSET($A$1,ROW()-5,COLUMN()+1)<>2,\"\",'手順２・３・４社員タイプ#06'!$E$45&\"\")","v":""},null,{"$f":"IF(OFFSET($A$1,ROW()-5,COLUMN()-1)<>2,\"\",'手順２・３・４社員タイプ#06'!$F$45&\"\")","v":""},null,{"$f":"IF(OFFSET($A$1,ROW()-5,COLUMN()-3)<>2,1,0)","v":1},null,{"$f":"OFFSET($A$1,ROW()-1,COLUMN()-3)","v":1},null,166,null,1166,null,{"$f":"IF(OFFSET($A$1,ROW()-5,COLUMN()+1)<>2,\"\",'手順２・３・４社員タイプ#07'!$E$45&\"\")","v":""},null,{"$f":"IF(OFFSET($A$1,ROW()-5,COLUMN()-1)<>2,\"\",'手順２・３・４社員タイプ#07'!$F$45&\"\")","v":""},null,{"$f":"IF(OFFSET($A$1,ROW()-5,COLUMN()-3)<>2,1,0)","v":1},null,{"$f":"OFFSET($A$1,ROW()-1,COLUMN()-3)","v":1},null,166,null,1166,null,{"$f":"IF(OFFSET($A$1,ROW()-5,COLUMN()+1)<>2,\"\",'手順２・３・４社員タイプ#08'!$E$45&\"\")","v":""},null,{"$f":"IF(OFFSET($A$1,ROW()-5,COLUMN()-1)<>2,\"\",'手順２・３・４社員タイプ#08'!$F$45&\"\")","v":""},null,{"$f":"IF(OFFSET($A$1,ROW()-5,COLUMN()-3)<>2,1,0)","v":1},null,{"$f":"OFFSET($A$1,ROW()-1,COLUMN()-3)","v":1},null,166,null,1166,null,{"$f":"IF(OFFSET($A$1,ROW()-5,COLUMN()+1)<>2,\"\",'手順２・３・４社員タイプ#09'!$E$45&\"\")","v":""},null,{"$f":"IF(OFFSET($A$1,ROW()-5,COLUMN()-1)<>2,\"\",'手順２・３・４社員タイプ#09'!$F$45&\"\")","v":""},null,{"$f":"IF(OFFSET($A$1,ROW()-5,COLUMN()-3)<>2,1,0)","v":1},null,{"$f":"OFFSET($A$1,ROW()-1,COLUMN()-3)","v":1},null,166,null,1166,null,{"$f":"IF(OFFSET($A$1,ROW()-5,COLUMN()+1)<>2,\"\",'手順２・３・４社員タイプ#10'!$E$45&\"\")","v":""},null,{"$f":"IF(OFFSET($A$1,ROW()-5,COLUMN()-1)<>2,\"\",'手順２・３・４社員タイプ#10'!$F$45&\"\")","v":""},null,{"$f":"IF(OFFSET($A$1,ROW()-5,COLUMN()-3)<>2,1,0)","v":1},null,{"$f":"OFFSET($A$1,ROW()-1,COLUMN()-3)","v":1},null,166,null,1166]
[null,null,null,null,null,null,null,null,null,null,null,null,null,null,null,null,null,null,null,null,"違いを設けている理由",null,"対応方針",null,null,null,null,null,167,null,1167,null,"違いを設けている理由",null,"対応方針",null,null,null,null,null,167,null,1167,null,"違いを設けている理由",null,"対応方針",null,null,null,null,null,167,null,1167,null,"違いを設けている理由",null,"対応方針",null,null,null,null,null,167,null,1167,null,"違いを設けている理由",null,"対応方針",null,null,null,null,null,167,null,1167,null,"違いを設けている理由",null,"対応方針",null,null,null,null,null,167,null,1167,null,"違いを設けている理由",null,"対応方針",null,null,null,null,null,167,null,1167,null,"違いを設けている理由",null,"対応方針",null,null,null,null,null,167,null,1167,null,"違いを設けている理由",null,"対応方針",null,null,null,null,null,167,null,1167,null,"違いを設けている理由",null,"対応方針",null,null,null,null,null,167,null,1167]
[null,null,null,null,null,null,null,null,null,null,null,null,null,null,null,null,null,null,null,null,{"$f":"IF(OFFSET($A$1,ROW()-7,COLUMN()+1)<>2,\"\",'手順２・３・４社員タイプ#01'!$G$45&\"\")","v":""},null,{"$f":"IF(OFFSET($A$1,ROW()-7,COLUMN()-1)<>2,\"\",'手順２・３・４社員タイプ#01'!$H$45&\"\")","v":""},null,{"$f":"OFFSET($A$1,ROW()-3,COLUMN()-1)","v":1},null,{"$f":"OFFSET($A$1,ROW()-3,COLUMN()-3)","v":1},null,168,null,1168,null,{"$f":"IF(OFFSET($A$1,ROW()-7,COLUMN()+1)<>2,\"\",'手順２・３・４社員タイプ#02'!$G$45&\"\")","v":""},null,{"$f":"IF(OFFSET($A$1,ROW()-7,COLUMN()-1)<>2,\"\",'手順２・３・４社員タイプ#02'!$H$45&\"\")","v":""},null,{"$f":"OFFSET($A$1,ROW()-3,COLUMN()-1)","v":1},null,{"$f":"OFFSET($A$1,ROW()-3,COLUMN()-3)","v":1},null,168,null,1168,null,{"$f":"IF(OFFSET($A$1,ROW()-7,COLUMN()+1)<>2,\"\",'手順２・３・４社員タイプ#03'!$G$45&\"\")","v":""},null,{"$f":"IF(OFFSET($A$1,ROW()-7,COLUMN()-1)<>2,\"\",'手順２・３・４社員タイプ#03'!$H$45&\"\")","v":""},null,{"$f":"OFFSET($A$1,ROW()-3,COLUMN()-1)","v":1},null,{"$f":"OFFSET($A$1,ROW()-3,COLUMN()-3)","v":1},null,168,null,1168,null,{"$f":"IF(OFFSET($A$1,ROW()-7,COLUMN()+1)<>2,\"\",'手順２・３・４社員タイプ#04'!$G$45&\"\")","v":""},null,{"$f":"IF(OFFSET($A$1,ROW()-7,COLUMN()-1)<>2,\"\",'手順２・３・４社員タイプ#04'!$H$45&\"\")","v":""},null,{"$f":"OFFSET($A$1,ROW()-3,COLUMN()-1)","v":1},null,{"$f":"OFFSET($A$1,ROW()-3,COLUMN()-3)","v":1},null,168,null,1168,null,{"$f":"IF(OFFSET($A$1,ROW()-7,COLUMN()+1)<>2,\"\",'手順２・３・４社員タイプ#05'!$G$45&\"\")","v":""},null,{"$f":"IF(OFFSET($A$1,ROW()-7,COLUMN()-1)<>2,\"\",'手順２・３・４社員タイプ#05'!$H$45&\"\")","v":""},null,{"$f":"OFFSET($A$1,ROW()-3,COLUMN()-1)","v":1},null,{"$f":"OFFSET($A$1,ROW()-3,COLUMN()-3)","v":1},null,168,null,1168,null,{"$f":"IF(OFFSET($A$1,ROW()-7,COLUMN()+1)<>2,\"\",'手順２・３・４社員タイプ#06'!$G$45&\"\")","v":""},null,{"$f":"IF(OFFSET($A$1,ROW()-7,COLUMN()-1)<>2,\"\",'手順２・３・４社員タイプ#06'!$H$45&\"\")","v":""},null,{"$f":"OFFSET($A$1,ROW()-3,COLUMN()-1)","v":1},null,{"$f":"OFFSET($A$1,ROW()-3,COLUMN()-3)","v":1},null,168,null,1168,null,{"$f":"IF(OFFSET($A$1,ROW()-7,COLUMN()+1)<>2,\"\",'手順２・３・４社員タイプ#07'!$G$45&\"\")","v":""},null,{"$f":"IF(OFFSET($A$1,ROW()-7,COLUMN()-1)<>2,\"\",'手順２・３・４社員タイプ#07'!$H$45&\"\")","v":""},null,{"$f":"OFFSET($A$1,ROW()-3,COLUMN()-1)","v":1},null,{"$f":"OFFSET($A$1,ROW()-3,COLUMN()-3)","v":1},null,168,null,1168,null,{"$f":"IF(OFFSET($A$1,ROW()-7,COLUMN()+1)<>2,\"\",'手順２・３・４社員タイプ#08'!$G$45&\"\")","v":""},null,{"$f":"IF(OFFSET($A$1,ROW()-7,COLUMN()-1)<>2,\"\",'手順２・３・４社員タイプ#08'!$H$45&\"\")","v":""},null,{"$f":"OFFSET($A$1,ROW()-3,COLUMN()-1)","v":1},null,{"$f":"OFFSET($A$1,ROW()-3,COLUMN()-3)","v":1},null,168,null,1168,null,{"$f":"IF(OFFSET($A$1,ROW()-7,COLUMN()+1)<>2,\"\",'手順２・３・４社員タイプ#09'!$G$45&\"\")","v":""},null,{"$f":"IF(OFFSET($A$1,ROW()-7,COLUMN()-1)<>2,\"\",'手順２・３・４社員タイプ#09'!$H$45&\"\")","v":""},null,{"$f":"OFFSET($A$1,ROW()-3,COLUMN()-1)","v":1},null,{"$f":"OFFSET($A$1,ROW()-3,COLUMN()-3)","v":1},null,168,null,1168,null,{"$f":"IF(OFFSET($A$1,ROW()-7,COLUMN()+1)<>2,\"\",'手順２・３・４社員タイプ#10'!$G$45&\"\")","v":""},null,{"$f":"IF(OFFSET($A$1,ROW()-7,COLUMN()-1)<>2,\"\",'手順２・３・４社員タイプ#10'!$H$45&\"\")","v":""},null,{"$f":"OFFSET($A$1,ROW()-3,COLUMN()-1)","v":1},null,{"$f":"OFFSET($A$1,ROW()-3,COLUMN()-3)","v":1},null,168,null,1168]
[null,null,null,null,null,null,null,null,null,null,null,null,null,null,null,null,null,null,null,null,{"$f":"IF('手順２・３・４社員タイプ#01'!$B$46=\"\",\"\", '手順２・３・４社員タイプ#01'!$B$46)","v":""},null,{"$f":"'手順２・３・４社員タイプ#01'!$C$46","v":0},null,null,null,null,null,169,null,{"$f":"IF(AND(OFFSET($A$1,ROW()-1,COLUMN()-11)<>\"\",OR(OFFSET($A$1,ROW()-1,COLUMN()-9)=1,OFFSET($A$1,ROW()-1,COLUMN()-9)=2)),OFFSET($A$1,ROW()-1,COLUMN()-3),OFFSET($A$1,ROW()-1,COLUMN()-3)+1000)","v":1169},null,{"$f":"IF('手順２・３・４社員タイプ#02'!$B$46=\"\",\"\", '手順２・３・４社員タイプ#02'!$B$46)","v":""},null,{"$f":"'手順２・３・４社員タイプ#02'!$C$46","v":0},null,null,null,null,null,169,null,{"$f":"IF(AND(OFFSET($A$1,ROW()-1,COLUMN()-11)<>\"\",OR(OFFSET($A$1,ROW()-1,COLUMN()-9)=1,OFFSET($A$1,ROW()-1,COLUMN()-9)=2)),OFFSET($A$1,ROW()-1,COLUMN()-3),OFFSET($A$1,ROW()-1,COLUMN()-3)+1000)","v":1169},null,{"$f":"IF('手順２・３・４社員タイプ#03'!$B$46=\"\",\"\", '手順２・３・４社員タイプ#03'!$B$46)","v":""},null,{"$f":"'手順２・３・４社員タイプ#03'!$C$46","v":0},null,null,null,null,null,169,null,{"$f":"IF(AND(OFFSET($A$1,ROW()-1,COLUMN()-11)<>\"\",OR(OFFSET($A$1,ROW()-1,COLUMN()-9)=1,OFFSET($A$1,ROW()-1,COLUMN()-9)=2)),OFFSET($A$1,ROW()-1,COLUMN()-3),OFFSET($A$1,ROW()-1,COLUMN()-3)+1000)","v":1169},null,{"$f":"IF('手順２・３・４社員タイプ#04'!$B$46=\"\",\"\", '手順２・３・４社員タイプ#04'!$B$46)","v":""},null,{"$f":"'手順２・３・４社員タイプ#04'!$C$46","v":0},null,null,null,null,null,169,null,{"$f":"IF(AND(OFFSET($A$1,ROW()-1,COLUMN()-11)<>\"\",OR(OFFSET($A$1,ROW()-1,COLUMN()-9)=1,OFFSET($A$1,ROW()-1,COLUMN()-9)=2)),OFFSET($A$1,ROW()-1,COLUMN()-3),OFFSET($A$1,ROW()-1,COLUMN()-3)+1000)","v":1169},null,{"$f":"IF('手順２・３・４社員タイプ#05'!$B$46=\"\",\"\", '手順２・３・４社員タイプ#05'!$B$46)","v":""},null,{"$f":"'手順２・３・４社員タイプ#05'!$C$46","v":0},null,null,null,null,null,169,null,{"$f":"IF(AND(OFFSET($A$1,ROW()-1,COLUMN()-11)<>\"\",OR(OFFSET($A$1,ROW()-1,COLUMN()-9)=1,OFFSET($A$1,ROW()-1,COLUMN()-9)=2)),OFFSET($A$1,ROW()-1,COLUMN()-3),OFFSET($A$1,ROW()-1,COLUMN()-3)+1000)","v":1169},null,{"$f":"IF('手順２・３・４社員タイプ#06'!$B$46=\"\",\"\", '手順２・３・４社員タイプ#06'!$B$46)","v":""},null,{"$f":"'手順２・３・４社員タイプ#06'!$C$46","v":0},null,null,null,null,null,169,null,{"$f":"IF(AND(OFFSET($A$1,ROW()-1,COLUMN()-11)<>\"\",OR(OFFSET($A$1,ROW()-1,COLUMN()-9)=1,OFFSET($A$1,ROW()-1,COLUMN()-9)=2)),OFFSET($A$1,ROW()-1,COLUMN()-3),OFFSET($A$1,ROW()-1,COLUMN()-3)+1000)","v":1169},null,{"$f":"IF('手順２・３・４社員タイプ#07'!$B$46=\"\",\"\", '手順２・３・４社員タイプ#07'!$B$46)","v":""},null,{"$f":"'手順２・３・４社員タイプ#07'!$C$46","v":0},null,null,null,null,null,169,null,{"$f":"IF(AND(OFFSET($A$1,ROW()-1,COLUMN()-11)<>\"\",OR(OFFSET($A$1,ROW()-1,COLUMN()-9)=1,OFFSET($A$1,ROW()-1,COLUMN()-9)=2)),OFFSET($A$1,ROW()-1,COLUMN()-3),OFFSET($A$1,ROW()-1,COLUMN()-3)+1000)","v":1169},null,{"$f":"IF('手順２・３・４社員タイプ#08'!$B$46=\"\",\"\", '手順２・３・４社員タイプ#08'!$B$46)","v":""},null,{"$f":"'手順２・３・４社員タイプ#08'!$C$46","v":0},null,null,null,null,null,169,null,{"$f":"IF(AND(OFFSET($A$1,ROW()-1,COLUMN()-11)<>\"\",OR(OFFSET($A$1,ROW()-1,COLUMN()-9)=1,OFFSET($A$1,ROW()-1,COLUMN()-9)=2)),OFFSET($A$1,ROW()-1,COLUMN()-3),OFFSET($A$1,ROW()-1,COLUMN()-3)+1000)","v":1169},null,{"$f":"IF('手順２・３・４社員タイプ#09'!$B$46=\"\",\"\", '手順２・３・４社員タイプ#09'!$B$46)","v":""},null,{"$f":"'手順２・３・４社員タイプ#09'!$C$46","v":0},null,null,null,null,null,169,null,{"$f":"IF(AND(OFFSET($A$1,ROW()-1,COLUMN()-11)<>\"\",OR(OFFSET($A$1,ROW()-1,COLUMN()-9)=1,OFFSET($A$1,ROW()-1,COLUMN()-9)=2)),OFFSET($A$1,ROW()-1,COLUMN()-3),OFFSET($A$1,ROW()-1,COLUMN()-3)+1000)","v":1169},null,{"$f":"IF('手順２・３・４社員タイプ#10'!$B$46=\"\",\"\", '手順２・３・４社員タイプ#10'!$B$46)","v":""},null,{"$f":"'手順２・３・４社員タイプ#10'!$C$46","v":0},null,null,null,null,null,169,null,{"$f":"IF(AND(OFFSET($A$1,ROW()-1,COLUMN()-11)<>\"\",OR(OFFSET($A$1,ROW()-1,COLUMN()-9)=1,OFFSET($A$1,ROW()-1,COLUMN()-9)=2)),OFFSET($A$1,ROW()-1,COLUMN()-3),OFFSET($A$1,ROW()-1,COLUMN()-3)+1000)","v":1169}]
[null,null,null,null,null,null,null,null,null,null,null,null,null,null,null,null,null,null,null,null,"待遇の違いの有無",null,"支給の目的",null,2,null,null,null,170,null,{"$f":"OFFSET($A$1,ROW()-2,COLUMN()-1)+1","v":1170},null,"待遇の違いの有無",null,"支給の目的",null,2,null,null,null,170,null,{"$f":"OFFSET($A$1,ROW()-2,COLUMN()-1)+1","v":1170},null,"待遇の違いの有無",null,"支給の目的",null,2,null,null,null,170,null,{"$f":"OFFSET($A$1,ROW()-2,COLUMN()-1)+1","v":1170},null,"待遇の違いの有無",null,"支給の目的",null,2,null,null,null,170,null,{"$f":"OFFSET($A$1,ROW()-2,COLUMN()-1)+1","v":1170},null,"待遇の違いの有無",null,"支給の目的",null,2,null,null,null,170,null,{"$f":"OFFSET($A$1,ROW()-2,COLUMN()-1)+1","v":1170},null,"待遇の違いの有無",null,"支給の目的",null,2,null,null,null,170,null,{"$f":"OFFSET($A$1,ROW()-2,COLUMN()-1)+1","v":1170},null,"待遇の違いの有無",null,"支給の目的",null,2,null,null,null,170,null,{"$f":"OFFSET($A$1,ROW()-2,COLUMN()-1)+1","v":1170},null,"待遇の違いの有無",null,"支給の目的",null,2,null,null,null,170,null,{"$f":"OFFSET($A$1,ROW()-2,COLUMN()-1)+1","v":1170},null,"待遇の違いの有無",null,"支給の目的",null,2,null,null,null,170,null,{"$f":"OFFSET($A$1,ROW()-2,COLUMN()-1)+1","v":1170},null,"待遇の違いの有無",null,"支給の目的",null,2,null,null,null,170,null,{"$f":"OFFSET($A$1,ROW()-2,COLUMN()-1)+1","v":1170}]
[null,null,null,null,null,null,null,null,null,null,null,null,null,null,null,null,null,null,null,null,{"$f":"OFFSET($C$14,OFFSET($A$1,ROW()-3,COLUMN()+1),0)","v":" "},null,null,null,2,null,null,null,171,null,1171,null,{"$f":"OFFSET($C$14,OFFSET($A$1,ROW()-3,COLUMN()+1),0)","v":" "},null,null,null,2,null,null,null,171,null,1171,null,{"$f":"OFFSET($C$14,OFFSET($A$1,ROW()-3,COLUMN()+1),0)","v":" "},null,null,null,2,null,null,null,171,null,1171,null,{"$f":"OFFSET($C$14,OFFSET($A$1,ROW()-3,COLUMN()+1),0)","v":" "},null,null,null,2,null,null,null,171,null,1171,null,{"$f":"OFFSET($C$14,OFFSET($A$1,ROW()-3,COLUMN()+1),0)","v":" "},null,null,null,2,null,null,null,171,null,1171,null,{"$f":"OFFSET($C$14,OFFSET($A$1,ROW()-3,COLUMN()+1),0)","v":" "},null,null,null,2,null,null,null,171,null,1171,null,{"$f":"OFFSET($C$14,OFFSET($A$1,ROW()-3,COLUMN()+1),0)","v":" "},null,null,null,2,null,null,null,171,null,1171,null,{"$f":"OFFSET($C$14,OFFSET($A$1,ROW()-3,COLUMN()+1),0)","v":" "},null,null,null,2,null,null,null,171,null,1171,null,{"$f":"OFFSET($C$14,OFFSET($A$1,ROW()-3,COLUMN()+1),0)","v":" "},null,null,null,2,null,null,null,171,null,1171,null,{"$f":"OFFSET($C$14,OFFSET($A$1,ROW()-3,COLUMN()+1),0)","v":" "},null,null,null,2,null,null,null,171,null,1171]
[null,null,null,null,null,null,null,null,null,null,null,null,null,null,null,null,null,null,null,null,"正社員",null,"短時間労働者・有期雇用労働者",null,null,null,null,null,172,null,1172,null,"正社員",null,"短時間労働者・有期雇用労働者",null,null,null,null,null,172,null,1172,null,"正社員",null,"短時間労働者・有期雇用労働者",null,null,null,null,null,172,null,1172,null,"正社員",null,"短時間労働者・有期雇用労働者",null,null,null,null,null,172,null,1172,null,"正社員",null,"短時間労働者・有期雇用労働者",null,null,null,null,null,172,null,1172,null,"正社員",null,"短時間労働者・有期雇用労働者",null,null,null,null,null,172,null,1172,null,"正社員",null,"短時間労働者・有期雇用労働者",null,null,null,null,null,172,null,1172,null,"正社員",null,"短時間労働者・有期雇用労働者",null,null,null,null,null,172,null,1172,null,"正社員",null,"短時間労働者・有期雇用労働者",null,null,null,null,null,172,null,1172,null,"正社員",null,"短時間労働者・有期雇用労働者",null,null,null,null,null,172,null,1172]
[null,null,null,null,null,null,null,null,null,null,null,null,null,null,null,null,null,null,null,null,{"$f":"IF(OFFSET($A$1,ROW()-5,COLUMN()+1)<>2,\"\",'手順２・３・４社員タイプ#01'!$E$46&\"\")","v":""},null,{"$f":"IF(OFFSET($A$1,ROW()-5,COLUMN()-1)<>2,\"\",'手順２・３・４社員タイプ#01'!$F$46&\"\")","v":""},null,{"$f":"IF(OFFSET($A$1,ROW()-5,COLUMN()-3)<>2,1,0)","v":1},null,{"$f":"OFFSET($A$1,ROW()-1,COLUMN()-3)","v":1},null,173,null,1173,null,{"$f":"IF(OFFSET($A$1,ROW()-5,COLUMN()+1)<>2,\"\",'手順２・３・４社員タイプ#02'!$E$46&\"\")","v":""},null,{"$f":"IF(OFFSET($A$1,ROW()-5,COLUMN()-1)<>2,\"\",'手順２・３・４社員タイプ#02'!$F$46&\"\")","v":""},null,{"$f":"IF(OFFSET($A$1,ROW()-5,COLUMN()-3)<>2,1,0)","v":1},null,{"$f":"OFFSET($A$1,ROW()-1,COLUMN()-3)","v":1},null,173,null,1173,null,{"$f":"IF(OFFSET($A$1,ROW()-5,COLUMN()+1)<>2,\"\",'手順２・３・４社員タイプ#03'!$E$46&\"\")","v":""},null,{"$f":"IF(OFFSET($A$1,ROW()-5,COLUMN()-1)<>2,\"\",'手順２・３・４社員タイプ#03'!$F$46&\"\")","v":""},null,{"$f":"IF(OFFSET($A$1,ROW()-5,COLUMN()-3)<>2,1,0)","v":1},null,{"$f":"OFFSET($A$1,ROW()-1,COLUMN()-3)","v":1},null,173,null,1173,null,{"$f":"IF(OFFSET($A$1,ROW()-5,COLUMN()+1)<>2,\"\",'手順２・３・４社員タイプ#04'!$E$46&\"\")","v":""},null,{"$f":"IF(OFFSET($A$1,ROW()-5,COLUMN()-1)<>2,\"\",'手順２・３・４社員タイプ#04'!$F$46&\"\")","v":""},null,{"$f":"IF(OFFSET($A$1,ROW()-5,COLUMN()-3)<>2,1,0)","v":1},null,{"$f":"OFFSET($A$1,ROW()-1,COLUMN()-3)","v":1},null,173,null,1173,null,{"$f":"IF(OFFSET($A$1,ROW()-5,COLUMN()+1)<>2,\"\",'手順２・３・４社員タイプ#05'!$E$46&\"\")","v":""},null,{"$f":"IF(OFFSET($A$1,ROW()-5,COLUMN()-1)<>2,\"\",'手順２・３・４社員タイプ#05'!$F$46&\"\")","v":""},null,{"$f":"IF(OFFSET($A$1,ROW()-5,COLUMN()-3)<>2,1,0)","v":1},null,{"$f":"OFFSET($A$1,ROW()-1,COLUMN()-3)","v":1},null,173,null,1173,null,{"$f":"IF(OFFSET($A$1,ROW()-5,COLUMN()+1)<>2,\"\",'手順２・３・４社員タイプ#06'!$E$46&\"\")","v":""},null,{"$f":"IF(OFFSET($A$1,ROW()-5,COLUMN()-1)<>2,\"\",'手順２・３・４社員タイプ#06'!$F$46&\"\")","v":""},null,{"$f":"IF(OFFSET($A$1,ROW()-5,COLUMN()-3)<>2,1,0)","v":1},null,{"$f":"OFFSET($A$1,ROW()-1,COLUMN()-3)","v":1},null,173,null,1173,null,{"$f":"IF(OFFSET($A$1,ROW()-5,COLUMN()+1)<>2,\"\",'手順２・３・４社員タイプ#07'!$E$46&\"\")","v":""},null,{"$f":"IF(OFFSET($A$1,ROW()-5,COLUMN()-1)<>2,\"\",'手順２・３・４社員タイプ#07'!$F$46&\"\")","v":""},null,{"$f":"IF(OFFSET($A$1,ROW()-5,COLUMN()-3)<>2,1,0)","v":1},null,{"$f":"OFFSET($A$1,ROW()-1,COLUMN()-3)","v":1},null,173,null,1173,null,{"$f":"IF(OFFSET($A$1,ROW()-5,COLUMN()+1)<>2,\"\",'手順２・３・４社員タイプ#08'!$E$46&\"\")","v":""},null,{"$f":"IF(OFFSET($A$1,ROW()-5,COLUMN()-1)<>2,\"\",'手順２・３・４社員タイプ#08'!$F$46&\"\")","v":""},null,{"$f":"IF(OFFSET($A$1,ROW()-5,COLUMN()-3)<>2,1,0)","v":1},null,{"$f":"OFFSET($A$1,ROW()-1,COLUMN()-3)","v":1},null,173,null,1173,null,{"$f":"IF(OFFSET($A$1,ROW()-5,COLUMN()+1)<>2,\"\",'手順２・３・４社員タイプ#09'!$E$46&\"\")","v":""},null,{"$f":"IF(OFFSET($A$1,ROW()-5,COLUMN()-1)<>2,\"\",'手順２・３・４社員タイプ#09'!$F$46&\"\")","v":""},null,{"$f":"IF(OFFSET($A$1,ROW()-5,COLUMN()-3)<>2,1,0)","v":1},null,{"$f":"OFFSET($A$1,ROW()-1,COLUMN()-3)","v":1},null,173,null,1173,null,{"$f":"IF(OFFSET($A$1,ROW()-5,COLUMN()+1)<>2,\"\",'手順２・３・４社員タイプ#10'!$E$46&\"\")","v":""},null,{"$f":"IF(OFFSET($A$1,ROW()-5,COLUMN()-1)<>2,\"\",'手順２・３・４社員タイプ#10'!$F$46&\"\")","v":""},null,{"$f":"IF(OFFSET($A$1,ROW()-5,COLUMN()-3)<>2,1,0)","v":1},null,{"$f":"OFFSET($A$1,ROW()-1,COLUMN()-3)","v":1},null,173,null,1173]
[null,null,null,null,null,null,null,null,null,null,null,null,null,null,null,null,null,null,null,null,"違いを設けている理由",null,"対応方針",null,null,null,null,null,174,null,1174,null,"違いを設けている理由",null,"対応方針",null,null,null,null,null,174,null,1174,null,"違いを設けている理由",null,"対応方針",null,null,null,null,null,174,null,1174,null,"違いを設けている理由",null,"対応方針",null,null,null,null,null,174,null,1174,null,"違いを設けている理由",null,"対応方針",null,null,null,null,null,174,null,1174,null,"違いを設けている理由",null,"対応方針",null,null,null,null,null,174,null,1174,null,"違いを設けている理由",null,"対応方針",null,null,null,null,null,174,null,1174,null,"違いを設けている理由",null,"対応方針",null,null,null,null,null,174,null,1174,null,"違いを設けている理由",null,"対応方針",null,null,null,null,null,174,null,1174,null,"違いを設けている理由",null,"対応方針",null,null,null,null,null,174,null,1174]
[null,null,null,null,null,null,null,null,null,null,null,null,null,null,null,null,null,null,null,null,{"$f":"IF(OFFSET($A$1,ROW()-7,COLUMN()+1)<>2,\"\",'手順２・３・４社員タイプ#01'!$G$46&\"\")","v":""},null,{"$f":"IF(OFFSET($A$1,ROW()-7,COLUMN()-1)<>2,\"\",'手順２・３・４社員タイプ#01'!$H$46&\"\")","v":""},null,{"$f":"OFFSET($A$1,ROW()-3,COLUMN()-1)","v":1},null,{"$f":"OFFSET($A$1,ROW()-3,COLUMN()-3)","v":1},null,175,null,1175,null,{"$f":"IF(OFFSET($A$1,ROW()-7,COLUMN()+1)<>2,\"\",'手順２・３・４社員タイプ#02'!$G$46&\"\")","v":""},null,{"$f":"IF(OFFSET($A$1,ROW()-7,COLUMN()-1)<>2,\"\",'手順２・３・４社員タイプ#02'!$H$46&\"\")","v":""},null,{"$f":"OFFSET($A$1,ROW()-3,COLUMN()-1)","v":1},null,{"$f":"OFFSET($A$1,ROW()-3,COLUMN()-3)","v":1},null,175,null,1175,null,{"$f":"IF(OFFSET($A$1,ROW()-7,COLUMN()+1)<>2,\"\",'手順２・３・４社員タイプ#03'!$G$46&\"\")","v":""},null,{"$f":"IF(OFFSET($A$1,ROW()-7,COLUMN()-1)<>2,\"\",'手順２・３・４社員タイプ#03'!$H$46&\"\")","v":""},null,{"$f":"OFFSET($A$1,ROW()-3,COLUMN()-1)","v":1},null,{"$f":"OFFSET($A$1,ROW()-3,COLUMN()-3)","v":1},null,175,null,1175,null,{"$f":"IF(OFFSET($A$1,ROW()-7,COLUMN()+1)<>2,\"\",'手順２・３・４社員タイプ#04'!$G$46&\"\")","v":""},null,{"$f":"IF(OFFSET($A$1,ROW()-7,COLUMN()-1)<>2,\"\",'手順２・３・４社員タイプ#04'!$H$46&\"\")","v":""},null,{"$f":"OFFSET($A$1,ROW()-3,COLUMN()-1)","v":1},null,{"$f":"OFFSET($A$1,ROW()-3,COLUMN()-3)","v":1},null,175,null,1175,null,{"$f":"IF(OFFSET($A$1,ROW()-7,COLUMN()+1)<>2,\"\",'手順２・３・４社員タイプ#05'!$G$46&\"\")","v":""},null,{"$f":"IF(OFFSET($A$1,ROW()-7,COLUMN()-1)<>2,\"\",'手順２・３・４社員タイプ#05'!$H$46&\"\")","v":""},null,{"$f":"OFFSET($A$1,ROW()-3,COLUMN()-1)","v":1},null,{"$f":"OFFSET($A$1,ROW()-3,COLUMN()-3)","v":1},null,175,null,1175,null,{"$f":"IF(OFFSET($A$1,ROW()-7,COLUMN()+1)<>2,\"\",'手順２・３・４社員タイプ#06'!$G$46&\"\")","v":""},null,{"$f":"IF(OFFSET($A$1,ROW()-7,COLUMN()-1)<>2,\"\",'手順２・３・４社員タイプ#06'!$H$46&\"\")","v":""},null,{"$f":"OFFSET($A$1,ROW()-3,COLUMN()-1)","v":1},null,{"$f":"OFFSET($A$1,ROW()-3,COLUMN()-3)","v":1},null,175,null,1175,null,{"$f":"IF(OFFSET($A$1,ROW()-7,COLUMN()+1)<>2,\"\",'手順２・３・４社員タイプ#07'!$G$46&\"\")","v":""},null,{"$f":"IF(OFFSET($A$1,ROW()-7,COLUMN()-1)<>2,\"\",'手順２・３・４社員タイプ#07'!$H$46&\"\")","v":""},null,{"$f":"OFFSET($A$1,ROW()-3,COLUMN()-1)","v":1},null,{"$f":"OFFSET($A$1,ROW()-3,COLUMN()-3)","v":1},null,175,null,1175,null,{"$f":"IF(OFFSET($A$1,ROW()-7,COLUMN()+1)<>2,\"\",'手順２・３・４社員タイプ#08'!$G$46&\"\")","v":""},null,{"$f":"IF(OFFSET($A$1,ROW()-7,COLUMN()-1)<>2,\"\",'手順２・３・４社員タイプ#08'!$H$46&\"\")","v":""},null,{"$f":"OFFSET($A$1,ROW()-3,COLUMN()-1)","v":1},null,{"$f":"OFFSET($A$1,ROW()-3,COLUMN()-3)","v":1},null,175,null,1175,null,{"$f":"IF(OFFSET($A$1,ROW()-7,COLUMN()+1)<>2,\"\",'手順２・３・４社員タイプ#09'!$G$46&\"\")","v":""},null,{"$f":"IF(OFFSET($A$1,ROW()-7,COLUMN()-1)<>2,\"\",'手順２・３・４社員タイプ#09'!$H$46&\"\")","v":""},null,{"$f":"OFFSET($A$1,ROW()-3,COLUMN()-1)","v":1},null,{"$f":"OFFSET($A$1,ROW()-3,COLUMN()-3)","v":1},null,175,null,1175,null,{"$f":"IF(OFFSET($A$1,ROW()-7,COLUMN()+1)<>2,\"\",'手順２・３・４社員タイプ#10'!$G$46&\"\")","v":""},null,{"$f":"IF(OFFSET($A$1,ROW()-7,COLUMN()-1)<>2,\"\",'手順２・３・４社員タイプ#10'!$H$46&\"\")","v":""},null,{"$f":"OFFSET($A$1,ROW()-3,COLUMN()-1)","v":1},null,{"$f":"OFFSET($A$1,ROW()-3,COLUMN()-3)","v":1},null,175,null,1175]
[null,null,null,null,null,null,null,null,null,null,null,null,null,null,null,null,null,null,null,null,{"$f":"IF('手順２・３・４社員タイプ#01'!$B$47=\"\",\"\", '手順２・３・４社員タイプ#01'!$B$47)","v":""},null,{"$f":"'手順２・３・４社員タイプ#01'!$C$47","v":0},null,null,null,null,null,176,null,{"$f":"IF(AND(OFFSET($A$1,ROW()-1,COLUMN()-11)<>\"\",OR(OFFSET($A$1,ROW()-1,COLUMN()-9)=1,OFFSET($A$1,ROW()-1,COLUMN()-9)=2)),OFFSET($A$1,ROW()-1,COLUMN()-3),OFFSET($A$1,ROW()-1,COLUMN()-3)+1000)","v":1176},null,{"$f":"IF('手順２・３・４社員タイプ#02'!$B$47=\"\",\"\", '手順２・３・４社員タイプ#02'!$B$47)","v":""},null,{"$f":"'手順２・３・４社員タイプ#02'!$C$47","v":0},null,null,null,null,null,176,null,{"$f":"IF(AND(OFFSET($A$1,ROW()-1,COLUMN()-11)<>\"\",OR(OFFSET($A$1,ROW()-1,COLUMN()-9)=1,OFFSET($A$1,ROW()-1,COLUMN()-9)=2)),OFFSET($A$1,ROW()-1,COLUMN()-3),OFFSET($A$1,ROW()-1,COLUMN()-3)+1000)","v":1176},null,{"$f":"IF('手順２・３・４社員タイプ#03'!$B$47=\"\",\"\", '手順２・３・４社員タイプ#03'!$B$47)","v":""},null,{"$f":"'手順２・３・４社員タイプ#03'!$C$47","v":0},null,null,null,null,null,176,null,{"$f":"IF(AND(OFFSET($A$1,ROW()-1,COLUMN()-11)<>\"\",OR(OFFSET($A$1,ROW()-1,COLUMN()-9)=1,OFFSET($A$1,ROW()-1,COLUMN()-9)=2)),OFFSET($A$1,ROW()-1,COLUMN()-3),OFFSET($A$1,ROW()-1,COLUMN()-3)+1000)","v":1176},null,{"$f":"IF('手順２・３・４社員タイプ#04'!$B$47=\"\",\"\", '手順２・３・４社員タイプ#04'!$B$47)","v":""},null,{"$f":"'手順２・３・４社員タイプ#04'!$C$47","v":0},null,null,null,null,null,176,null,{"$f":"IF(AND(OFFSET($A$1,ROW()-1,COLUMN()-11)<>\"\",OR(OFFSET($A$1,ROW()-1,COLUMN()-9)=1,OFFSET($A$1,ROW()-1,COLUMN()-9)=2)),OFFSET($A$1,ROW()-1,COLUMN()-3),OFFSET($A$1,ROW()-1,COLUMN()-3)+1000)","v":1176},null,{"$f":"IF('手順２・３・４社員タイプ#05'!$B$47=\"\",\"\", '手順２・３・４社員タイプ#05'!$B$47)","v":""},null,{"$f":"'手順２・３・４社員タイプ#05'!$C$47","v":0},null,null,null,null,null,176,null,{"$f":"IF(AND(OFFSET($A$1,ROW()-1,COLUMN()-11)<>\"\",OR(OFFSET($A$1,ROW()-1,COLUMN()-9)=1,OFFSET($A$1,ROW()-1,COLUMN()-9)=2)),OFFSET($A$1,ROW()-1,COLUMN()-3),OFFSET($A$1,ROW()-1,COLUMN()-3)+1000)","v":1176},null,{"$f":"IF('手順２・３・４社員タイプ#06'!$B$47=\"\",\"\", '手順２・３・４社員タイプ#06'!$B$47)","v":""},null,{"$f":"'手順２・３・４社員タイプ#06'!$C$47","v":0},null,null,null,null,null,176,null,{"$f":"IF(AND(OFFSET($A$1,ROW()-1,COLUMN()-11)<>\"\",OR(OFFSET($A$1,ROW()-1,COLUMN()-9)=1,OFFSET($A$1,ROW()-1,COLUMN()-9)=2)),OFFSET($A$1,ROW()-1,COLUMN()-3),OFFSET($A$1,ROW()-1,COLUMN()-3)+1000)","v":1176},null,{"$f":"IF('手順２・３・４社員タイプ#07'!$B$47=\"\",\"\", '手順２・３・４社員タイプ#07'!$B$47)","v":""},null,{"$f":"'手順２・３・４社員タイプ#07'!$C$47","v":0},null,null,null,null,null,176,null,{"$f":"IF(AND(OFFSET($A$1,ROW()-1,COLUMN()-11)<>\"\",OR(OFFSET($A$1,ROW()-1,COLUMN()-9)=1,OFFSET($A$1,ROW()-1,COLUMN()-9)=2)),OFFSET($A$1,ROW()-1,COLUMN()-3),OFFSET($A$1,ROW()-1,COLUMN()-3)+1000)","v":1176},null,{"$f":"IF('手順２・３・４社員タイプ#08'!$B$47=\"\",\"\", '手順２・３・４社員タイプ#08'!$B$47)","v":""},null,{"$f":"'手順２・３・４社員タイプ#08'!$C$47","v":0},null,null,null,null,null,176,null,{"$f":"IF(AND(OFFSET($A$1,ROW()-1,COLUMN()-11)<>\"\",OR(OFFSET($A$1,ROW()-1,COLUMN()-9)=1,OFFSET($A$1,ROW()-1,COLUMN()-9)=2)),OFFSET($A$1,ROW()-1,COLUMN()-3),OFFSET($A$1,ROW()-1,COLUMN()-3)+1000)","v":1176},null,{"$f":"IF('手順２・３・４社員タイプ#09'!$B$47=\"\",\"\", '手順２・３・４社員タイプ#09'!$B$47)","v":""},null,{"$f":"'手順２・３・４社員タイプ#09'!$C$47","v":0},null,null,null,null,null,176,null,{"$f":"IF(AND(OFFSET($A$1,ROW()-1,COLUMN()-11)<>\"\",OR(OFFSET($A$1,ROW()-1,COLUMN()-9)=1,OFFSET($A$1,ROW()-1,COLUMN()-9)=2)),OFFSET($A$1,ROW()-1,COLUMN()-3),OFFSET($A$1,ROW()-1,COLUMN()-3)+1000)","v":1176},null,{"$f":"IF('手順２・３・４社員タイプ#10'!$B$47=\"\",\"\", '手順２・３・４社員タイプ#10'!$B$47)","v":""},null,{"$f":"'手順２・３・４社員タイプ#10'!$C$47","v":0},null,null,null,null,null,176,null,{"$f":"IF(AND(OFFSET($A$1,ROW()-1,COLUMN()-11)<>\"\",OR(OFFSET($A$1,ROW()-1,COLUMN()-9)=1,OFFSET($A$1,ROW()-1,COLUMN()-9)=2)),OFFSET($A$1,ROW()-1,COLUMN()-3),OFFSET($A$1,ROW()-1,COLUMN()-3)+1000)","v":1176}]
[null,null,null,null,null,null,null,null,null,null,null,null,null,null,null,null,null,null,null,null,"待遇の違いの有無",null,"支給の目的",null,2,null,null,null,177,null,{"$f":"OFFSET($A$1,ROW()-2,COLUMN()-1)+1","v":1177},null,"待遇の違いの有無",null,"支給の目的",null,2,null,null,null,177,null,{"$f":"OFFSET($A$1,ROW()-2,COLUMN()-1)+1","v":1177},null,"待遇の違いの有無",null,"支給の目的",null,2,null,null,null,177,null,{"$f":"OFFSET($A$1,ROW()-2,COLUMN()-1)+1","v":1177},null,"待遇の違いの有無",null,"支給の目的",null,2,null,null,null,177,null,{"$f":"OFFSET($A$1,ROW()-2,COLUMN()-1)+1","v":1177},null,"待遇の違いの有無",null,"支給の目的",null,2,null,null,null,177,null,{"$f":"OFFSET($A$1,ROW()-2,COLUMN()-1)+1","v":1177},null,"待遇の違いの有無",null,"支給の目的",null,2,null,null,null,177,null,{"$f":"OFFSET($A$1,ROW()-2,COLUMN()-1)+1","v":1177},null,"待遇の違いの有無",null,"支給の目的",null,2,null,null,null,177,null,{"$f":"OFFSET($A$1,ROW()-2,COLUMN()-1)+1","v":1177},null,"待遇の違いの有無",null,"支給の目的",null,2,null,null,null,177,null,{"$f":"OFFSET($A$1,ROW()-2,COLUMN()-1)+1","v":1177},null,"待遇の違いの有無",null,"支給の目的",null,2,null,null,null,177,null,{"$f":"OFFSET($A$1,ROW()-2,COLUMN()-1)+1","v":1177},null,"待遇の違いの有無",null,"支給の目的",null,2,null,null,null,177,null,{"$f":"OFFSET($A$1,ROW()-2,COLUMN()-1)+1","v":1177}]
[null,null,null,null,null,null,null,null,null,null,null,null,null,null,null,null,null,null,null,null,{"$f":"OFFSET($C$14,OFFSET($A$1,ROW()-3,COLUMN()+1),0)","v":" "},null,null,null,2,null,null,null,178,null,1178,null,{"$f":"OFFSET($C$14,OFFSET($A$1,ROW()-3,COLUMN()+1),0)","v":" "},null,null,null,2,null,null,null,178,null,1178,null,{"$f":"OFFSET($C$14,OFFSET($A$1,ROW()-3,COLUMN()+1),0)","v":" "},null,null,null,2,null,null,null,178,null,1178,null,{"$f":"OFFSET($C$14,OFFSET($A$1,ROW()-3,COLUMN()+1),0)","v":" "},null,null,null,2,null,null,null,178,null,1178,null,{"$f":"OFFSET($C$14,OFFSET($A$1,ROW()-3,COLUMN()+1),0)","v":" "},null,null,null,2,null,null,null,178,null,1178,null,{"$f":"OFFSET($C$14,OFFSET($A$1,ROW()-3,COLUMN()+1),0)","v":" "},null,null,null,2,null,null,null,178,null,1178,null,{"$f":"OFFSET($C$14,OFFSET($A$1,ROW()-3,COLUMN()+1),0)","v":" "},null,null,null,2,null,null,null,178,null,1178,null,{"$f":"OFFSET($C$14,OFFSET($A$1,ROW()-3,COLUMN()+1),0)","v":" "},null,null,null,2,null,null,null,178,null,1178,null,{"$f":"OFFSET($C$14,OFFSET($A$1,ROW()-3,COLUMN()+1),0)","v":" "},null,null,null,2,null,null,null,178,null,1178,null,{"$f":"OFFSET($C$14,OFFSET($A$1,ROW()-3,COLUMN()+1),0)","v":" "},null,null,null,2,null,null,null,178,null,1178]
[null,null,null,null,null,null,null,null,null,null,null,null,null,null,null,null,null,null,null,null,"正社員",null,"短時間労働者・有期雇用労働者",null,null,null,null,null,179,null,1179,null,"正社員",null,"短時間労働者・有期雇用労働者",null,null,null,null,null,179,null,1179,null,"正社員",null,"短時間労働者・有期雇用労働者",null,null,null,null,null,179,null,1179,null,"正社員",null,"短時間労働者・有期雇用労働者",null,null,null,null,null,179,null,1179,null,"正社員",null,"短時間労働者・有期雇用労働者",null,null,null,null,null,179,null,1179,null,"正社員",null,"短時間労働者・有期雇用労働者",null,null,null,null,null,179,null,1179,null,"正社員",null,"短時間労働者・有期雇用労働者",null,null,null,null,null,179,null,1179,null,"正社員",null,"短時間労働者・有期雇用労働者",null,null,null,null,null,179,null,1179,null,"正社員",null,"短時間労働者・有期雇用労働者",null,null,null,null,null,179,null,1179,null,"正社員",null,"短時間労働者・有期雇用労働者",null,null,null,null,null,179,null,1179]
[null,null,null,null,null,null,null,null,null,null,null,null,null,null,null,null,null,null,null,null,{"$f":"IF(OFFSET($A$1,ROW()-5,COLUMN()+1)<>2,\"\",'手順２・３・４社員タイプ#01'!$E$47&\"\")","v":""},null,{"$f":"IF(OFFSET($A$1,ROW()-5,COLUMN()-1)<>2,\"\",'手順２・３・４社員タイプ#01'!$F$47&\"\")","v":""},null,{"$f":"IF(OFFSET($A$1,ROW()-5,COLUMN()-3)<>2,1,0)","v":1},null,{"$f":"OFFSET($A$1,ROW()-1,COLUMN()-3)","v":1},null,180,null,1180,null,{"$f":"IF(OFFSET($A$1,ROW()-5,COLUMN()+1)<>2,\"\",'手順２・３・４社員タイプ#02'!$E$47&\"\")","v":""},null,{"$f":"IF(OFFSET($A$1,ROW()-5,COLUMN()-1)<>2,\"\",'手順２・３・４社員タイプ#02'!$F$47&\"\")","v":""},null,{"$f":"IF(OFFSET($A$1,ROW()-5,COLUMN()-3)<>2,1,0)","v":1},null,{"$f":"OFFSET($A$1,ROW()-1,COLUMN()-3)","v":1},null,180,null,1180,null,{"$f":"IF(OFFSET($A$1,ROW()-5,COLUMN()+1)<>2,\"\",'手順２・３・４社員タイプ#03'!$E$47&\"\")","v":""},null,{"$f":"IF(OFFSET($A$1,ROW()-5,COLUMN()-1)<>2,\"\",'手順２・３・４社員タイプ#03'!$F$47&\"\")","v":""},null,{"$f":"IF(OFFSET($A$1,ROW()-5,COLUMN()-3)<>2,1,0)","v":1},null,{"$f":"OFFSET($A$1,ROW()-1,COLUMN()-3)","v":1},null,180,null,1180,null,{"$f":"IF(OFFSET($A$1,ROW()-5,COLUMN()+1)<>2,\"\",'手順２・３・４社員タイプ#04'!$E$47&\"\")","v":""},null,{"$f":"IF(OFFSET($A$1,ROW()-5,COLUMN()-1)<>2,\"\",'手順２・３・４社員タイプ#04'!$F$47&\"\")","v":""},null,{"$f":"IF(OFFSET($A$1,ROW()-5,COLUMN()-3)<>2,1,0)","v":1},null,{"$f":"OFFSET($A$1,ROW()-1,COLUMN()-3)","v":1},null,180,null,1180,null,{"$f":"IF(OFFSET($A$1,ROW()-5,COLUMN()+1)<>2,\"\",'手順２・３・４社員タイプ#05'!$E$47&\"\")","v":""},null,{"$f":"IF(OFFSET($A$1,ROW()-5,COLUMN()-1)<>2,\"\",'手順２・３・４社員タイプ#05'!$F$47&\"\")","v":""},null,{"$f":"IF(OFFSET($A$1,ROW()-5,COLUMN()-3)<>2,1,0)","v":1},null,{"$f":"OFFSET($A$1,ROW()-1,COLUMN()-3)","v":1},null,180,null,1180,null,{"$f":"IF(OFFSET($A$1,ROW()-5,COLUMN()+1)<>2,\"\",'手順２・３・４社員タイプ#06'!$E$47&\"\")","v":""},null,{"$f":"IF(OFFSET($A$1,ROW()-5,COLUMN()-1)<>2,\"\",'手順２・３・４社員タイプ#06'!$F$47&\"\")","v":""},null,{"$f":"IF(OFFSET($A$1,ROW()-5,COLUMN()-3)<>2,1,0)","v":1},null,{"$f":"OFFSET($A$1,ROW()-1,COLUMN()-3)","v":1},null,180,null,1180,null,{"$f":"IF(OFFSET($A$1,ROW()-5,COLUMN()+1)<>2,\"\",'手順２・３・４社員タイプ#07'!$E$47&\"\")","v":""},null,{"$f":"IF(OFFSET($A$1,ROW()-5,COLUMN()-1)<>2,\"\",'手順２・３・４社員タイプ#07'!$F$47&\"\")","v":""},null,{"$f":"IF(OFFSET($A$1,ROW()-5,COLUMN()-3)<>2,1,0)","v":1},null,{"$f":"OFFSET($A$1,ROW()-1,COLUMN()-3)","v":1},null,180,null,1180,null,{"$f":"IF(OFFSET($A$1,ROW()-5,COLUMN()+1)<>2,\"\",'手順２・３・４社員タイプ#08'!$E$47&\"\")","v":""},null,{"$f":"IF(OFFSET($A$1,ROW()-5,COLUMN()-1)<>2,\"\",'手順２・３・４社員タイプ#08'!$F$47&\"\")","v":""},null,{"$f":"IF(OFFSET($A$1,ROW()-5,COLUMN()-3)<>2,1,0)","v":1},null,{"$f":"OFFSET($A$1,ROW()-1,COLUMN()-3)","v":1},null,180,null,1180,null,{"$f":"IF(OFFSET($A$1,ROW()-5,COLUMN()+1)<>2,\"\",'手順２・３・４社員タイプ#09'!$E$47&\"\")","v":""},null,{"$f":"IF(OFFSET($A$1,ROW()-5,COLUMN()-1)<>2,\"\",'手順２・３・４社員タイプ#09'!$F$47&\"\")","v":""},null,{"$f":"IF(OFFSET($A$1,ROW()-5,COLUMN()-3)<>2,1,0)","v":1},null,{"$f":"OFFSET($A$1,ROW()-1,COLUMN()-3)","v":1},null,180,null,1180,null,{"$f":"IF(OFFSET($A$1,ROW()-5,COLUMN()+1)<>2,\"\",'手順２・３・４社員タイプ#10'!$E$47&\"\")","v":""},null,{"$f":"IF(OFFSET($A$1,ROW()-5,COLUMN()-1)<>2,\"\",'手順２・３・４社員タイプ#10'!$F$47&\"\")","v":""},null,{"$f":"IF(OFFSET($A$1,ROW()-5,COLUMN()-3)<>2,1,0)","v":1},null,{"$f":"OFFSET($A$1,ROW()-1,COLUMN()-3)","v":1},null,180,null,1180]
[null,null,null,null,null,null,null,null,null,null,null,null,null,null,null,null,null,null,null,null,"違いを設けている理由",null,"対応方針",null,null,null,null,null,181,null,1181,null,"違いを設けている理由",null,"対応方針",null,null,null,null,null,181,null,1181,null,"違いを設けている理由",null,"対応方針",null,null,null,null,null,181,null,1181,null,"違いを設けている理由",null,"対応方針",null,null,null,null,null,181,null,1181,null,"違いを設けている理由",null,"対応方針",null,null,null,null,null,181,null,1181,null,"違いを設けている理由",null,"対応方針",null,null,null,null,null,181,null,1181,null,"違いを設けている理由",null,"対応方針",null,null,null,null,null,181,null,1181,null,"違いを設けている理由",null,"対応方針",null,null,null,null,null,181,null,1181,null,"違いを設けている理由",null,"対応方針",null,null,null,null,null,181,null,1181,null,"違いを設けている理由",null,"対応方針",null,null,null,null,null,181,null,1181]
[null,null,null,null,null,null,null,null,null,null,null,null,null,null,null,null,null,null,null,null,{"$f":"IF(OFFSET($A$1,ROW()-7,COLUMN()+1)<>2,\"\",'手順２・３・４社員タイプ#01'!$G$47&\"\")","v":""},null,{"$f":"IF(OFFSET($A$1,ROW()-7,COLUMN()-1)<>2,\"\",'手順２・３・４社員タイプ#01'!$H$47&\"\")","v":""},null,{"$f":"OFFSET($A$1,ROW()-3,COLUMN()-1)","v":1},null,{"$f":"OFFSET($A$1,ROW()-3,COLUMN()-3)","v":1},null,182,null,1182,null,{"$f":"IF(OFFSET($A$1,ROW()-7,COLUMN()+1)<>2,\"\",'手順２・３・４社員タイプ#02'!$G$47&\"\")","v":""},null,{"$f":"IF(OFFSET($A$1,ROW()-7,COLUMN()-1)<>2,\"\",'手順２・３・４社員タイプ#02'!$H$47&\"\")","v":""},null,{"$f":"OFFSET($A$1,ROW()-3,COLUMN()-1)","v":1},null,{"$f":"OFFSET($A$1,ROW()-3,COLUMN()-3)","v":1},null,182,null,1182,null,{"$f":"IF(OFFSET($A$1,ROW()-7,COLUMN()+1)<>2,\"\",'手順２・３・４社員タイプ#03'!$G$47&\"\")","v":""},null,{"$f":"IF(OFFSET($A$1,ROW()-7,COLUMN()-1)<>2,\"\",'手順２・３・４社員タイプ#03'!$H$47&\"\")","v":""},null,{"$f":"OFFSET($A$1,ROW()-3,COLUMN()-1)","v":1},null,{"$f":"OFFSET($A$1,ROW()-3,COLUMN()-3)","v":1},null,182,null,1182,null,{"$f":"IF(OFFSET($A$1,ROW()-7,COLUMN()+1)<>2,\"\",'手順２・３・４社員タイプ#04'!$G$47&\"\")","v":""},null,{"$f":"IF(OFFSET($A$1,ROW()-7,COLUMN()-1)<>2,\"\",'手順２・３・４社員タイプ#04'!$H$47&\"\")","v":""},null,{"$f":"OFFSET($A$1,ROW()-3,COLUMN()-1)","v":1},null,{"$f":"OFFSET($A$1,ROW()-3,COLUMN()-3)","v":1},null,182,null,1182,null,{"$f":"IF(OFFSET($A$1,ROW()-7,COLUMN()+1)<>2,\"\",'手順２・３・４社員タイプ#05'!$G$47&\"\")","v":""},null,{"$f":"IF(OFFSET($A$1,ROW()-7,COLUMN()-1)<>2,\"\",'手順２・３・４社員タイプ#05'!$H$47&\"\")","v":""},null,{"$f":"OFFSET($A$1,ROW()-3,COLUMN()-1)","v":1},null,{"$f":"OFFSET($A$1,ROW()-3,COLUMN()-3)","v":1},null,182,null,1182,null,{"$f":"IF(OFFSET($A$1,ROW()-7,COLUMN()+1)<>2,\"\",'手順２・３・４社員タイプ#06'!$G$47&\"\")","v":""},null,{"$f":"IF(OFFSET($A$1,ROW()-7,COLUMN()-1)<>2,\"\",'手順２・３・４社員タイプ#06'!$H$47&\"\")","v":""},null,{"$f":"OFFSET($A$1,ROW()-3,COLUMN()-1)","v":1},null,{"$f":"OFFSET($A$1,ROW()-3,COLUMN()-3)","v":1},null,182,null,1182,null,{"$f":"IF(OFFSET($A$1,ROW()-7,COLUMN()+1)<>2,\"\",'手順２・３・４社員タイプ#07'!$G$47&\"\")","v":""},null,{"$f":"IF(OFFSET($A$1,ROW()-7,COLUMN()-1)<>2,\"\",'手順２・３・４社員タイプ#07'!$H$47&\"\")","v":""},null,{"$f":"OFFSET($A$1,ROW()-3,COLUMN()-1)","v":1},null,{"$f":"OFFSET($A$1,ROW()-3,COLUMN()-3)","v":1},null,182,null,1182,null,{"$f":"IF(OFFSET($A$1,ROW()-7,COLUMN()+1)<>2,\"\",'手順２・３・４社員タイプ#08'!$G$47&\"\")","v":""},null,{"$f":"IF(OFFSET($A$1,ROW()-7,COLUMN()-1)<>2,\"\",'手順２・３・４社員タイプ#08'!$H$47&\"\")","v":""},null,{"$f":"OFFSET($A$1,ROW()-3,COLUMN()-1)","v":1},null,{"$f":"OFFSET($A$1,ROW()-3,COLUMN()-3)","v":1},null,182,null,1182,null,{"$f":"IF(OFFSET($A$1,ROW()-7,COLUMN()+1)<>2,\"\",'手順２・３・４社員タイプ#09'!$G$47&\"\")","v":""},null,{"$f":"IF(OFFSET($A$1,ROW()-7,COLUMN()-1)<>2,\"\",'手順２・３・４社員タイプ#09'!$H$47&\"\")","v":""},null,{"$f":"OFFSET($A$1,ROW()-3,COLUMN()-1)","v":1},null,{"$f":"OFFSET($A$1,ROW()-3,COLUMN()-3)","v":1},null,182,null,1182,null,{"$f":"IF(OFFSET($A$1,ROW()-7,COLUMN()+1)<>2,\"\",'手順２・３・４社員タイプ#10'!$G$47&\"\")","v":""},null,{"$f":"IF(OFFSET($A$1,ROW()-7,COLUMN()-1)<>2,\"\",'手順２・３・４社員タイプ#10'!$H$47&\"\")","v":""},null,{"$f":"OFFSET($A$1,ROW()-3,COLUMN()-1)","v":1},null,{"$f":"OFFSET($A$1,ROW()-3,COLUMN()-3)","v":1},null,182,null,1182]
[null,null,null,null,null,null,null,null,null,null,null,null,null,null,null,null,null,null,null,null,{"$f":"IF('手順２・３・４社員タイプ#01'!$B$48=\"\",\"\", '手順２・３・４社員タイプ#01'!$B$48)","v":""},null,{"$f":"'手順２・３・４社員タイプ#01'!$C$48","v":0},null,null,null,null,null,183,null,{"$f":"IF(AND(OFFSET($A$1,ROW()-1,COLUMN()-11)<>\"\",OR(OFFSET($A$1,ROW()-1,COLUMN()-9)=1,OFFSET($A$1,ROW()-1,COLUMN()-9)=2)),OFFSET($A$1,ROW()-1,COLUMN()-3),OFFSET($A$1,ROW()-1,COLUMN()-3)+1000)","v":1183},null,{"$f":"IF('手順２・３・４社員タイプ#02'!$B$48=\"\",\"\", '手順２・３・４社員タイプ#02'!$B$48)","v":""},null,{"$f":"'手順２・３・４社員タイプ#02'!$C$48","v":0},null,null,null,null,null,183,null,{"$f":"IF(AND(OFFSET($A$1,ROW()-1,COLUMN()-11)<>\"\",OR(OFFSET($A$1,ROW()-1,COLUMN()-9)=1,OFFSET($A$1,ROW()-1,COLUMN()-9)=2)),OFFSET($A$1,ROW()-1,COLUMN()-3),OFFSET($A$1,ROW()-1,COLUMN()-3)+1000)","v":1183},null,{"$f":"IF('手順２・３・４社員タイプ#03'!$B$48=\"\",\"\", '手順２・３・４社員タイプ#03'!$B$48)","v":""},null,{"$f":"'手順２・３・４社員タイプ#03'!$C$48","v":0},null,null,null,null,null,183,null,{"$f":"IF(AND(OFFSET($A$1,ROW()-1,COLUMN()-11)<>\"\",OR(OFFSET($A$1,ROW()-1,COLUMN()-9)=1,OFFSET($A$1,ROW()-1,COLUMN()-9)=2)),OFFSET($A$1,ROW()-1,COLUMN()-3),OFFSET($A$1,ROW()-1,COLUMN()-3)+1000)","v":1183},null,{"$f":"IF('手順２・３・４社員タイプ#04'!$B$48=\"\",\"\", '手順２・３・４社員タイプ#04'!$B$48)","v":""},null,{"$f":"'手順２・３・４社員タイプ#04'!$C$48","v":0},null,null,null,null,null,183,null,{"$f":"IF(AND(OFFSET($A$1,ROW()-1,COLUMN()-11)<>\"\",OR(OFFSET($A$1,ROW()-1,COLUMN()-9)=1,OFFSET($A$1,ROW()-1,COLUMN()-9)=2)),OFFSET($A$1,ROW()-1,COLUMN()-3),OFFSET($A$1,ROW()-1,COLUMN()-3)+1000)","v":1183},null,{"$f":"IF('手順２・３・４社員タイプ#05'!$B$48=\"\",\"\", '手順２・３・４社員タイプ#05'!$B$48)","v":""},null,{"$f":"'手順２・３・４社員タイプ#05'!$C$48","v":0},null,null,null,null,null,183,null,{"$f":"IF(AND(OFFSET($A$1,ROW()-1,COLUMN()-11)<>\"\",OR(OFFSET($A$1,ROW()-1,COLUMN()-9)=1,OFFSET($A$1,ROW()-1,COLUMN()-9)=2)),OFFSET($A$1,ROW()-1,COLUMN()-3),OFFSET($A$1,ROW()-1,COLUMN()-3)+1000)","v":1183},null,{"$f":"IF('手順２・３・４社員タイプ#06'!$B$48=\"\",\"\", '手順２・３・４社員タイプ#06'!$B$48)","v":""},null,{"$f":"'手順２・３・４社員タイプ#06'!$C$48","v":0},null,null,null,null,null,183,null,{"$f":"IF(AND(OFFSET($A$1,ROW()-1,COLUMN()-11)<>\"\",OR(OFFSET($A$1,ROW()-1,COLUMN()-9)=1,OFFSET($A$1,ROW()-1,COLUMN()-9)=2)),OFFSET($A$1,ROW()-1,COLUMN()-3),OFFSET($A$1,ROW()-1,COLUMN()-3)+1000)","v":1183},null,{"$f":"IF('手順２・３・４社員タイプ#07'!$B$48=\"\",\"\", '手順２・３・４社員タイプ#07'!$B$48)","v":""},null,{"$f":"'手順２・３・４社員タイプ#07'!$C$48","v":0},null,null,null,null,null,183,null,{"$f":"IF(AND(OFFSET($A$1,ROW()-1,COLUMN()-11)<>\"\",OR(OFFSET($A$1,ROW()-1,COLUMN()-9)=1,OFFSET($A$1,ROW()-1,COLUMN()-9)=2)),OFFSET($A$1,ROW()-1,COLUMN()-3),OFFSET($A$1,ROW()-1,COLUMN()-3)+1000)","v":1183},null,{"$f":"IF('手順２・３・４社員タイプ#08'!$B$48=\"\",\"\", '手順２・３・４社員タイプ#08'!$B$48)","v":""},null,{"$f":"'手順２・３・４社員タイプ#08'!$C$48","v":0},null,null,null,null,null,183,null,{"$f":"IF(AND(OFFSET($A$1,ROW()-1,COLUMN()-11)<>\"\",OR(OFFSET($A$1,ROW()-1,COLUMN()-9)=1,OFFSET($A$1,ROW()-1,COLUMN()-9)=2)),OFFSET($A$1,ROW()-1,COLUMN()-3),OFFSET($A$1,ROW()-1,COLUMN()-3)+1000)","v":1183},null,{"$f":"IF('手順２・３・４社員タイプ#09'!$B$48=\"\",\"\", '手順２・３・４社員タイプ#09'!$B$48)","v":""},null,{"$f":"'手順２・３・４社員タイプ#09'!$C$48","v":0},null,null,null,null,null,183,null,{"$f":"IF(AND(OFFSET($A$1,ROW()-1,COLUMN()-11)<>\"\",OR(OFFSET($A$1,ROW()-1,COLUMN()-9)=1,OFFSET($A$1,ROW()-1,COLUMN()-9)=2)),OFFSET($A$1,ROW()-1,COLUMN()-3),OFFSET($A$1,ROW()-1,COLUMN()-3)+1000)","v":1183},null,{"$f":"IF('手順２・３・４社員タイプ#10'!$B$48=\"\",\"\", '手順２・３・４社員タイプ#10'!$B$48)","v":""},null,{"$f":"'手順２・３・４社員タイプ#10'!$C$48","v":0},null,null,null,null,null,183,null,{"$f":"IF(AND(OFFSET($A$1,ROW()-1,COLUMN()-11)<>\"\",OR(OFFSET($A$1,ROW()-1,COLUMN()-9)=1,OFFSET($A$1,ROW()-1,COLUMN()-9)=2)),OFFSET($A$1,ROW()-1,COLUMN()-3),OFFSET($A$1,ROW()-1,COLUMN()-3)+1000)","v":1183}]
[null,null,null,null,null,null,null,null,null,null,null,null,null,null,null,null,null,null,null,null,"待遇の違いの有無",null,"支給の目的",null,2,null,null,null,184,null,{"$f":"OFFSET($A$1,ROW()-2,COLUMN()-1)+1","v":1184},null,"待遇の違いの有無",null,"支給の目的",null,2,null,null,null,184,null,{"$f":"OFFSET($A$1,ROW()-2,COLUMN()-1)+1","v":1184},null,"待遇の違いの有無",null,"支給の目的",null,2,null,null,null,184,null,{"$f":"OFFSET($A$1,ROW()-2,COLUMN()-1)+1","v":1184},null,"待遇の違いの有無",null,"支給の目的",null,2,null,null,null,184,null,{"$f":"OFFSET($A$1,ROW()-2,COLUMN()-1)+1","v":1184},null,"待遇の違いの有無",null,"支給の目的",null,2,null,null,null,184,null,{"$f":"OFFSET($A$1,ROW()-2,COLUMN()-1)+1","v":1184},null,"待遇の違いの有無",null,"支給の目的",null,2,null,null,null,184,null,{"$f":"OFFSET($A$1,ROW()-2,COLUMN()-1)+1","v":1184},null,"待遇の違いの有無",null,"支給の目的",null,2,null,null,null,184,null,{"$f":"OFFSET($A$1,ROW()-2,COLUMN()-1)+1","v":1184},null,"待遇の違いの有無",null,"支給の目的",null,2,null,null,null,184,null,{"$f":"OFFSET($A$1,ROW()-2,COLUMN()-1)+1","v":1184},null,"待遇の違いの有無",null,"支給の目的",null,2,null,null,null,184,null,{"$f":"OFFSET($A$1,ROW()-2,COLUMN()-1)+1","v":1184},null,"待遇の違いの有無",null,"支給の目的",null,2,null,null,null,184,null,{"$f":"OFFSET($A$1,ROW()-2,COLUMN()-1)+1","v":1184}]
[null,null,null,null,null,null,null,null,null,null,null,null,null,null,null,null,null,null,null,null,{"$f":"OFFSET($C$14,OFFSET($A$1,ROW()-3,COLUMN()+1),0)","v":" "},null,null,null,2,null,null,null,185,null,1185,null,{"$f":"OFFSET($C$14,OFFSET($A$1,ROW()-3,COLUMN()+1),0)","v":" "},null,null,null,2,null,null,null,185,null,1185,null,{"$f":"OFFSET($C$14,OFFSET($A$1,ROW()-3,COLUMN()+1),0)","v":" "},null,null,null,2,null,null,null,185,null,1185,null,{"$f":"OFFSET($C$14,OFFSET($A$1,ROW()-3,COLUMN()+1),0)","v":" "},null,null,null,2,null,null,null,185,null,1185,null,{"$f":"OFFSET($C$14,OFFSET($A$1,ROW()-3,COLUMN()+1),0)","v":" "},null,null,null,2,null,null,null,185,null,1185,null,{"$f":"OFFSET($C$14,OFFSET($A$1,ROW()-3,COLUMN()+1),0)","v":" "},null,null,null,2,null,null,null,185,null,1185,null,{"$f":"OFFSET($C$14,OFFSET($A$1,ROW()-3,COLUMN()+1),0)","v":" "},null,null,null,2,null,null,null,185,null,1185,null,{"$f":"OFFSET($C$14,OFFSET($A$1,ROW()-3,COLUMN()+1),0)","v":" "},null,null,null,2,null,null,null,185,null,1185,null,{"$f":"OFFSET($C$14,OFFSET($A$1,ROW()-3,COLUMN()+1),0)","v":" "},null,null,null,2,null,null,null,185,null,1185,null,{"$f":"OFFSET($C$14,OFFSET($A$1,ROW()-3,COLUMN()+1),0)","v":" "},null,null,null,2,null,null,null,185,null,1185]
[null,null,null,null,null,null,null,null,null,null,null,null,null,null,null,null,null,null,null,null,"正社員",null,"短時間労働者・有期雇用労働者",null,null,null,null,null,186,null,1186,null,"正社員",null,"短時間労働者・有期雇用労働者",null,null,null,null,null,186,null,1186,null,"正社員",null,"短時間労働者・有期雇用労働者",null,null,null,null,null,186,null,1186,null,"正社員",null,"短時間労働者・有期雇用労働者",null,null,null,null,null,186,null,1186,null,"正社員",null,"短時間労働者・有期雇用労働者",null,null,null,null,null,186,null,1186,null,"正社員",null,"短時間労働者・有期雇用労働者",null,null,null,null,null,186,null,1186,null,"正社員",null,"短時間労働者・有期雇用労働者",null,null,null,null,null,186,null,1186,null,"正社員",null,"短時間労働者・有期雇用労働者",null,null,null,null,null,186,null,1186,null,"正社員",null,"短時間労働者・有期雇用労働者",null,null,null,null,null,186,null,1186,null,"正社員",null,"短時間労働者・有期雇用労働者",null,null,null,null,null,186,null,1186]
[null,null,null,null,null,null,null,null,null,null,null,null,null,null,null,null,null,null,null,null,{"$f":"IF(OFFSET($A$1,ROW()-5,COLUMN()+1)<>2,\"\",'手順２・３・４社員タイプ#01'!$E$48&\"\")","v":""},null,{"$f":"IF(OFFSET($A$1,ROW()-5,COLUMN()-1)<>2,\"\",'手順２・３・４社員タイプ#01'!$F$48&\"\")","v":""},null,{"$f":"IF(OFFSET($A$1,ROW()-5,COLUMN()-3)<>2,1,0)","v":1},null,{"$f":"OFFSET($A$1,ROW()-1,COLUMN()-3)","v":1},null,187,null,1187,null,{"$f":"IF(OFFSET($A$1,ROW()-5,COLUMN()+1)<>2,\"\",'手順２・３・４社員タイプ#02'!$E$48&\"\")","v":""},null,{"$f":"IF(OFFSET($A$1,ROW()-5,COLUMN()-1)<>2,\"\",'手順２・３・４社員タイプ#02'!$F$48&\"\")","v":""},null,{"$f":"IF(OFFSET($A$1,ROW()-5,COLUMN()-3)<>2,1,0)","v":1},null,{"$f":"OFFSET($A$1,ROW()-1,COLUMN()-3)","v":1},null,187,null,1187,null,{"$f":"IF(OFFSET($A$1,ROW()-5,COLUMN()+1)<>2,\"\",'手順２・３・４社員タイプ#03'!$E$48&\"\")","v":""},null,{"$f":"IF(OFFSET($A$1,ROW()-5,COLUMN()-1)<>2,\"\",'手順２・３・４社員タイプ#03'!$F$48&\"\")","v":""},null,{"$f":"IF(OFFSET($A$1,ROW()-5,COLUMN()-3)<>2,1,0)","v":1},null,{"$f":"OFFSET($A$1,ROW()-1,COLUMN()-3)","v":1},null,187,null,1187,null,{"$f":"IF(OFFSET($A$1,ROW()-5,COLUMN()+1)<>2,\"\",'手順２・３・４社員タイプ#04'!$E$48&\"\")","v":""},null,{"$f":"IF(OFFSET($A$1,ROW()-5,COLUMN()-1)<>2,\"\",'手順２・３・４社員タイプ#04'!$F$48&\"\")","v":""},null,{"$f":"IF(OFFSET($A$1,ROW()-5,COLUMN()-3)<>2,1,0)","v":1},null,{"$f":"OFFSET($A$1,ROW()-1,COLUMN()-3)","v":1},null,187,null,1187,null,{"$f":"IF(OFFSET($A$1,ROW()-5,COLUMN()+1)<>2,\"\",'手順２・３・４社員タイプ#05'!$E$48&\"\")","v":""},null,{"$f":"IF(OFFSET($A$1,ROW()-5,COLUMN()-1)<>2,\"\",'手順２・３・４社員タイプ#05'!$F$48&\"\")","v":""},null,{"$f":"IF(OFFSET($A$1,ROW()-5,COLUMN()-3)<>2,1,0)","v":1},null,{"$f":"OFFSET($A$1,ROW()-1,COLUMN()-3)","v":1},null,187,null,1187,null,{"$f":"IF(OFFSET($A$1,ROW()-5,COLUMN()+1)<>2,\"\",'手順２・３・４社員タイプ#06'!$E$48&\"\")","v":""},null,{"$f":"IF(OFFSET($A$1,ROW()-5,COLUMN()-1)<>2,\"\",'手順２・３・４社員タイプ#06'!$F$48&\"\")","v":""},null,{"$f":"IF(OFFSET($A$1,ROW()-5,COLUMN()-3)<>2,1,0)","v":1},null,{"$f":"OFFSET($A$1,ROW()-1,COLUMN()-3)","v":1},null,187,null,1187,null,{"$f":"IF(OFFSET($A$1,ROW()-5,COLUMN()+1)<>2,\"\",'手順２・３・４社員タイプ#07'!$E$48&\"\")","v":""},null,{"$f":"IF(OFFSET($A$1,ROW()-5,COLUMN()-1)<>2,\"\",'手順２・３・４社員タイプ#07'!$F$48&\"\")","v":""},null,{"$f":"IF(OFFSET($A$1,ROW()-5,COLUMN()-3)<>2,1,0)","v":1},null,{"$f":"OFFSET($A$1,ROW()-1,COLUMN()-3)","v":1},null,187,null,1187,null,{"$f":"IF(OFFSET($A$1,ROW()-5,COLUMN()+1)<>2,\"\",'手順２・３・４社員タイプ#08'!$E$48&\"\")","v":""},null,{"$f":"IF(OFFSET($A$1,ROW()-5,COLUMN()-1)<>2,\"\",'手順２・３・４社員タイプ#08'!$F$48&\"\")","v":""},null,{"$f":"IF(OFFSET($A$1,ROW()-5,COLUMN()-3)<>2,1,0)","v":1},null,{"$f":"OFFSET($A$1,ROW()-1,COLUMN()-3)","v":1},null,187,null,1187,null,{"$f":"IF(OFFSET($A$1,ROW()-5,COLUMN()+1)<>2,\"\",'手順２・３・４社員タイプ#09'!$E$48&\"\")","v":""},null,{"$f":"IF(OFFSET($A$1,ROW()-5,COLUMN()-1)<>2,\"\",'手順２・３・４社員タイプ#09'!$F$48&\"\")","v":""},null,{"$f":"IF(OFFSET($A$1,ROW()-5,COLUMN()-3)<>2,1,0)","v":1},null,{"$f":"OFFSET($A$1,ROW()-1,COLUMN()-3)","v":1},null,187,null,1187,null,{"$f":"IF(OFFSET($A$1,ROW()-5,COLUMN()+1)<>2,\"\",'手順２・３・４社員タイプ#10'!$E$48&\"\")","v":""},null,{"$f":"IF(OFFSET($A$1,ROW()-5,COLUMN()-1)<>2,\"\",'手順２・３・４社員タイプ#10'!$F$48&\"\")","v":""},null,{"$f":"IF(OFFSET($A$1,ROW()-5,COLUMN()-3)<>2,1,0)","v":1},null,{"$f":"OFFSET($A$1,ROW()-1,COLUMN()-3)","v":1},null,187,null,1187]
[null,null,null,null,null,null,null,null,null,null,null,null,null,null,null,null,null,null,null,null,"違いを設けている理由",null,"対応方針",null,null,null,null,null,188,null,1188,null,"違いを設けている理由",null,"対応方針",null,null,null,null,null,188,null,1188,null,"違いを設けている理由",null,"対応方針",null,null,null,null,null,188,null,1188,null,"違いを設けている理由",null,"対応方針",null,null,null,null,null,188,null,1188,null,"違いを設けている理由",null,"対応方針",null,null,null,null,null,188,null,1188,null,"違いを設けている理由",null,"対応方針",null,null,null,null,null,188,null,1188,null,"違いを設けている理由",null,"対応方針",null,null,null,null,null,188,null,1188,null,"違いを設けている理由",null,"対応方針",null,null,null,null,null,188,null,1188,null,"違いを設けている理由",null,"対応方針",null,null,null,null,null,188,null,1188,null,"違いを設けている理由",null,"対応方針",null,null,null,null,null,188,null,1188]
[null,null,null,null,null,null,null,null,null,null,null,null,null,null,null,null,null,null,null,null,{"$f":"IF(OFFSET($A$1,ROW()-7,COLUMN()+1)<>2,\"\",'手順２・３・４社員タイプ#01'!$G$48&\"\")","v":""},null,{"$f":"IF(OFFSET($A$1,ROW()-7,COLUMN()-1)<>2,\"\",'手順２・３・４社員タイプ#01'!$H$48&\"\")","v":""},null,{"$f":"OFFSET($A$1,ROW()-3,COLUMN()-1)","v":1},null,{"$f":"OFFSET($A$1,ROW()-3,COLUMN()-3)","v":1},null,189,null,1189,null,{"$f":"IF(OFFSET($A$1,ROW()-7,COLUMN()+1)<>2,\"\",'手順２・３・４社員タイプ#02'!$G$48&\"\")","v":""},null,{"$f":"IF(OFFSET($A$1,ROW()-7,COLUMN()-1)<>2,\"\",'手順２・３・４社員タイプ#02'!$H$48&\"\")","v":""},null,{"$f":"OFFSET($A$1,ROW()-3,COLUMN()-1)","v":1},null,{"$f":"OFFSET($A$1,ROW()-3,COLUMN()-3)","v":1},null,189,null,1189,null,{"$f":"IF(OFFSET($A$1,ROW()-7,COLUMN()+1)<>2,\"\",'手順２・３・４社員タイプ#03'!$G$48&\"\")","v":""},null,{"$f":"IF(OFFSET($A$1,ROW()-7,COLUMN()-1)<>2,\"\",'手順２・３・４社員タイプ#03'!$H$48&\"\")","v":""},null,{"$f":"OFFSET($A$1,ROW()-3,COLUMN()-1)","v":1},null,{"$f":"OFFSET($A$1,ROW()-3,COLUMN()-3)","v":1},null,189,null,1189,null,{"$f":"IF(OFFSET($A$1,ROW()-7,COLUMN()+1)<>2,\"\",'手順２・３・４社員タイプ#04'!$G$48&\"\")","v":""},null,{"$f":"IF(OFFSET($A$1,ROW()-7,COLUMN()-1)<>2,\"\",'手順２・３・４社員タイプ#04'!$H$48&\"\")","v":""},null,{"$f":"OFFSET($A$1,ROW()-3,COLUMN()-1)","v":1},null,{"$f":"OFFSET($A$1,ROW()-3,COLUMN()-3)","v":1},null,189,null,1189,null,{"$f":"IF(OFFSET($A$1,ROW()-7,COLUMN()+1)<>2,\"\",'手順２・３・４社員タイプ#05'!$G$48&\"\")","v":""},null,{"$f":"IF(OFFSET($A$1,ROW()-7,COLUMN()-1)<>2,\"\",'手順２・３・４社員タイプ#05'!$H$48&\"\")","v":""},null,{"$f":"OFFSET($A$1,ROW()-3,COLUMN()-1)","v":1},null,{"$f":"OFFSET($A$1,ROW()-3,COLUMN()-3)","v":1},null,189,null,1189,null,{"$f":"IF(OFFSET($A$1,ROW()-7,COLUMN()+1)<>2,\"\",'手順２・３・４社員タイプ#06'!$G$48&\"\")","v":""},null,{"$f":"IF(OFFSET($A$1,ROW()-7,COLUMN()-1)<>2,\"\",'手順２・３・４社員タイプ#06'!$H$48&\"\")","v":""},null,{"$f":"OFFSET($A$1,ROW()-3,COLUMN()-1)","v":1},null,{"$f":"OFFSET($A$1,ROW()-3,COLUMN()-3)","v":1},null,189,null,1189,null,{"$f":"IF(OFFSET($A$1,ROW()-7,COLUMN()+1)<>2,\"\",'手順２・３・４社員タイプ#07'!$G$48&\"\")","v":""},null,{"$f":"IF(OFFSET($A$1,ROW()-7,COLUMN()-1)<>2,\"\",'手順２・３・４社員タイプ#07'!$H$48&\"\")","v":""},null,{"$f":"OFFSET($A$1,ROW()-3,COLUMN()-1)","v":1},null,{"$f":"OFFSET($A$1,ROW()-3,COLUMN()-3)","v":1},null,189,null,1189,null,{"$f":"IF(OFFSET($A$1,ROW()-7,COLUMN()+1)<>2,\"\",'手順２・３・４社員タイプ#08'!$G$48&\"\")","v":""},null,{"$f":"IF(OFFSET($A$1,ROW()-7,COLUMN()-1)<>2,\"\",'手順２・３・４社員タイプ#08'!$H$48&\"\")","v":""},null,{"$f":"OFFSET($A$1,ROW()-3,COLUMN()-1)","v":1},null,{"$f":"OFFSET($A$1,ROW()-3,COLUMN()-3)","v":1},null,189,null,1189,null,{"$f":"IF(OFFSET($A$1,ROW()-7,COLUMN()+1)<>2,\"\",'手順２・３・４社員タイプ#09'!$G$48&\"\")","v":""},null,{"$f":"IF(OFFSET($A$1,ROW()-7,COLUMN()-1)<>2,\"\",'手順２・３・４社員タイプ#09'!$H$48&\"\")","v":""},null,{"$f":"OFFSET($A$1,ROW()-3,COLUMN()-1)","v":1},null,{"$f":"OFFSET($A$1,ROW()-3,COLUMN()-3)","v":1},null,189,null,1189,null,{"$f":"IF(OFFSET($A$1,ROW()-7,COLUMN()+1)<>2,\"\",'手順２・３・４社員タイプ#10'!$G$48&\"\")","v":""},null,{"$f":"IF(OFFSET($A$1,ROW()-7,COLUMN()-1)<>2,\"\",'手順２・３・４社員タイプ#10'!$H$48&\"\")","v":""},null,{"$f":"OFFSET($A$1,ROW()-3,COLUMN()-1)","v":1},null,{"$f":"OFFSET($A$1,ROW()-3,COLUMN()-3)","v":1},null,189,null,1189]
[null,null,null,null,null,null,null,null,null,null,null,null,null,null,null,null,null,null,null,null,{"$f":"IF('手順２・３・４社員タイプ#01'!$B$49=\"\",\"\", '手順２・３・４社員タイプ#01'!$B$49)","v":""},null,{"$f":"'手順２・３・４社員タイプ#01'!$C$49","v":0},null,null,null,null,null,190,null,{"$f":"IF(AND(OFFSET($A$1,ROW()-1,COLUMN()-11)<>\"\",OR(OFFSET($A$1,ROW()-1,COLUMN()-9)=1,OFFSET($A$1,ROW()-1,COLUMN()-9)=2)),OFFSET($A$1,ROW()-1,COLUMN()-3),OFFSET($A$1,ROW()-1,COLUMN()-3)+1000)","v":1190},null,{"$f":"IF('手順２・３・４社員タイプ#02'!$B$49=\"\",\"\", '手順２・３・４社員タイプ#02'!$B$49)","v":""},null,{"$f":"'手順２・３・４社員タイプ#02'!$C$49","v":0},null,null,null,null,null,190,null,{"$f":"IF(AND(OFFSET($A$1,ROW()-1,COLUMN()-11)<>\"\",OR(OFFSET($A$1,ROW()-1,COLUMN()-9)=1,OFFSET($A$1,ROW()-1,COLUMN()-9)=2)),OFFSET($A$1,ROW()-1,COLUMN()-3),OFFSET($A$1,ROW()-1,COLUMN()-3)+1000)","v":1190},null,{"$f":"IF('手順２・３・４社員タイプ#03'!$B$49=\"\",\"\", '手順２・３・４社員タイプ#03'!$B$49)","v":""},null,{"$f":"'手順２・３・４社員タイプ#03'!$C$49","v":0},null,null,null,null,null,190,null,{"$f":"IF(AND(OFFSET($A$1,ROW()-1,COLUMN()-11)<>\"\",OR(OFFSET($A$1,ROW()-1,COLUMN()-9)=1,OFFSET($A$1,ROW()-1,COLUMN()-9)=2)),OFFSET($A$1,ROW()-1,COLUMN()-3),OFFSET($A$1,ROW()-1,COLUMN()-3)+1000)","v":1190},null,{"$f":"IF('手順２・３・４社員タイプ#04'!$B$49=\"\",\"\", '手順２・３・４社員タイプ#04'!$B$49)","v":""},null,{"$f":"'手順２・３・４社員タイプ#04'!$C$49","v":0},null,null,null,null,null,190,null,{"$f":"IF(AND(OFFSET($A$1,ROW()-1,COLUMN()-11)<>\"\",OR(OFFSET($A$1,ROW()-1,COLUMN()-9)=1,OFFSET($A$1,ROW()-1,COLUMN()-9)=2)),OFFSET($A$1,ROW()-1,COLUMN()-3),OFFSET($A$1,ROW()-1,COLUMN()-3)+1000)","v":1190},null,{"$f":"IF('手順２・３・４社員タイプ#05'!$B$49=\"\",\"\", '手順２・３・４社員タイプ#05'!$B$49)","v":""},null,{"$f":"'手順２・３・４社員タイプ#05'!$C$49","v":0},null,null,null,null,null,190,null,{"$f":"IF(AND(OFFSET($A$1,ROW()-1,COLUMN()-11)<>\"\",OR(OFFSET($A$1,ROW()-1,COLUMN()-9)=1,OFFSET($A$1,ROW()-1,COLUMN()-9)=2)),OFFSET($A$1,ROW()-1,COLUMN()-3),OFFSET($A$1,ROW()-1,COLUMN()-3)+1000)","v":1190},null,{"$f":"IF('手順２・３・４社員タイプ#06'!$B$49=\"\",\"\", '手順２・３・４社員タイプ#06'!$B$49)","v":""},null,{"$f":"'手順２・３・４社員タイプ#06'!$C$49","v":0},null,null,null,null,null,190,null,{"$f":"IF(AND(OFFSET($A$1,ROW()-1,COLUMN()-11)<>\"\",OR(OFFSET($A$1,ROW()-1,COLUMN()-9)=1,OFFSET($A$1,ROW()-1,COLUMN()-9)=2)),OFFSET($A$1,ROW()-1,COLUMN()-3),OFFSET($A$1,ROW()-1,COLUMN()-3)+1000)","v":1190},null,{"$f":"IF('手順２・３・４社員タイプ#07'!$B$49=\"\",\"\", '手順２・３・４社員タイプ#07'!$B$49)","v":""},null,{"$f":"'手順２・３・４社員タイプ#07'!$C$49","v":0},null,null,null,null,null,190,null,{"$f":"IF(AND(OFFSET($A$1,ROW()-1,COLUMN()-11)<>\"\",OR(OFFSET($A$1,ROW()-1,COLUMN()-9)=1,OFFSET($A$1,ROW()-1,COLUMN()-9)=2)),OFFSET($A$1,ROW()-1,COLUMN()-3),OFFSET($A$1,ROW()-1,COLUMN()-3)+1000)","v":1190},null,{"$f":"IF('手順２・３・４社員タイプ#08'!$B$49=\"\",\"\", '手順２・３・４社員タイプ#08'!$B$49)","v":""},null,{"$f":"'手順２・３・４社員タイプ#08'!$C$49","v":0},null,null,null,null,null,190,null,{"$f":"IF(AND(OFFSET($A$1,ROW()-1,COLUMN()-11)<>\"\",OR(OFFSET($A$1,ROW()-1,COLUMN()-9)=1,OFFSET($A$1,ROW()-1,COLUMN()-9)=2)),OFFSET($A$1,ROW()-1,COLUMN()-3),OFFSET($A$1,ROW()-1,COLUMN()-3)+1000)","v":1190},null,{"$f":"IF('手順２・３・４社員タイプ#09'!$B$49=\"\",\"\", '手順２・３・４社員タイプ#09'!$B$49)","v":""},null,{"$f":"'手順２・３・４社員タイプ#09'!$C$49","v":0},null,null,null,null,null,190,null,{"$f":"IF(AND(OFFSET($A$1,ROW()-1,COLUMN()-11)<>\"\",OR(OFFSET($A$1,ROW()-1,COLUMN()-9)=1,OFFSET($A$1,ROW()-1,COLUMN()-9)=2)),OFFSET($A$1,ROW()-1,COLUMN()-3),OFFSET($A$1,ROW()-1,COLUMN()-3)+1000)","v":1190},null,{"$f":"IF('手順２・３・４社員タイプ#10'!$B$49=\"\",\"\", '手順２・３・４社員タイプ#10'!$B$49)","v":""},null,{"$f":"'手順２・３・４社員タイプ#10'!$C$49","v":0},null,null,null,null,null,190,null,{"$f":"IF(AND(OFFSET($A$1,ROW()-1,COLUMN()-11)<>\"\",OR(OFFSET($A$1,ROW()-1,COLUMN()-9)=1,OFFSET($A$1,ROW()-1,COLUMN()-9)=2)),OFFSET($A$1,ROW()-1,COLUMN()-3),OFFSET($A$1,ROW()-1,COLUMN()-3)+1000)","v":1190}]
[null,null,null,null,null,null,null,null,null,null,null,null,null,null,null,null,null,null,null,null,"待遇の違いの有無",null,"支給の目的",null,2,null,null,null,191,null,{"$f":"OFFSET($A$1,ROW()-2,COLUMN()-1)+1","v":1191},null,"待遇の違いの有無",null,"支給の目的",null,2,null,null,null,191,null,{"$f":"OFFSET($A$1,ROW()-2,COLUMN()-1)+1","v":1191},null,"待遇の違いの有無",null,"支給の目的",null,2,null,null,null,191,null,{"$f":"OFFSET($A$1,ROW()-2,COLUMN()-1)+1","v":1191},null,"待遇の違いの有無",null,"支給の目的",null,2,null,null,null,191,null,{"$f":"OFFSET($A$1,ROW()-2,COLUMN()-1)+1","v":1191},null,"待遇の違いの有無",null,"支給の目的",null,2,null,null,null,191,null,{"$f":"OFFSET($A$1,ROW()-2,COLUMN()-1)+1","v":1191},null,"待遇の違いの有無",null,"支給の目的",null,2,null,null,null,191,null,{"$f":"OFFSET($A$1,ROW()-2,COLUMN()-1)+1","v":1191},null,"待遇の違いの有無",null,"支給の目的",null,2,null,null,null,191,null,{"$f":"OFFSET($A$1,ROW()-2,COLUMN()-1)+1","v":1191},null,"待遇の違いの有無",null,"支給の目的",null,2,null,null,null,191,null,{"$f":"OFFSET($A$1,ROW()-2,COLUMN()-1)+1","v":1191},null,"待遇の違いの有無",null,"支給の目的",null,2,null,null,null,191,null,{"$f":"OFFSET($A$1,ROW()-2,COLUMN()-1)+1","v":1191},null,"待遇の違いの有無",null,"支給の目的",null,2,null,null,null,191,null,{"$f":"OFFSET($A$1,ROW()-2,COLUMN()-1)+1","v":1191}]
[null,null,null,null,null,null,null,null,null,null,null,null,null,null,null,null,null,null,null,null,{"$f":"OFFSET($C$14,OFFSET($A$1,ROW()-3,COLUMN()+1),0)","v":" "},null,null,null,2,null,null,null,192,null,1192,null,{"$f":"OFFSET($C$14,OFFSET($A$1,ROW()-3,COLUMN()+1),0)","v":" "},null,null,null,2,null,null,null,192,null,1192,null,{"$f":"OFFSET($C$14,OFFSET($A$1,ROW()-3,COLUMN()+1),0)","v":" "},null,null,null,2,null,null,null,192,null,1192,null,{"$f":"OFFSET($C$14,OFFSET($A$1,ROW()-3,COLUMN()+1),0)","v":" "},null,null,null,2,null,null,null,192,null,1192,null,{"$f":"OFFSET($C$14,OFFSET($A$1,ROW()-3,COLUMN()+1),0)","v":" "},null,null,null,2,null,null,null,192,null,1192,null,{"$f":"OFFSET($C$14,OFFSET($A$1,ROW()-3,COLUMN()+1),0)","v":" "},null,null,null,2,null,null,null,192,null,1192,null,{"$f":"OFFSET($C$14,OFFSET($A$1,ROW()-3,COLUMN()+1),0)","v":" "},null,null,null,2,null,null,null,192,null,1192,null,{"$f":"OFFSET($C$14,OFFSET($A$1,ROW()-3,COLUMN()+1),0)","v":" "},null,null,null,2,null,null,null,192,null,1192,null,{"$f":"OFFSET($C$14,OFFSET($A$1,ROW()-3,COLUMN()+1),0)","v":" "},null,null,null,2,null,null,null,192,null,1192,null,{"$f":"OFFSET($C$14,OFFSET($A$1,ROW()-3,COLUMN()+1),0)","v":" "},null,null,null,2,null,null,null,192,null,1192]
[null,null,null,null,null,null,null,null,null,null,null,null,null,null,null,null,null,null,null,null,"正社員",null,"短時間労働者・有期雇用労働者",null,null,null,null,null,193,null,1193,null,"正社員",null,"短時間労働者・有期雇用労働者",null,null,null,null,null,193,null,1193,null,"正社員",null,"短時間労働者・有期雇用労働者",null,null,null,null,null,193,null,1193,null,"正社員",null,"短時間労働者・有期雇用労働者",null,null,null,null,null,193,null,1193,null,"正社員",null,"短時間労働者・有期雇用労働者",null,null,null,null,null,193,null,1193,null,"正社員",null,"短時間労働者・有期雇用労働者",null,null,null,null,null,193,null,1193,null,"正社員",null,"短時間労働者・有期雇用労働者",null,null,null,null,null,193,null,1193,null,"正社員",null,"短時間労働者・有期雇用労働者",null,null,null,null,null,193,null,1193,null,"正社員",null,"短時間労働者・有期雇用労働者",null,null,null,null,null,193,null,1193,null,"正社員",null,"短時間労働者・有期雇用労働者",null,null,null,null,null,193,null,1193]
[null,null,null,null,null,null,null,null,null,null,null,null,null,null,null,null,null,null,null,null,{"$f":"IF(OFFSET($A$1,ROW()-5,COLUMN()+1)<>2,\"\",'手順２・３・４社員タイプ#01'!$E$49&\"\")","v":""},null,{"$f":"IF(OFFSET($A$1,ROW()-5,COLUMN()-1)<>2,\"\",'手順２・３・４社員タイプ#01'!$F$49&\"\")","v":""},null,{"$f":"IF(OFFSET($A$1,ROW()-5,COLUMN()-3)<>2,1,0)","v":1},null,{"$f":"OFFSET($A$1,ROW()-1,COLUMN()-3)","v":1},null,194,null,1194,null,{"$f":"IF(OFFSET($A$1,ROW()-5,COLUMN()+1)<>2,\"\",'手順２・３・４社員タイプ#02'!$E$49&\"\")","v":""},null,{"$f":"IF(OFFSET($A$1,ROW()-5,COLUMN()-1)<>2,\"\",'手順２・３・４社員タイプ#02'!$F$49&\"\")","v":""},null,{"$f":"IF(OFFSET($A$1,ROW()-5,COLUMN()-3)<>2,1,0)","v":1},null,{"$f":"OFFSET($A$1,ROW()-1,COLUMN()-3)","v":1},null,194,null,1194,null,{"$f":"IF(OFFSET($A$1,ROW()-5,COLUMN()+1)<>2,\"\",'手順２・３・４社員タイプ#03'!$E$49&\"\")","v":""},null,{"$f":"IF(OFFSET($A$1,ROW()-5,COLUMN()-1)<>2,\"\",'手順２・３・４社員タイプ#03'!$F$49&\"\")","v":""},null,{"$f":"IF(OFFSET($A$1,ROW()-5,COLUMN()-3)<>2,1,0)","v":1},null,{"$f":"OFFSET($A$1,ROW()-1,COLUMN()-3)","v":1},null,194,null,1194,null,{"$f":"IF(OFFSET($A$1,ROW()-5,COLUMN()+1)<>2,\"\",'手順２・３・４社員タイプ#04'!$E$49&\"\")","v":""},null,{"$f":"IF(OFFSET($A$1,ROW()-5,COLUMN()-1)<>2,\"\",'手順２・３・４社員タイプ#04'!$F$49&\"\")","v":""},null,{"$f":"IF(OFFSET($A$1,ROW()-5,COLUMN()-3)<>2,1,0)","v":1},null,{"$f":"OFFSET($A$1,ROW()-1,COLUMN()-3)","v":1},null,194,null,1194,null,{"$f":"IF(OFFSET($A$1,ROW()-5,COLUMN()+1)<>2,\"\",'手順２・３・４社員タイプ#05'!$E$49&\"\")","v":""},null,{"$f":"IF(OFFSET($A$1,ROW()-5,COLUMN()-1)<>2,\"\",'手順２・３・４社員タイプ#05'!$F$49&\"\")","v":""},null,{"$f":"IF(OFFSET($A$1,ROW()-5,COLUMN()-3)<>2,1,0)","v":1},null,{"$f":"OFFSET($A$1,ROW()-1,COLUMN()-3)","v":1},null,194,null,1194,null,{"$f":"IF(OFFSET($A$1,ROW()-5,COLUMN()+1)<>2,\"\",'手順２・３・４社員タイプ#06'!$E$49&\"\")","v":""},null,{"$f":"IF(OFFSET($A$1,ROW()-5,COLUMN()-1)<>2,\"\",'手順２・３・４社員タイプ#06'!$F$49&\"\")","v":""},null,{"$f":"IF(OFFSET($A$1,ROW()-5,COLUMN()-3)<>2,1,0)","v":1},null,{"$f":"OFFSET($A$1,ROW()-1,COLUMN()-3)","v":1},null,194,null,1194,null,{"$f":"IF(OFFSET($A$1,ROW()-5,COLUMN()+1)<>2,\"\",'手順２・３・４社員タイプ#07'!$E$49&\"\")","v":""},null,{"$f":"IF(OFFSET($A$1,ROW()-5,COLUMN()-1)<>2,\"\",'手順２・３・４社員タイプ#07'!$F$49&\"\")","v":""},null,{"$f":"IF(OFFSET($A$1,ROW()-5,COLUMN()-3)<>2,1,0)","v":1},null,{"$f":"OFFSET($A$1,ROW()-1,COLUMN()-3)","v":1},null,194,null,1194,null,{"$f":"IF(OFFSET($A$1,ROW()-5,COLUMN()+1)<>2,\"\",'手順２・３・４社員タイプ#08'!$E$49&\"\")","v":""},null,{"$f":"IF(OFFSET($A$1,ROW()-5,COLUMN()-1)<>2,\"\",'手順２・３・４社員タイプ#08'!$F$49&\"\")","v":""},null,{"$f":"IF(OFFSET($A$1,ROW()-5,COLUMN()-3)<>2,1,0)","v":1},null,{"$f":"OFFSET($A$1,ROW()-1,COLUMN()-3)","v":1},null,194,null,1194,null,{"$f":"IF(OFFSET($A$1,ROW()-5,COLUMN()+1)<>2,\"\",'手順２・３・４社員タイプ#09'!$E$49&\"\")","v":""},null,{"$f":"IF(OFFSET($A$1,ROW()-5,COLUMN()-1)<>2,\"\",'手順２・３・４社員タイプ#09'!$F$49&\"\")","v":""},null,{"$f":"IF(OFFSET($A$1,ROW()-5,COLUMN()-3)<>2,1,0)","v":1},null,{"$f":"OFFSET($A$1,ROW()-1,COLUMN()-3)","v":1},null,194,null,1194,null,{"$f":"IF(OFFSET($A$1,ROW()-5,COLUMN()+1)<>2,\"\",'手順２・３・４社員タイプ#10'!$E$49&\"\")","v":""},null,{"$f":"IF(OFFSET($A$1,ROW()-5,COLUMN()-1)<>2,\"\",'手順２・３・４社員タイプ#10'!$F$49&\"\")","v":""},null,{"$f":"IF(OFFSET($A$1,ROW()-5,COLUMN()-3)<>2,1,0)","v":1},null,{"$f":"OFFSET($A$1,ROW()-1,COLUMN()-3)","v":1},null,194,null,1194]
[null,null,null,null,null,null,null,null,null,null,null,null,null,null,null,null,null,null,null,null,"違いを設けている理由",null,"対応方針",null,null,null,null,null,195,null,1195,null,"違いを設けている理由",null,"対応方針",null,null,null,null,null,195,null,1195,null,"違いを設けている理由",null,"対応方針",null,null,null,null,null,195,null,1195,null,"違いを設けている理由",null,"対応方針",null,null,null,null,null,195,null,1195,null,"違いを設けている理由",null,"対応方針",null,null,null,null,null,195,null,1195,null,"違いを設けている理由",null,"対応方針",null,null,null,null,null,195,null,1195,null,"違いを設けている理由",null,"対応方針",null,null,null,null,null,195,null,1195,null,"違いを設けている理由",null,"対応方針",null,null,null,null,null,195,null,1195,null,"違いを設けている理由",null,"対応方針",null,null,null,null,null,195,null,1195,null,"違いを設けている理由",null,"対応方針",null,null,null,null,null,195,null,1195]
[null,null,null,null,null,null,null,null,null,null,null,null,null,null,null,null,null,null,null,null,{"$f":"IF(OFFSET($A$1,ROW()-7,COLUMN()+1)<>2,\"\",'手順２・３・４社員タイプ#01'!$G$49&\"\")","v":""},null,{"$f":"IF(OFFSET($A$1,ROW()-7,COLUMN()-1)<>2,\"\",'手順２・３・４社員タイプ#01'!$H$49&\"\")","v":""},null,{"$f":"OFFSET($A$1,ROW()-3,COLUMN()-1)","v":1},null,{"$f":"OFFSET($A$1,ROW()-3,COLUMN()-3)","v":1},null,196,null,1196,null,{"$f":"IF(OFFSET($A$1,ROW()-7,COLUMN()+1)<>2,\"\",'手順２・３・４社員タイプ#02'!$G$49&\"\")","v":""},null,{"$f":"IF(OFFSET($A$1,ROW()-7,COLUMN()-1)<>2,\"\",'手順２・３・４社員タイプ#02'!$H$49&\"\")","v":""},null,{"$f":"OFFSET($A$1,ROW()-3,COLUMN()-1)","v":1},null,{"$f":"OFFSET($A$1,ROW()-3,COLUMN()-3)","v":1},null,196,null,1196,null,{"$f":"IF(OFFSET($A$1,ROW()-7,COLUMN()+1)<>2,\"\",'手順２・３・４社員タイプ#03'!$G$49&\"\")","v":""},null,{"$f":"IF(OFFSET($A$1,ROW()-7,COLUMN()-1)<>2,\"\",'手順２・３・４社員タイプ#03'!$H$49&\"\")","v":""},null,{"$f":"OFFSET($A$1,ROW()-3,COLUMN()-1)","v":1},null,{"$f":"OFFSET($A$1,ROW()-3,COLUMN()-3)","v":1},null,196,null,1196,null,{"$f":"IF(OFFSET($A$1,ROW()-7,COLUMN()+1)<>2,\"\",'手順２・３・４社員タイプ#04'!$G$49&\"\")","v":""},null,{"$f":"IF(OFFSET($A$1,ROW()-7,COLUMN()-1)<>2,\"\",'手順２・３・４社員タイプ#04'!$H$49&\"\")","v":""},null,{"$f":"OFFSET($A$1,ROW()-3,COLUMN()-1)","v":1},null,{"$f":"OFFSET($A$1,ROW()-3,COLUMN()-3)","v":1},null,196,null,1196,null,{"$f":"IF(OFFSET($A$1,ROW()-7,COLUMN()+1)<>2,\"\",'手順２・３・４社員タイプ#05'!$G$49&\"\")","v":""},null,{"$f":"IF(OFFSET($A$1,ROW()-7,COLUMN()-1)<>2,\"\",'手順２・３・４社員タイプ#05'!$H$49&\"\")","v":""},null,{"$f":"OFFSET($A$1,ROW()-3,COLUMN()-1)","v":1},null,{"$f":"OFFSET($A$1,ROW()-3,COLUMN()-3)","v":1},null,196,null,1196,null,{"$f":"IF(OFFSET($A$1,ROW()-7,COLUMN()+1)<>2,\"\",'手順２・３・４社員タイプ#06'!$G$49&\"\")","v":""},null,{"$f":"IF(OFFSET($A$1,ROW()-7,COLUMN()-1)<>2,\"\",'手順２・３・４社員タイプ#06'!$H$49&\"\")","v":""},null,{"$f":"OFFSET($A$1,ROW()-3,COLUMN()-1)","v":1},null,{"$f":"OFFSET($A$1,ROW()-3,COLUMN()-3)","v":1},null,196,null,1196,null,{"$f":"IF(OFFSET($A$1,ROW()-7,COLUMN()+1)<>2,\"\",'手順２・３・４社員タイプ#07'!$G$49&\"\")","v":""},null,{"$f":"IF(OFFSET($A$1,ROW()-7,COLUMN()-1)<>2,\"\",'手順２・３・４社員タイプ#07'!$H$49&\"\")","v":""},null,{"$f":"OFFSET($A$1,ROW()-3,COLUMN()-1)","v":1},null,{"$f":"OFFSET($A$1,ROW()-3,COLUMN()-3)","v":1},null,196,null,1196,null,{"$f":"IF(OFFSET($A$1,ROW()-7,COLUMN()+1)<>2,\"\",'手順２・３・４社員タイプ#08'!$G$49&\"\")","v":""},null,{"$f":"IF(OFFSET($A$1,ROW()-7,COLUMN()-1)<>2,\"\",'手順２・３・４社員タイプ#08'!$H$49&\"\")","v":""},null,{"$f":"OFFSET($A$1,ROW()-3,COLUMN()-1)","v":1},null,{"$f":"OFFSET($A$1,ROW()-3,COLUMN()-3)","v":1},null,196,null,1196,null,{"$f":"IF(OFFSET($A$1,ROW()-7,COLUMN()+1)<>2,\"\",'手順２・３・４社員タイプ#09'!$G$49&\"\")","v":""},null,{"$f":"IF(OFFSET($A$1,ROW()-7,COLUMN()-1)<>2,\"\",'手順２・３・４社員タイプ#09'!$H$49&\"\")","v":""},null,{"$f":"OFFSET($A$1,ROW()-3,COLUMN()-1)","v":1},null,{"$f":"OFFSET($A$1,ROW()-3,COLUMN()-3)","v":1},null,196,null,1196,null,{"$f":"IF(OFFSET($A$1,ROW()-7,COLUMN()+1)<>2,\"\",'手順２・３・４社員タイプ#10'!$G$49&\"\")","v":""},null,{"$f":"IF(OFFSET($A$1,ROW()-7,COLUMN()-1)<>2,\"\",'手順２・３・４社員タイプ#10'!$H$49&\"\")","v":""},null,{"$f":"OFFSET($A$1,ROW()-3,COLUMN()-1)","v":1},null,{"$f":"OFFSET($A$1,ROW()-3,COLUMN()-3)","v":1},null,196,null,1196]
[null,null,null,null,null,null,null,null,null,null,null,null,null,null,null,null,null,null,null,null,{"$f":"IF('手順２・３・４社員タイプ#01'!$B$50=\"\",\"\", '手順２・３・４社員タイプ#01'!$B$50)","v":""},null,{"$f":"'手順２・３・４社員タイプ#01'!$C$50","v":0},null,null,null,null,null,197,null,{"$f":"IF(AND(OFFSET($A$1,ROW()-1,COLUMN()-11)<>\"\",OR(OFFSET($A$1,ROW()-1,COLUMN()-9)=1,OFFSET($A$1,ROW()-1,COLUMN()-9)=2)),OFFSET($A$1,ROW()-1,COLUMN()-3),OFFSET($A$1,ROW()-1,COLUMN()-3)+1000)","v":1197},null,{"$f":"IF('手順２・３・４社員タイプ#02'!$B$50=\"\",\"\", '手順２・３・４社員タイプ#02'!$B$50)","v":""},null,{"$f":"'手順２・３・４社員タイプ#02'!$C$50","v":0},null,null,null,null,null,197,null,{"$f":"IF(AND(OFFSET($A$1,ROW()-1,COLUMN()-11)<>\"\",OR(OFFSET($A$1,ROW()-1,COLUMN()-9)=1,OFFSET($A$1,ROW()-1,COLUMN()-9)=2)),OFFSET($A$1,ROW()-1,COLUMN()-3),OFFSET($A$1,ROW()-1,COLUMN()-3)+1000)","v":1197},null,{"$f":"IF('手順２・３・４社員タイプ#03'!$B$50=\"\",\"\", '手順２・３・４社員タイプ#03'!$B$50)","v":""},null,{"$f":"'手順２・３・４社員タイプ#03'!$C$50","v":0},null,null,null,null,null,197,null,{"$f":"IF(AND(OFFSET($A$1,ROW()-1,COLUMN()-11)<>\"\",OR(OFFSET($A$1,ROW()-1,COLUMN()-9)=1,OFFSET($A$1,ROW()-1,COLUMN()-9)=2)),OFFSET($A$1,ROW()-1,COLUMN()-3),OFFSET($A$1,ROW()-1,COLUMN()-3)+1000)","v":1197},null,{"$f":"IF('手順２・３・４社員タイプ#04'!$B$50=\"\",\"\", '手順２・３・４社員タイプ#04'!$B$50)","v":""},null,{"$f":"'手順２・３・４社員タイプ#04'!$C$50","v":0},null,null,null,null,null,197,null,{"$f":"IF(AND(OFFSET($A$1,ROW()-1,COLUMN()-11)<>\"\",OR(OFFSET($A$1,ROW()-1,COLUMN()-9)=1,OFFSET($A$1,ROW()-1,COLUMN()-9)=2)),OFFSET($A$1,ROW()-1,COLUMN()-3),OFFSET($A$1,ROW()-1,COLUMN()-3)+1000)","v":1197},null,{"$f":"IF('手順２・３・４社員タイプ#05'!$B$50=\"\",\"\", '手順２・３・４社員タイプ#05'!$B$50)","v":""},null,{"$f":"'手順２・３・４社員タイプ#05'!$C$50","v":0},null,null,null,null,null,197,null,{"$f":"IF(AND(OFFSET($A$1,ROW()-1,COLUMN()-11)<>\"\",OR(OFFSET($A$1,ROW()-1,COLUMN()-9)=1,OFFSET($A$1,ROW()-1,COLUMN()-9)=2)),OFFSET($A$1,ROW()-1,COLUMN()-3),OFFSET($A$1,ROW()-1,COLUMN()-3)+1000)","v":1197},null,{"$f":"IF('手順２・３・４社員タイプ#06'!$B$50=\"\",\"\", '手順２・３・４社員タイプ#06'!$B$50)","v":""},null,{"$f":"'手順２・３・４社員タイプ#06'!$C$50","v":0},null,null,null,null,null,197,null,{"$f":"IF(AND(OFFSET($A$1,ROW()-1,COLUMN()-11)<>\"\",OR(OFFSET($A$1,ROW()-1,COLUMN()-9)=1,OFFSET($A$1,ROW()-1,COLUMN()-9)=2)),OFFSET($A$1,ROW()-1,COLUMN()-3),OFFSET($A$1,ROW()-1,COLUMN()-3)+1000)","v":1197},null,{"$f":"IF('手順２・３・４社員タイプ#07'!$B$50=\"\",\"\", '手順２・３・４社員タイプ#07'!$B$50)","v":""},null,{"$f":"'手順２・３・４社員タイプ#07'!$C$50","v":0},null,null,null,null,null,197,null,{"$f":"IF(AND(OFFSET($A$1,ROW()-1,COLUMN()-11)<>\"\",OR(OFFSET($A$1,ROW()-1,COLUMN()-9)=1,OFFSET($A$1,ROW()-1,COLUMN()-9)=2)),OFFSET($A$1,ROW()-1,COLUMN()-3),OFFSET($A$1,ROW()-1,COLUMN()-3)+1000)","v":1197},null,{"$f":"IF('手順２・３・４社員タイプ#08'!$B$50=\"\",\"\", '手順２・３・４社員タイプ#08'!$B$50)","v":""},null,{"$f":"'手順２・３・４社員タイプ#08'!$C$50","v":0},null,null,null,null,null,197,null,{"$f":"IF(AND(OFFSET($A$1,ROW()-1,COLUMN()-11)<>\"\",OR(OFFSET($A$1,ROW()-1,COLUMN()-9)=1,OFFSET($A$1,ROW()-1,COLUMN()-9)=2)),OFFSET($A$1,ROW()-1,COLUMN()-3),OFFSET($A$1,ROW()-1,COLUMN()-3)+1000)","v":1197},null,{"$f":"IF('手順２・３・４社員タイプ#09'!$B$50=\"\",\"\", '手順２・３・４社員タイプ#09'!$B$50)","v":""},null,{"$f":"'手順２・３・４社員タイプ#09'!$C$50","v":0},null,null,null,null,null,197,null,{"$f":"IF(AND(OFFSET($A$1,ROW()-1,COLUMN()-11)<>\"\",OR(OFFSET($A$1,ROW()-1,COLUMN()-9)=1,OFFSET($A$1,ROW()-1,COLUMN()-9)=2)),OFFSET($A$1,ROW()-1,COLUMN()-3),OFFSET($A$1,ROW()-1,COLUMN()-3)+1000)","v":1197},null,{"$f":"IF('手順２・３・４社員タイプ#10'!$B$50=\"\",\"\", '手順２・３・４社員タイプ#10'!$B$50)","v":""},null,{"$f":"'手順２・３・４社員タイプ#10'!$C$50","v":0},null,null,null,null,null,197,null,{"$f":"IF(AND(OFFSET($A$1,ROW()-1,COLUMN()-11)<>\"\",OR(OFFSET($A$1,ROW()-1,COLUMN()-9)=1,OFFSET($A$1,ROW()-1,COLUMN()-9)=2)),OFFSET($A$1,ROW()-1,COLUMN()-3),OFFSET($A$1,ROW()-1,COLUMN()-3)+1000)","v":1197}]
[null,null,null,null,null,null,null,null,null,null,null,null,null,null,null,null,null,null,null,null,"待遇の違いの有無",null,"支給の目的",null,2,null,null,null,198,null,{"$f":"OFFSET($A$1,ROW()-2,COLUMN()-1)+1","v":1198},null,"待遇の違いの有無",null,"支給の目的",null,2,null,null,null,198,null,{"$f":"OFFSET($A$1,ROW()-2,COLUMN()-1)+1","v":1198},null,"待遇の違いの有無",null,"支給の目的",null,2,null,null,null,198,null,{"$f":"OFFSET($A$1,ROW()-2,COLUMN()-1)+1","v":1198},null,"待遇の違いの有無",null,"支給の目的",null,2,null,null,null,198,null,{"$f":"OFFSET($A$1,ROW()-2,COLUMN()-1)+1","v":1198},null,"待遇の違いの有無",null,"支給の目的",null,2,null,null,null,198,null,{"$f":"OFFSET($A$1,ROW()-2,COLUMN()-1)+1","v":1198},null,"待遇の違いの有無",null,"支給の目的",null,2,null,null,null,198,null,{"$f":"OFFSET($A$1,ROW()-2,COLUMN()-1)+1","v":1198},null,"待遇の違いの有無",null,"支給の目的",null,2,null,null,null,198,null,{"$f":"OFFSET($A$1,ROW()-2,COLUMN()-1)+1","v":1198},null,"待遇の違いの有無",null,"支給の目的",null,2,null,null,null,198,null,{"$f":"OFFSET($A$1,ROW()-2,COLUMN()-1)+1","v":1198},null,"待遇の違いの有無",null,"支給の目的",null,2,null,null,null,198,null,{"$f":"OFFSET($A$1,ROW()-2,COLUMN()-1)+1","v":1198},null,"待遇の違いの有無",null,"支給の目的",null,2,null,null,null,198,null,{"$f":"OFFSET($A$1,ROW()-2,COLUMN()-1)+1","v":1198}]
[null,null,null,null,null,null,null,null,null,null,null,null,null,null,null,null,null,null,null,null,{"$f":"OFFSET($C$14,OFFSET($A$1,ROW()-3,COLUMN()+1),0)","v":" "},null,null,null,2,null,null,null,199,null,1199,null,{"$f":"OFFSET($C$14,OFFSET($A$1,ROW()-3,COLUMN()+1),0)","v":" "},null,null,null,2,null,null,null,199,null,1199,null,{"$f":"OFFSET($C$14,OFFSET($A$1,ROW()-3,COLUMN()+1),0)","v":" "},null,null,null,2,null,null,null,199,null,1199,null,{"$f":"OFFSET($C$14,OFFSET($A$1,ROW()-3,COLUMN()+1),0)","v":" "},null,null,null,2,null,null,null,199,null,1199,null,{"$f":"OFFSET($C$14,OFFSET($A$1,ROW()-3,COLUMN()+1),0)","v":" "},null,null,null,2,null,null,null,199,null,1199,null,{"$f":"OFFSET($C$14,OFFSET($A$1,ROW()-3,COLUMN()+1),0)","v":" "},null,null,null,2,null,null,null,199,null,1199,null,{"$f":"OFFSET($C$14,OFFSET($A$1,ROW()-3,COLUMN()+1),0)","v":" "},null,null,null,2,null,null,null,199,null,1199,null,{"$f":"OFFSET($C$14,OFFSET($A$1,ROW()-3,COLUMN()+1),0)","v":" "},null,null,null,2,null,null,null,199,null,1199,null,{"$f":"OFFSET($C$14,OFFSET($A$1,ROW()-3,COLUMN()+1),0)","v":" "},null,null,null,2,null,null,null,199,null,1199,null,{"$f":"OFFSET($C$14,OFFSET($A$1,ROW()-3,COLUMN()+1),0)","v":" "},null,null,null,2,null,null,null,199,null,1199]
[null,null,null,null,null,null,null,null,null,null,null,null,null,null,null,null,null,null,null,null,"正社員",null,"短時間労働者・有期雇用労働者",null,null,null,null,null,200,null,1200,null,"正社員",null,"短時間労働者・有期雇用労働者",null,null,null,null,null,200,null,1200,null,"正社員",null,"短時間労働者・有期雇用労働者",null,null,null,null,null,200,null,1200,null,"正社員",null,"短時間労働者・有期雇用労働者",null,null,null,null,null,200,null,1200,null,"正社員",null,"短時間労働者・有期雇用労働者",null,null,null,null,null,200,null,1200,null,"正社員",null,"短時間労働者・有期雇用労働者",null,null,null,null,null,200,null,1200,null,"正社員",null,"短時間労働者・有期雇用労働者",null,null,null,null,null,200,null,1200,null,"正社員",null,"短時間労働者・有期雇用労働者",null,null,null,null,null,200,null,1200,null,"正社員",null,"短時間労働者・有期雇用労働者",null,null,null,null,null,200,null,1200,null,"正社員",null,"短時間労働者・有期雇用労働者",null,null,null,null,null,200,null,1200]
[null,null,null,null,null,null,null,null,null,null,null,null,null,null,null,null,null,null,null,null,{"$f":"IF(OFFSET($A$1,ROW()-5,COLUMN()+1)<>2,\"\",'手順２・３・４社員タイプ#01'!$E$50&\"\")","v":""},null,{"$f":"IF(OFFSET($A$1,ROW()-5,COLUMN()-1)<>2,\"\",'手順２・３・４社員タイプ#01'!$F$50&\"\")","v":""},null,{"$f":"IF(OFFSET($A$1,ROW()-5,COLUMN()-3)<>2,1,0)","v":1},null,{"$f":"OFFSET($A$1,ROW()-1,COLUMN()-3)","v":1},null,201,null,1201,null,{"$f":"IF(OFFSET($A$1,ROW()-5,COLUMN()+1)<>2,\"\",'手順２・３・４社員タイプ#02'!$E$50&\"\")","v":""},null,{"$f":"IF(OFFSET($A$1,ROW()-5,COLUMN()-1)<>2,\"\",'手順２・３・４社員タイプ#02'!$F$50&\"\")","v":""},null,{"$f":"IF(OFFSET($A$1,ROW()-5,COLUMN()-3)<>2,1,0)","v":1},null,{"$f":"OFFSET($A$1,ROW()-1,COLUMN()-3)","v":1},null,201,null,1201,null,{"$f":"IF(OFFSET($A$1,ROW()-5,COLUMN()+1)<>2,\"\",'手順２・３・４社員タイプ#03'!$E$50&\"\")","v":""},null,{"$f":"IF(OFFSET($A$1,ROW()-5,COLUMN()-1)<>2,\"\",'手順２・３・４社員タイプ#03'!$F$50&\"\")","v":""},null,{"$f":"IF(OFFSET($A$1,ROW()-5,COLUMN()-3)<>2,1,0)","v":1},null,{"$f":"OFFSET($A$1,ROW()-1,COLUMN()-3)","v":1},null,201,null,1201,null,{"$f":"IF(OFFSET($A$1,ROW()-5,COLUMN()+1)<>2,\"\",'手順２・３・４社員タイプ#04'!$E$50&\"\")","v":""},null,{"$f":"IF(OFFSET($A$1,ROW()-5,COLUMN()-1)<>2,\"\",'手順２・３・４社員タイプ#04'!$F$50&\"\")","v":""},null,{"$f":"IF(OFFSET($A$1,ROW()-5,COLUMN()-3)<>2,1,0)","v":1},null,{"$f":"OFFSET($A$1,ROW()-1,COLUMN()-3)","v":1},null,201,null,1201,null,{"$f":"IF(OFFSET($A$1,ROW()-5,COLUMN()+1)<>2,\"\",'手順２・３・４社員タイプ#05'!$E$50&\"\")","v":""},null,{"$f":"IF(OFFSET($A$1,ROW()-5,COLUMN()-1)<>2,\"\",'手順２・３・４社員タイプ#05'!$F$50&\"\")","v":""},null,{"$f":"IF(OFFSET($A$1,ROW()-5,COLUMN()-3)<>2,1,0)","v":1},null,{"$f":"OFFSET($A$1,ROW()-1,COLUMN()-3)","v":1},null,201,null,1201,null,{"$f":"IF(OFFSET($A$1,ROW()-5,COLUMN()+1)<>2,\"\",'手順２・３・４社員タイプ#06'!$E$50&\"\")","v":""},null,{"$f":"IF(OFFSET($A$1,ROW()-5,COLUMN()-1)<>2,\"\",'手順２・３・４社員タイプ#06'!$F$50&\"\")","v":""},null,{"$f":"IF(OFFSET($A$1,ROW()-5,COLUMN()-3)<>2,1,0)","v":1},null,{"$f":"OFFSET($A$1,ROW()-1,COLUMN()-3)","v":1},null,201,null,1201,null,{"$f":"IF(OFFSET($A$1,ROW()-5,COLUMN()+1)<>2,\"\",'手順２・３・４社員タイプ#07'!$E$50&\"\")","v":""},null,{"$f":"IF(OFFSET($A$1,ROW()-5,COLUMN()-1)<>2,\"\",'手順２・３・４社員タイプ#07'!$F$50&\"\")","v":""},null,{"$f":"IF(OFFSET($A$1,ROW()-5,COLUMN()-3)<>2,1,0)","v":1},null,{"$f":"OFFSET($A$1,ROW()-1,COLUMN()-3)","v":1},null,201,null,1201,null,{"$f":"IF(OFFSET($A$1,ROW()-5,COLUMN()+1)<>2,\"\",'手順２・３・４社員タイプ#08'!$E$50&\"\")","v":""},null,{"$f":"IF(OFFSET($A$1,ROW()-5,COLUMN()-1)<>2,\"\",'手順２・３・４社員タイプ#08'!$F$50&\"\")","v":""},null,{"$f":"IF(OFFSET($A$1,ROW()-5,COLUMN()-3)<>2,1,0)","v":1},null,{"$f":"OFFSET($A$1,ROW()-1,COLUMN()-3)","v":1},null,201,null,1201,null,{"$f":"IF(OFFSET($A$1,ROW()-5,COLUMN()+1)<>2,\"\",'手順２・３・４社員タイプ#09'!$E$50&\"\")","v":""},null,{"$f":"IF(OFFSET($A$1,ROW()-5,COLUMN()-1)<>2,\"\",'手順２・３・４社員タイプ#09'!$F$50&\"\")","v":""},null,{"$f":"IF(OFFSET($A$1,ROW()-5,COLUMN()-3)<>2,1,0)","v":1},null,{"$f":"OFFSET($A$1,ROW()-1,COLUMN()-3)","v":1},null,201,null,1201,null,{"$f":"IF(OFFSET($A$1,ROW()-5,COLUMN()+1)<>2,\"\",'手順２・３・４社員タイプ#10'!$E$50&\"\")","v":""},null,{"$f":"IF(OFFSET($A$1,ROW()-5,COLUMN()-1)<>2,\"\",'手順２・３・４社員タイプ#10'!$F$50&\"\")","v":""},null,{"$f":"IF(OFFSET($A$1,ROW()-5,COLUMN()-3)<>2,1,0)","v":1},null,{"$f":"OFFSET($A$1,ROW()-1,COLUMN()-3)","v":1},null,201,null,1201]
[null,null,null,null,null,null,null,null,null,null,null,null,null,null,null,null,null,null,null,null,"違いを設けている理由",null,"対応方針",null,null,null,null,null,202,null,1202,null,"違いを設けている理由",null,"対応方針",null,null,null,null,null,202,null,1202,null,"違いを設けている理由",null,"対応方針",null,null,null,null,null,202,null,1202,null,"違いを設けている理由",null,"対応方針",null,null,null,null,null,202,null,1202,null,"違いを設けている理由",null,"対応方針",null,null,null,null,null,202,null,1202,null,"違いを設けている理由",null,"対応方針",null,null,null,null,null,202,null,1202,null,"違いを設けている理由",null,"対応方針",null,null,null,null,null,202,null,1202,null,"違いを設けている理由",null,"対応方針",null,null,null,null,null,202,null,1202,null,"違いを設けている理由",null,"対応方針",null,null,null,null,null,202,null,1202,null,"違いを設けている理由",null,"対応方針",null,null,null,null,null,202,null,1202]
[null,null,null,null,null,null,null,null,null,null,null,null,null,null,null,null,null,null,null,null,{"$f":"IF(OFFSET($A$1,ROW()-7,COLUMN()+1)<>2,\"\",'手順２・３・４社員タイプ#01'!$G$50&\"\")","v":""},null,{"$f":"IF(OFFSET($A$1,ROW()-7,COLUMN()-1)<>2,\"\",'手順２・３・４社員タイプ#01'!$H$50&\"\")","v":""},null,{"$f":"OFFSET($A$1,ROW()-3,COLUMN()-1)","v":1},null,{"$f":"OFFSET($A$1,ROW()-3,COLUMN()-3)","v":1},null,203,null,1203,null,{"$f":"IF(OFFSET($A$1,ROW()-7,COLUMN()+1)<>2,\"\",'手順２・３・４社員タイプ#02'!$G$50&\"\")","v":""},null,{"$f":"IF(OFFSET($A$1,ROW()-7,COLUMN()-1)<>2,\"\",'手順２・３・４社員タイプ#02'!$H$50&\"\")","v":""},null,{"$f":"OFFSET($A$1,ROW()-3,COLUMN()-1)","v":1},null,{"$f":"OFFSET($A$1,ROW()-3,COLUMN()-3)","v":1},null,203,null,1203,null,{"$f":"IF(OFFSET($A$1,ROW()-7,COLUMN()+1)<>2,\"\",'手順２・３・４社員タイプ#03'!$G$50&\"\")","v":""},null,{"$f":"IF(OFFSET($A$1,ROW()-7,COLUMN()-1)<>2,\"\",'手順２・３・４社員タイプ#03'!$H$50&\"\")","v":""},null,{"$f":"OFFSET($A$1,ROW()-3,COLUMN()-1)","v":1},null,{"$f":"OFFSET($A$1,ROW()-3,COLUMN()-3)","v":1},null,203,null,1203,null,{"$f":"IF(OFFSET($A$1,ROW()-7,COLUMN()+1)<>2,\"\",'手順２・３・４社員タイプ#04'!$G$50&\"\")","v":""},null,{"$f":"IF(OFFSET($A$1,ROW()-7,COLUMN()-1)<>2,\"\",'手順２・３・４社員タイプ#04'!$H$50&\"\")","v":""},null,{"$f":"OFFSET($A$1,ROW()-3,COLUMN()-1)","v":1},null,{"$f":"OFFSET($A$1,ROW()-3,COLUMN()-3)","v":1},null,203,null,1203,null,{"$f":"IF(OFFSET($A$1,ROW()-7,COLUMN()+1)<>2,\"\",'手順２・３・４社員タイプ#05'!$G$50&\"\")","v":""},null,{"$f":"IF(OFFSET($A$1,ROW()-7,COLUMN()-1)<>2,\"\",'手順２・３・４社員タイプ#05'!$H$50&\"\")","v":""},null,{"$f":"OFFSET($A$1,ROW()-3,COLUMN()-1)","v":1},null,{"$f":"OFFSET($A$1,ROW()-3,COLUMN()-3)","v":1},null,203,null,1203,null,{"$f":"IF(OFFSET($A$1,ROW()-7,COLUMN()+1)<>2,\"\",'手順２・３・４社員タイプ#06'!$G$50&\"\")","v":""},null,{"$f":"IF(OFFSET($A$1,ROW()-7,COLUMN()-1)<>2,\"\",'手順２・３・４社員タイプ#06'!$H$50&\"\")","v":""},null,{"$f":"OFFSET($A$1,ROW()-3,COLUMN()-1)","v":1},null,{"$f":"OFFSET($A$1,ROW()-3,COLUMN()-3)","v":1},null,203,null,1203,null,{"$f":"IF(OFFSET($A$1,ROW()-7,COLUMN()+1)<>2,\"\",'手順２・３・４社員タイプ#07'!$G$50&\"\")","v":""},null,{"$f":"IF(OFFSET($A$1,ROW()-7,COLUMN()-1)<>2,\"\",'手順２・３・４社員タイプ#07'!$H$50&\"\")","v":""},null,{"$f":"OFFSET($A$1,ROW()-3,COLUMN()-1)","v":1},null,{"$f":"OFFSET($A$1,ROW()-3,COLUMN()-3)","v":1},null,203,null,1203,null,{"$f":"IF(OFFSET($A$1,ROW()-7,COLUMN()+1)<>2,\"\",'手順２・３・４社員タイプ#08'!$G$50&\"\")","v":""},null,{"$f":"IF(OFFSET($A$1,ROW()-7,COLUMN()-1)<>2,\"\",'手順２・３・４社員タイプ#08'!$H$50&\"\")","v":""},null,{"$f":"OFFSET($A$1,ROW()-3,COLUMN()-1)","v":1},null,{"$f":"OFFSET($A$1,ROW()-3,COLUMN()-3)","v":1},null,203,null,1203,null,{"$f":"IF(OFFSET($A$1,ROW()-7,COLUMN()+1)<>2,\"\",'手順２・３・４社員タイプ#09'!$G$50&\"\")","v":""},null,{"$f":"IF(OFFSET($A$1,ROW()-7,COLUMN()-1)<>2,\"\",'手順２・３・４社員タイプ#09'!$H$50&\"\")","v":""},null,{"$f":"OFFSET($A$1,ROW()-3,COLUMN()-1)","v":1},null,{"$f":"OFFSET($A$1,ROW()-3,COLUMN()-3)","v":1},null,203,null,1203,null,{"$f":"IF(OFFSET($A$1,ROW()-7,COLUMN()+1)<>2,\"\",'手順２・３・４社員タイプ#10'!$G$50&\"\")","v":""},null,{"$f":"IF(OFFSET($A$1,ROW()-7,COLUMN()-1)<>2,\"\",'手順２・３・４社員タイプ#10'!$H$50&\"\")","v":""},null,{"$f":"OFFSET($A$1,ROW()-3,COLUMN()-1)","v":1},null,{"$f":"OFFSET($A$1,ROW()-3,COLUMN()-3)","v":1},null,203,null,1203]
[null,null,null,null,null,null,null,null,null,null,null,null,null,null,null,null,null,null,null,null,{"$f":"IF('手順２・３・４社員タイプ#01'!$B$51=\"\",\"\", '手順２・３・４社員タイプ#01'!$B$51)","v":""},null,{"$f":"'手順２・３・４社員タイプ#01'!$C$51","v":0},null,null,null,null,null,204,null,{"$f":"IF(AND(OFFSET($A$1,ROW()-1,COLUMN()-11)<>\"\",OR(OFFSET($A$1,ROW()-1,COLUMN()-9)=1,OFFSET($A$1,ROW()-1,COLUMN()-9)=2)),OFFSET($A$1,ROW()-1,COLUMN()-3),OFFSET($A$1,ROW()-1,COLUMN()-3)+1000)","v":1204},null,{"$f":"IF('手順２・３・４社員タイプ#02'!$B$51=\"\",\"\", '手順２・３・４社員タイプ#02'!$B$51)","v":""},null,{"$f":"'手順２・３・４社員タイプ#02'!$C$51","v":0},null,null,null,null,null,204,null,{"$f":"IF(AND(OFFSET($A$1,ROW()-1,COLUMN()-11)<>\"\",OR(OFFSET($A$1,ROW()-1,COLUMN()-9)=1,OFFSET($A$1,ROW()-1,COLUMN()-9)=2)),OFFSET($A$1,ROW()-1,COLUMN()-3),OFFSET($A$1,ROW()-1,COLUMN()-3)+1000)","v":1204},null,{"$f":"IF('手順２・３・４社員タイプ#03'!$B$51=\"\",\"\", '手順２・３・４社員タイプ#03'!$B$51)","v":""},null,{"$f":"'手順２・３・４社員タイプ#03'!$C$51","v":0},null,null,null,null,null,204,null,{"$f":"IF(AND(OFFSET($A$1,ROW()-1,COLUMN()-11)<>\"\",OR(OFFSET($A$1,ROW()-1,COLUMN()-9)=1,OFFSET($A$1,ROW()-1,COLUMN()-9)=2)),OFFSET($A$1,ROW()-1,COLUMN()-3),OFFSET($A$1,ROW()-1,COLUMN()-3)+1000)","v":1204},null,{"$f":"IF('手順２・３・４社員タイプ#04'!$B$51=\"\",\"\", '手順２・３・４社員タイプ#04'!$B$51)","v":""},null,{"$f":"'手順２・３・４社員タイプ#04'!$C$51","v":0},null,null,null,null,null,204,null,{"$f":"IF(AND(OFFSET($A$1,ROW()-1,COLUMN()-11)<>\"\",OR(OFFSET($A$1,ROW()-1,COLUMN()-9)=1,OFFSET($A$1,ROW()-1,COLUMN()-9)=2)),OFFSET($A$1,ROW()-1,COLUMN()-3),OFFSET($A$1,ROW()-1,COLUMN()-3)+1000)","v":1204},null,{"$f":"IF('手順２・３・４社員タイプ#05'!$B$51=\"\",\"\", '手順２・３・４社員タイプ#05'!$B$51)","v":""},null,{"$f":"'手順２・３・４社員タイプ#05'!$C$51","v":0},null,null,null,null,null,204,null,{"$f":"IF(AND(OFFSET($A$1,ROW()-1,COLUMN()-11)<>\"\",OR(OFFSET($A$1,ROW()-1,COLUMN()-9)=1,OFFSET($A$1,ROW()-1,COLUMN()-9)=2)),OFFSET($A$1,ROW()-1,COLUMN()-3),OFFSET($A$1,ROW()-1,COLUMN()-3)+1000)","v":1204},null,{"$f":"IF('手順２・３・４社員タイプ#06'!$B$51=\"\",\"\", '手順２・３・４社員タイプ#06'!$B$51)","v":""},null,{"$f":"'手順２・３・４社員タイプ#06'!$C$51","v":0},null,null,null,null,null,204,null,{"$f":"IF(AND(OFFSET($A$1,ROW()-1,COLUMN()-11)<>\"\",OR(OFFSET($A$1,ROW()-1,COLUMN()-9)=1,OFFSET($A$1,ROW()-1,COLUMN()-9)=2)),OFFSET($A$1,ROW()-1,COLUMN()-3),OFFSET($A$1,ROW()-1,COLUMN()-3)+1000)","v":1204},null,{"$f":"IF('手順２・３・４社員タイプ#07'!$B$51=\"\",\"\", '手順２・３・４社員タイプ#07'!$B$51)","v":""},null,{"$f":"'手順２・３・４社員タイプ#07'!$C$51","v":0},null,null,null,null,null,204,null,{"$f":"IF(AND(OFFSET($A$1,ROW()-1,COLUMN()-11)<>\"\",OR(OFFSET($A$1,ROW()-1,COLUMN()-9)=1,OFFSET($A$1,ROW()-1,COLUMN()-9)=2)),OFFSET($A$1,ROW()-1,COLUMN()-3),OFFSET($A$1,ROW()-1,COLUMN()-3)+1000)","v":1204},null,{"$f":"IF('手順２・３・４社員タイプ#08'!$B$51=\"\",\"\", '手順２・３・４社員タイプ#08'!$B$51)","v":""},null,{"$f":"'手順２・３・４社員タイプ#08'!$C$51","v":0},null,null,null,null,null,204,null,{"$f":"IF(AND(OFFSET($A$1,ROW()-1,COLUMN()-11)<>\"\",OR(OFFSET($A$1,ROW()-1,COLUMN()-9)=1,OFFSET($A$1,ROW()-1,COLUMN()-9)=2)),OFFSET($A$1,ROW()-1,COLUMN()-3),OFFSET($A$1,ROW()-1,COLUMN()-3)+1000)","v":1204},null,{"$f":"IF('手順２・３・４社員タイプ#09'!$B$51=\"\",\"\", '手順２・３・４社員タイプ#09'!$B$51)","v":""},null,{"$f":"'手順２・３・４社員タイプ#09'!$C$51","v":0},null,null,null,null,null,204,null,{"$f":"IF(AND(OFFSET($A$1,ROW()-1,COLUMN()-11)<>\"\",OR(OFFSET($A$1,ROW()-1,COLUMN()-9)=1,OFFSET($A$1,ROW()-1,COLUMN()-9)=2)),OFFSET($A$1,ROW()-1,COLUMN()-3),OFFSET($A$1,ROW()-1,COLUMN()-3)+1000)","v":1204},null,{"$f":"IF('手順２・３・４社員タイプ#10'!$B$51=\"\",\"\", '手順２・３・４社員タイプ#10'!$B$51)","v":""},null,{"$f":"'手順２・３・４社員タイプ#10'!$C$51","v":0},null,null,null,null,null,204,null,{"$f":"IF(AND(OFFSET($A$1,ROW()-1,COLUMN()-11)<>\"\",OR(OFFSET($A$1,ROW()-1,COLUMN()-9)=1,OFFSET($A$1,ROW()-1,COLUMN()-9)=2)),OFFSET($A$1,ROW()-1,COLUMN()-3),OFFSET($A$1,ROW()-1,COLUMN()-3)+1000)","v":1204}]
[null,null,null,null,null,null,null,null,null,null,null,null,null,null,null,null,null,null,null,null,"待遇の違いの有無",null,"支給の目的",null,2,null,null,null,205,null,{"$f":"OFFSET($A$1,ROW()-2,COLUMN()-1)+1","v":1205},null,"待遇の違いの有無",null,"支給の目的",null,2,null,null,null,205,null,{"$f":"OFFSET($A$1,ROW()-2,COLUMN()-1)+1","v":1205},null,"待遇の違いの有無",null,"支給の目的",null,2,null,null,null,205,null,{"$f":"OFFSET($A$1,ROW()-2,COLUMN()-1)+1","v":1205},null,"待遇の違いの有無",null,"支給の目的",null,2,null,null,null,205,null,{"$f":"OFFSET($A$1,ROW()-2,COLUMN()-1)+1","v":1205},null,"待遇の違いの有無",null,"支給の目的",null,2,null,null,null,205,null,{"$f":"OFFSET($A$1,ROW()-2,COLUMN()-1)+1","v":1205},null,"待遇の違いの有無",null,"支給の目的",null,2,null,null,null,205,null,{"$f":"OFFSET($A$1,ROW()-2,COLUMN()-1)+1","v":1205},null,"待遇の違いの有無",null,"支給の目的",null,2,null,null,null,205,null,{"$f":"OFFSET($A$1,ROW()-2,COLUMN()-1)+1","v":1205},null,"待遇の違いの有無",null,"支給の目的",null,2,null,null,null,205,null,{"$f":"OFFSET($A$1,ROW()-2,COLUMN()-1)+1","v":1205},null,"待遇の違いの有無",null,"支給の目的",null,2,null,null,null,205,null,{"$f":"OFFSET($A$1,ROW()-2,COLUMN()-1)+1","v":1205},null,"待遇の違いの有無",null,"支給の目的",null,2,null,null,null,205,null,{"$f":"OFFSET($A$1,ROW()-2,COLUMN()-1)+1","v":1205}]
[null,null,null,null,null,null,null,null,null,null,null,null,null,null,null,null,null,null,null,null,{"$f":"OFFSET($C$14,OFFSET($A$1,ROW()-3,COLUMN()+1),0)","v":" "},null,null,null,2,null,null,null,206,null,1206,null,{"$f":"OFFSET($C$14,OFFSET($A$1,ROW()-3,COLUMN()+1),0)","v":" "},null,null,null,2,null,null,null,206,null,1206,null,{"$f":"OFFSET($C$14,OFFSET($A$1,ROW()-3,COLUMN()+1),0)","v":" "},null,null,null,2,null,null,null,206,null,1206,null,{"$f":"OFFSET($C$14,OFFSET($A$1,ROW()-3,COLUMN()+1),0)","v":" "},null,null,null,2,null,null,null,206,null,1206,null,{"$f":"OFFSET($C$14,OFFSET($A$1,ROW()-3,COLUMN()+1),0)","v":" "},null,null,null,2,null,null,null,206,null,1206,null,{"$f":"OFFSET($C$14,OFFSET($A$1,ROW()-3,COLUMN()+1),0)","v":" "},null,null,null,2,null,null,null,206,null,1206,null,{"$f":"OFFSET($C$14,OFFSET($A$1,ROW()-3,COLUMN()+1),0)","v":" "},null,null,null,2,null,null,null,206,null,1206,null,{"$f":"OFFSET($C$14,OFFSET($A$1,ROW()-3,COLUMN()+1),0)","v":" "},null,null,null,2,null,null,null,206,null,1206,null,{"$f":"OFFSET($C$14,OFFSET($A$1,ROW()-3,COLUMN()+1),0)","v":" "},null,null,null,2,null,null,null,206,null,1206,null,{"$f":"OFFSET($C$14,OFFSET($A$1,ROW()-3,COLUMN()+1),0)","v":" "},null,null,null,2,null,null,null,206,null,1206]
[null,null,null,null,null,null,null,null,null,null,null,null,null,null,null,null,null,null,null,null,"正社員",null,"短時間労働者・有期雇用労働者",null,null,null,null,null,207,null,1207,null,"正社員",null,"短時間労働者・有期雇用労働者",null,null,null,null,null,207,null,1207,null,"正社員",null,"短時間労働者・有期雇用労働者",null,null,null,null,null,207,null,1207,null,"正社員",null,"短時間労働者・有期雇用労働者",null,null,null,null,null,207,null,1207,null,"正社員",null,"短時間労働者・有期雇用労働者",null,null,null,null,null,207,null,1207,null,"正社員",null,"短時間労働者・有期雇用労働者",null,null,null,null,null,207,null,1207,null,"正社員",null,"短時間労働者・有期雇用労働者",null,null,null,null,null,207,null,1207,null,"正社員",null,"短時間労働者・有期雇用労働者",null,null,null,null,null,207,null,1207,null,"正社員",null,"短時間労働者・有期雇用労働者",null,null,null,null,null,207,null,1207,null,"正社員",null,"短時間労働者・有期雇用労働者",null,null,null,null,null,207,null,1207]
[null,null,null,null,null,null,null,null,null,null,null,null,null,null,null,null,null,null,null,null,{"$f":"IF(OFFSET($A$1,ROW()-5,COLUMN()+1)<>2,\"\",'手順２・３・４社員タイプ#01'!$E$51&\"\")","v":""},null,{"$f":"IF(OFFSET($A$1,ROW()-5,COLUMN()-1)<>2,\"\",'手順２・３・４社員タイプ#01'!$F$51&\"\")","v":""},null,{"$f":"IF(OFFSET($A$1,ROW()-5,COLUMN()-3)<>2,1,0)","v":1},null,{"$f":"OFFSET($A$1,ROW()-1,COLUMN()-3)","v":1},null,208,null,1208,null,{"$f":"IF(OFFSET($A$1,ROW()-5,COLUMN()+1)<>2,\"\",'手順２・３・４社員タイプ#02'!$E$51&\"\")","v":""},null,{"$f":"IF(OFFSET($A$1,ROW()-5,COLUMN()-1)<>2,\"\",'手順２・３・４社員タイプ#02'!$F$51&\"\")","v":""},null,{"$f":"IF(OFFSET($A$1,ROW()-5,COLUMN()-3)<>2,1,0)","v":1},null,{"$f":"OFFSET($A$1,ROW()-1,COLUMN()-3)","v":1},null,208,null,1208,null,{"$f":"IF(OFFSET($A$1,ROW()-5,COLUMN()+1)<>2,\"\",'手順２・３・４社員タイプ#03'!$E$51&\"\")","v":""},null,{"$f":"IF(OFFSET($A$1,ROW()-5,COLUMN()-1)<>2,\"\",'手順２・３・４社員タイプ#03'!$F$51&\"\")","v":""},null,{"$f":"IF(OFFSET($A$1,ROW()-5,COLUMN()-3)<>2,1,0)","v":1},null,{"$f":"OFFSET($A$1,ROW()-1,COLUMN()-3)","v":1},null,208,null,1208,null,{"$f":"IF(OFFSET($A$1,ROW()-5,COLUMN()+1)<>2,\"\",'手順２・３・４社員タイプ#04'!$E$51&\"\")","v":""},null,{"$f":"IF(OFFSET($A$1,ROW()-5,COLUMN()-1)<>2,\"\",'手順２・３・４社員タイプ#04'!$F$51&\"\")","v":""},null,{"$f":"IF(OFFSET($A$1,ROW()-5,COLUMN()-3)<>2,1,0)","v":1},null,{"$f":"OFFSET($A$1,ROW()-1,COLUMN()-3)","v":1},null,208,null,1208,null,{"$f":"IF(OFFSET($A$1,ROW()-5,COLUMN()+1)<>2,\"\",'手順２・３・４社員タイプ#05'!$E$51&\"\")","v":""},null,{"$f":"IF(OFFSET($A$1,ROW()-5,COLUMN()-1)<>2,\"\",'手順２・３・４社員タイプ#05'!$F$51&\"\")","v":""},null,{"$f":"IF(OFFSET($A$1,ROW()-5,COLUMN()-3)<>2,1,0)","v":1},null,{"$f":"OFFSET($A$1,ROW()-1,COLUMN()-3)","v":1},null,208,null,1208,null,{"$f":"IF(OFFSET($A$1,ROW()-5,COLUMN()+1)<>2,\"\",'手順２・３・４社員タイプ#06'!$E$51&\"\")","v":""},null,{"$f":"IF(OFFSET($A$1,ROW()-5,COLUMN()-1)<>2,\"\",'手順２・３・４社員タイプ#06'!$F$51&\"\")","v":""},null,{"$f":"IF(OFFSET($A$1,ROW()-5,COLUMN()-3)<>2,1,0)","v":1},null,{"$f":"OFFSET($A$1,ROW()-1,COLUMN()-3)","v":1},null,208,null,1208,null,{"$f":"IF(OFFSET($A$1,ROW()-5,COLUMN()+1)<>2,\"\",'手順２・３・４社員タイプ#07'!$E$51&\"\")","v":""},null,{"$f":"IF(OFFSET($A$1,ROW()-5,COLUMN()-1)<>2,\"\",'手順２・３・４社員タイプ#07'!$F$51&\"\")","v":""},null,{"$f":"IF(OFFSET($A$1,ROW()-5,COLUMN()-3)<>2,1,0)","v":1},null,{"$f":"OFFSET($A$1,ROW()-1,COLUMN()-3)","v":1},null,208,null,1208,null,{"$f":"IF(OFFSET($A$1,ROW()-5,COLUMN()+1)<>2,\"\",'手順２・３・４社員タイプ#08'!$E$51&\"\")","v":""},null,{"$f":"IF(OFFSET($A$1,ROW()-5,COLUMN()-1)<>2,\"\",'手順２・３・４社員タイプ#08'!$F$51&\"\")","v":""},null,{"$f":"IF(OFFSET($A$1,ROW()-5,COLUMN()-3)<>2,1,0)","v":1},null,{"$f":"OFFSET($A$1,ROW()-1,COLUMN()-3)","v":1},null,208,null,1208,null,{"$f":"IF(OFFSET($A$1,ROW()-5,COLUMN()+1)<>2,\"\",'手順２・３・４社員タイプ#09'!$E$51&\"\")","v":""},null,{"$f":"IF(OFFSET($A$1,ROW()-5,COLUMN()-1)<>2,\"\",'手順２・３・４社員タイプ#09'!$F$51&\"\")","v":""},null,{"$f":"IF(OFFSET($A$1,ROW()-5,COLUMN()-3)<>2,1,0)","v":1},null,{"$f":"OFFSET($A$1,ROW()-1,COLUMN()-3)","v":1},null,208,null,1208,null,{"$f":"IF(OFFSET($A$1,ROW()-5,COLUMN()+1)<>2,\"\",'手順２・３・４社員タイプ#10'!$E$51&\"\")","v":""},null,{"$f":"IF(OFFSET($A$1,ROW()-5,COLUMN()-1)<>2,\"\",'手順２・３・４社員タイプ#10'!$F$51&\"\")","v":""},null,{"$f":"IF(OFFSET($A$1,ROW()-5,COLUMN()-3)<>2,1,0)","v":1},null,{"$f":"OFFSET($A$1,ROW()-1,COLUMN()-3)","v":1},null,208,null,1208]
[null,null,null,null,null,null,null,null,null,null,null,null,null,null,null,null,null,null,null,null,"違いを設けている理由",null,"対応方針",null,null,null,null,null,209,null,1209,null,"違いを設けている理由",null,"対応方針",null,null,null,null,null,209,null,1209,null,"違いを設けている理由",null,"対応方針",null,null,null,null,null,209,null,1209,null,"違いを設けている理由",null,"対応方針",null,null,null,null,null,209,null,1209,null,"違いを設けている理由",null,"対応方針",null,null,null,null,null,209,null,1209,null,"違いを設けている理由",null,"対応方針",null,null,null,null,null,209,null,1209,null,"違いを設けている理由",null,"対応方針",null,null,null,null,null,209,null,1209,null,"違いを設けている理由",null,"対応方針",null,null,null,null,null,209,null,1209,null,"違いを設けている理由",null,"対応方針",null,null,null,null,null,209,null,1209,null,"違いを設けている理由",null,"対応方針",null,null,null,null,null,209,null,1209]
[null,null,null,null,null,null,null,null,null,null,null,null,null,null,null,null,null,null,null,null,{"$f":"IF(OFFSET($A$1,ROW()-7,COLUMN()+1)<>2,\"\",'手順２・３・４社員タイプ#01'!$G$51&\"\")","v":""},null,{"$f":"IF(OFFSET($A$1,ROW()-7,COLUMN()-1)<>2,\"\",'手順２・３・４社員タイプ#01'!$H$51&\"\")","v":""},null,{"$f":"OFFSET($A$1,ROW()-3,COLUMN()-1)","v":1},null,{"$f":"OFFSET($A$1,ROW()-3,COLUMN()-3)","v":1},null,210,null,1210,null,{"$f":"IF(OFFSET($A$1,ROW()-7,COLUMN()+1)<>2,\"\",'手順２・３・４社員タイプ#02'!$G$51&\"\")","v":""},null,{"$f":"IF(OFFSET($A$1,ROW()-7,COLUMN()-1)<>2,\"\",'手順２・３・４社員タイプ#02'!$H$51&\"\")","v":""},null,{"$f":"OFFSET($A$1,ROW()-3,COLUMN()-1)","v":1},null,{"$f":"OFFSET($A$1,ROW()-3,COLUMN()-3)","v":1},null,210,null,1210,null,{"$f":"IF(OFFSET($A$1,ROW()-7,COLUMN()+1)<>2,\"\",'手順２・３・４社員タイプ#03'!$G$51&\"\")","v":""},null,{"$f":"IF(OFFSET($A$1,ROW()-7,COLUMN()-1)<>2,\"\",'手順２・３・４社員タイプ#03'!$H$51&\"\")","v":""},null,{"$f":"OFFSET($A$1,ROW()-3,COLUMN()-1)","v":1},null,{"$f":"OFFSET($A$1,ROW()-3,COLUMN()-3)","v":1},null,210,null,1210,null,{"$f":"IF(OFFSET($A$1,ROW()-7,COLUMN()+1)<>2,\"\",'手順２・３・４社員タイプ#04'!$G$51&\"\")","v":""},null,{"$f":"IF(OFFSET($A$1,ROW()-7,COLUMN()-1)<>2,\"\",'手順２・３・４社員タイプ#04'!$H$51&\"\")","v":""},null,{"$f":"OFFSET($A$1,ROW()-3,COLUMN()-1)","v":1},null,{"$f":"OFFSET($A$1,ROW()-3,COLUMN()-3)","v":1},null,210,null,1210,null,{"$f":"IF(OFFSET($A$1,ROW()-7,COLUMN()+1)<>2,\"\",'手順２・３・４社員タイプ#05'!$G$51&\"\")","v":""},null,{"$f":"IF(OFFSET($A$1,ROW()-7,COLUMN()-1)<>2,\"\",'手順２・３・４社員タイプ#05'!$H$51&\"\")","v":""},null,{"$f":"OFFSET($A$1,ROW()-3,COLUMN()-1)","v":1},null,{"$f":"OFFSET($A$1,ROW()-3,COLUMN()-3)","v":1},null,210,null,1210,null,{"$f":"IF(OFFSET($A$1,ROW()-7,COLUMN()+1)<>2,\"\",'手順２・３・４社員タイプ#06'!$G$51&\"\")","v":""},null,{"$f":"IF(OFFSET($A$1,ROW()-7,COLUMN()-1)<>2,\"\",'手順２・３・４社員タイプ#06'!$H$51&\"\")","v":""},null,{"$f":"OFFSET($A$1,ROW()-3,COLUMN()-1)","v":1},null,{"$f":"OFFSET($A$1,ROW()-3,COLUMN()-3)","v":1},null,210,null,1210,null,{"$f":"IF(OFFSET($A$1,ROW()-7,COLUMN()+1)<>2,\"\",'手順２・３・４社員タイプ#07'!$G$51&\"\")","v":""},null,{"$f":"IF(OFFSET($A$1,ROW()-7,COLUMN()-1)<>2,\"\",'手順２・３・４社員タイプ#07'!$H$51&\"\")","v":""},null,{"$f":"OFFSET($A$1,ROW()-3,COLUMN()-1)","v":1},null,{"$f":"OFFSET($A$1,ROW()-3,COLUMN()-3)","v":1},null,210,null,1210,null,{"$f":"IF(OFFSET($A$1,ROW()-7,COLUMN()+1)<>2,\"\",'手順２・３・４社員タイプ#08'!$G$51&\"\")","v":""},null,{"$f":"IF(OFFSET($A$1,ROW()-7,COLUMN()-1)<>2,\"\",'手順２・３・４社員タイプ#08'!$H$51&\"\")","v":""},null,{"$f":"OFFSET($A$1,ROW()-3,COLUMN()-1)","v":1},null,{"$f":"OFFSET($A$1,ROW()-3,COLUMN()-3)","v":1},null,210,null,1210,null,{"$f":"IF(OFFSET($A$1,ROW()-7,COLUMN()+1)<>2,\"\",'手順２・３・４社員タイプ#09'!$G$51&\"\")","v":""},null,{"$f":"IF(OFFSET($A$1,ROW()-7,COLUMN()-1)<>2,\"\",'手順２・３・４社員タイプ#09'!$H$51&\"\")","v":""},null,{"$f":"OFFSET($A$1,ROW()-3,COLUMN()-1)","v":1},null,{"$f":"OFFSET($A$1,ROW()-3,COLUMN()-3)","v":1},null,210,null,1210,null,{"$f":"IF(OFFSET($A$1,ROW()-7,COLUMN()+1)<>2,\"\",'手順２・３・４社員タイプ#10'!$G$51&\"\")","v":""},null,{"$f":"IF(OFFSET($A$1,ROW()-7,COLUMN()-1)<>2,\"\",'手順２・３・４社員タイプ#10'!$H$51&\"\")","v":""},null,{"$f":"OFFSET($A$1,ROW()-3,COLUMN()-1)","v":1},null,{"$f":"OFFSET($A$1,ROW()-3,COLUMN()-3)","v":1},null,210,null,1210]
[null,null,null,null,null,null,null,null,null,null,null,null,null,null,null,null,null,null,null,null,{"$f":"IF('手順２・３・４社員タイプ#01'!$B$52=\"\",\"\", '手順２・３・４社員タイプ#01'!$B$52)","v":""},null,{"$f":"'手順２・３・４社員タイプ#01'!$C$52","v":0},null,null,null,null,null,211,null,{"$f":"IF(AND(OFFSET($A$1,ROW()-1,COLUMN()-11)<>\"\",OR(OFFSET($A$1,ROW()-1,COLUMN()-9)=1,OFFSET($A$1,ROW()-1,COLUMN()-9)=2)),OFFSET($A$1,ROW()-1,COLUMN()-3),OFFSET($A$1,ROW()-1,COLUMN()-3)+1000)","v":1211},null,{"$f":"IF('手順２・３・４社員タイプ#02'!$B$52=\"\",\"\", '手順２・３・４社員タイプ#02'!$B$52)","v":""},null,{"$f":"'手順２・３・４社員タイプ#02'!$C$52","v":0},null,null,null,null,null,211,null,{"$f":"IF(AND(OFFSET($A$1,ROW()-1,COLUMN()-11)<>\"\",OR(OFFSET($A$1,ROW()-1,COLUMN()-9)=1,OFFSET($A$1,ROW()-1,COLUMN()-9)=2)),OFFSET($A$1,ROW()-1,COLUMN()-3),OFFSET($A$1,ROW()-1,COLUMN()-3)+1000)","v":1211},null,{"$f":"IF('手順２・３・４社員タイプ#03'!$B$52=\"\",\"\", '手順２・３・４社員タイプ#03'!$B$52)","v":""},null,{"$f":"'手順２・３・４社員タイプ#03'!$C$52","v":0},null,null,null,null,null,211,null,{"$f":"IF(AND(OFFSET($A$1,ROW()-1,COLUMN()-11)<>\"\",OR(OFFSET($A$1,ROW()-1,COLUMN()-9)=1,OFFSET($A$1,ROW()-1,COLUMN()-9)=2)),OFFSET($A$1,ROW()-1,COLUMN()-3),OFFSET($A$1,ROW()-1,COLUMN()-3)+1000)","v":1211},null,{"$f":"IF('手順２・３・４社員タイプ#04'!$B$52=\"\",\"\", '手順２・３・４社員タイプ#04'!$B$52)","v":""},null,{"$f":"'手順２・３・４社員タイプ#04'!$C$52","v":0},null,null,null,null,null,211,null,{"$f":"IF(AND(OFFSET($A$1,ROW()-1,COLUMN()-11)<>\"\",OR(OFFSET($A$1,ROW()-1,COLUMN()-9)=1,OFFSET($A$1,ROW()-1,COLUMN()-9)=2)),OFFSET($A$1,ROW()-1,COLUMN()-3),OFFSET($A$1,ROW()-1,COLUMN()-3)+1000)","v":1211},null,{"$f":"IF('手順２・３・４社員タイプ#05'!$B$52=\"\",\"\", '手順２・３・４社員タイプ#05'!$B$52)","v":""},null,{"$f":"'手順２・３・４社員タイプ#05'!$C$52","v":0},null,null,null,null,null,211,null,{"$f":"IF(AND(OFFSET($A$1,ROW()-1,COLUMN()-11)<>\"\",OR(OFFSET($A$1,ROW()-1,COLUMN()-9)=1,OFFSET($A$1,ROW()-1,COLUMN()-9)=2)),OFFSET($A$1,ROW()-1,COLUMN()-3),OFFSET($A$1,ROW()-1,COLUMN()-3)+1000)","v":1211},null,{"$f":"IF('手順２・３・４社員タイプ#06'!$B$52=\"\",\"\", '手順２・３・４社員タイプ#06'!$B$52)","v":""},null,{"$f":"'手順２・３・４社員タイプ#06'!$C$52","v":0},null,null,null,null,null,211,null,{"$f":"IF(AND(OFFSET($A$1,ROW()-1,COLUMN()-11)<>\"\",OR(OFFSET($A$1,ROW()-1,COLUMN()-9)=1,OFFSET($A$1,ROW()-1,COLUMN()-9)=2)),OFFSET($A$1,ROW()-1,COLUMN()-3),OFFSET($A$1,ROW()-1,COLUMN()-3)+1000)","v":1211},null,{"$f":"IF('手順２・３・４社員タイプ#07'!$B$52=\"\",\"\", '手順２・３・４社員タイプ#07'!$B$52)","v":""},null,{"$f":"'手順２・３・４社員タイプ#07'!$C$52","v":0},null,null,null,null,null,211,null,{"$f":"IF(AND(OFFSET($A$1,ROW()-1,COLUMN()-11)<>\"\",OR(OFFSET($A$1,ROW()-1,COLUMN()-9)=1,OFFSET($A$1,ROW()-1,COLUMN()-9)=2)),OFFSET($A$1,ROW()-1,COLUMN()-3),OFFSET($A$1,ROW()-1,COLUMN()-3)+1000)","v":1211},null,{"$f":"IF('手順２・３・４社員タイプ#08'!$B$52=\"\",\"\", '手順２・３・４社員タイプ#08'!$B$52)","v":""},null,{"$f":"'手順２・３・４社員タイプ#08'!$C$52","v":0},null,null,null,null,null,211,null,{"$f":"IF(AND(OFFSET($A$1,ROW()-1,COLUMN()-11)<>\"\",OR(OFFSET($A$1,ROW()-1,COLUMN()-9)=1,OFFSET($A$1,ROW()-1,COLUMN()-9)=2)),OFFSET($A$1,ROW()-1,COLUMN()-3),OFFSET($A$1,ROW()-1,COLUMN()-3)+1000)","v":1211},null,{"$f":"IF('手順２・３・４社員タイプ#09'!$B$52=\"\",\"\", '手順２・３・４社員タイプ#09'!$B$52)","v":""},null,{"$f":"'手順２・３・４社員タイプ#09'!$C$52","v":0},null,null,null,null,null,211,null,{"$f":"IF(AND(OFFSET($A$1,ROW()-1,COLUMN()-11)<>\"\",OR(OFFSET($A$1,ROW()-1,COLUMN()-9)=1,OFFSET($A$1,ROW()-1,COLUMN()-9)=2)),OFFSET($A$1,ROW()-1,COLUMN()-3),OFFSET($A$1,ROW()-1,COLUMN()-3)+1000)","v":1211},null,{"$f":"IF('手順２・３・４社員タイプ#10'!$B$52=\"\",\"\", '手順２・３・４社員タイプ#10'!$B$52)","v":""},null,{"$f":"'手順２・３・４社員タイプ#10'!$C$52","v":0},null,null,null,null,null,211,null,{"$f":"IF(AND(OFFSET($A$1,ROW()-1,COLUMN()-11)<>\"\",OR(OFFSET($A$1,ROW()-1,COLUMN()-9)=1,OFFSET($A$1,ROW()-1,COLUMN()-9)=2)),OFFSET($A$1,ROW()-1,COLUMN()-3),OFFSET($A$1,ROW()-1,COLUMN()-3)+1000)","v":1211}]
[null,null,null,null,null,null,null,null,null,null,null,null,null,null,null,null,null,null,null,null,"待遇の違いの有無",null,"支給の目的",null,2,null,null,null,212,null,{"$f":"OFFSET($A$1,ROW()-2,COLUMN()-1)+1","v":1212},null,"待遇の違いの有無",null,"支給の目的",null,2,null,null,null,212,null,{"$f":"OFFSET($A$1,ROW()-2,COLUMN()-1)+1","v":1212},null,"待遇の違いの有無",null,"支給の目的",null,2,null,null,null,212,null,{"$f":"OFFSET($A$1,ROW()-2,COLUMN()-1)+1","v":1212},null,"待遇の違いの有無",null,"支給の目的",null,2,null,null,null,212,null,{"$f":"OFFSET($A$1,ROW()-2,COLUMN()-1)+1","v":1212},null,"待遇の違いの有無",null,"支給の目的",null,2,null,null,null,212,null,{"$f":"OFFSET($A$1,ROW()-2,COLUMN()-1)+1","v":1212},null,"待遇の違いの有無",null,"支給の目的",null,2,null,null,null,212,null,{"$f":"OFFSET($A$1,ROW()-2,COLUMN()-1)+1","v":1212},null,"待遇の違いの有無",null,"支給の目的",null,2,null,null,null,212,null,{"$f":"OFFSET($A$1,ROW()-2,COLUMN()-1)+1","v":1212},null,"待遇の違いの有無",null,"支給の目的",null,2,null,null,null,212,null,{"$f":"OFFSET($A$1,ROW()-2,COLUMN()-1)+1","v":1212},null,"待遇の違いの有無",null,"支給の目的",null,2,null,null,null,212,null,{"$f":"OFFSET($A$1,ROW()-2,COLUMN()-1)+1","v":1212},null,"待遇の違いの有無",null,"支給の目的",null,2,null,null,null,212,null,{"$f":"OFFSET($A$1,ROW()-2,COLUMN()-1)+1","v":1212}]
[null,null,null,null,null,null,null,null,null,null,null,null,null,null,null,null,null,null,null,null,{"$f":"OFFSET($C$14,OFFSET($A$1,ROW()-3,COLUMN()+1),0)","v":" "},null,null,null,2,null,null,null,213,null,1213,null,{"$f":"OFFSET($C$14,OFFSET($A$1,ROW()-3,COLUMN()+1),0)","v":" "},null,null,null,2,null,null,null,213,null,1213,null,{"$f":"OFFSET($C$14,OFFSET($A$1,ROW()-3,COLUMN()+1),0)","v":" "},null,null,null,2,null,null,null,213,null,1213,null,{"$f":"OFFSET($C$14,OFFSET($A$1,ROW()-3,COLUMN()+1),0)","v":" "},null,null,null,2,null,null,null,213,null,1213,null,{"$f":"OFFSET($C$14,OFFSET($A$1,ROW()-3,COLUMN()+1),0)","v":" "},null,null,null,2,null,null,null,213,null,1213,null,{"$f":"OFFSET($C$14,OFFSET($A$1,ROW()-3,COLUMN()+1),0)","v":" "},null,null,null,2,null,null,null,213,null,1213,null,{"$f":"OFFSET($C$14,OFFSET($A$1,ROW()-3,COLUMN()+1),0)","v":" "},null,null,null,2,null,null,null,213,null,1213,null,{"$f":"OFFSET($C$14,OFFSET($A$1,ROW()-3,COLUMN()+1),0)","v":" "},null,null,null,2,null,null,null,213,null,1213,null,{"$f":"OFFSET($C$14,OFFSET($A$1,ROW()-3,COLUMN()+1),0)","v":" "},null,null,null,2,null,null,null,213,null,1213,null,{"$f":"OFFSET($C$14,OFFSET($A$1,ROW()-3,COLUMN()+1),0)","v":" "},null,null,null,2,null,null,null,213,null,1213]
[null,null,null,null,null,null,null,null,null,null,null,null,null,null,null,null,null,null,null,null,"正社員",null,"短時間労働者・有期雇用労働者",null,null,null,null,null,214,null,1214,null,"正社員",null,"短時間労働者・有期雇用労働者",null,null,null,null,null,214,null,1214,null,"正社員",null,"短時間労働者・有期雇用労働者",null,null,null,null,null,214,null,1214,null,"正社員",null,"短時間労働者・有期雇用労働者",null,null,null,null,null,214,null,1214,null,"正社員",null,"短時間労働者・有期雇用労働者",null,null,null,null,null,214,null,1214,null,"正社員",null,"短時間労働者・有期雇用労働者",null,null,null,null,null,214,null,1214,null,"正社員",null,"短時間労働者・有期雇用労働者",null,null,null,null,null,214,null,1214,null,"正社員",null,"短時間労働者・有期雇用労働者",null,null,null,null,null,214,null,1214,null,"正社員",null,"短時間労働者・有期雇用労働者",null,null,null,null,null,214,null,1214,null,"正社員",null,"短時間労働者・有期雇用労働者",null,null,null,null,null,214,null,1214]
[null,null,null,null,null,null,null,null,null,null,null,null,null,null,null,null,null,null,null,null,{"$f":"IF(OFFSET($A$1,ROW()-5,COLUMN()+1)<>2,\"\",'手順２・３・４社員タイプ#01'!$E$52&\"\")","v":""},null,{"$f":"IF(OFFSET($A$1,ROW()-5,COLUMN()-1)<>2,\"\",'手順２・３・４社員タイプ#01'!$F$52&\"\")","v":""},null,{"$f":"IF(OFFSET($A$1,ROW()-5,COLUMN()-3)<>2,1,0)","v":1},null,{"$f":"OFFSET($A$1,ROW()-1,COLUMN()-3)","v":1},null,215,null,1215,null,{"$f":"IF(OFFSET($A$1,ROW()-5,COLUMN()+1)<>2,\"\",'手順２・３・４社員タイプ#02'!$E$52&\"\")","v":""},null,{"$f":"IF(OFFSET($A$1,ROW()-5,COLUMN()-1)<>2,\"\",'手順２・３・４社員タイプ#02'!$F$52&\"\")","v":""},null,{"$f":"IF(OFFSET($A$1,ROW()-5,COLUMN()-3)<>2,1,0)","v":1},null,{"$f":"OFFSET($A$1,ROW()-1,COLUMN()-3)","v":1},null,215,null,1215,null,{"$f":"IF(OFFSET($A$1,ROW()-5,COLUMN()+1)<>2,\"\",'手順２・３・４社員タイプ#03'!$E$52&\"\")","v":""},null,{"$f":"IF(OFFSET($A$1,ROW()-5,COLUMN()-1)<>2,\"\",'手順２・３・４社員タイプ#03'!$F$52&\"\")","v":""},null,{"$f":"IF(OFFSET($A$1,ROW()-5,COLUMN()-3)<>2,1,0)","v":1},null,{"$f":"OFFSET($A$1,ROW()-1,COLUMN()-3)","v":1},null,215,null,1215,null,{"$f":"IF(OFFSET($A$1,ROW()-5,COLUMN()+1)<>2,\"\",'手順２・３・４社員タイプ#04'!$E$52&\"\")","v":""},null,{"$f":"IF(OFFSET($A$1,ROW()-5,COLUMN()-1)<>2,\"\",'手順２・３・４社員タイプ#04'!$F$52&\"\")","v":""},null,{"$f":"IF(OFFSET($A$1,ROW()-5,COLUMN()-3)<>2,1,0)","v":1},null,{"$f":"OFFSET($A$1,ROW()-1,COLUMN()-3)","v":1},null,215,null,1215,null,{"$f":"IF(OFFSET($A$1,ROW()-5,COLUMN()+1)<>2,\"\",'手順２・３・４社員タイプ#05'!$E$52&\"\")","v":""},null,{"$f":"IF(OFFSET($A$1,ROW()-5,COLUMN()-1)<>2,\"\",'手順２・３・４社員タイプ#05'!$F$52&\"\")","v":""},null,{"$f":"IF(OFFSET($A$1,ROW()-5,COLUMN()-3)<>2,1,0)","v":1},null,{"$f":"OFFSET($A$1,ROW()-1,COLUMN()-3)","v":1},null,215,null,1215,null,{"$f":"IF(OFFSET($A$1,ROW()-5,COLUMN()+1)<>2,\"\",'手順２・３・４社員タイプ#06'!$E$52&\"\")","v":""},null,{"$f":"IF(OFFSET($A$1,ROW()-5,COLUMN()-1)<>2,\"\",'手順２・３・４社員タイプ#06'!$F$52&\"\")","v":""},null,{"$f":"IF(OFFSET($A$1,ROW()-5,COLUMN()-3)<>2,1,0)","v":1},null,{"$f":"OFFSET($A$1,ROW()-1,COLUMN()-3)","v":1},null,215,null,1215,null,{"$f":"IF(OFFSET($A$1,ROW()-5,COLUMN()+1)<>2,\"\",'手順２・３・４社員タイプ#07'!$E$52&\"\")","v":""},null,{"$f":"IF(OFFSET($A$1,ROW()-5,COLUMN()-1)<>2,\"\",'手順２・３・４社員タイプ#07'!$F$52&\"\")","v":""},null,{"$f":"IF(OFFSET($A$1,ROW()-5,COLUMN()-3)<>2,1,0)","v":1},null,{"$f":"OFFSET($A$1,ROW()-1,COLUMN()-3)","v":1},null,215,null,1215,null,{"$f":"IF(OFFSET($A$1,ROW()-5,COLUMN()+1)<>2,\"\",'手順２・３・４社員タイプ#08'!$E$52&\"\")","v":""},null,{"$f":"IF(OFFSET($A$1,ROW()-5,COLUMN()-1)<>2,\"\",'手順２・３・４社員タイプ#08'!$F$52&\"\")","v":""},null,{"$f":"IF(OFFSET($A$1,ROW()-5,COLUMN()-3)<>2,1,0)","v":1},null,{"$f":"OFFSET($A$1,ROW()-1,COLUMN()-3)","v":1},null,215,null,1215,null,{"$f":"IF(OFFSET($A$1,ROW()-5,COLUMN()+1)<>2,\"\",'手順２・３・４社員タイプ#09'!$E$52&\"\")","v":""},null,{"$f":"IF(OFFSET($A$1,ROW()-5,COLUMN()-1)<>2,\"\",'手順２・３・４社員タイプ#09'!$F$52&\"\")","v":""},null,{"$f":"IF(OFFSET($A$1,ROW()-5,COLUMN()-3)<>2,1,0)","v":1},null,{"$f":"OFFSET($A$1,ROW()-1,COLUMN()-3)","v":1},null,215,null,1215,null,{"$f":"IF(OFFSET($A$1,ROW()-5,COLUMN()+1)<>2,\"\",'手順２・３・４社員タイプ#10'!$E$52&\"\")","v":""},null,{"$f":"IF(OFFSET($A$1,ROW()-5,COLUMN()-1)<>2,\"\",'手順２・３・４社員タイプ#10'!$F$52&\"\")","v":""},null,{"$f":"IF(OFFSET($A$1,ROW()-5,COLUMN()-3)<>2,1,0)","v":1},null,{"$f":"OFFSET($A$1,ROW()-1,COLUMN()-3)","v":1},null,215,null,1215]
[null,null,null,null,null,null,null,null,null,null,null,null,null,null,null,null,null,null,null,null,"違いを設けている理由",null,"対応方針",null,null,null,null,null,216,null,1216,null,"違いを設けている理由",null,"対応方針",null,null,null,null,null,216,null,1216,null,"違いを設けている理由",null,"対応方針",null,null,null,null,null,216,null,1216,null,"違いを設けている理由",null,"対応方針",null,null,null,null,null,216,null,1216,null,"違いを設けている理由",null,"対応方針",null,null,null,null,null,216,null,1216,null,"違いを設けている理由",null,"対応方針",null,null,null,null,null,216,null,1216,null,"違いを設けている理由",null,"対応方針",null,null,null,null,null,216,null,1216,null,"違いを設けている理由",null,"対応方針",null,null,null,null,null,216,null,1216,null,"違いを設けている理由",null,"対応方針",null,null,null,null,null,216,null,1216,null,"違いを設けている理由",null,"対応方針",null,null,null,null,null,216,null,1216]
[null,null,null,null,null,null,null,null,null,null,null,null,null,null,null,null,null,null,null,null,{"$f":"IF(OFFSET($A$1,ROW()-7,COLUMN()+1)<>2,\"\",'手順２・３・４社員タイプ#01'!$G$52&\"\")","v":""},null,{"$f":"IF(OFFSET($A$1,ROW()-7,COLUMN()-1)<>2,\"\",'手順２・３・４社員タイプ#01'!$H$52&\"\")","v":""},null,{"$f":"OFFSET($A$1,ROW()-3,COLUMN()-1)","v":1},null,{"$f":"OFFSET($A$1,ROW()-3,COLUMN()-3)","v":1},null,217,null,1217,null,{"$f":"IF(OFFSET($A$1,ROW()-7,COLUMN()+1)<>2,\"\",'手順２・３・４社員タイプ#02'!$G$52&\"\")","v":""},null,{"$f":"IF(OFFSET($A$1,ROW()-7,COLUMN()-1)<>2,\"\",'手順２・３・４社員タイプ#02'!$H$52&\"\")","v":""},null,{"$f":"OFFSET($A$1,ROW()-3,COLUMN()-1)","v":1},null,{"$f":"OFFSET($A$1,ROW()-3,COLUMN()-3)","v":1},null,217,null,1217,null,{"$f":"IF(OFFSET($A$1,ROW()-7,COLUMN()+1)<>2,\"\",'手順２・３・４社員タイプ#03'!$G$52&\"\")","v":""},null,{"$f":"IF(OFFSET($A$1,ROW()-7,COLUMN()-1)<>2,\"\",'手順２・３・４社員タイプ#03'!$H$52&\"\")","v":""},null,{"$f":"OFFSET($A$1,ROW()-3,COLUMN()-1)","v":1},null,{"$f":"OFFSET($A$1,ROW()-3,COLUMN()-3)","v":1},null,217,null,1217,null,{"$f":"IF(OFFSET($A$1,ROW()-7,COLUMN()+1)<>2,\"\",'手順２・３・４社員タイプ#04'!$G$52&\"\")","v":""},null,{"$f":"IF(OFFSET($A$1,ROW()-7,COLUMN()-1)<>2,\"\",'手順２・３・４社員タイプ#04'!$H$52&\"\")","v":""},null,{"$f":"OFFSET($A$1,ROW()-3,COLUMN()-1)","v":1},null,{"$f":"OFFSET($A$1,ROW()-3,COLUMN()-3)","v":1},null,217,null,1217,null,{"$f":"IF(OFFSET($A$1,ROW()-7,COLUMN()+1)<>2,\"\",'手順２・３・４社員タイプ#05'!$G$52&\"\")","v":""},null,{"$f":"IF(OFFSET($A$1,ROW()-7,COLUMN()-1)<>2,\"\",'手順２・３・４社員タイプ#05'!$H$52&\"\")","v":""},null,{"$f":"OFFSET($A$1,ROW()-3,COLUMN()-1)","v":1},null,{"$f":"OFFSET($A$1,ROW()-3,COLUMN()-3)","v":1},null,217,null,1217,null,{"$f":"IF(OFFSET($A$1,ROW()-7,COLUMN()+1)<>2,\"\",'手順２・３・４社員タイプ#06'!$G$52&\"\")","v":""},null,{"$f":"IF(OFFSET($A$1,ROW()-7,COLUMN()-1)<>2,\"\",'手順２・３・４社員タイプ#06'!$H$52&\"\")","v":""},null,{"$f":"OFFSET($A$1,ROW()-3,COLUMN()-1)","v":1},null,{"$f":"OFFSET($A$1,ROW()-3,COLUMN()-3)","v":1},null,217,null,1217,null,{"$f":"IF(OFFSET($A$1,ROW()-7,COLUMN()+1)<>2,\"\",'手順２・３・４社員タイプ#07'!$G$52&\"\")","v":""},null,{"$f":"IF(OFFSET($A$1,ROW()-7,COLUMN()-1)<>2,\"\",'手順２・３・４社員タイプ#07'!$H$52&\"\")","v":""},null,{"$f":"OFFSET($A$1,ROW()-3,COLUMN()-1)","v":1},null,{"$f":"OFFSET($A$1,ROW()-3,COLUMN()-3)","v":1},null,217,null,1217,null,{"$f":"IF(OFFSET($A$1,ROW()-7,COLUMN()+1)<>2,\"\",'手順２・３・４社員タイプ#08'!$G$52&\"\")","v":""},null,{"$f":"IF(OFFSET($A$1,ROW()-7,COLUMN()-1)<>2,\"\",'手順２・３・４社員タイプ#08'!$H$52&\"\")","v":""},null,{"$f":"OFFSET($A$1,ROW()-3,COLUMN()-1)","v":1},null,{"$f":"OFFSET($A$1,ROW()-3,COLUMN()-3)","v":1},null,217,null,1217,null,{"$f":"IF(OFFSET($A$1,ROW()-7,COLUMN()+1)<>2,\"\",'手順２・３・４社員タイプ#09'!$G$52&\"\")","v":""},null,{"$f":"IF(OFFSET($A$1,ROW()-7,COLUMN()-1)<>2,\"\",'手順２・３・４社員タイプ#09'!$H$52&\"\")","v":""},null,{"$f":"OFFSET($A$1,ROW()-3,COLUMN()-1)","v":1},null,{"$f":"OFFSET($A$1,ROW()-3,COLUMN()-3)","v":1},null,217,null,1217,null,{"$f":"IF(OFFSET($A$1,ROW()-7,COLUMN()+1)<>2,\"\",'手順２・３・４社員タイプ#10'!$G$52&\"\")","v":""},null,{"$f":"IF(OFFSET($A$1,ROW()-7,COLUMN()-1)<>2,\"\",'手順２・３・４社員タイプ#10'!$H$52&\"\")","v":""},null,{"$f":"OFFSET($A$1,ROW()-3,COLUMN()-1)","v":1},null,{"$f":"OFFSET($A$1,ROW()-3,COLUMN()-3)","v":1},null,217,null,1217]
[null,null,null,null,null,null,null,null,null,null,null,null,null,null,null,null,null,null,null,null,{"$f":"IF('手順２・３・４社員タイプ#01'!$B$53=\"\",\"\", '手順２・３・４社員タイプ#01'!$B$53)","v":""},null,{"$f":"'手順２・３・４社員タイプ#01'!$C$53","v":0},null,null,null,null,null,218,null,{"$f":"IF(AND(OFFSET($A$1,ROW()-1,COLUMN()-11)<>\"\",OR(OFFSET($A$1,ROW()-1,COLUMN()-9)=1,OFFSET($A$1,ROW()-1,COLUMN()-9)=2)),OFFSET($A$1,ROW()-1,COLUMN()-3),OFFSET($A$1,ROW()-1,COLUMN()-3)+1000)","v":1218},null,{"$f":"IF('手順２・３・４社員タイプ#02'!$B$53=\"\",\"\", '手順２・３・４社員タイプ#02'!$B$53)","v":""},null,{"$f":"'手順２・３・４社員タイプ#02'!$C$53","v":0},null,null,null,null,null,218,null,{"$f":"IF(AND(OFFSET($A$1,ROW()-1,COLUMN()-11)<>\"\",OR(OFFSET($A$1,ROW()-1,COLUMN()-9)=1,OFFSET($A$1,ROW()-1,COLUMN()-9)=2)),OFFSET($A$1,ROW()-1,COLUMN()-3),OFFSET($A$1,ROW()-1,COLUMN()-3)+1000)","v":1218},null,{"$f":"IF('手順２・３・４社員タイプ#03'!$B$53=\"\",\"\", '手順２・３・４社員タイプ#03'!$B$53)","v":""},null,{"$f":"'手順２・３・４社員タイプ#03'!$C$53","v":0},null,null,null,null,null,218,null,{"$f":"IF(AND(OFFSET($A$1,ROW()-1,COLUMN()-11)<>\"\",OR(OFFSET($A$1,ROW()-1,COLUMN()-9)=1,OFFSET($A$1,ROW()-1,COLUMN()-9)=2)),OFFSET($A$1,ROW()-1,COLUMN()-3),OFFSET($A$1,ROW()-1,COLUMN()-3)+1000)","v":1218},null,{"$f":"IF('手順２・３・４社員タイプ#04'!$B$53=\"\",\"\", '手順２・３・４社員タイプ#04'!$B$53)","v":""},null,{"$f":"'手順２・３・４社員タイプ#04'!$C$53","v":0},null,null,null,null,null,218,null,{"$f":"IF(AND(OFFSET($A$1,ROW()-1,COLUMN()-11)<>\"\",OR(OFFSET($A$1,ROW()-1,COLUMN()-9)=1,OFFSET($A$1,ROW()-1,COLUMN()-9)=2)),OFFSET($A$1,ROW()-1,COLUMN()-3),OFFSET($A$1,ROW()-1,COLUMN()-3)+1000)","v":1218},null,{"$f":"IF('手順２・３・４社員タイプ#05'!$B$53=\"\",\"\", '手順２・３・４社員タイプ#05'!$B$53)","v":""},null,{"$f":"'手順２・３・４社員タイプ#05'!$C$53","v":0},null,null,null,null,null,218,null,{"$f":"IF(AND(OFFSET($A$1,ROW()-1,COLUMN()-11)<>\"\",OR(OFFSET($A$1,ROW()-1,COLUMN()-9)=1,OFFSET($A$1,ROW()-1,COLUMN()-9)=2)),OFFSET($A$1,ROW()-1,COLUMN()-3),OFFSET($A$1,ROW()-1,COLUMN()-3)+1000)","v":1218},null,{"$f":"IF('手順２・３・４社員タイプ#06'!$B$53=\"\",\"\", '手順２・３・４社員タイプ#06'!$B$53)","v":""},null,{"$f":"'手順２・３・４社員タイプ#06'!$C$53","v":0},null,null,null,null,null,218,null,{"$f":"IF(AND(OFFSET($A$1,ROW()-1,COLUMN()-11)<>\"\",OR(OFFSET($A$1,ROW()-1,COLUMN()-9)=1,OFFSET($A$1,ROW()-1,COLUMN()-9)=2)),OFFSET($A$1,ROW()-1,COLUMN()-3),OFFSET($A$1,ROW()-1,COLUMN()-3)+1000)","v":1218},null,{"$f":"IF('手順２・３・４社員タイプ#07'!$B$53=\"\",\"\", '手順２・３・４社員タイプ#07'!$B$53)","v":""},null,{"$f":"'手順２・３・４社員タイプ#07'!$C$53","v":0},null,null,null,null,null,218,null,{"$f":"IF(AND(OFFSET($A$1,ROW()-1,COLUMN()-11)<>\"\",OR(OFFSET($A$1,ROW()-1,COLUMN()-9)=1,OFFSET($A$1,ROW()-1,COLUMN()-9)=2)),OFFSET($A$1,ROW()-1,COLUMN()-3),OFFSET($A$1,ROW()-1,COLUMN()-3)+1000)","v":1218},null,{"$f":"IF('手順２・３・４社員タイプ#08'!$B$53=\"\",\"\", '手順２・３・４社員タイプ#08'!$B$53)","v":""},null,{"$f":"'手順２・３・４社員タイプ#08'!$C$53","v":0},null,null,null,null,null,218,null,{"$f":"IF(AND(OFFSET($A$1,ROW()-1,COLUMN()-11)<>\"\",OR(OFFSET($A$1,ROW()-1,COLUMN()-9)=1,OFFSET($A$1,ROW()-1,COLUMN()-9)=2)),OFFSET($A$1,ROW()-1,COLUMN()-3),OFFSET($A$1,ROW()-1,COLUMN()-3)+1000)","v":1218},null,{"$f":"IF('手順２・３・４社員タイプ#09'!$B$53=\"\",\"\", '手順２・３・４社員タイプ#09'!$B$53)","v":""},null,{"$f":"'手順２・３・４社員タイプ#09'!$C$53","v":0},null,null,null,null,null,218,null,{"$f":"IF(AND(OFFSET($A$1,ROW()-1,COLUMN()-11)<>\"\",OR(OFFSET($A$1,ROW()-1,COLUMN()-9)=1,OFFSET($A$1,ROW()-1,COLUMN()-9)=2)),OFFSET($A$1,ROW()-1,COLUMN()-3),OFFSET($A$1,ROW()-1,COLUMN()-3)+1000)","v":1218},null,{"$f":"IF('手順２・３・４社員タイプ#10'!$B$53=\"\",\"\", '手順２・３・４社員タイプ#10'!$B$53)","v":""},null,{"$f":"'手順２・３・４社員タイプ#10'!$C$53","v":0},null,null,null,null,null,218,null,{"$f":"IF(AND(OFFSET($A$1,ROW()-1,COLUMN()-11)<>\"\",OR(OFFSET($A$1,ROW()-1,COLUMN()-9)=1,OFFSET($A$1,ROW()-1,COLUMN()-9)=2)),OFFSET($A$1,ROW()-1,COLUMN()-3),OFFSET($A$1,ROW()-1,COLUMN()-3)+1000)","v":1218}]
[null,null,null,null,null,null,null,null,null,null,null,null,null,null,null,null,null,null,null,null,"待遇の違いの有無",null,"支給の目的",null,2,null,null,null,219,null,{"$f":"OFFSET($A$1,ROW()-2,COLUMN()-1)+1","v":1219},null,"待遇の違いの有無",null,"支給の目的",null,2,null,null,null,219,null,{"$f":"OFFSET($A$1,ROW()-2,COLUMN()-1)+1","v":1219},null,"待遇の違いの有無",null,"支給の目的",null,2,null,null,null,219,null,{"$f":"OFFSET($A$1,ROW()-2,COLUMN()-1)+1","v":1219},null,"待遇の違いの有無",null,"支給の目的",null,2,null,null,null,219,null,{"$f":"OFFSET($A$1,ROW()-2,COLUMN()-1)+1","v":1219},null,"待遇の違いの有無",null,"支給の目的",null,2,null,null,null,219,null,{"$f":"OFFSET($A$1,ROW()-2,COLUMN()-1)+1","v":1219},null,"待遇の違いの有無",null,"支給の目的",null,2,null,null,null,219,null,{"$f":"OFFSET($A$1,ROW()-2,COLUMN()-1)+1","v":1219},null,"待遇の違いの有無",null,"支給の目的",null,2,null,null,null,219,null,{"$f":"OFFSET($A$1,ROW()-2,COLUMN()-1)+1","v":1219},null,"待遇の違いの有無",null,"支給の目的",null,2,null,null,null,219,null,{"$f":"OFFSET($A$1,ROW()-2,COLUMN()-1)+1","v":1219},null,"待遇の違いの有無",null,"支給の目的",null,2,null,null,null,219,null,{"$f":"OFFSET($A$1,ROW()-2,COLUMN()-1)+1","v":1219},null,"待遇の違いの有無",null,"支給の目的",null,2,null,null,null,219,null,{"$f":"OFFSET($A$1,ROW()-2,COLUMN()-1)+1","v":1219}]
[null,null,null,null,null,null,null,null,null,null,null,null,null,null,null,null,null,null,null,null,{"$f":"OFFSET($C$14,OFFSET($A$1,ROW()-3,COLUMN()+1),0)","v":" "},null,null,null,2,null,null,null,220,null,1220,null,{"$f":"OFFSET($C$14,OFFSET($A$1,ROW()-3,COLUMN()+1),0)","v":" "},null,null,null,2,null,null,null,220,null,1220,null,{"$f":"OFFSET($C$14,OFFSET($A$1,ROW()-3,COLUMN()+1),0)","v":" "},null,null,null,2,null,null,null,220,null,1220,null,{"$f":"OFFSET($C$14,OFFSET($A$1,ROW()-3,COLUMN()+1),0)","v":" "},null,null,null,2,null,null,null,220,null,1220,null,{"$f":"OFFSET($C$14,OFFSET($A$1,ROW()-3,COLUMN()+1),0)","v":" "},null,null,null,2,null,null,null,220,null,1220,null,{"$f":"OFFSET($C$14,OFFSET($A$1,ROW()-3,COLUMN()+1),0)","v":" "},null,null,null,2,null,null,null,220,null,1220,null,{"$f":"OFFSET($C$14,OFFSET($A$1,ROW()-3,COLUMN()+1),0)","v":" "},null,null,null,2,null,null,null,220,null,1220,null,{"$f":"OFFSET($C$14,OFFSET($A$1,ROW()-3,COLUMN()+1),0)","v":" "},null,null,null,2,null,null,null,220,null,1220,null,{"$f":"OFFSET($C$14,OFFSET($A$1,ROW()-3,COLUMN()+1),0)","v":" "},null,null,null,2,null,null,null,220,null,1220,null,{"$f":"OFFSET($C$14,OFFSET($A$1,ROW()-3,COLUMN()+1),0)","v":" "},null,null,null,2,null,null,null,220,null,1220]
[null,null,null,null,null,null,null,null,null,null,null,null,null,null,null,null,null,null,null,null,"正社員",null,"短時間労働者・有期雇用労働者",null,null,null,null,null,221,null,1221,null,"正社員",null,"短時間労働者・有期雇用労働者",null,null,null,null,null,221,null,1221,null,"正社員",null,"短時間労働者・有期雇用労働者",null,null,null,null,null,221,null,1221,null,"正社員",null,"短時間労働者・有期雇用労働者",null,null,null,null,null,221,null,1221,null,"正社員",null,"短時間労働者・有期雇用労働者",null,null,null,null,null,221,null,1221,null,"正社員",null,"短時間労働者・有期雇用労働者",null,null,null,null,null,221,null,1221,null,"正社員",null,"短時間労働者・有期雇用労働者",null,null,null,null,null,221,null,1221,null,"正社員",null,"短時間労働者・有期雇用労働者",null,null,null,null,null,221,null,1221,null,"正社員",null,"短時間労働者・有期雇用労働者",null,null,null,null,null,221,null,1221,null,"正社員",null,"短時間労働者・有期雇用労働者",null,null,null,null,null,221,null,1221]
[null,null,null,null,null,null,null,null,null,null,null,null,null,null,null,null,null,null,null,null,{"$f":"IF(OFFSET($A$1,ROW()-5,COLUMN()+1)<>2,\"\",'手順２・３・４社員タイプ#01'!$E$53&\"\")","v":""},null,{"$f":"IF(OFFSET($A$1,ROW()-5,COLUMN()-1)<>2,\"\",'手順２・３・４社員タイプ#01'!$F$53&\"\")","v":""},null,{"$f":"IF(OFFSET($A$1,ROW()-5,COLUMN()-3)<>2,1,0)","v":1},null,{"$f":"OFFSET($A$1,ROW()-1,COLUMN()-3)","v":1},null,222,null,1222,null,{"$f":"IF(OFFSET($A$1,ROW()-5,COLUMN()+1)<>2,\"\",'手順２・３・４社員タイプ#02'!$E$53&\"\")","v":""},null,{"$f":"IF(OFFSET($A$1,ROW()-5,COLUMN()-1)<>2,\"\",'手順２・３・４社員タイプ#02'!$F$53&\"\")","v":""},null,{"$f":"IF(OFFSET($A$1,ROW()-5,COLUMN()-3)<>2,1,0)","v":1},null,{"$f":"OFFSET($A$1,ROW()-1,COLUMN()-3)","v":1},null,222,null,1222,null,{"$f":"IF(OFFSET($A$1,ROW()-5,COLUMN()+1)<>2,\"\",'手順２・３・４社員タイプ#03'!$E$53&\"\")","v":""},null,{"$f":"IF(OFFSET($A$1,ROW()-5,COLUMN()-1)<>2,\"\",'手順２・３・４社員タイプ#03'!$F$53&\"\")","v":""},null,{"$f":"IF(OFFSET($A$1,ROW()-5,COLUMN()-3)<>2,1,0)","v":1},null,{"$f":"OFFSET($A$1,ROW()-1,COLUMN()-3)","v":1},null,222,null,1222,null,{"$f":"IF(OFFSET($A$1,ROW()-5,COLUMN()+1)<>2,\"\",'手順２・３・４社員タイプ#04'!$E$53&\"\")","v":""},null,{"$f":"IF(OFFSET($A$1,ROW()-5,COLUMN()-1)<>2,\"\",'手順２・３・４社員タイプ#04'!$F$53&\"\")","v":""},null,{"$f":"IF(OFFSET($A$1,ROW()-5,COLUMN()-3)<>2,1,0)","v":1},null,{"$f":"OFFSET($A$1,ROW()-1,COLUMN()-3)","v":1},null,222,null,1222,null,{"$f":"IF(OFFSET($A$1,ROW()-5,COLUMN()+1)<>2,\"\",'手順２・３・４社員タイプ#05'!$E$53&\"\")","v":""},null,{"$f":"IF(OFFSET($A$1,ROW()-5,COLUMN()-1)<>2,\"\",'手順２・３・４社員タイプ#05'!$F$53&\"\")","v":""},null,{"$f":"IF(OFFSET($A$1,ROW()-5,COLUMN()-3)<>2,1,0)","v":1},null,{"$f":"OFFSET($A$1,ROW()-1,COLUMN()-3)","v":1},null,222,null,1222,null,{"$f":"IF(OFFSET($A$1,ROW()-5,COLUMN()+1)<>2,\"\",'手順２・３・４社員タイプ#06'!$E$53&\"\")","v":""},null,{"$f":"IF(OFFSET($A$1,ROW()-5,COLUMN()-1)<>2,\"\",'手順２・３・４社員タイプ#06'!$F$53&\"\")","v":""},null,{"$f":"IF(OFFSET($A$1,ROW()-5,COLUMN()-3)<>2,1,0)","v":1},null,{"$f":"OFFSET($A$1,ROW()-1,COLUMN()-3)","v":1},null,222,null,1222,null,{"$f":"IF(OFFSET($A$1,ROW()-5,COLUMN()+1)<>2,\"\",'手順２・３・４社員タイプ#07'!$E$53&\"\")","v":""},null,{"$f":"IF(OFFSET($A$1,ROW()-5,COLUMN()-1)<>2,\"\",'手順２・３・４社員タイプ#07'!$F$53&\"\")","v":""},null,{"$f":"IF(OFFSET($A$1,ROW()-5,COLUMN()-3)<>2,1,0)","v":1},null,{"$f":"OFFSET($A$1,ROW()-1,COLUMN()-3)","v":1},null,222,null,1222,null,{"$f":"IF(OFFSET($A$1,ROW()-5,COLUMN()+1)<>2,\"\",'手順２・３・４社員タイプ#08'!$E$53&\"\")","v":""},null,{"$f":"IF(OFFSET($A$1,ROW()-5,COLUMN()-1)<>2,\"\",'手順２・３・４社員タイプ#08'!$F$53&\"\")","v":""},null,{"$f":"IF(OFFSET($A$1,ROW()-5,COLUMN()-3)<>2,1,0)","v":1},null,{"$f":"OFFSET($A$1,ROW()-1,COLUMN()-3)","v":1},null,222,null,1222,null,{"$f":"IF(OFFSET($A$1,ROW()-5,COLUMN()+1)<>2,\"\",'手順２・３・４社員タイプ#09'!$E$53&\"\")","v":""},null,{"$f":"IF(OFFSET($A$1,ROW()-5,COLUMN()-1)<>2,\"\",'手順２・３・４社員タイプ#09'!$F$53&\"\")","v":""},null,{"$f":"IF(OFFSET($A$1,ROW()-5,COLUMN()-3)<>2,1,0)","v":1},null,{"$f":"OFFSET($A$1,ROW()-1,COLUMN()-3)","v":1},null,222,null,1222,null,{"$f":"IF(OFFSET($A$1,ROW()-5,COLUMN()+1)<>2,\"\",'手順２・３・４社員タイプ#10'!$E$53&\"\")","v":""},null,{"$f":"IF(OFFSET($A$1,ROW()-5,COLUMN()-1)<>2,\"\",'手順２・３・４社員タイプ#10'!$F$53&\"\")","v":""},null,{"$f":"IF(OFFSET($A$1,ROW()-5,COLUMN()-3)<>2,1,0)","v":1},null,{"$f":"OFFSET($A$1,ROW()-1,COLUMN()-3)","v":1},null,222,null,1222]
[null,null,null,null,null,null,null,null,null,null,null,null,null,null,null,null,null,null,null,null,"違いを設けている理由",null,"対応方針",null,null,null,null,null,223,null,1223,null,"違いを設けている理由",null,"対応方針",null,null,null,null,null,223,null,1223,null,"違いを設けている理由",null,"対応方針",null,null,null,null,null,223,null,1223,null,"違いを設けている理由",null,"対応方針",null,null,null,null,null,223,null,1223,null,"違いを設けている理由",null,"対応方針",null,null,null,null,null,223,null,1223,null,"違いを設けている理由",null,"対応方針",null,null,null,null,null,223,null,1223,null,"違いを設けている理由",null,"対応方針",null,null,null,null,null,223,null,1223,null,"違いを設けている理由",null,"対応方針",null,null,null,null,null,223,null,1223,null,"違いを設けている理由",null,"対応方針",null,null,null,null,null,223,null,1223,null,"違いを設けている理由",null,"対応方針",null,null,null,null,null,223,null,1223]
[null,null,null,null,null,null,null,null,null,null,null,null,null,null,null,null,null,null,null,null,{"$f":"IF(OFFSET($A$1,ROW()-7,COLUMN()+1)<>2,\"\",'手順２・３・４社員タイプ#01'!$G$53&\"\")","v":""},null,{"$f":"IF(OFFSET($A$1,ROW()-7,COLUMN()-1)<>2,\"\",'手順２・３・４社員タイプ#01'!$H$53&\"\")","v":""},null,{"$f":"OFFSET($A$1,ROW()-3,COLUMN()-1)","v":1},null,{"$f":"OFFSET($A$1,ROW()-3,COLUMN()-3)","v":1},null,224,null,1224,null,{"$f":"IF(OFFSET($A$1,ROW()-7,COLUMN()+1)<>2,\"\",'手順２・３・４社員タイプ#02'!$G$53&\"\")","v":""},null,{"$f":"IF(OFFSET($A$1,ROW()-7,COLUMN()-1)<>2,\"\",'手順２・３・４社員タイプ#02'!$H$53&\"\")","v":""},null,{"$f":"OFFSET($A$1,ROW()-3,COLUMN()-1)","v":1},null,{"$f":"OFFSET($A$1,ROW()-3,COLUMN()-3)","v":1},null,224,null,1224,null,{"$f":"IF(OFFSET($A$1,ROW()-7,COLUMN()+1)<>2,\"\",'手順２・３・４社員タイプ#03'!$G$53&\"\")","v":""},null,{"$f":"IF(OFFSET($A$1,ROW()-7,COLUMN()-1)<>2,\"\",'手順２・３・４社員タイプ#03'!$H$53&\"\")","v":""},null,{"$f":"OFFSET($A$1,ROW()-3,COLUMN()-1)","v":1},null,{"$f":"OFFSET($A$1,ROW()-3,COLUMN()-3)","v":1},null,224,null,1224,null,{"$f":"IF(OFFSET($A$1,ROW()-7,COLUMN()+1)<>2,\"\",'手順２・３・４社員タイプ#04'!$G$53&\"\")","v":""},null,{"$f":"IF(OFFSET($A$1,ROW()-7,COLUMN()-1)<>2,\"\",'手順２・３・４社員タイプ#04'!$H$53&\"\")","v":""},null,{"$f":"OFFSET($A$1,ROW()-3,COLUMN()-1)","v":1},null,{"$f":"OFFSET($A$1,ROW()-3,COLUMN()-3)","v":1},null,224,null,1224,null,{"$f":"IF(OFFSET($A$1,ROW()-7,COLUMN()+1)<>2,\"\",'手順２・３・４社員タイプ#05'!$G$53&\"\")","v":""},null,{"$f":"IF(OFFSET($A$1,ROW()-7,COLUMN()-1)<>2,\"\",'手順２・３・４社員タイプ#05'!$H$53&\"\")","v":""},null,{"$f":"OFFSET($A$1,ROW()-3,COLUMN()-1)","v":1},null,{"$f":"OFFSET($A$1,ROW()-3,COLUMN()-3)","v":1},null,224,null,1224,null,{"$f":"IF(OFFSET($A$1,ROW()-7,COLUMN()+1)<>2,\"\",'手順２・３・４社員タイプ#06'!$G$53&\"\")","v":""},null,{"$f":"IF(OFFSET($A$1,ROW()-7,COLUMN()-1)<>2,\"\",'手順２・３・４社員タイプ#06'!$H$53&\"\")","v":""},null,{"$f":"OFFSET($A$1,ROW()-3,COLUMN()-1)","v":1},null,{"$f":"OFFSET($A$1,ROW()-3,COLUMN()-3)","v":1},null,224,null,1224,null,{"$f":"IF(OFFSET($A$1,ROW()-7,COLUMN()+1)<>2,\"\",'手順２・３・４社員タイプ#07'!$G$53&\"\")","v":""},null,{"$f":"IF(OFFSET($A$1,ROW()-7,COLUMN()-1)<>2,\"\",'手順２・３・４社員タイプ#07'!$H$53&\"\")","v":""},null,{"$f":"OFFSET($A$1,ROW()-3,COLUMN()-1)","v":1},null,{"$f":"OFFSET($A$1,ROW()-3,COLUMN()-3)","v":1},null,224,null,1224,null,{"$f":"IF(OFFSET($A$1,ROW()-7,COLUMN()+1)<>2,\"\",'手順２・３・４社員タイプ#08'!$G$53&\"\")","v":""},null,{"$f":"IF(OFFSET($A$1,ROW()-7,COLUMN()-1)<>2,\"\",'手順２・３・４社員タイプ#08'!$H$53&\"\")","v":""},null,{"$f":"OFFSET($A$1,ROW()-3,COLUMN()-1)","v":1},null,{"$f":"OFFSET($A$1,ROW()-3,COLUMN()-3)","v":1},null,224,null,1224,null,{"$f":"IF(OFFSET($A$1,ROW()-7,COLUMN()+1)<>2,\"\",'手順２・３・４社員タイプ#09'!$G$53&\"\")","v":""},null,{"$f":"IF(OFFSET($A$1,ROW()-7,COLUMN()-1)<>2,\"\",'手順２・３・４社員タイプ#09'!$H$53&\"\")","v":""},null,{"$f":"OFFSET($A$1,ROW()-3,COLUMN()-1)","v":1},null,{"$f":"OFFSET($A$1,ROW()-3,COLUMN()-3)","v":1},null,224,null,1224,null,{"$f":"IF(OFFSET($A$1,ROW()-7,COLUMN()+1)<>2,\"\",'手順２・３・４社員タイプ#10'!$G$53&\"\")","v":""},null,{"$f":"IF(OFFSET($A$1,ROW()-7,COLUMN()-1)<>2,\"\",'手順２・３・４社員タイプ#10'!$H$53&\"\")","v":""},null,{"$f":"OFFSET($A$1,ROW()-3,COLUMN()-1)","v":1},null,{"$f":"OFFSET($A$1,ROW()-3,COLUMN()-3)","v":1},null,224,null,1224]
[null,null,null,null,null,null,null,null,null,null,null,null,null,null,null,null,null,null,null,null,{"$f":"IF('手順２・３・４社員タイプ#01'!$B$54=\"\",\"\", '手順２・３・４社員タイプ#01'!$B$54)","v":""},null,{"$f":"'手順２・３・４社員タイプ#01'!$C$54","v":0},null,null,null,null,null,225,null,{"$f":"IF(AND(OFFSET($A$1,ROW()-1,COLUMN()-11)<>\"\",OR(OFFSET($A$1,ROW()-1,COLUMN()-9)=1,OFFSET($A$1,ROW()-1,COLUMN()-9)=2)),OFFSET($A$1,ROW()-1,COLUMN()-3),OFFSET($A$1,ROW()-1,COLUMN()-3)+1000)","v":1225},null,{"$f":"IF('手順２・３・４社員タイプ#02'!$B$54=\"\",\"\", '手順２・３・４社員タイプ#02'!$B$54)","v":""},null,{"$f":"'手順２・３・４社員タイプ#02'!$C$54","v":0},null,null,null,null,null,225,null,{"$f":"IF(AND(OFFSET($A$1,ROW()-1,COLUMN()-11)<>\"\",OR(OFFSET($A$1,ROW()-1,COLUMN()-9)=1,OFFSET($A$1,ROW()-1,COLUMN()-9)=2)),OFFSET($A$1,ROW()-1,COLUMN()-3),OFFSET($A$1,ROW()-1,COLUMN()-3)+1000)","v":1225},null,{"$f":"IF('手順２・３・４社員タイプ#03'!$B$54=\"\",\"\", '手順２・３・４社員タイプ#03'!$B$54)","v":""},null,{"$f":"'手順２・３・４社員タイプ#03'!$C$54","v":0},null,null,null,null,null,225,null,{"$f":"IF(AND(OFFSET($A$1,ROW()-1,COLUMN()-11)<>\"\",OR(OFFSET($A$1,ROW()-1,COLUMN()-9)=1,OFFSET($A$1,ROW()-1,COLUMN()-9)=2)),OFFSET($A$1,ROW()-1,COLUMN()-3),OFFSET($A$1,ROW()-1,COLUMN()-3)+1000)","v":1225},null,{"$f":"IF('手順２・３・４社員タイプ#04'!$B$54=\"\",\"\", '手順２・３・４社員タイプ#04'!$B$54)","v":""},null,{"$f":"'手順２・３・４社員タイプ#04'!$C$54","v":0},null,null,null,null,null,225,null,{"$f":"IF(AND(OFFSET($A$1,ROW()-1,COLUMN()-11)<>\"\",OR(OFFSET($A$1,ROW()-1,COLUMN()-9)=1,OFFSET($A$1,ROW()-1,COLUMN()-9)=2)),OFFSET($A$1,ROW()-1,COLUMN()-3),OFFSET($A$1,ROW()-1,COLUMN()-3)+1000)","v":1225},null,{"$f":"IF('手順２・３・４社員タイプ#05'!$B$54=\"\",\"\", '手順２・３・４社員タイプ#05'!$B$54)","v":""},null,{"$f":"'手順２・３・４社員タイプ#05'!$C$54","v":0},null,null,null,null,null,225,null,{"$f":"IF(AND(OFFSET($A$1,ROW()-1,COLUMN()-11)<>\"\",OR(OFFSET($A$1,ROW()-1,COLUMN()-9)=1,OFFSET($A$1,ROW()-1,COLUMN()-9)=2)),OFFSET($A$1,ROW()-1,COLUMN()-3),OFFSET($A$1,ROW()-1,COLUMN()-3)+1000)","v":1225},null,{"$f":"IF('手順２・３・４社員タイプ#06'!$B$54=\"\",\"\", '手順２・３・４社員タイプ#06'!$B$54)","v":""},null,{"$f":"'手順２・３・４社員タイプ#06'!$C$54","v":0},null,null,null,null,null,225,null,{"$f":"IF(AND(OFFSET($A$1,ROW()-1,COLUMN()-11)<>\"\",OR(OFFSET($A$1,ROW()-1,COLUMN()-9)=1,OFFSET($A$1,ROW()-1,COLUMN()-9)=2)),OFFSET($A$1,ROW()-1,COLUMN()-3),OFFSET($A$1,ROW()-1,COLUMN()-3)+1000)","v":1225},null,{"$f":"IF('手順２・３・４社員タイプ#07'!$B$54=\"\",\"\", '手順２・３・４社員タイプ#07'!$B$54)","v":""},null,{"$f":"'手順２・３・４社員タイプ#07'!$C$54","v":0},null,null,null,null,null,225,null,{"$f":"IF(AND(OFFSET($A$1,ROW()-1,COLUMN()-11)<>\"\",OR(OFFSET($A$1,ROW()-1,COLUMN()-9)=1,OFFSET($A$1,ROW()-1,COLUMN()-9)=2)),OFFSET($A$1,ROW()-1,COLUMN()-3),OFFSET($A$1,ROW()-1,COLUMN()-3)+1000)","v":1225},null,{"$f":"IF('手順２・３・４社員タイプ#08'!$B$54=\"\",\"\", '手順２・３・４社員タイプ#08'!$B$54)","v":""},null,{"$f":"'手順２・３・４社員タイプ#08'!$C$54","v":0},null,null,null,null,null,225,null,{"$f":"IF(AND(OFFSET($A$1,ROW()-1,COLUMN()-11)<>\"\",OR(OFFSET($A$1,ROW()-1,COLUMN()-9)=1,OFFSET($A$1,ROW()-1,COLUMN()-9)=2)),OFFSET($A$1,ROW()-1,COLUMN()-3),OFFSET($A$1,ROW()-1,COLUMN()-3)+1000)","v":1225},null,{"$f":"IF('手順２・３・４社員タイプ#09'!$B$54=\"\",\"\", '手順２・３・４社員タイプ#09'!$B$54)","v":""},null,{"$f":"'手順２・３・４社員タイプ#09'!$C$54","v":0},null,null,null,null,null,225,null,{"$f":"IF(AND(OFFSET($A$1,ROW()-1,COLUMN()-11)<>\"\",OR(OFFSET($A$1,ROW()-1,COLUMN()-9)=1,OFFSET($A$1,ROW()-1,COLUMN()-9)=2)),OFFSET($A$1,ROW()-1,COLUMN()-3),OFFSET($A$1,ROW()-1,COLUMN()-3)+1000)","v":1225},null,{"$f":"IF('手順２・３・４社員タイプ#10'!$B$54=\"\",\"\", '手順２・３・４社員タイプ#10'!$B$54)","v":""},null,{"$f":"'手順２・３・４社員タイプ#10'!$C$54","v":0},null,null,null,null,null,225,null,{"$f":"IF(AND(OFFSET($A$1,ROW()-1,COLUMN()-11)<>\"\",OR(OFFSET($A$1,ROW()-1,COLUMN()-9)=1,OFFSET($A$1,ROW()-1,COLUMN()-9)=2)),OFFSET($A$1,ROW()-1,COLUMN()-3),OFFSET($A$1,ROW()-1,COLUMN()-3)+1000)","v":1225}]
[null,null,null,null,null,null,null,null,null,null,null,null,null,null,null,null,null,null,null,null,"待遇の違いの有無",null,"支給の目的",null,2,null,null,null,226,null,{"$f":"OFFSET($A$1,ROW()-2,COLUMN()-1)+1","v":1226},null,"待遇の違いの有無",null,"支給の目的",null,2,null,null,null,226,null,{"$f":"OFFSET($A$1,ROW()-2,COLUMN()-1)+1","v":1226},null,"待遇の違いの有無",null,"支給の目的",null,2,null,null,null,226,null,{"$f":"OFFSET($A$1,ROW()-2,COLUMN()-1)+1","v":1226},null,"待遇の違いの有無",null,"支給の目的",null,2,null,null,null,226,null,{"$f":"OFFSET($A$1,ROW()-2,COLUMN()-1)+1","v":1226},null,"待遇の違いの有無",null,"支給の目的",null,2,null,null,null,226,null,{"$f":"OFFSET($A$1,ROW()-2,COLUMN()-1)+1","v":1226},null,"待遇の違いの有無",null,"支給の目的",null,2,null,null,null,226,null,{"$f":"OFFSET($A$1,ROW()-2,COLUMN()-1)+1","v":1226},null,"待遇の違いの有無",null,"支給の目的",null,2,null,null,null,226,null,{"$f":"OFFSET($A$1,ROW()-2,COLUMN()-1)+1","v":1226},null,"待遇の違いの有無",null,"支給の目的",null,2,null,null,null,226,null,{"$f":"OFFSET($A$1,ROW()-2,COLUMN()-1)+1","v":1226},null,"待遇の違いの有無",null,"支給の目的",null,2,null,null,null,226,null,{"$f":"OFFSET($A$1,ROW()-2,COLUMN()-1)+1","v":1226},null,"待遇の違いの有無",null,"支給の目的",null,2,null,null,null,226,null,{"$f":"OFFSET($A$1,ROW()-2,COLUMN()-1)+1","v":1226}]
[null,null,null,null,null,null,null,null,null,null,null,null,null,null,null,null,null,null,null,null,{"$f":"OFFSET($C$14,OFFSET($A$1,ROW()-3,COLUMN()+1),0)","v":" "},null,null,null,2,null,null,null,227,null,1227,null,{"$f":"OFFSET($C$14,OFFSET($A$1,ROW()-3,COLUMN()+1),0)","v":" "},null,null,null,2,null,null,null,227,null,1227,null,{"$f":"OFFSET($C$14,OFFSET($A$1,ROW()-3,COLUMN()+1),0)","v":" "},null,null,null,2,null,null,null,227,null,1227,null,{"$f":"OFFSET($C$14,OFFSET($A$1,ROW()-3,COLUMN()+1),0)","v":" "},null,null,null,2,null,null,null,227,null,1227,null,{"$f":"OFFSET($C$14,OFFSET($A$1,ROW()-3,COLUMN()+1),0)","v":" "},null,null,null,2,null,null,null,227,null,1227,null,{"$f":"OFFSET($C$14,OFFSET($A$1,ROW()-3,COLUMN()+1),0)","v":" "},null,null,null,2,null,null,null,227,null,1227,null,{"$f":"OFFSET($C$14,OFFSET($A$1,ROW()-3,COLUMN()+1),0)","v":" "},null,null,null,2,null,null,null,227,null,1227,null,{"$f":"OFFSET($C$14,OFFSET($A$1,ROW()-3,COLUMN()+1),0)","v":" "},null,null,null,2,null,null,null,227,null,1227,null,{"$f":"OFFSET($C$14,OFFSET($A$1,ROW()-3,COLUMN()+1),0)","v":" "},null,null,null,2,null,null,null,227,null,1227,null,{"$f":"OFFSET($C$14,OFFSET($A$1,ROW()-3,COLUMN()+1),0)","v":" "},null,null,null,2,null,null,null,227,null,1227]
[null,null,null,null,null,null,null,null,null,null,null,null,null,null,null,null,null,null,null,null,"正社員",null,"短時間労働者・有期雇用労働者",null,null,null,null,null,228,null,1228,null,"正社員",null,"短時間労働者・有期雇用労働者",null,null,null,null,null,228,null,1228,null,"正社員",null,"短時間労働者・有期雇用労働者",null,null,null,null,null,228,null,1228,null,"正社員",null,"短時間労働者・有期雇用労働者",null,null,null,null,null,228,null,1228,null,"正社員",null,"短時間労働者・有期雇用労働者",null,null,null,null,null,228,null,1228,null,"正社員",null,"短時間労働者・有期雇用労働者",null,null,null,null,null,228,null,1228,null,"正社員",null,"短時間労働者・有期雇用労働者",null,null,null,null,null,228,null,1228,null,"正社員",null,"短時間労働者・有期雇用労働者",null,null,null,null,null,228,null,1228,null,"正社員",null,"短時間労働者・有期雇用労働者",null,null,null,null,null,228,null,1228,null,"正社員",null,"短時間労働者・有期雇用労働者",null,null,null,null,null,228,null,1228]
[null,null,null,null,null,null,null,null,null,null,null,null,null,null,null,null,null,null,null,null,{"$f":"IF(OFFSET($A$1,ROW()-5,COLUMN()+1)<>2,\"\",'手順２・３・４社員タイプ#01'!$E$54&\"\")","v":""},null,{"$f":"IF(OFFSET($A$1,ROW()-5,COLUMN()-1)<>2,\"\",'手順２・３・４社員タイプ#01'!$F$54&\"\")","v":""},null,{"$f":"IF(OFFSET($A$1,ROW()-5,COLUMN()-3)<>2,1,0)","v":1},null,{"$f":"OFFSET($A$1,ROW()-1,COLUMN()-3)","v":1},null,229,null,1229,null,{"$f":"IF(OFFSET($A$1,ROW()-5,COLUMN()+1)<>2,\"\",'手順２・３・４社員タイプ#02'!$E$54&\"\")","v":""},null,{"$f":"IF(OFFSET($A$1,ROW()-5,COLUMN()-1)<>2,\"\",'手順２・３・４社員タイプ#02'!$F$54&\"\")","v":""},null,{"$f":"IF(OFFSET($A$1,ROW()-5,COLUMN()-3)<>2,1,0)","v":1},null,{"$f":"OFFSET($A$1,ROW()-1,COLUMN()-3)","v":1},null,229,null,1229,null,{"$f":"IF(OFFSET($A$1,ROW()-5,COLUMN()+1)<>2,\"\",'手順２・３・４社員タイプ#03'!$E$54&\"\")","v":""},null,{"$f":"IF(OFFSET($A$1,ROW()-5,COLUMN()-1)<>2,\"\",'手順２・３・４社員タイプ#03'!$F$54&\"\")","v":""},null,{"$f":"IF(OFFSET($A$1,ROW()-5,COLUMN()-3)<>2,1,0)","v":1},null,{"$f":"OFFSET($A$1,ROW()-1,COLUMN()-3)","v":1},null,229,null,1229,null,{"$f":"IF(OFFSET($A$1,ROW()-5,COLUMN()+1)<>2,\"\",'手順２・３・４社員タイプ#04'!$E$54&\"\")","v":""},null,{"$f":"IF(OFFSET($A$1,ROW()-5,COLUMN()-1)<>2,\"\",'手順２・３・４社員タイプ#04'!$F$54&\"\")","v":""},null,{"$f":"IF(OFFSET($A$1,ROW()-5,COLUMN()-3)<>2,1,0)","v":1},null,{"$f":"OFFSET($A$1,ROW()-1,COLUMN()-3)","v":1},null,229,null,1229,null,{"$f":"IF(OFFSET($A$1,ROW()-5,COLUMN()+1)<>2,\"\",'手順２・３・４社員タイプ#05'!$E$54&\"\")","v":""},null,{"$f":"IF(OFFSET($A$1,ROW()-5,COLUMN()-1)<>2,\"\",'手順２・３・４社員タイプ#05'!$F$54&\"\")","v":""},null,{"$f":"IF(OFFSET($A$1,ROW()-5,COLUMN()-3)<>2,1,0)","v":1},null,{"$f":"OFFSET($A$1,ROW()-1,COLUMN()-3)","v":1},null,229,null,1229,null,{"$f":"IF(OFFSET($A$1,ROW()-5,COLUMN()+1)<>2,\"\",'手順２・３・４社員タイプ#06'!$E$54&\"\")","v":""},null,{"$f":"IF(OFFSET($A$1,ROW()-5,COLUMN()-1)<>2,\"\",'手順２・３・４社員タイプ#06'!$F$54&\"\")","v":""},null,{"$f":"IF(OFFSET($A$1,ROW()-5,COLUMN()-3)<>2,1,0)","v":1},null,{"$f":"OFFSET($A$1,ROW()-1,COLUMN()-3)","v":1},null,229,null,1229,null,{"$f":"IF(OFFSET($A$1,ROW()-5,COLUMN()+1)<>2,\"\",'手順２・３・４社員タイプ#07'!$E$54&\"\")","v":""},null,{"$f":"IF(OFFSET($A$1,ROW()-5,COLUMN()-1)<>2,\"\",'手順２・３・４社員タイプ#07'!$F$54&\"\")","v":""},null,{"$f":"IF(OFFSET($A$1,ROW()-5,COLUMN()-3)<>2,1,0)","v":1},null,{"$f":"OFFSET($A$1,ROW()-1,COLUMN()-3)","v":1},null,229,null,1229,null,{"$f":"IF(OFFSET($A$1,ROW()-5,COLUMN()+1)<>2,\"\",'手順２・３・４社員タイプ#08'!$E$54&\"\")","v":""},null,{"$f":"IF(OFFSET($A$1,ROW()-5,COLUMN()-1)<>2,\"\",'手順２・３・４社員タイプ#08'!$F$54&\"\")","v":""},null,{"$f":"IF(OFFSET($A$1,ROW()-5,COLUMN()-3)<>2,1,0)","v":1},null,{"$f":"OFFSET($A$1,ROW()-1,COLUMN()-3)","v":1},null,229,null,1229,null,{"$f":"IF(OFFSET($A$1,ROW()-5,COLUMN()+1)<>2,\"\",'手順２・３・４社員タイプ#09'!$E$54&\"\")","v":""},null,{"$f":"IF(OFFSET($A$1,ROW()-5,COLUMN()-1)<>2,\"\",'手順２・３・４社員タイプ#09'!$F$54&\"\")","v":""},null,{"$f":"IF(OFFSET($A$1,ROW()-5,COLUMN()-3)<>2,1,0)","v":1},null,{"$f":"OFFSET($A$1,ROW()-1,COLUMN()-3)","v":1},null,229,null,1229,null,{"$f":"IF(OFFSET($A$1,ROW()-5,COLUMN()+1)<>2,\"\",'手順２・３・４社員タイプ#10'!$E$54&\"\")","v":""},null,{"$f":"IF(OFFSET($A$1,ROW()-5,COLUMN()-1)<>2,\"\",'手順２・３・４社員タイプ#10'!$F$54&\"\")","v":""},null,{"$f":"IF(OFFSET($A$1,ROW()-5,COLUMN()-3)<>2,1,0)","v":1},null,{"$f":"OFFSET($A$1,ROW()-1,COLUMN()-3)","v":1},null,229,null,1229]
[null,null,null,null,null,null,null,null,null,null,null,null,null,null,null,null,null,null,null,null,"違いを設けている理由",null,"対応方針",null,null,null,null,null,230,null,1230,null,"違いを設けている理由",null,"対応方針",null,null,null,null,null,230,null,1230,null,"違いを設けている理由",null,"対応方針",null,null,null,null,null,230,null,1230,null,"違いを設けている理由",null,"対応方針",null,null,null,null,null,230,null,1230,null,"違いを設けている理由",null,"対応方針",null,null,null,null,null,230,null,1230,null,"違いを設けている理由",null,"対応方針",null,null,null,null,null,230,null,1230,null,"違いを設けている理由",null,"対応方針",null,null,null,null,null,230,null,1230,null,"違いを設けている理由",null,"対応方針",null,null,null,null,null,230,null,1230,null,"違いを設けている理由",null,"対応方針",null,null,null,null,null,230,null,1230,null,"違いを設けている理由",null,"対応方針",null,null,null,null,null,230,null,1230]
[null,null,null,null,null,null,null,null,null,null,null,null,null,null,null,null,null,null,null,null,{"$f":"IF(OFFSET($A$1,ROW()-7,COLUMN()+1)<>2,\"\",'手順２・３・４社員タイプ#01'!$G$54&\"\")","v":""},null,{"$f":"IF(OFFSET($A$1,ROW()-7,COLUMN()-1)<>2,\"\",'手順２・３・４社員タイプ#01'!$H$54&\"\")","v":""},null,{"$f":"OFFSET($A$1,ROW()-3,COLUMN()-1)","v":1},null,{"$f":"OFFSET($A$1,ROW()-3,COLUMN()-3)","v":1},null,231,null,1231,null,{"$f":"IF(OFFSET($A$1,ROW()-7,COLUMN()+1)<>2,\"\",'手順２・３・４社員タイプ#02'!$G$54&\"\")","v":""},null,{"$f":"IF(OFFSET($A$1,ROW()-7,COLUMN()-1)<>2,\"\",'手順２・３・４社員タイプ#02'!$H$54&\"\")","v":""},null,{"$f":"OFFSET($A$1,ROW()-3,COLUMN()-1)","v":1},null,{"$f":"OFFSET($A$1,ROW()-3,COLUMN()-3)","v":1},null,231,null,1231,null,{"$f":"IF(OFFSET($A$1,ROW()-7,COLUMN()+1)<>2,\"\",'手順２・３・４社員タイプ#03'!$G$54&\"\")","v":""},null,{"$f":"IF(OFFSET($A$1,ROW()-7,COLUMN()-1)<>2,\"\",'手順２・３・４社員タイプ#03'!$H$54&\"\")","v":""},null,{"$f":"OFFSET($A$1,ROW()-3,COLUMN()-1)","v":1},null,{"$f":"OFFSET($A$1,ROW()-3,COLUMN()-3)","v":1},null,231,null,1231,null,{"$f":"IF(OFFSET($A$1,ROW()-7,COLUMN()+1)<>2,\"\",'手順２・３・４社員タイプ#04'!$G$54&\"\")","v":""},null,{"$f":"IF(OFFSET($A$1,ROW()-7,COLUMN()-1)<>2,\"\",'手順２・３・４社員タイプ#04'!$H$54&\"\")","v":""},null,{"$f":"OFFSET($A$1,ROW()-3,COLUMN()-1)","v":1},null,{"$f":"OFFSET($A$1,ROW()-3,COLUMN()-3)","v":1},null,231,null,1231,null,{"$f":"IF(OFFSET($A$1,ROW()-7,COLUMN()+1)<>2,\"\",'手順２・３・４社員タイプ#05'!$G$54&\"\")","v":""},null,{"$f":"IF(OFFSET($A$1,ROW()-7,COLUMN()-1)<>2,\"\",'手順２・３・４社員タイプ#05'!$H$54&\"\")","v":""},null,{"$f":"OFFSET($A$1,ROW()-3,COLUMN()-1)","v":1},null,{"$f":"OFFSET($A$1,ROW()-3,COLUMN()-3)","v":1},null,231,null,1231,null,{"$f":"IF(OFFSET($A$1,ROW()-7,COLUMN()+1)<>2,\"\",'手順２・３・４社員タイプ#06'!$G$54&\"\")","v":""},null,{"$f":"IF(OFFSET($A$1,ROW()-7,COLUMN()-1)<>2,\"\",'手順２・３・４社員タイプ#06'!$H$54&\"\")","v":""},null,{"$f":"OFFSET($A$1,ROW()-3,COLUMN()-1)","v":1},null,{"$f":"OFFSET($A$1,ROW()-3,COLUMN()-3)","v":1},null,231,null,1231,null,{"$f":"IF(OFFSET($A$1,ROW()-7,COLUMN()+1)<>2,\"\",'手順２・３・４社員タイプ#07'!$G$54&\"\")","v":""},null,{"$f":"IF(OFFSET($A$1,ROW()-7,COLUMN()-1)<>2,\"\",'手順２・３・４社員タイプ#07'!$H$54&\"\")","v":""},null,{"$f":"OFFSET($A$1,ROW()-3,COLUMN()-1)","v":1},null,{"$f":"OFFSET($A$1,ROW()-3,COLUMN()-3)","v":1},null,231,null,1231,null,{"$f":"IF(OFFSET($A$1,ROW()-7,COLUMN()+1)<>2,\"\",'手順２・３・４社員タイプ#08'!$G$54&\"\")","v":""},null,{"$f":"IF(OFFSET($A$1,ROW()-7,COLUMN()-1)<>2,\"\",'手順２・３・４社員タイプ#08'!$H$54&\"\")","v":""},null,{"$f":"OFFSET($A$1,ROW()-3,COLUMN()-1)","v":1},null,{"$f":"OFFSET($A$1,ROW()-3,COLUMN()-3)","v":1},null,231,null,1231,null,{"$f":"IF(OFFSET($A$1,ROW()-7,COLUMN()+1)<>2,\"\",'手順２・３・４社員タイプ#09'!$G$54&\"\")","v":""},null,{"$f":"IF(OFFSET($A$1,ROW()-7,COLUMN()-1)<>2,\"\",'手順２・３・４社員タイプ#09'!$H$54&\"\")","v":""},null,{"$f":"OFFSET($A$1,ROW()-3,COLUMN()-1)","v":1},null,{"$f":"OFFSET($A$1,ROW()-3,COLUMN()-3)","v":1},null,231,null,1231,null,{"$f":"IF(OFFSET($A$1,ROW()-7,COLUMN()+1)<>2,\"\",'手順２・３・４社員タイプ#10'!$G$54&\"\")","v":""},null,{"$f":"IF(OFFSET($A$1,ROW()-7,COLUMN()-1)<>2,\"\",'手順２・３・４社員タイプ#10'!$H$54&\"\")","v":""},null,{"$f":"OFFSET($A$1,ROW()-3,COLUMN()-1)","v":1},null,{"$f":"OFFSET($A$1,ROW()-3,COLUMN()-3)","v":1},null,231,null,1231]
[null,null,null,null,null,null,null,null,null,null,null,null,null,null,null,null,null,null,null,null,{"$f":"IF('手順２・３・４社員タイプ#01'!$B$55=\"\",\"\", '手順２・３・４社員タイプ#01'!$B$55)","v":""},null,{"$f":"'手順２・３・４社員タイプ#01'!$C$55","v":0},null,null,null,null,null,232,null,{"$f":"IF(AND(OFFSET($A$1,ROW()-1,COLUMN()-11)<>\"\",OR(OFFSET($A$1,ROW()-1,COLUMN()-9)=1,OFFSET($A$1,ROW()-1,COLUMN()-9)=2)),OFFSET($A$1,ROW()-1,COLUMN()-3),OFFSET($A$1,ROW()-1,COLUMN()-3)+1000)","v":1232},null,{"$f":"IF('手順２・３・４社員タイプ#02'!$B$55=\"\",\"\", '手順２・３・４社員タイプ#02'!$B$55)","v":""},null,{"$f":"'手順２・３・４社員タイプ#02'!$C$55","v":0},null,null,null,null,null,232,null,{"$f":"IF(AND(OFFSET($A$1,ROW()-1,COLUMN()-11)<>\"\",OR(OFFSET($A$1,ROW()-1,COLUMN()-9)=1,OFFSET($A$1,ROW()-1,COLUMN()-9)=2)),OFFSET($A$1,ROW()-1,COLUMN()-3),OFFSET($A$1,ROW()-1,COLUMN()-3)+1000)","v":1232},null,{"$f":"IF('手順２・３・４社員タイプ#03'!$B$55=\"\",\"\", '手順２・３・４社員タイプ#03'!$B$55)","v":""},null,{"$f":"'手順２・３・４社員タイプ#03'!$C$55","v":0},null,null,null,null,null,232,null,{"$f":"IF(AND(OFFSET($A$1,ROW()-1,COLUMN()-11)<>\"\",OR(OFFSET($A$1,ROW()-1,COLUMN()-9)=1,OFFSET($A$1,ROW()-1,COLUMN()-9)=2)),OFFSET($A$1,ROW()-1,COLUMN()-3),OFFSET($A$1,ROW()-1,COLUMN()-3)+1000)","v":1232},null,{"$f":"IF('手順２・３・４社員タイプ#04'!$B$55=\"\",\"\", '手順２・３・４社員タイプ#04'!$B$55)","v":""},null,{"$f":"'手順２・３・４社員タイプ#04'!$C$55","v":0},null,null,null,null,null,232,null,{"$f":"IF(AND(OFFSET($A$1,ROW()-1,COLUMN()-11)<>\"\",OR(OFFSET($A$1,ROW()-1,COLUMN()-9)=1,OFFSET($A$1,ROW()-1,COLUMN()-9)=2)),OFFSET($A$1,ROW()-1,COLUMN()-3),OFFSET($A$1,ROW()-1,COLUMN()-3)+1000)","v":1232},null,{"$f":"IF('手順２・３・４社員タイプ#05'!$B$55=\"\",\"\", '手順２・３・４社員タイプ#05'!$B$55)","v":""},null,{"$f":"'手順２・３・４社員タイプ#05'!$C$55","v":0},null,null,null,null,null,232,null,{"$f":"IF(AND(OFFSET($A$1,ROW()-1,COLUMN()-11)<>\"\",OR(OFFSET($A$1,ROW()-1,COLUMN()-9)=1,OFFSET($A$1,ROW()-1,COLUMN()-9)=2)),OFFSET($A$1,ROW()-1,COLUMN()-3),OFFSET($A$1,ROW()-1,COLUMN()-3)+1000)","v":1232},null,{"$f":"IF('手順２・３・４社員タイプ#06'!$B$55=\"\",\"\", '手順２・３・４社員タイプ#06'!$B$55)","v":""},null,{"$f":"'手順２・３・４社員タイプ#06'!$C$55","v":0},null,null,null,null,null,232,null,{"$f":"IF(AND(OFFSET($A$1,ROW()-1,COLUMN()-11)<>\"\",OR(OFFSET($A$1,ROW()-1,COLUMN()-9)=1,OFFSET($A$1,ROW()-1,COLUMN()-9)=2)),OFFSET($A$1,ROW()-1,COLUMN()-3),OFFSET($A$1,ROW()-1,COLUMN()-3)+1000)","v":1232},null,{"$f":"IF('手順２・３・４社員タイプ#07'!$B$55=\"\",\"\", '手順２・３・４社員タイプ#07'!$B$55)","v":""},null,{"$f":"'手順２・３・４社員タイプ#07'!$C$55","v":0},null,null,null,null,null,232,null,{"$f":"IF(AND(OFFSET($A$1,ROW()-1,COLUMN()-11)<>\"\",OR(OFFSET($A$1,ROW()-1,COLUMN()-9)=1,OFFSET($A$1,ROW()-1,COLUMN()-9)=2)),OFFSET($A$1,ROW()-1,COLUMN()-3),OFFSET($A$1,ROW()-1,COLUMN()-3)+1000)","v":1232},null,{"$f":"IF('手順２・３・４社員タイプ#08'!$B$55=\"\",\"\", '手順２・３・４社員タイプ#08'!$B$55)","v":""},null,{"$f":"'手順２・３・４社員タイプ#08'!$C$55","v":0},null,null,null,null,null,232,null,{"$f":"IF(AND(OFFSET($A$1,ROW()-1,COLUMN()-11)<>\"\",OR(OFFSET($A$1,ROW()-1,COLUMN()-9)=1,OFFSET($A$1,ROW()-1,COLUMN()-9)=2)),OFFSET($A$1,ROW()-1,COLUMN()-3),OFFSET($A$1,ROW()-1,COLUMN()-3)+1000)","v":1232},null,{"$f":"IF('手順２・３・４社員タイプ#09'!$B$55=\"\",\"\", '手順２・３・４社員タイプ#09'!$B$55)","v":""},null,{"$f":"'手順２・３・４社員タイプ#09'!$C$55","v":0},null,null,null,null,null,232,null,{"$f":"IF(AND(OFFSET($A$1,ROW()-1,COLUMN()-11)<>\"\",OR(OFFSET($A$1,ROW()-1,COLUMN()-9)=1,OFFSET($A$1,ROW()-1,COLUMN()-9)=2)),OFFSET($A$1,ROW()-1,COLUMN()-3),OFFSET($A$1,ROW()-1,COLUMN()-3)+1000)","v":1232},null,{"$f":"IF('手順２・３・４社員タイプ#10'!$B$55=\"\",\"\", '手順２・３・４社員タイプ#10'!$B$55)","v":""},null,{"$f":"'手順２・３・４社員タイプ#10'!$C$55","v":0},null,null,null,null,null,232,null,{"$f":"IF(AND(OFFSET($A$1,ROW()-1,COLUMN()-11)<>\"\",OR(OFFSET($A$1,ROW()-1,COLUMN()-9)=1,OFFSET($A$1,ROW()-1,COLUMN()-9)=2)),OFFSET($A$1,ROW()-1,COLUMN()-3),OFFSET($A$1,ROW()-1,COLUMN()-3)+1000)","v":1232}]
[null,null,null,null,null,null,null,null,null,null,null,null,null,null,null,null,null,null,null,null,"待遇の違いの有無",null,"支給の目的",null,2,null,null,null,233,null,{"$f":"OFFSET($A$1,ROW()-2,COLUMN()-1)+1","v":1233},null,"待遇の違いの有無",null,"支給の目的",null,2,null,null,null,233,null,{"$f":"OFFSET($A$1,ROW()-2,COLUMN()-1)+1","v":1233},null,"待遇の違いの有無",null,"支給の目的",null,2,null,null,null,233,null,{"$f":"OFFSET($A$1,ROW()-2,COLUMN()-1)+1","v":1233},null,"待遇の違いの有無",null,"支給の目的",null,2,null,null,null,233,null,{"$f":"OFFSET($A$1,ROW()-2,COLUMN()-1)+1","v":1233},null,"待遇の違いの有無",null,"支給の目的",null,2,null,null,null,233,null,{"$f":"OFFSET($A$1,ROW()-2,COLUMN()-1)+1","v":1233},null,"待遇の違いの有無",null,"支給の目的",null,2,null,null,null,233,null,{"$f":"OFFSET($A$1,ROW()-2,COLUMN()-1)+1","v":1233},null,"待遇の違いの有無",null,"支給の目的",null,2,null,null,null,233,null,{"$f":"OFFSET($A$1,ROW()-2,COLUMN()-1)+1","v":1233},null,"待遇の違いの有無",null,"支給の目的",null,2,null,null,null,233,null,{"$f":"OFFSET($A$1,ROW()-2,COLUMN()-1)+1","v":1233},null,"待遇の違いの有無",null,"支給の目的",null,2,null,null,null,233,null,{"$f":"OFFSET($A$1,ROW()-2,COLUMN()-1)+1","v":1233},null,"待遇の違いの有無",null,"支給の目的",null,2,null,null,null,233,null,{"$f":"OFFSET($A$1,ROW()-2,COLUMN()-1)+1","v":1233}]
[null,null,null,null,null,null,null,null,null,null,null,null,null,null,null,null,null,null,null,null,{"$f":"OFFSET($C$14,OFFSET($A$1,ROW()-3,COLUMN()+1),0)","v":" "},null,null,null,2,null,null,null,234,null,1234,null,{"$f":"OFFSET($C$14,OFFSET($A$1,ROW()-3,COLUMN()+1),0)","v":" "},null,null,null,2,null,null,null,234,null,1234,null,{"$f":"OFFSET($C$14,OFFSET($A$1,ROW()-3,COLUMN()+1),0)","v":" "},null,null,null,2,null,null,null,234,null,1234,null,{"$f":"OFFSET($C$14,OFFSET($A$1,ROW()-3,COLUMN()+1),0)","v":" "},null,null,null,2,null,null,null,234,null,1234,null,{"$f":"OFFSET($C$14,OFFSET($A$1,ROW()-3,COLUMN()+1),0)","v":" "},null,null,null,2,null,null,null,234,null,1234,null,{"$f":"OFFSET($C$14,OFFSET($A$1,ROW()-3,COLUMN()+1),0)","v":" "},null,null,null,2,null,null,null,234,null,1234,null,{"$f":"OFFSET($C$14,OFFSET($A$1,ROW()-3,COLUMN()+1),0)","v":" "},null,null,null,2,null,null,null,234,null,1234,null,{"$f":"OFFSET($C$14,OFFSET($A$1,ROW()-3,COLUMN()+1),0)","v":" "},null,null,null,2,null,null,null,234,null,1234,null,{"$f":"OFFSET($C$14,OFFSET($A$1,ROW()-3,COLUMN()+1),0)","v":" "},null,null,null,2,null,null,null,234,null,1234,null,{"$f":"OFFSET($C$14,OFFSET($A$1,ROW()-3,COLUMN()+1),0)","v":" "},null,null,null,2,null,null,null,234,null,1234]
[null,null,null,null,null,null,null,null,null,null,null,null,null,null,null,null,null,null,null,null,"正社員",null,"短時間労働者・有期雇用労働者",null,null,null,null,null,235,null,1235,null,"正社員",null,"短時間労働者・有期雇用労働者",null,null,null,null,null,235,null,1235,null,"正社員",null,"短時間労働者・有期雇用労働者",null,null,null,null,null,235,null,1235,null,"正社員",null,"短時間労働者・有期雇用労働者",null,null,null,null,null,235,null,1235,null,"正社員",null,"短時間労働者・有期雇用労働者",null,null,null,null,null,235,null,1235,null,"正社員",null,"短時間労働者・有期雇用労働者",null,null,null,null,null,235,null,1235,null,"正社員",null,"短時間労働者・有期雇用労働者",null,null,null,null,null,235,null,1235,null,"正社員",null,"短時間労働者・有期雇用労働者",null,null,null,null,null,235,null,1235,null,"正社員",null,"短時間労働者・有期雇用労働者",null,null,null,null,null,235,null,1235,null,"正社員",null,"短時間労働者・有期雇用労働者",null,null,null,null,null,235,null,1235]
[null,null,null,null,null,null,null,null,null,null,null,null,null,null,null,null,null,null,null,null,{"$f":"IF(OFFSET($A$1,ROW()-5,COLUMN()+1)<>2,\"\",'手順２・３・４社員タイプ#01'!$E$55&\"\")","v":""},null,{"$f":"IF(OFFSET($A$1,ROW()-5,COLUMN()-1)<>2,\"\",'手順２・３・４社員タイプ#01'!$F$55&\"\")","v":""},null,{"$f":"IF(OFFSET($A$1,ROW()-5,COLUMN()-3)<>2,1,0)","v":1},null,{"$f":"OFFSET($A$1,ROW()-1,COLUMN()-3)","v":1},null,236,null,1236,null,{"$f":"IF(OFFSET($A$1,ROW()-5,COLUMN()+1)<>2,\"\",'手順２・３・４社員タイプ#02'!$E$55&\"\")","v":""},null,{"$f":"IF(OFFSET($A$1,ROW()-5,COLUMN()-1)<>2,\"\",'手順２・３・４社員タイプ#02'!$F$55&\"\")","v":""},null,{"$f":"IF(OFFSET($A$1,ROW()-5,COLUMN()-3)<>2,1,0)","v":1},null,{"$f":"OFFSET($A$1,ROW()-1,COLUMN()-3)","v":1},null,236,null,1236,null,{"$f":"IF(OFFSET($A$1,ROW()-5,COLUMN()+1)<>2,\"\",'手順２・３・４社員タイプ#03'!$E$55&\"\")","v":""},null,{"$f":"IF(OFFSET($A$1,ROW()-5,COLUMN()-1)<>2,\"\",'手順２・３・４社員タイプ#03'!$F$55&\"\")","v":""},null,{"$f":"IF(OFFSET($A$1,ROW()-5,COLUMN()-3)<>2,1,0)","v":1},null,{"$f":"OFFSET($A$1,ROW()-1,COLUMN()-3)","v":1},null,236,null,1236,null,{"$f":"IF(OFFSET($A$1,ROW()-5,COLUMN()+1)<>2,\"\",'手順２・３・４社員タイプ#04'!$E$55&\"\")","v":""},null,{"$f":"IF(OFFSET($A$1,ROW()-5,COLUMN()-1)<>2,\"\",'手順２・３・４社員タイプ#04'!$F$55&\"\")","v":""},null,{"$f":"IF(OFFSET($A$1,ROW()-5,COLUMN()-3)<>2,1,0)","v":1},null,{"$f":"OFFSET($A$1,ROW()-1,COLUMN()-3)","v":1},null,236,null,1236,null,{"$f":"IF(OFFSET($A$1,ROW()-5,COLUMN()+1)<>2,\"\",'手順２・３・４社員タイプ#05'!$E$55&\"\")","v":""},null,{"$f":"IF(OFFSET($A$1,ROW()-5,COLUMN()-1)<>2,\"\",'手順２・３・４社員タイプ#05'!$F$55&\"\")","v":""},null,{"$f":"IF(OFFSET($A$1,ROW()-5,COLUMN()-3)<>2,1,0)","v":1},null,{"$f":"OFFSET($A$1,ROW()-1,COLUMN()-3)","v":1},null,236,null,1236,null,{"$f":"IF(OFFSET($A$1,ROW()-5,COLUMN()+1)<>2,\"\",'手順２・３・４社員タイプ#06'!$E$55&\"\")","v":""},null,{"$f":"IF(OFFSET($A$1,ROW()-5,COLUMN()-1)<>2,\"\",'手順２・３・４社員タイプ#06'!$F$55&\"\")","v":""},null,{"$f":"IF(OFFSET($A$1,ROW()-5,COLUMN()-3)<>2,1,0)","v":1},null,{"$f":"OFFSET($A$1,ROW()-1,COLUMN()-3)","v":1},null,236,null,1236,null,{"$f":"IF(OFFSET($A$1,ROW()-5,COLUMN()+1)<>2,\"\",'手順２・３・４社員タイプ#07'!$E$55&\"\")","v":""},null,{"$f":"IF(OFFSET($A$1,ROW()-5,COLUMN()-1)<>2,\"\",'手順２・３・４社員タイプ#07'!$F$55&\"\")","v":""},null,{"$f":"IF(OFFSET($A$1,ROW()-5,COLUMN()-3)<>2,1,0)","v":1},null,{"$f":"OFFSET($A$1,ROW()-1,COLUMN()-3)","v":1},null,236,null,1236,null,{"$f":"IF(OFFSET($A$1,ROW()-5,COLUMN()+1)<>2,\"\",'手順２・３・４社員タイプ#08'!$E$55&\"\")","v":""},null,{"$f":"IF(OFFSET($A$1,ROW()-5,COLUMN()-1)<>2,\"\",'手順２・３・４社員タイプ#08'!$F$55&\"\")","v":""},null,{"$f":"IF(OFFSET($A$1,ROW()-5,COLUMN()-3)<>2,1,0)","v":1},null,{"$f":"OFFSET($A$1,ROW()-1,COLUMN()-3)","v":1},null,236,null,1236,null,{"$f":"IF(OFFSET($A$1,ROW()-5,COLUMN()+1)<>2,\"\",'手順２・３・４社員タイプ#09'!$E$55&\"\")","v":""},null,{"$f":"IF(OFFSET($A$1,ROW()-5,COLUMN()-1)<>2,\"\",'手順２・３・４社員タイプ#09'!$F$55&\"\")","v":""},null,{"$f":"IF(OFFSET($A$1,ROW()-5,COLUMN()-3)<>2,1,0)","v":1},null,{"$f":"OFFSET($A$1,ROW()-1,COLUMN()-3)","v":1},null,236,null,1236,null,{"$f":"IF(OFFSET($A$1,ROW()-5,COLUMN()+1)<>2,\"\",'手順２・３・４社員タイプ#10'!$E$55&\"\")","v":""},null,{"$f":"IF(OFFSET($A$1,ROW()-5,COLUMN()-1)<>2,\"\",'手順２・３・４社員タイプ#10'!$F$55&\"\")","v":""},null,{"$f":"IF(OFFSET($A$1,ROW()-5,COLUMN()-3)<>2,1,0)","v":1},null,{"$f":"OFFSET($A$1,ROW()-1,COLUMN()-3)","v":1},null,236,null,1236]
[null,null,null,null,null,null,null,null,null,null,null,null,null,null,null,null,null,null,null,null,"違いを設けている理由",null,"対応方針",null,null,null,null,null,237,null,1237,null,"違いを設けている理由",null,"対応方針",null,null,null,null,null,237,null,1237,null,"違いを設けている理由",null,"対応方針",null,null,null,null,null,237,null,1237,null,"違いを設けている理由",null,"対応方針",null,null,null,null,null,237,null,1237,null,"違いを設けている理由",null,"対応方針",null,null,null,null,null,237,null,1237,null,"違いを設けている理由",null,"対応方針",null,null,null,null,null,237,null,1237,null,"違いを設けている理由",null,"対応方針",null,null,null,null,null,237,null,1237,null,"違いを設けている理由",null,"対応方針",null,null,null,null,null,237,null,1237,null,"違いを設けている理由",null,"対応方針",null,null,null,null,null,237,null,1237,null,"違いを設けている理由",null,"対応方針",null,null,null,null,null,237,null,1237]
[null,null,null,null,null,null,null,null,null,null,null,null,null,null,null,null,null,null,null,null,{"$f":"IF(OFFSET($A$1,ROW()-7,COLUMN()+1)<>2,\"\",'手順２・３・４社員タイプ#01'!$G$55&\"\")","v":""},null,{"$f":"IF(OFFSET($A$1,ROW()-7,COLUMN()-1)<>2,\"\",'手順２・３・４社員タイプ#01'!$H$55&\"\")","v":""},null,{"$f":"OFFSET($A$1,ROW()-3,COLUMN()-1)","v":1},null,{"$f":"OFFSET($A$1,ROW()-3,COLUMN()-3)","v":1},null,238,null,1238,null,{"$f":"IF(OFFSET($A$1,ROW()-7,COLUMN()+1)<>2,\"\",'手順２・３・４社員タイプ#02'!$G$55&\"\")","v":""},null,{"$f":"IF(OFFSET($A$1,ROW()-7,COLUMN()-1)<>2,\"\",'手順２・３・４社員タイプ#02'!$H$55&\"\")","v":""},null,{"$f":"OFFSET($A$1,ROW()-3,COLUMN()-1)","v":1},null,{"$f":"OFFSET($A$1,ROW()-3,COLUMN()-3)","v":1},null,238,null,1238,null,{"$f":"IF(OFFSET($A$1,ROW()-7,COLUMN()+1)<>2,\"\",'手順２・３・４社員タイプ#03'!$G$55&\"\")","v":""},null,{"$f":"IF(OFFSET($A$1,ROW()-7,COLUMN()-1)<>2,\"\",'手順２・３・４社員タイプ#03'!$H$55&\"\")","v":""},null,{"$f":"OFFSET($A$1,ROW()-3,COLUMN()-1)","v":1},null,{"$f":"OFFSET($A$1,ROW()-3,COLUMN()-3)","v":1},null,238,null,1238,null,{"$f":"IF(OFFSET($A$1,ROW()-7,COLUMN()+1)<>2,\"\",'手順２・３・４社員タイプ#04'!$G$55&\"\")","v":""},null,{"$f":"IF(OFFSET($A$1,ROW()-7,COLUMN()-1)<>2,\"\",'手順２・３・４社員タイプ#04'!$H$55&\"\")","v":""},null,{"$f":"OFFSET($A$1,ROW()-3,COLUMN()-1)","v":1},null,{"$f":"OFFSET($A$1,ROW()-3,COLUMN()-3)","v":1},null,238,null,1238,null,{"$f":"IF(OFFSET($A$1,ROW()-7,COLUMN()+1)<>2,\"\",'手順２・３・４社員タイプ#05'!$G$55&\"\")","v":""},null,{"$f":"IF(OFFSET($A$1,ROW()-7,COLUMN()-1)<>2,\"\",'手順２・３・４社員タイプ#05'!$H$55&\"\")","v":""},null,{"$f":"OFFSET($A$1,ROW()-3,COLUMN()-1)","v":1},null,{"$f":"OFFSET($A$1,ROW()-3,COLUMN()-3)","v":1},null,238,null,1238,null,{"$f":"IF(OFFSET($A$1,ROW()-7,COLUMN()+1)<>2,\"\",'手順２・３・４社員タイプ#06'!$G$55&\"\")","v":""},null,{"$f":"IF(OFFSET($A$1,ROW()-7,COLUMN()-1)<>2,\"\",'手順２・３・４社員タイプ#06'!$H$55&\"\")","v":""},null,{"$f":"OFFSET($A$1,ROW()-3,COLUMN()-1)","v":1},null,{"$f":"OFFSET($A$1,ROW()-3,COLUMN()-3)","v":1},null,238,null,1238,null,{"$f":"IF(OFFSET($A$1,ROW()-7,COLUMN()+1)<>2,\"\",'手順２・３・４社員タイプ#07'!$G$55&\"\")","v":""},null,{"$f":"IF(OFFSET($A$1,ROW()-7,COLUMN()-1)<>2,\"\",'手順２・３・４社員タイプ#07'!$H$55&\"\")","v":""},null,{"$f":"OFFSET($A$1,ROW()-3,COLUMN()-1)","v":1},null,{"$f":"OFFSET($A$1,ROW()-3,COLUMN()-3)","v":1},null,238,null,1238,null,{"$f":"IF(OFFSET($A$1,ROW()-7,COLUMN()+1)<>2,\"\",'手順２・３・４社員タイプ#08'!$G$55&\"\")","v":""},null,{"$f":"IF(OFFSET($A$1,ROW()-7,COLUMN()-1)<>2,\"\",'手順２・３・４社員タイプ#08'!$H$55&\"\")","v":""},null,{"$f":"OFFSET($A$1,ROW()-3,COLUMN()-1)","v":1},null,{"$f":"OFFSET($A$1,ROW()-3,COLUMN()-3)","v":1},null,238,null,1238,null,{"$f":"IF(OFFSET($A$1,ROW()-7,COLUMN()+1)<>2,\"\",'手順２・３・４社員タイプ#09'!$G$55&\"\")","v":""},null,{"$f":"IF(OFFSET($A$1,ROW()-7,COLUMN()-1)<>2,\"\",'手順２・３・４社員タイプ#09'!$H$55&\"\")","v":""},null,{"$f":"OFFSET($A$1,ROW()-3,COLUMN()-1)","v":1},null,{"$f":"OFFSET($A$1,ROW()-3,COLUMN()-3)","v":1},null,238,null,1238,null,{"$f":"IF(OFFSET($A$1,ROW()-7,COLUMN()+1)<>2,\"\",'手順２・３・４社員タイプ#10'!$G$55&\"\")","v":""},null,{"$f":"IF(OFFSET($A$1,ROW()-7,COLUMN()-1)<>2,\"\",'手順２・３・４社員タイプ#10'!$H$55&\"\")","v":""},null,{"$f":"OFFSET($A$1,ROW()-3,COLUMN()-1)","v":1},null,{"$f":"OFFSET($A$1,ROW()-3,COLUMN()-3)","v":1},null,238,null,1238]
[null,null,null,null,null,null,null,null,null,null,null,null,null,null,null,null,null,null,null,null,{"$f":"IF('手順２・３・４社員タイプ#01'!$B$56=\"\",\"\", '手順２・３・４社員タイプ#01'!$B$56)","v":""},null,{"$f":"'手順２・３・４社員タイプ#01'!$C$56","v":0},null,null,null,null,null,239,null,{"$f":"IF(AND(OFFSET($A$1,ROW()-1,COLUMN()-11)<>\"\",OR(OFFSET($A$1,ROW()-1,COLUMN()-9)=1,OFFSET($A$1,ROW()-1,COLUMN()-9)=2)),OFFSET($A$1,ROW()-1,COLUMN()-3),OFFSET($A$1,ROW()-1,COLUMN()-3)+1000)","v":1239},null,{"$f":"IF('手順２・３・４社員タイプ#02'!$B$56=\"\",\"\", '手順２・３・４社員タイプ#02'!$B$56)","v":""},null,{"$f":"'手順２・３・４社員タイプ#02'!$C$56","v":0},null,null,null,null,null,239,null,{"$f":"IF(AND(OFFSET($A$1,ROW()-1,COLUMN()-11)<>\"\",OR(OFFSET($A$1,ROW()-1,COLUMN()-9)=1,OFFSET($A$1,ROW()-1,COLUMN()-9)=2)),OFFSET($A$1,ROW()-1,COLUMN()-3),OFFSET($A$1,ROW()-1,COLUMN()-3)+1000)","v":1239},null,{"$f":"IF('手順２・３・４社員タイプ#03'!$B$56=\"\",\"\", '手順２・３・４社員タイプ#03'!$B$56)","v":""},null,{"$f":"'手順２・３・４社員タイプ#03'!$C$56","v":0},null,null,null,null,null,239,null,{"$f":"IF(AND(OFFSET($A$1,ROW()-1,COLUMN()-11)<>\"\",OR(OFFSET($A$1,ROW()-1,COLUMN()-9)=1,OFFSET($A$1,ROW()-1,COLUMN()-9)=2)),OFFSET($A$1,ROW()-1,COLUMN()-3),OFFSET($A$1,ROW()-1,COLUMN()-3)+1000)","v":1239},null,{"$f":"IF('手順２・３・４社員タイプ#04'!$B$56=\"\",\"\", '手順２・３・４社員タイプ#04'!$B$56)","v":""},null,{"$f":"'手順２・３・４社員タイプ#04'!$C$56","v":0},null,null,null,null,null,239,null,{"$f":"IF(AND(OFFSET($A$1,ROW()-1,COLUMN()-11)<>\"\",OR(OFFSET($A$1,ROW()-1,COLUMN()-9)=1,OFFSET($A$1,ROW()-1,COLUMN()-9)=2)),OFFSET($A$1,ROW()-1,COLUMN()-3),OFFSET($A$1,ROW()-1,COLUMN()-3)+1000)","v":1239},null,{"$f":"IF('手順２・３・４社員タイプ#05'!$B$56=\"\",\"\", '手順２・３・４社員タイプ#05'!$B$56)","v":""},null,{"$f":"'手順２・３・４社員タイプ#05'!$C$56","v":0},null,null,null,null,null,239,null,{"$f":"IF(AND(OFFSET($A$1,ROW()-1,COLUMN()-11)<>\"\",OR(OFFSET($A$1,ROW()-1,COLUMN()-9)=1,OFFSET($A$1,ROW()-1,COLUMN()-9)=2)),OFFSET($A$1,ROW()-1,COLUMN()-3),OFFSET($A$1,ROW()-1,COLUMN()-3)+1000)","v":1239},null,{"$f":"IF('手順２・３・４社員タイプ#06'!$B$56=\"\",\"\", '手順２・３・４社員タイプ#06'!$B$56)","v":""},null,{"$f":"'手順２・３・４社員タイプ#06'!$C$56","v":0},null,null,null,null,null,239,null,{"$f":"IF(AND(OFFSET($A$1,ROW()-1,COLUMN()-11)<>\"\",OR(OFFSET($A$1,ROW()-1,COLUMN()-9)=1,OFFSET($A$1,ROW()-1,COLUMN()-9)=2)),OFFSET($A$1,ROW()-1,COLUMN()-3),OFFSET($A$1,ROW()-1,COLUMN()-3)+1000)","v":1239},null,{"$f":"IF('手順２・３・４社員タイプ#07'!$B$56=\"\",\"\", '手順２・３・４社員タイプ#07'!$B$56)","v":""},null,{"$f":"'手順２・３・４社員タイプ#07'!$C$56","v":0},null,null,null,null,null,239,null,{"$f":"IF(AND(OFFSET($A$1,ROW()-1,COLUMN()-11)<>\"\",OR(OFFSET($A$1,ROW()-1,COLUMN()-9)=1,OFFSET($A$1,ROW()-1,COLUMN()-9)=2)),OFFSET($A$1,ROW()-1,COLUMN()-3),OFFSET($A$1,ROW()-1,COLUMN()-3)+1000)","v":1239},null,{"$f":"IF('手順２・３・４社員タイプ#08'!$B$56=\"\",\"\", '手順２・３・４社員タイプ#08'!$B$56)","v":""},null,{"$f":"'手順２・３・４社員タイプ#08'!$C$56","v":0},null,null,null,null,null,239,null,{"$f":"IF(AND(OFFSET($A$1,ROW()-1,COLUMN()-11)<>\"\",OR(OFFSET($A$1,ROW()-1,COLUMN()-9)=1,OFFSET($A$1,ROW()-1,COLUMN()-9)=2)),OFFSET($A$1,ROW()-1,COLUMN()-3),OFFSET($A$1,ROW()-1,COLUMN()-3)+1000)","v":1239},null,{"$f":"IF('手順２・３・４社員タイプ#09'!$B$56=\"\",\"\", '手順２・３・４社員タイプ#09'!$B$56)","v":""},null,{"$f":"'手順２・３・４社員タイプ#09'!$C$56","v":0},null,null,null,null,null,239,null,{"$f":"IF(AND(OFFSET($A$1,ROW()-1,COLUMN()-11)<>\"\",OR(OFFSET($A$1,ROW()-1,COLUMN()-9)=1,OFFSET($A$1,ROW()-1,COLUMN()-9)=2)),OFFSET($A$1,ROW()-1,COLUMN()-3),OFFSET($A$1,ROW()-1,COLUMN()-3)+1000)","v":1239},null,{"$f":"IF('手順２・３・４社員タイプ#10'!$B$56=\"\",\"\", '手順２・３・４社員タイプ#10'!$B$56)","v":""},null,{"$f":"'手順２・３・４社員タイプ#10'!$C$56","v":0},null,null,null,null,null,239,null,{"$f":"IF(AND(OFFSET($A$1,ROW()-1,COLUMN()-11)<>\"\",OR(OFFSET($A$1,ROW()-1,COLUMN()-9)=1,OFFSET($A$1,ROW()-1,COLUMN()-9)=2)),OFFSET($A$1,ROW()-1,COLUMN()-3),OFFSET($A$1,ROW()-1,COLUMN()-3)+1000)","v":1239}]
[null,null,null,null,null,null,null,null,null,null,null,null,null,null,null,null,null,null,null,null,"待遇の違いの有無",null,"支給の目的",null,2,null,null,null,240,null,{"$f":"OFFSET($A$1,ROW()-2,COLUMN()-1)+1","v":1240},null,"待遇の違いの有無",null,"支給の目的",null,2,null,null,null,240,null,{"$f":"OFFSET($A$1,ROW()-2,COLUMN()-1)+1","v":1240},null,"待遇の違いの有無",null,"支給の目的",null,2,null,null,null,240,null,{"$f":"OFFSET($A$1,ROW()-2,COLUMN()-1)+1","v":1240},null,"待遇の違いの有無",null,"支給の目的",null,2,null,null,null,240,null,{"$f":"OFFSET($A$1,ROW()-2,COLUMN()-1)+1","v":1240},null,"待遇の違いの有無",null,"支給の目的",null,2,null,null,null,240,null,{"$f":"OFFSET($A$1,ROW()-2,COLUMN()-1)+1","v":1240},null,"待遇の違いの有無",null,"支給の目的",null,2,null,null,null,240,null,{"$f":"OFFSET($A$1,ROW()-2,COLUMN()-1)+1","v":1240},null,"待遇の違いの有無",null,"支給の目的",null,2,null,null,null,240,null,{"$f":"OFFSET($A$1,ROW()-2,COLUMN()-1)+1","v":1240},null,"待遇の違いの有無",null,"支給の目的",null,2,null,null,null,240,null,{"$f":"OFFSET($A$1,ROW()-2,COLUMN()-1)+1","v":1240},null,"待遇の違いの有無",null,"支給の目的",null,2,null,null,null,240,null,{"$f":"OFFSET($A$1,ROW()-2,COLUMN()-1)+1","v":1240},null,"待遇の違いの有無",null,"支給の目的",null,2,null,null,null,240,null,{"$f":"OFFSET($A$1,ROW()-2,COLUMN()-1)+1","v":1240}]
[null,null,null,null,null,null,null,null,null,null,null,null,null,null,null,null,null,null,null,null,{"$f":"OFFSET($C$14,OFFSET($A$1,ROW()-3,COLUMN()+1),0)","v":" "},null,null,null,2,null,null,null,241,null,1241,null,{"$f":"OFFSET($C$14,OFFSET($A$1,ROW()-3,COLUMN()+1),0)","v":" "},null,null,null,2,null,null,null,241,null,1241,null,{"$f":"OFFSET($C$14,OFFSET($A$1,ROW()-3,COLUMN()+1),0)","v":" "},null,null,null,2,null,null,null,241,null,1241,null,{"$f":"OFFSET($C$14,OFFSET($A$1,ROW()-3,COLUMN()+1),0)","v":" "},null,null,null,2,null,null,null,241,null,1241,null,{"$f":"OFFSET($C$14,OFFSET($A$1,ROW()-3,COLUMN()+1),0)","v":" "},null,null,null,2,null,null,null,241,null,1241,null,{"$f":"OFFSET($C$14,OFFSET($A$1,ROW()-3,COLUMN()+1),0)","v":" "},null,null,null,2,null,null,null,241,null,1241,null,{"$f":"OFFSET($C$14,OFFSET($A$1,ROW()-3,COLUMN()+1),0)","v":" "},null,null,null,2,null,null,null,241,null,1241,null,{"$f":"OFFSET($C$14,OFFSET($A$1,ROW()-3,COLUMN()+1),0)","v":" "},null,null,null,2,null,null,null,241,null,1241,null,{"$f":"OFFSET($C$14,OFFSET($A$1,ROW()-3,COLUMN()+1),0)","v":" "},null,null,null,2,null,null,null,241,null,1241,null,{"$f":"OFFSET($C$14,OFFSET($A$1,ROW()-3,COLUMN()+1),0)","v":" "},null,null,null,2,null,null,null,241,null,1241]
[null,null,null,null,null,null,null,null,null,null,null,null,null,null,null,null,null,null,null,null,"正社員",null,"短時間労働者・有期雇用労働者",null,null,null,null,null,242,null,1242,null,"正社員",null,"短時間労働者・有期雇用労働者",null,null,null,null,null,242,null,1242,null,"正社員",null,"短時間労働者・有期雇用労働者",null,null,null,null,null,242,null,1242,null,"正社員",null,"短時間労働者・有期雇用労働者",null,null,null,null,null,242,null,1242,null,"正社員",null,"短時間労働者・有期雇用労働者",null,null,null,null,null,242,null,1242,null,"正社員",null,"短時間労働者・有期雇用労働者",null,null,null,null,null,242,null,1242,null,"正社員",null,"短時間労働者・有期雇用労働者",null,null,null,null,null,242,null,1242,null,"正社員",null,"短時間労働者・有期雇用労働者",null,null,null,null,null,242,null,1242,null,"正社員",null,"短時間労働者・有期雇用労働者",null,null,null,null,null,242,null,1242,null,"正社員",null,"短時間労働者・有期雇用労働者",null,null,null,null,null,242,null,1242]
[null,null,null,null,null,null,null,null,null,null,null,null,null,null,null,null,null,null,null,null,{"$f":"IF(OFFSET($A$1,ROW()-5,COLUMN()+1)<>2,\"\",'手順２・３・４社員タイプ#01'!$E$56&\"\")","v":""},null,{"$f":"IF(OFFSET($A$1,ROW()-5,COLUMN()-1)<>2,\"\",'手順２・３・４社員タイプ#01'!$F$56&\"\")","v":""},null,{"$f":"IF(OFFSET($A$1,ROW()-5,COLUMN()-3)<>2,1,0)","v":1},null,{"$f":"OFFSET($A$1,ROW()-1,COLUMN()-3)","v":1},null,243,null,1243,null,{"$f":"IF(OFFSET($A$1,ROW()-5,COLUMN()+1)<>2,\"\",'手順２・３・４社員タイプ#02'!$E$56&\"\")","v":""},null,{"$f":"IF(OFFSET($A$1,ROW()-5,COLUMN()-1)<>2,\"\",'手順２・３・４社員タイプ#02'!$F$56&\"\")","v":""},null,{"$f":"IF(OFFSET($A$1,ROW()-5,COLUMN()-3)<>2,1,0)","v":1},null,{"$f":"OFFSET($A$1,ROW()-1,COLUMN()-3)","v":1},null,243,null,1243,null,{"$f":"IF(OFFSET($A$1,ROW()-5,COLUMN()+1)<>2,\"\",'手順２・３・４社員タイプ#03'!$E$56&\"\")","v":""},null,{"$f":"IF(OFFSET($A$1,ROW()-5,COLUMN()-1)<>2,\"\",'手順２・３・４社員タイプ#03'!$F$56&\"\")","v":""},null,{"$f":"IF(OFFSET($A$1,ROW()-5,COLUMN()-3)<>2,1,0)","v":1},null,{"$f":"OFFSET($A$1,ROW()-1,COLUMN()-3)","v":1},null,243,null,1243,null,{"$f":"IF(OFFSET($A$1,ROW()-5,COLUMN()+1)<>2,\"\",'手順２・３・４社員タイプ#04'!$E$56&\"\")","v":""},null,{"$f":"IF(OFFSET($A$1,ROW()-5,COLUMN()-1)<>2,\"\",'手順２・３・４社員タイプ#04'!$F$56&\"\")","v":""},null,{"$f":"IF(OFFSET($A$1,ROW()-5,COLUMN()-3)<>2,1,0)","v":1},null,{"$f":"OFFSET($A$1,ROW()-1,COLUMN()-3)","v":1},null,243,null,1243,null,{"$f":"IF(OFFSET($A$1,ROW()-5,COLUMN()+1)<>2,\"\",'手順２・３・４社員タイプ#05'!$E$56&\"\")","v":""},null,{"$f":"IF(OFFSET($A$1,ROW()-5,COLUMN()-1)<>2,\"\",'手順２・３・４社員タイプ#05'!$F$56&\"\")","v":""},null,{"$f":"IF(OFFSET($A$1,ROW()-5,COLUMN()-3)<>2,1,0)","v":1},null,{"$f":"OFFSET($A$1,ROW()-1,COLUMN()-3)","v":1},null,243,null,1243,null,{"$f":"IF(OFFSET($A$1,ROW()-5,COLUMN()+1)<>2,\"\",'手順２・３・４社員タイプ#06'!$E$56&\"\")","v":""},null,{"$f":"IF(OFFSET($A$1,ROW()-5,COLUMN()-1)<>2,\"\",'手順２・３・４社員タイプ#06'!$F$56&\"\")","v":""},null,{"$f":"IF(OFFSET($A$1,ROW()-5,COLUMN()-3)<>2,1,0)","v":1},null,{"$f":"OFFSET($A$1,ROW()-1,COLUMN()-3)","v":1},null,243,null,1243,null,{"$f":"IF(OFFSET($A$1,ROW()-5,COLUMN()+1)<>2,\"\",'手順２・３・４社員タイプ#07'!$E$56&\"\")","v":""},null,{"$f":"IF(OFFSET($A$1,ROW()-5,COLUMN()-1)<>2,\"\",'手順２・３・４社員タイプ#07'!$F$56&\"\")","v":""},null,{"$f":"IF(OFFSET($A$1,ROW()-5,COLUMN()-3)<>2,1,0)","v":1},null,{"$f":"OFFSET($A$1,ROW()-1,COLUMN()-3)","v":1},null,243,null,1243,null,{"$f":"IF(OFFSET($A$1,ROW()-5,COLUMN()+1)<>2,\"\",'手順２・３・４社員タイプ#08'!$E$56&\"\")","v":""},null,{"$f":"IF(OFFSET($A$1,ROW()-5,COLUMN()-1)<>2,\"\",'手順２・３・４社員タイプ#08'!$F$56&\"\")","v":""},null,{"$f":"IF(OFFSET($A$1,ROW()-5,COLUMN()-3)<>2,1,0)","v":1},null,{"$f":"OFFSET($A$1,ROW()-1,COLUMN()-3)","v":1},null,243,null,1243,null,{"$f":"IF(OFFSET($A$1,ROW()-5,COLUMN()+1)<>2,\"\",'手順２・３・４社員タイプ#09'!$E$56&\"\")","v":""},null,{"$f":"IF(OFFSET($A$1,ROW()-5,COLUMN()-1)<>2,\"\",'手順２・３・４社員タイプ#09'!$F$56&\"\")","v":""},null,{"$f":"IF(OFFSET($A$1,ROW()-5,COLUMN()-3)<>2,1,0)","v":1},null,{"$f":"OFFSET($A$1,ROW()-1,COLUMN()-3)","v":1},null,243,null,1243,null,{"$f":"IF(OFFSET($A$1,ROW()-5,COLUMN()+1)<>2,\"\",'手順２・３・４社員タイプ#10'!$E$56&\"\")","v":""},null,{"$f":"IF(OFFSET($A$1,ROW()-5,COLUMN()-1)<>2,\"\",'手順２・３・４社員タイプ#10'!$F$56&\"\")","v":""},null,{"$f":"IF(OFFSET($A$1,ROW()-5,COLUMN()-3)<>2,1,0)","v":1},null,{"$f":"OFFSET($A$1,ROW()-1,COLUMN()-3)","v":1},null,243,null,1243]
[null,null,null,null,null,null,null,null,null,null,null,null,null,null,null,null,null,null,null,null,"違いを設けている理由",null,"対応方針",null,null,null,null,null,244,null,1244,null,"違いを設けている理由",null,"対応方針",null,null,null,null,null,244,null,1244,null,"違いを設けている理由",null,"対応方針",null,null,null,null,null,244,null,1244,null,"違いを設けている理由",null,"対応方針",null,null,null,null,null,244,null,1244,null,"違いを設けている理由",null,"対応方針",null,null,null,null,null,244,null,1244,null,"違いを設けている理由",null,"対応方針",null,null,null,null,null,244,null,1244,null,"違いを設けている理由",null,"対応方針",null,null,null,null,null,244,null,1244,null,"違いを設けている理由",null,"対応方針",null,null,null,null,null,244,null,1244,null,"違いを設けている理由",null,"対応方針",null,null,null,null,null,244,null,1244,null,"違いを設けている理由",null,"対応方針",null,null,null,null,null,244,null,1244]
[null,null,null,null,null,null,null,null,null,null,null,null,null,null,null,null,null,null,null,null,{"$f":"IF(OFFSET($A$1,ROW()-7,COLUMN()+1)<>2,\"\",'手順２・３・４社員タイプ#01'!$G$56&\"\")","v":""},null,{"$f":"IF(OFFSET($A$1,ROW()-7,COLUMN()-1)<>2,\"\",'手順２・３・４社員タイプ#01'!$H$56&\"\")","v":""},null,{"$f":"OFFSET($A$1,ROW()-3,COLUMN()-1)","v":1},null,{"$f":"OFFSET($A$1,ROW()-3,COLUMN()-3)","v":1},null,245,null,1245,null,{"$f":"IF(OFFSET($A$1,ROW()-7,COLUMN()+1)<>2,\"\",'手順２・３・４社員タイプ#02'!$G$56&\"\")","v":""},null,{"$f":"IF(OFFSET($A$1,ROW()-7,COLUMN()-1)<>2,\"\",'手順２・３・４社員タイプ#02'!$H$56&\"\")","v":""},null,{"$f":"OFFSET($A$1,ROW()-3,COLUMN()-1)","v":1},null,{"$f":"OFFSET($A$1,ROW()-3,COLUMN()-3)","v":1},null,245,null,1245,null,{"$f":"IF(OFFSET($A$1,ROW()-7,COLUMN()+1)<>2,\"\",'手順２・３・４社員タイプ#03'!$G$56&\"\")","v":""},null,{"$f":"IF(OFFSET($A$1,ROW()-7,COLUMN()-1)<>2,\"\",'手順２・３・４社員タイプ#03'!$H$56&\"\")","v":""},null,{"$f":"OFFSET($A$1,ROW()-3,COLUMN()-1)","v":1},null,{"$f":"OFFSET($A$1,ROW()-3,COLUMN()-3)","v":1},null,245,null,1245,null,{"$f":"IF(OFFSET($A$1,ROW()-7,COLUMN()+1)<>2,\"\",'手順２・３・４社員タイプ#04'!$G$56&\"\")","v":""},null,{"$f":"IF(OFFSET($A$1,ROW()-7,COLUMN()-1)<>2,\"\",'手順２・３・４社員タイプ#04'!$H$56&\"\")","v":""},null,{"$f":"OFFSET($A$1,ROW()-3,COLUMN()-1)","v":1},null,{"$f":"OFFSET($A$1,ROW()-3,COLUMN()-3)","v":1},null,245,null,1245,null,{"$f":"IF(OFFSET($A$1,ROW()-7,COLUMN()+1)<>2,\"\",'手順２・３・４社員タイプ#05'!$G$56&\"\")","v":""},null,{"$f":"IF(OFFSET($A$1,ROW()-7,COLUMN()-1)<>2,\"\",'手順２・３・４社員タイプ#05'!$H$56&\"\")","v":""},null,{"$f":"OFFSET($A$1,ROW()-3,COLUMN()-1)","v":1},null,{"$f":"OFFSET($A$1,ROW()-3,COLUMN()-3)","v":1},null,245,null,1245,null,{"$f":"IF(OFFSET($A$1,ROW()-7,COLUMN()+1)<>2,\"\",'手順２・３・４社員タイプ#06'!$G$56&\"\")","v":""},null,{"$f":"IF(OFFSET($A$1,ROW()-7,COLUMN()-1)<>2,\"\",'手順２・３・４社員タイプ#06'!$H$56&\"\")","v":""},null,{"$f":"OFFSET($A$1,ROW()-3,COLUMN()-1)","v":1},null,{"$f":"OFFSET($A$1,ROW()-3,COLUMN()-3)","v":1},null,245,null,1245,null,{"$f":"IF(OFFSET($A$1,ROW()-7,COLUMN()+1)<>2,\"\",'手順２・３・４社員タイプ#07'!$G$56&\"\")","v":""},null,{"$f":"IF(OFFSET($A$1,ROW()-7,COLUMN()-1)<>2,\"\",'手順２・３・４社員タイプ#07'!$H$56&\"\")","v":""},null,{"$f":"OFFSET($A$1,ROW()-3,COLUMN()-1)","v":1},null,{"$f":"OFFSET($A$1,ROW()-3,COLUMN()-3)","v":1},null,245,null,1245,null,{"$f":"IF(OFFSET($A$1,ROW()-7,COLUMN()+1)<>2,\"\",'手順２・３・４社員タイプ#08'!$G$56&\"\")","v":""},null,{"$f":"IF(OFFSET($A$1,ROW()-7,COLUMN()-1)<>2,\"\",'手順２・３・４社員タイプ#08'!$H$56&\"\")","v":""},null,{"$f":"OFFSET($A$1,ROW()-3,COLUMN()-1)","v":1},null,{"$f":"OFFSET($A$1,ROW()-3,COLUMN()-3)","v":1},null,245,null,1245,null,{"$f":"IF(OFFSET($A$1,ROW()-7,COLUMN()+1)<>2,\"\",'手順２・３・４社員タイプ#09'!$G$56&\"\")","v":""},null,{"$f":"IF(OFFSET($A$1,ROW()-7,COLUMN()-1)<>2,\"\",'手順２・３・４社員タイプ#09'!$H$56&\"\")","v":""},null,{"$f":"OFFSET($A$1,ROW()-3,COLUMN()-1)","v":1},null,{"$f":"OFFSET($A$1,ROW()-3,COLUMN()-3)","v":1},null,245,null,1245,null,{"$f":"IF(OFFSET($A$1,ROW()-7,COLUMN()+1)<>2,\"\",'手順２・３・４社員タイプ#10'!$G$56&\"\")","v":""},null,{"$f":"IF(OFFSET($A$1,ROW()-7,COLUMN()-1)<>2,\"\",'手順２・３・４社員タイプ#10'!$H$56&\"\")","v":""},null,{"$f":"OFFSET($A$1,ROW()-3,COLUMN()-1)","v":1},null,{"$f":"OFFSET($A$1,ROW()-3,COLUMN()-3)","v":1},null,245,null,1245]

{"sheet":"待遇状況「1」「2」「3」の説明","index":20,"n_rows":23,"n_cols":18,"rows_kept":23,"cut":false,"hidden":false,"merged":[[22,0,22,19],[5,2,6,2],[9,2,10,2],[13,2,14,2],[0,0,0,19],[1,4,1,18],[20,2,20,5]]}
["「パートタイム・有期雇用労働法」対応のための取組手順書"]
["←戻る",null,null,null,"待遇状況「1」「2」「3」の説明"]
[]
[null,null,null,null,null,"手当",null,null,"賞与",null,null,"福利厚生その他の次の3つ\n給食施設（食堂）、休憩室、更衣室",null,null,"福利厚生その他",null,null,"基本給"]
[]
[null,null,1,null,null,"正社員、短時間労働者・有期雇用労働者とも同じ基準で支給している",null,null,"正社員、短時間労働者・有期雇用労働者とも同じ基準で支給している",null,null,"正社員、短時間労働者・有期雇用労働者とも同じ基準で利用できる",null,null,"正社員、短時間労働者・有期雇用労働者とも同じ基準で措置している",null,null,"正社員、短時間労働者・有期雇用労働者とも同じ基準で支給している"]
[null,null,null,null,null,"※ 手順書では、「ア」に当たります。",null,null,"※ 手順書では、「ア」に当たります。",null,null,"※ 手順書では、「ア」に当たります。",null,null,"※ 手順書では、「ア」に当たります。",null,null,"※ 手順書では、「ア」に当たります。"]
[]
[]
[null,null,2,null,null,"正社員には支給するが、短時間労働者・有期雇用労働者には支給しない。または、正社員、短時間労働者・有期雇用労働者とも支給するが、支給基準が異なる",null,null,"正社員には支給するが、短時間労働者・有期雇用労働者には支給しない。または、正社員、短時間労働者・有期雇用労働者とも支給するが、支給基準が異なる",null,null,"正社員と、短時間労働者・有期雇用労働者は利用の基準、範囲が異なる",null,null,"正社員には措置があるが、短時間労働者・有期雇用労働者には措置していない。または、正社員、短時間労働者・有期雇用労働者とも措置しているが、措置の基準が異なる",null,null,"正社員と、短時間労働者・有期雇用労働者の支給基準は異なる"]
[null,null,null,null,null,"※ 手順書では、「イ」に当たります。",null,null,"※ 手順書では、「ウ」に当たります。",null,null,"※ 手順書では、「イ」に当たります。",null,null,"※ 手順書では、「イ」に当たります。",null,null,"※ 手順書では、「イ」に当たります。"]
[]
[]
[null,null,3,null,null,"正社員、短時間労働者・有期雇用労働者とも支給なし",null,null,"正社員、短時間労働者・有期雇用労働者とも支給なし",null,null,"施設がない",null,null,"正社員、短時間労働者・有期雇用労働者とも措置していない",null,null,"【選択不可】"]
[null,null,null,null,null,"※ 手順書にはありません。",null,null,"※ 手順書では、「イ」に当たります。",null,null,"※ 手順書では、「ア」に当たります。",null,null,"※ 手順書にはありません。"]
[]
[]
[null,null,"空白",null,null,"空白の場合は、未入力として処理されます。",null,null,"空白の場合は、未入力として処理されます。",null,null,"空白の場合は、未入力として処理されます。",null,null,"空白の場合は、未入力として処理されます。",null,null,"空白の場合は、未入力として処理されます。"]
[]
[]
[null,null,"※ 上記の表で、セルの背景色が灰色 ",null,null,null,null,null," の待遇は、印刷シートには出力されません。"]
[]
["戻る"]

{"sheet":"マニュアル手順２・３・４社員タイプ","index":21,"n_rows":71,"n_cols":11,"rows_kept":71,"cut":false,"hidden":false,"merged":[[0,9,1,10],[8,1,8,7],[9,2,9,3],[10,2,10,3],[0,0,0,7],[1,0,1,1],[1,2,1,6],[2,1,2,7],[3,1,3,7],[4,1,4,7],[5,1,5,7],[6,1,6,7],[2,10,20,10],[2,9,20,9],[7,1,7,7],[11,1,11,7],[70,0,70,7],[18,0,18,1],[34,0,34,1],[40,0,40,1],[56,0,56,1],[56,2,57,3],[56,4,57,4],[56,5,57,5],[57,0,68,1],[57,6,68,6],[57,7,68,7],[68,2,68,5],[12,2,12,3],[13,2,13,3],[14,1,14,7],[16,0,16,1],[16,2,16,5]]}
["「パートタイム・有期雇用労働法」対応のための取組手順書",null,null,null,null,null,null,null,null,"手順２・３・４《社員タイプ別入力シート》"]
["←戻る",null,"手順２・３・４《社員タイプ別 入力シート》"]
[null,"社員タイプごとに、以下の手順で点検を行いましょう。",null,null,null,null,null,null,null,"■\n\n\n■\n\n■\n\n\n\n\n\n\n■\n\n■\n\n\n\n\n※","手順２・３・４《社員タイプ別入力シート》は、手順１－３で入力した社員タイプ毎に入力する\nシートです。\n\n手順２・３・４《待遇の入力》で登録した待遇が、B列に表示されています。\n\nC列の「待遇の違いの有無」の欄は空白になっています。\n待遇の違いの有無の選択肢「１」「２」「３」を選択すると、入力が必要な項目のセルの背景色が\n白になり、入力が可能になります。\n「１」を選択した場合は、「手当の支給の目的」のみ入力してください。\n「２」を選択した場合は、「手当の支給の目的」から「対応方針検討」まで全て入力してください。\n「３」を選択した場合は、入力不要です。\n\n①は、行の高さ、文字の大きさを変更できる機能です。\n\n②は、他の社員タイプのデータをコピーできる機能です。\nコピー機能は、社員タイプと、待遇種別を選ぶことができます。\n待遇種別で「すべて」を選んでコピーすると、コピー元の社員タイプで入力した内容の全てが\nコピーされます。\n\n本シート入力後、 次の操作を行うとデータが消去されます。\n１．手順１－３に戻り社員タイプを削除すると削除した社員タイプのシート自体が消去されます。\n２．手順２・３・４《待遇の入力》に戻り待遇を削除すると削除した待遇（行）が消去されます。\n３．本シート内で、待遇の違いの有無に「２」を入力し、支給の目的などを入力した後、\n       待遇の違いの有無を、削除したり、「１」または「３」に変更して、別のシートに移動した場合、\n       「２」で入力していた内容が消去されます。"]
[null,"① 正社員と短時間労働者・有期雇用労働者との間の待遇の違いの有無について、以下の選択肢から選択しましょう。",null,null,null,null,null,null,0]
[null,"【１】 正社員と短時間労働者・有期雇用労働者との間で待遇の違いがない\n【２】 正社員と短時間労働者・有期雇用労働者との間で待遇の違いがある\n【３】 正社員、短時間労働者・有期雇用労働者とも、該当する待遇がない\n\n※選択肢「１」「２」「３」について、右上の「１２３の詳細説明」をクリックすると、より詳しい説明が表示されます。"]
[null,"② ①で「１」「２」を選択した場合、待遇の支給目的を入力しましょう（福利厚生その他、基本給は不要）。"]
[null,"③ 正社員と短時間労働者・有期雇用労働者との間に待遇の違いがある場合（①で「２」を選択した場合）、正社員、短時間労働者・有期雇用労働者それぞれの支給状況を入力しましょう。\n  基本給については、基本給の決定要素としている事項の重要度の違いをプルダウンから選択しましょう。"]
[null,"④ 待遇に違いを設けている理由を入力しましょう。\n⑤ 違いを設けている待遇について、対応方針を検討しましょう。"]
[null,"入力欄の行の高さ及び文字のサイズが変更できます。記載量に合わせて調整してください。"]
[null,null,"行の高さ（50～400）",null,"文字の大きさ（6～15）"]
[null,null,50,null,11]
[null,"既に点検を行った社員タイプの入力内容をコピーすることができます。待遇の状況が同じ場合などにご活用ください。"]
[null,null,"コピー元の社員タイプ",null,"コピー元の待遇種別"]
[]
[null,"※コピーを行うと、既に入力していた部分にも上書きされます。ご注意ください。"]
[]
["社員タイプ#01",null,"パート（販売）・短時間・有期"]
[]
["手当",null,"待遇の\n違いの\n有無","手当の支給の目的","正社員への支給状況","短時間労働者・有期雇用労働者\nへの支給状況","違いを設けている理由","対応方針検討"]
["A01","通勤手当",2]
["A02","精皆勤手当"]
["A03"]
["A04"]
["A05"]
["A06"]
["A07"]
["A08"]
["A09"]
["A10"]
["A11"]
["A12"]
["A13"]
["A14"]
["A15"]
["賞与",null,"待遇の\n違いの\n有無","賞与の支給の目的","正社員への支給状況","短時間労働者・有期雇用労働者\nへの支給状況","違いを設けている理由","対応方針検討"]
["B01","賞与"]
["B02","賞与2"]
["B03"]
["B04"]
["B05"]
["福利厚生その他",null,"待遇の\n違いの\n有無","―","正社員の利用状況、措置状況","短時間労働者・有期雇用労働者の利用状況、措置状況","違いを設けている理由","対応方針検討"]
["C01",{"$f":"IF(手順２・３・４《待遇の入力》!$Q$8=2,手順２・３・４《待遇の入力》!$J$8,\"\")","v":"給食施設（食堂）"}]
["C02",{"$f":"IF(手順２・３・４《待遇の入力》!$Q$9=2,手順２・３・４《待遇の入力》!$J$9,\"\")","v":"休憩室"}]
["C03",{"$f":"IF(手順２・３・４《待遇の入力》!$Q$10=2,手順２・３・４《待遇の入力》!$J$10,\"\")","v":"更衣室"}]
["C04"]
["C05"]
["C06"]
["C07"]
["C08"]
["C09"]
["C10"]
["C11"]
["C12"]
["C13"]
["C14"]
["C15"]
["基本給\n待遇の違いの有無",null,"基本給決定要素",null,"正社員の重要度","短時間労働者・有期雇用労働者\nの重要度","違いを設けている理由","対応方針検討"]
[]
[null,null,"D01",{"$f":"IF(手順２・３・４《待遇の入力》!$R$8=2,手順２・３・４《待遇の入力》!$M$8,\"\")","v":"職務の遂行能力"}]
[null,null,"D02",{"$f":"IF(手順２・３・４《待遇の入力》!$R$9=2,手順２・３・４《待遇の入力》!$M$9,\"\")","v":"業務の内容や責任の重さ"}]
[null,null,"D03",{"$f":"IF(手順２・３・４《待遇の入力》!$R$10=2,手順２・３・４《待遇の入力》!$M$10,\"\")","v":"仕事の成果や業績"}]
[null,null,"D04",{"$f":"IF(手順２・３・４《待遇の入力》!$R$11=2,手順２・３・４《待遇の入力》!$M$11,\"\")","v":"年齢や勤続年数"}]
[null,null,"D05",{"$f":"IF(手順２・３・４《待遇の入力》!$R$12=2,手順２・３・４《待遇の入力》!$M$12,\"\")","v":"市場での賃金相場"}]
[null,null,"D06",{"$f":"IF(手順２・３・４《待遇の入力》!$R$13=2,手順２・３・４《待遇の入力》!$M$13,\"\")","v":""}]
[null,null,"D07",{"$f":"IF(手順２・３・４《待遇の入力》!$R$14=2,手順２・３・４《待遇の入力》!$M$14,\"\")","v":""}]
[null,null,"D08",{"$f":"IF(手順２・３・４《待遇の入力》!$R$15=2,手順２・３・４《待遇の入力》!$M$15,\"\")","v":""}]
[null,null,"D09",{"$f":"IF(手順２・３・４《待遇の入力》!$R$16=2,手順２・３・４《待遇の入力》!$M$16,\"\")","v":""}]
[null,null,"D10",{"$f":"IF(手順２・３・４《待遇の入力》!$R$17=2,手順２・３・４《待遇の入力》!$M$17,\"\")","v":""}]
[]
[]
["戻る"]

{"sheet":"記載例手順２・３・４社員タイプ","index":22,"n_rows":71,"n_cols":8,"rows_kept":71,"cut":false,"hidden":false,"merged":[[7,1,7,7],[10,2,10,3],[0,0,0,7],[1,0,1,1],[1,2,1,6],[2,1,2,7],[8,1,8,7],[9,2,9,3],[3,1,3,7],[4,1,4,7],[5,1,5,7],[6,1,6,7],[11,1,11,7],[12,2,12,3],[13,2,13,3],[14,1,14,7],[16,0,16,1],[16,2,16,5],[70,0,70,7],[18,0,18,1],[34,0,34,1],[40,0,40,1],[56,0,56,1],[56,2,57,3],[56,4,57,4],[56,5,57,5],[57,0,68,1],[57,6,68,6],[57,7,68,7],[68,2,68,5]]}
["「パートタイム・有期雇用労働法」対応のための取組手順書"]
["←戻る",null,"手順２・３・４《社員タイプ別 入力シート》"]
[null,"社員タイプごとに、以下の手順で点検を行いましょう。"]
[null,"① 正社員と短時間労働者・有期雇用労働者との間の待遇の違いの有無について、以下の選択肢から選択しましょう。"]
[null,"【１】 正社員と短時間労働者・有期雇用労働者との間で待遇の違いがない\n【２】 正社員と短時間労働者・有期雇用労働者との間で待遇の違いがある\n【３】 正社員、短時間労働者・有期雇用労働者とも、該当する待遇がない\n\n※選択肢「１」「２」「３」について、右上の「１２３の詳細説明」をクリックすると、より詳しい説明が表示されます。"]
[null,"② ①で「１」「２」を選択した場合、待遇の支給目的を入力しましょう（福利厚生その他、基本給は不要）。"]
[null,"③ 正社員と短時間労働者・有期雇用労働者との間に待遇の違いがある場合（①で「２」を選択した場合）、正社員、短時間労働者・有期雇用労働者それぞれの支給状況を入力しましょう。\n  基本給については、基本給の決定要素としている事項の重要度の違いをプルダウンから選択しましょう。"]
[null,"④ 待遇に違いを設けている理由を入力しましょう。\n⑤ 違いを設けている待遇について、対応方針を検討しましょう。"]
[null,"入力欄の行の高さ及び文字のサイズが変更できます。記載量に合わせて調整してください。"]
[null,null,"行の高さ（50～400）",null,"文字の大きさ（6～15）"]
[null,null,70,null,10]
[null,"既に点検を行った社員タイプの入力内容をコピーすることができます。待遇の状況が同じ場合などにご活用ください。"]
[null,null,"コピー元の社員タイプ",null,"コピー元の待遇種別"]
[]
[null,"※コピーを行うと、既に入力していた部分にも上書きされます。ご注意ください。"]
[]
["社員タイプ#01",null,"パート（販売）・短時間・有期"]
[]
["手当",null,"待遇の\n違いの\n有無","手当の支給の目的","正社員への支給状況","短時間労働者・有期雇用労働者\nへの支給状況","違いを設けている理由","対応方針検討"]
["A01","通勤手当",2,"・通勤に要する交通費を補填する目的で支給。","・交通費実費の全額に相当する通勤手当を支給。","・支給なし。","・短時間労働者・有期雇用労働者は、労働契約の期間に定めがあり、職務内容が正社員と異なるため支給していない。","労働契約の期間の定めの有無や職務内容が異なることが、通勤に必要な費用を支給しない理由にはならないので、短時間労働者・有期雇用労働者を含めた全社員に通勤手当を支給することを検討する。"]
["A02","精皆勤手当",2,"・一定数の業務を行う人数を確保するため、皆勤を奨励する目的で支給。","・月の勤務日数の9割以上を出勤した者に対して月5,000円を支給。","・支給なし。","・短時間労働者・有期雇用労働者は、勤務日数が少ないため、支給していない。","正社員と短時間労働者・有期雇用労働者は職務の内容が同じであり、一定数の業務を行う人数を確保するため出勤を奨励するという目的は同じため、勤務日数が少ない分を比例的に減額する等して支給することを検討する。"]
["A03"]
["A04"]
["A05"]
["A06"]
["A07"]
["A08"]
["A09"]
["A10"]
["A11"]
["A12"]
["A13"]
["A14"]
["A15"]
["賞与",null,"待遇の\n違いの\n有無","賞与の支給の目的","正社員への支給状況","短時間労働者・有期雇用労働者\nへの支給状況","違いを設けている理由","対応方針検討"]
["B01","賞与",2,"・会社の利益を分配することによって、社員の士気を高めるため支給。","・会社の業績等への貢献に応じ、0～4ヶ月分を支給する。","・一律の金額（1ヵ月分）を支給する。","・短時間労働者・有期雇用労働者の業務は、定型業務であり、ノルマを課しておらず、業務による会社への貢献が一定のため、業務にかかわりなく一律の支給としている。","正社員は、責任が重く、複雑な業務を行っており、会社の業績への貢献が悪ければ賞与を支給しないことがある。一方、短時間労働者・有期雇用労働者は、貢献に見合った金額を支給しており、その違いが不合理とは言えないため、直ちに対応は不要と考える。"]
["B02","賞与2",2,"・会社の利益を分配することによって、功労報償のために支給。","・人事評価C以上の者について、1～4ヶ月分（平均2ヶ月分）を支給する。","・支給なし。","・短時間労働者・有期雇用労働者は、人事評価を行っておらず、貢献度を評価できないため支給していない。","人事評価を行わないことが賞与を支給しない理由にはならないので、短時間労働者・有期雇用労働者を対象とした人事評価を行い、成績等を踏まえた賞与の支給を行うことを検討する。"]
["B03"]
["B04"]
["B05"]
["福利厚生その他",null,"待遇の\n違いの\n有無","―","正社員の利用状況、措置状況","短時間労働者・有期雇用労働者の利用状況、措置状況","違いを設けている理由","対応方針検討"]
["C01",{"$f":"IF(手順２・３・４《待遇の入力》!$Q$8=2,手順２・３・４《待遇の入力》!$J$8,\"\")","v":"給食施設（食堂）"},2,null,"・正社員は、利用の対象としている。","・短時間労働者・有期雇用労働者は利用の対象からはずしている。","・食堂が狭く、全員が利用できないため。","食堂が狭いことが短時間労働者・有期雇用労働者が食堂を利用できない理由にはならないので、全員が食堂を利用できるよう休憩時間をずらすことを検討する。"]
["C02",{"$f":"IF(手順２・３・４《待遇の入力》!$Q$9=2,手順２・３・４《待遇の入力》!$J$9,\"\")","v":"休憩室"},3]
["C03",{"$f":"IF(手順２・３・４《待遇の入力》!$Q$10=2,手順２・３・４《待遇の入力》!$J$10,\"\")","v":"更衣室"},3]
["C04"]
["C05"]
["C06"]
["C07"]
["C08"]
["C09"]
["C10"]
["C11"]
["C12"]
["C13"]
["C14"]
["C15"]
["基本給\n待遇の違いの有無",null,"基本給決定要素",null,"正社員の重要度","短時間労働者・有期雇用労働者\nの重要度","違いを設けている理由","対応方針検討"]
[2,null,null,null,null,null,"・正社員には月間の販売ノルマがあるため責任が重いが、短時間労働者・有期雇用労働者にはノルマがなく、責任の程度が違うため。\n【その他記載例】\n・正社員は土日・夜間シフトの割当てがあり出勤が必要だが、短時間労働者・有期雇用労働者は希望の日時でシフトを割り当てている。\n・正社員は幹部候補として職務の内容や配置の変更があり、能力や経験に応じて支給、短時間労働者・有期雇用労働者は、職務の内容や配置の変更はなく、現在の職務の内容に応じて支給しているため。","基本給の差が、販売ノルマ相当の差かどうか検証し、改善の必要がないか検討する。"]
[null,null,"D01",{"$f":"IF(手順２・３・４《待遇の入力》!$R$8=2,手順２・３・４《待遇の入力》!$M$8,\"\")","v":"職務の遂行能力"},"非常に重要","やや重要"]
[null,null,"D02",{"$f":"IF(手順２・３・４《待遇の入力》!$R$9=2,手順２・３・４《待遇の入力》!$M$9,\"\")","v":"業務の内容や責任の重さ"},"非常に重要","重要ではない"]
[null,null,"D03",{"$f":"IF(手順２・３・４《待遇の入力》!$R$10=2,手順２・３・４《待遇の入力》!$M$10,\"\")","v":"仕事の成果や業績"},"非常に重要","重要ではない"]
[null,null,"D04",{"$f":"IF(手順２・３・４《待遇の入力》!$R$11=2,手順２・３・４《待遇の入力》!$M$11,\"\")","v":"年齢や勤続年数"},"やや重要","重要ではない"]
[null,null,"D05",{"$f":"IF(手順２・３・４《待遇の入力》!$R$12=2,手順２・３・４《待遇の入力》!$M$12,\"\")","v":"市場での賃金相場"},"重要ではない","非常に重要"]
[null,null,"D06",{"$f":"IF(手順２・３・４《待遇の入力》!$R$13=2,手順２・３・４《待遇の入力》!$M$13,\"\")","v":""}]
[null,null,"D07",{"$f":"IF(手順２・３・４《待遇の入力》!$R$14=2,手順２・３・４《待遇の入力》!$M$14,\"\")","v":""}]
[null,null,"D08",{"$f":"IF(手順２・３・４《待遇の入力》!$R$15=2,手順２・３・４《待遇の入力》!$M$15,\"\")","v":""}]
[null,null,"D09",{"$f":"IF(手順２・３・４《待遇の入力》!$R$16=2,手順２・３・４《待遇の入力》!$M$16,\"\")","v":""}]
[null,null,"D10",{"$f":"IF(手順２・３・４《待遇の入力》!$R$17=2,手順２・３・４《待遇の入力》!$M$17,\"\")","v":""}]
[]
[]
["戻る"]

{"sheet":"テンプレート手順２・３・４社員タイプ#00","index":23,"n_rows":71,"n_cols":13,"rows_kept":71,"cut":false,"hidden":true,"merged":[[70,0,70,7],[56,0,56,1],[16,2,16,5],[16,0,16,1],[0,0,0,7],[1,2,1,6],[7,1,7,7],[1,0,1,1],[11,1,11,7],[2,1,2,7],[3,1,3,7],[9,2,9,3],[10,2,10,3],[5,1,5,7],[6,1,6,7],[18,0,18,1],[34,0,34,1],[40,0,40,1],[14,1,14,7],[4,1,4,7],[8,1,8,7],[12,2,12,3],[13,2,13,3],[68,2,68,5],[57,0,68,1],[57,6,68,6],[57,7,68,7],[56,2,57,3],[56,4,57,4],[56,5,57,5]]}
["「パートタイム・有期雇用労働法」対応のための取組手順書",null,null,null,null,null,null,null,1,{"$f":"INT(RIGHT(CELL(\"filename\",I1),2))","v":0},null,null,"非常に重要"]
["←戻る",null,"手順２・３・４《社員タイプ別 入力シート》",null,null,null,null,"次へ→",2,null,null,"すべて","やや重要"]
[null,"社員タイプごとに、以下の手順で点検を行いましょう。",null,null,null,null,null,null,3,null,null,"手当","重要ではない"]
[null,"① 正社員と短時間労働者・有期雇用労働者との間の待遇の違いの有無について、以下の選択肢から選択しましょう。",null,null,null,null,null,null,null,null,null,"賞与","決定要素ではない"]
[null,"【１】 正社員と短時間労働者・有期雇用労働者との間で待遇の違いがない\n【２】 正社員と短時間労働者・有期雇用労働者との間で待遇の違いがある\n【３】 正社員、短時間労働者・有期雇用労働者とも、該当する待遇がない\n\n※選択肢「１」「２」「３」について、右上の「１２３の詳細説明」をクリックすると、より詳しい説明が表示されます。",null,null,null,null,null,null,null,null,null,"福利厚生その他"]
[null,"② ①で「１」「２」を選択した場合、待遇の支給目的を入力しましょう（福利厚生その他、基本給は不要）。",null,null,null,null,null,null,null,null,null,"基本給"]
[null,"③ 正社員と短時間労働者・有期雇用労働者との間に待遇の違いがある場合（①で「２」を選択した場合）、正社員、短時間労働者・有期雇用労働者それぞれの支給状況を入力しましょう。\n  基本給については、基本給の決定要素としている事項の重要度の違いをプルダウンから選択しましょう。"]
[null,"④ 待遇に違いを設けている理由を入力しましょう。\n⑤ 違いを設けている待遇について、対応方針を検討しましょう。"]
[null,"入力欄の行の高さ及び文字のサイズが変更できます。記載量に合わせて調整してください。"]
[null,null,"行の高さ（50～400）",null,"文字の大きさ（6～15）"]
[null,null,50,null,11]
[null,"既に点検を行った社員タイプの入力内容をコピーすることができます。待遇の状況が同じ場合などにご活用ください。"]
[null,null,"コピー元の社員タイプ",null,"コピー元の待遇種別"]
[]
[null,"※コピーを行うと、既に入力していた部分にも上書きされます。ご注意ください。"]
[]
[{"$f":"\"社員タイプ#\"&TEXT($J$1,\"00\")","v":"社員タイプ#00"},null,{"$f":"OFFSET('手順1-3'!$N$9,$J$1,0)","v":0}]
[null,null,null,null,null,null,null,null,{"$f":"IF($I$19>0,20,IF($I$35>0,36,42))","v":36},null,{"$f":"COUNTIF($K$19:$K$58,1)","v":0},{"$f":"IF($K$20=1,\"20a\",\"\")&IF($K$21=1,\"21a\",\"\")&IF($K$22=1,\"22a\",\"\")&IF($K$23=1,\"23a\",\"\")&IF($K$24=1,\"24a\",\"\")&IF($K$25=1,\"25a\",\"\")&IF($K$26=1,\"26a\",\"\")&IF($K$27=1,\"27a\",\"\")&IF($K$28=1,\"28a\",\"\")&IF($K$29=1,\"29a\",\"\")&IF($K$30=1,\"30a\",\"\")&IF($K$31=1,\"31a\",\"\")&IF($K$32=1,\"32a\",\"\")&IF($K$33=1,\"33a\",\"\")&IF($K$34=1,\"34a\",\"\")&IF($K$36=1,\"36a\",\"\")&IF($K$37=1,\"37a\",\"\")&IF($K$38=1,\"38a\",\"\")&IF($K$39=1,\"39a\",\"\")&IF($K$40=1,\"40a\",\"\")&IF($K$42=1,\"42a\",\"\")&IF($K$43=1,\"43a\",\"\")&IF($K$44=1,\"44a\",\"\")&IF($K$45=1,\"45a\",\"\")&IF($K$46=1,\"46a\",\"\")&IF($K$47=1,\"47a\",\"\")&IF($K$48=1,\"48a\",\"\")&IF($K$49=1,\"49a\",\"\")&IF($K$50=1,\"50a\",\"\")&IF($K$51=1,\"51a\",\"\")&IF($K$52=1,\"52a\",\"\")&IF($K$53=1,\"53a\",\"\")&IF($K$54=1,\"54a\",\"\")&IF($K$55=1,\"55a\",\"\")&IF($K$56=1,\"56a\",\"\")&IF($K$58=1,\"58a\",\"\")","v":""}]
["手当",null,"待遇の\n違いの\n有無","手当の支給の目的","正社員への支給状況","短時間労働者・有期雇用労働者\nへの支給状況","違いを設けている理由","対応方針検討",{"$f":"COUNTIF($I$20:$I$34,1)","v":0},null,0]
["A01",{"$f":"IF(手順２・３・４《待遇の入力》!$O$8=2,手順２・３・４《待遇の入力》!$S$8,\"\")","v":""},null,null,null,null,null,null,{"$f":"IF($I21=1,1,IF($B20<>\"\",1,0))","v":0},null,{"$f":"IF($C20<>$J20,1,0)","v":0}]
["A02",{"$f":"IF(手順２・３・４《待遇の入力》!$O$9=2,手順２・３・４《待遇の入力》!$S$9,\"\")","v":""},null,null,null,null,null,null,0,null,{"$f":"IF($C21<>$J21,1,0)","v":0}]
["A03",{"$f":"IF(手順２・３・４《待遇の入力》!$O$10=2,手順２・３・４《待遇の入力》!$S$10,\"\")","v":""},null,null,null,null,null,null,0,null,0]
["A04",{"$f":"IF(手順２・３・４《待遇の入力》!$O$11=2,手順２・３・４《待遇の入力》!$S$11,\"\")","v":""},null,null,null,null,null,null,0,null,0]
["A05",{"$f":"IF(手順２・３・４《待遇の入力》!$O$12=2,手順２・３・４《待遇の入力》!$S$12,\"\")","v":""},null,null,null,null,null,null,0,null,0]
["A06",{"$f":"IF(手順２・３・４《待遇の入力》!$O$13=2,手順２・３・４《待遇の入力》!$S$13,\"\")","v":""},null,null,null,null,null,null,0,null,0]
["A07",{"$f":"IF(手順２・３・４《待遇の入力》!$O$14=2,手順２・３・４《待遇の入力》!$S$14,\"\")","v":""},null,null,null,null,null,null,0,null,0]
["A08",{"$f":"IF(手順２・３・４《待遇の入力》!$O$15=2,手順２・３・４《待遇の入力》!$S$15,\"\")","v":""},null,null,null,null,null,null,0,null,0]
["A09",{"$f":"IF(手順２・３・４《待遇の入力》!$O$16=2,手順２・３・４《待遇の入力》!$S$16,\"\")","v":""},null,null,null,null,null,null,0,null,0]
["A10",{"$f":"IF(手順２・３・４《待遇の入力》!$O$17=2,手順２・３・４《待遇の入力》!$S$17,\"\")","v":""},null,null,null,null,null,null,0,null,0]
["A11",{"$f":"IF(手順２・３・４《待遇の入力》!$O$18=2,手順２・３・４《待遇の入力》!$S$18,\"\")","v":""},null,null,null,null,null,null,0,null,0]
["A12",{"$f":"IF(手順２・３・４《待遇の入力》!$O$19=2,手順２・３・４《待遇の入力》!$S$19,\"\")","v":""},null,null,null,null,null,null,0,null,0]
["A13",{"$f":"IF(手順２・３・４《待遇の入力》!$O$20=2,手順２・３・４《待遇の入力》!$S$20,\"\")","v":""},null,null,null,null,null,null,0,null,0]
["A14",{"$f":"IF(手順２・３・４《待遇の入力》!$O$21=2,手順２・３・４《待遇の入力》!$S$21,\"\")","v":""},null,null,null,null,null,null,0,null,0]
["A15",{"$f":"IF(手順２・３・４《待遇の入力》!$O$22=2,手順２・３・４《待遇の入力》!$S$22,\"\")","v":""},null,null,null,null,null,null,{"$f":"IF($B$34<>\"\",1,0)","v":0},null,0]
["賞与",null,"待遇の\n違いの\n有無","賞与の支給の目的","正社員への支給状況","短時間労働者・有期雇用労働者\nへの支給状況","違いを設けている理由","対応方針検討",{"$f":"COUNTIF($I$36:$I$40,1)","v":1},null,0]
["B01",{"$f":"IF(手順２・３・４《待遇の入力》!$P$8=2,手順２・３・４《待遇の入力》!$G$8,\"\")","v":"賞与"},null,null,null,null,null,null,{"$f":"IF($I37=1,1,IF($B36<>\"\",1,0))","v":1},null,{"$f":"IF($C36<>$J36,1,0)","v":0}]
["B02",{"$f":"IF(手順２・３・４《待遇の入力》!$P$9=2,手順２・３・４《待遇の入力》!$G$9,\"\")","v":""},null,null,null,null,null,null,{"$f":"IF($I38=1,1,IF($B37<>\"\",1,0))","v":0},null,{"$f":"IF($C37<>$J37,1,0)","v":0}]
["B03",{"$f":"IF(手順２・３・４《待遇の入力》!$P$10=2,手順２・３・４《待遇の入力》!$G$10,\"\")","v":""},null,null,null,null,null,null,{"$f":"IF($I39=1,1,IF($B38<>\"\",1,0))","v":0},null,{"$f":"IF($C38<>$J38,1,0)","v":0}]
["B04",{"$f":"IF(手順２・３・４《待遇の入力》!$P$11=2,手順２・３・４《待遇の入力》!$G$11,\"\")","v":""},null,null,null,null,null,null,{"$f":"IF($I40=1,1,IF($B39<>\"\",1,0))","v":0},null,{"$f":"IF($C39<>$J39,1,0)","v":0}]
["B05",{"$f":"IF(手順２・３・４《待遇の入力》!$P$12=2,手順２・３・４《待遇の入力》!$G$12,\"\")","v":""},null,null,null,null,null,null,{"$f":"IF($B$40<>\"\",1,0)","v":0},null,{"$f":"IF($C40<>$J40,1,0)","v":0}]
["福利厚生その他",null,"待遇の\n違いの\n有無","―","正社員の利用状況、措置状況","短時間労働者・有期雇用労働者の利用状況、措置状況","違いを設けている理由","対応方針検討",{"$f":"COUNTIF($I$42:$I$56,1)","v":3},null,0]
["C01",{"$f":"IF(手順２・３・４《待遇の入力》!$Q$8=2,手順２・３・４《待遇の入力》!$J$8,\"\")","v":"給食施設（食堂）"},null,null,null,null,null,null,{"$f":"IF($I43=1,1,IF($B42<>\"\",1,0))","v":1},null,{"$f":"IF($C42<>$J42,1,0)","v":0}]
["C02",{"$f":"IF(手順２・３・４《待遇の入力》!$Q$9=2,手順２・３・４《待遇の入力》!$J$9,\"\")","v":"休憩室"},null,null,null,null,null,null,1,null,0]
["C03",{"$f":"IF(手順２・３・４《待遇の入力》!$Q$10=2,手順２・３・４《待遇の入力》!$J$10,\"\")","v":"更衣室"},null,null,null,null,null,null,1,null,0]
["C04",{"$f":"IF(手順２・３・４《待遇の入力》!$Q$11=2,手順２・３・４《待遇の入力》!$J$11,\"\")","v":""},null,null,null,null,null,null,0,null,0]
["C05",{"$f":"IF(手順２・３・４《待遇の入力》!$Q$12=2,手順２・３・４《待遇の入力》!$J$12,\"\")","v":""},null,null,null,null,null,null,0,null,0]
["C06",{"$f":"IF(手順２・３・４《待遇の入力》!$Q$13=2,手順２・３・４《待遇の入力》!$J$13,\"\")","v":""},null,null,null,null,null,null,0,null,0]
["C07",{"$f":"IF(手順２・３・４《待遇の入力》!$Q$14=2,手順２・３・４《待遇の入力》!$J$14,\"\")","v":""},null,null,null,null,null,null,0,null,0]
["C08",{"$f":"IF(手順２・３・４《待遇の入力》!$Q$15=2,手順２・３・４《待遇の入力》!$J$15,\"\")","v":""},null,null,null,null,null,null,0,null,0]
["C09",{"$f":"IF(手順２・３・４《待遇の入力》!$Q$16=2,手順２・３・４《待遇の入力》!$J$16,\"\")","v":""},null,null,null,null,null,null,0,null,0]
["C10",{"$f":"IF(手順２・３・４《待遇の入力》!$Q$17=2,手順２・３・４《待遇の入力》!$J$17,\"\")","v":""},null,null,null,null,null,null,0,null,0]
["C11",{"$f":"IF(手順２・３・４《待遇の入力》!$Q$18=2,手順２・３・４《待遇の入力》!$J$18,\"\")","v":""},null,null,null,null,null,null,0,null,0]
["C12",{"$f":"IF(手順２・３・４《待遇の入力》!$Q$19=2,手順２・３・４《待遇の入力》!$J$19,\"\")","v":""},null,null,null,null,null,null,0,null,0]
["C13",{"$f":"IF(手順２・３・４《待遇の入力》!$Q$20=2,手順２・３・４《待遇の入力》!$J$20,\"\")","v":""},null,null,null,null,null,null,0,null,0]
["C14",{"$f":"IF(手順２・３・４《待遇の入力》!$Q$21=2,手順２・３・４《待遇の入力》!$J$21,\"\")","v":""},null,null,null,null,null,null,0,null,0]
["C15",{"$f":"IF(手順２・３・４《待遇の入力》!$Q$22=2,手順２・３・４《待遇の入力》!$J$22,\"\")","v":""},null,null,null,null,null,null,{"$f":"IF($B$56<>\"\",1,0)","v":0},null,0]
["基本給\n待遇の違いの有無",null,"基本給決定要素",null,"正社員の重要度","短時間労働者・有期雇用労働者\nの重要度","違いを設けている理由","対応方針検討",{"$f":"COUNTIF($I$59:$I$68,1)","v":5},null,0]
[null,null,null,null,null,null,null,null,null,null,{"$f":"IF($A58<>$J58,1,0)","v":0}]
[null,null,"D01",{"$f":"IF(手順２・３・４《待遇の入力》!$R$8=2,手順２・３・４《待遇の入力》!$M$8,\"\")","v":"職務の遂行能力"},null,null,null,null,{"$f":"IF($I60=1,1,IF($D59<>\"\",1,0))","v":1}]
[null,null,"D02",{"$f":"IF(手順２・３・４《待遇の入力》!$R$9=2,手順２・３・４《待遇の入力》!$M$9,\"\")","v":"業務の内容や責任の重さ"},null,null,null,null,1]
[null,null,"D03",{"$f":"IF(手順２・３・４《待遇の入力》!$R$10=2,手順２・３・４《待遇の入力》!$M$10,\"\")","v":"仕事の成果や業績"},null,null,null,null,1]
[null,null,"D04",{"$f":"IF(手順２・３・４《待遇の入力》!$R$11=2,手順２・３・４《待遇の入力》!$M$11,\"\")","v":"年齢や勤続年数"},null,null,null,null,1]
[null,null,"D05",{"$f":"IF(手順２・３・４《待遇の入力》!$R$12=2,手順２・３・４《待遇の入力》!$M$12,\"\")","v":"市場での賃金相場"},null,null,null,null,1]
[null,null,"D06",{"$f":"IF(手順２・３・４《待遇の入力》!$R$13=2,手順２・３・４《待遇の入力》!$M$13,\"\")","v":""},null,null,null,null,0]
[null,null,"D07",{"$f":"IF(手順２・３・４《待遇の入力》!$R$14=2,手順２・３・４《待遇の入力》!$M$14,\"\")","v":""},null,null,null,null,0]
[null,null,"D08",{"$f":"IF(手順２・３・４《待遇の入力》!$R$15=2,手順２・３・４《待遇の入力》!$M$15,\"\")","v":""},null,null,null,null,0]
[null,null,"D09",{"$f":"IF(手順２・３・４《待遇の入力》!$R$16=2,手順２・３・４《待遇の入力》!$M$16,\"\")","v":""},null,null,null,null,0]
[null,null,"D10",{"$f":"IF(手順２・３・４《待遇の入力》!$R$17=2,手順２・３・４《待遇の入力》!$M$17,\"\")","v":""},null,null,null,null,{"$f":"IF($D$68<>\"\",1,0)","v":0}]
[]
[]
["次の社員タイプへ"]